{"text_format":"2","workbook":"xlsx","n_sheets":22,"sheets":["Tips","Pers","Sum","Pos","Ref","Edu","PM","PgM","PfM","Agil","AgilPfM","SAPM","SAPgM","SAPfM","SAagil","CXPM","CXPgM","CXPfM","CXagil","Admin","Exp","Vorgaben"],"not_rendered":{"charts":0,"images":2,"macros":0,"external_links":1,"defined_names":169,"comments":0,"pivot_tables":0},"unopened":[],"bounds":{"document_bytes":16777216,"sheet_cells":100000,"run_cost":"one","rows_first":2000,"rows_last":500,"rows_between":2000,"halvings":0,"cell_chars":16384,"cell_head_chars":4096},"cells_cut":0,"cells_raw":0,"read":"whole","date_system":"1900"}

{"sheet":"Tips","index":0,"n_rows":16,"n_cols":3,"rows_kept":16,"cut":false,"hidden":false,"merged":[[1,1,1,2]]}
[]
[null,"Hinweise zur Einreichung des Antrags auf Erstzertifizierung"]
[]
[null,"Antragsformular nutzen","Mit der vorliegenden Datei reichen Sie einen Antrag auf Erstzertifizierung IPMA Level A, B oder C ein. Dieses Formular bezieht sich auf die swiss.ICB4 (Individual Competence Baseline) bzw. auf die swiss.ICB4agile (Reference Guide Agile), welche Sie von unserer Internetseite als PDF-Datei herunterladen oder im Buchshop des spm (Schweizerische Gesellschaft für Projektmanagement) unter shop.spm.ch als gebundene Ausgabe kaufen können."]
[]
[null,"Online-Anmeldung","In unserem Zertifizierungsportal zert.vzpm.ch können Sie sich einloggen und den Zertifizierungsprozess starten.\n\nDie allenfalls geforderten Belege können Sie ebenfalls über das Portal hochladen. Die PDF-Datei soll mit dem Namen Ihr Name_Ihr Vorname_Belege bezeichnet werden. Bitte reichen Sie kein eigenes CV ein, sondern füllen Sie die Tabellen in diesem Antragsformular korrekt und vollständig aus."]
[]
[null,"Antrag einreichen","Der vollständige Antrag auf Zertifizierung setzt sich aus den nachstehenden Dokumenten zusammen:\n\n1) Antrag auf Zertifizierung (vorliegende Excel-Datei)\n2) Dokument mit allen Belegen\n\nDas Antragsformular für die Erstzertifizierung wird Ihnen in unserem Zertifizierungsportal zur Verfügung gestellt. \n"]
[]
[null,"Zertifizierungsantrag","Kern Ihres Antrags auf Erstzertifizierung ist die vorliegende Excel-Datei. Füllen Sie die verschiedenen Tabellenblätter sorgfältig und vollständig aus und speichern Sie die Datei im Excel-Format unter dem vorgegebenen Namen ab.\n\nBeginnen Sie unbedingt mit dem Tabellenblatt 'Pers' (Personalien) und beachten Sie dort den Hinweis zu Beginn des Tabellenblatts.\n\nDokumentieren Sie Ihre praktische Erfahrung mittels der Tabellenblätter 'PM' für die Domäne Projektmanagement, 'PgM' für Programmmanagement, 'PfM' für Portfoliomanagement und 'Agil' oder 'AgilPfM' für Agile Leadership. Stellen Sie Ihren Antrag für diejenige Domäne (inkl. Agile Leadership), für welche Sie die Zulassungsbedingungen erfüllen. Ein Kalendermonat wird dann als Erfahrungsmonat angerechnet, wenn Sie in diesem mindestens 75 Stunden reine Managementaufgaben in Projekten, Programmen oder Portfolios bzw. in Agilen Rollen erbracht haben.\n\nIn den fünf oben erwähnten Tabellenblättern müssen Sie u.a. die Komplexität Ihrer Vorhaben einstufen. Die detaillierte Beschreibung der diesbezüglichen Indikatoren und Kriterien finden Sie in den Tabellenblättern 'CXPM' für Projektmanagement, 'CXPgM' für Programmmanagement, 'CXPfM' für Portfoliomanagement sowie 'CXagil' für Agile Vorhaben. Der von Ihnen anzugebende Wert für den Indikator berechnet sich aus dem Mittel der Werte der entsprechenden Einzelkriterien. Im Executive Summary Report werden Sie für die dort beschriebenen Projekte, Programme, Portfolios oder Agilen Vorhaben Ihre Einstufung belegen müssen. Die endgültige Einstufung wird durch den VZPM vorgenommen.\n\nDie weiss hinterlegten Felder stehen Ihnen zum Ausfüllen zur Verfügung. In einigen Zellen finden Sie Pull-down-Menüs. Sollte Ihnen der zur Verfügung gestellte Platz nicht ausreichen, bitten wir Sie, sich mit unserer Geschäftsstelle in Glattbrugg in Verbindung zu setzen."]
[]
[null,"Selbstbeurteilung","Füllen Sie bitte das Formular 'Selbstbeurteilung' ganz am Schluss aus, wenn Sie wissen, für welche Domäne Sie Ihren Antrag einreichen werden. Dazu dienen Ihnen die Tabellenblätter 'SAPM' für Projektmanagement, 'SAPgM' für Programmmanagement, 'SAPfM' für Portfoliomanagement und 'SAagil' für Agile Leadership. Sie brauchen nur eine Selbstbeurteilung auszufüllen."]
[]
[null,"Überblick","Das Tabellenblatt 'Sum' (Summary) zeigt die von Ihnen im vorliegenden Zertifizierungsantrag gemachten Angaben im Überblick. Es dient Ihnen zur Kontrolle, ob Sie genügend praktische Erfahrung dokumentiert haben."]
[]
[null,"Einverständnis","Bei der Einreichung des Antrags auf Erstzertifizierung werden Sie im Portal aufgefordert, Ihr Einverständnis zu den Regelungen des Zertifizierungsverfahres abzugeben. Zudem können Sie Ihr Einverständnis zu weiteren Themen, wie z. B. zur Publikation des erteilten Zertifikates abgeben."]

{"sheet":"Pers","index":1,"n_rows":75,"n_cols":15,"rows_kept":75,"cut":false,"hidden":false,"merged":[[3,1,3,10],[71,3,71,10],[56,3,56,10],[57,3,57,10],[60,3,60,10],[61,3,61,10],[63,1,63,10],[50,3,50,10],[51,3,51,10],[55,3,55,10],[43,3,43,10],[46,3,46,10],[47,3,47,10],[52,3,52,10],[54,3,54,10],[23,3,23,4],[72,3,72,10],[74,3,74,10],[65,3,65,10],[66,3,66,10],[67,3,67,10],[68,3,68,10],[69,3,69,10],[70,3,70,10],[39,3,39,10],[53,3,53,10],[19,6,19,10],[21,6,21,10],[22,6,22,10],[36,3,36,10],[48,3,48,10],[49,3,49,10],[40,3,40,10],[41,3,41,10],[42,3,42,10],[32,3,32,10],[35,3,35,10],[37,3,37,10],[38,3,38,10],[34,3,34,10],[31,3,31,10],[7,3,7,10],[6,3,6,10],[8,3,8,10],[11,3,11,10],[12,3,12,10],[18,6,18,10],[14,3,14,10],[26,3,26,10],[27,3,27,10],[28,3,28,10],[29,3,29,10],[17,3,17,4],[18,3,18,4],[19,3,19,4],[20,3,20,10],[15,1,15,9],[20,13,20,14],[5,1,5,10],[13,3,13,10],[30,3,30,10],[21,3,21,4],[22,3,22,4],[17,6,17,10]]}
[]
[null,"Persönliche Angaben"]
[]
[null,"Lesen Sie bitte vorgängig die Hinweise im Tabellenblatt 'Tips'! Geben Sie unbedingt vor dem Ausfüllen der Tabellenblätter 'PM', 'PgM', 'PfM', 'Agil' und 'AgilPfM' in der Zeile 13 das angestrebte Zertifikat sowie in Zeile 18 das Antragsdatum ein. BITTE LÖSCHEN SIE KEINE TABELLENBLÄTTER!"]
[]
[null,"Eventuell vorhandenes Zertifikat (bitte Scan des Zertifikats in Belegdatei mitliefern)"]
[null,"Nummer"]
[null,"Zertifikat"]
[null,"Gültig bis"]
[]
[null,"Antrag auf Erstzertifizierung"]
[null,"Level",null,{"$f":"MID(D13,7,1)","v":""}]
[null,"Zertifikat"]
[null,"Zertifikatssprache"]
[null,"Zertifizierungssprache"]
[null,"Verkürztes Verfahren bei vorhandenem und gültigem Projektmanagement-Zertifikat?"]
[]
[null,"Antragsdatum"]
[null,"Erfahrungszeitraum",null,{"$f":"IF(D12=\"A\",12,IF(D12=\"B\",8,IF(D12=\"C\",6,\"\")))","v":""},null,null,"Jahre"]
[null,"Antrag auf Verlängerung",{"$nulls":4},"nur für Level B und C möglich"]
[null,"Grund des Unterbruchs",{"$nulls":11},"Bereich"]
[null,"Dauer des Unterbruchs (Monate)",{"$nulls":4},"maximal 48 Monate möglich",{"$nulls":6},{"$f":"IF(D12=\"A\",0,1)","v":1},{"$f":"IF(D12=\"A\",0,48)","v":48}]
[null,"Start Erfahrungszeitraum",null,{"$f":"IFERROR(EOMONTH(D24,-D19*12-D22)+1,\"\")","v":""}]
[null,"Ende Erfahrungszeitraum",null,{"$f":"IF(D18=\"\",\"\",EOMONTH(D18,0))","v":""}]
[]
[null,"Personalien"]
[null,"Anrede"]
[null,"Titel (für Zertifikat)"]
[null,"Name"]
[null,"Vorname"]
[null,"Geburtsdatum"]
[null,"Nationalität"]
[null,"Heimat- oder Geburtsort"]
[]
[null,"Private Adresse",null,"Für die spätere Aufforderung zur Rezertifizierung bitte unbedingt die private Mailadresse angeben"]
[null,"Adresszusatz"]
[null,"Strasse + Nummer"]
[null,"Postfach"]
[null,"PLZ ohne Ländercode"]
[null,"Ort"]
[null,"Land"]
[null,"Telefon Festnetz"]
[null,"Telefon mobil"]
[null,"E-Mail"]
[]
[null,"Arbeitgeber"]
[null,"Branche"]
[null,"Firma"]
[null,"Bereich/Organisationseinheit"]
[null,"Adresszusatz"]
[null,"Strasse + Nummer"]
[null,"Postfach"]
[null,"PLZ ohne Ländercode"]
[null,"Ort"]
[null,"Land"]
[null,"Telefon Festnetz"]
[null,"Telefon mobil"]
[null,"Ihr persönliches E-Mail"]
[]
[null,"Rechnung"]
[null,"an"]
[null,"Angaben in Rechnung"]
[]
[null,"Falls andere Rechnungsadresse, bitte Angaben erfassen:"]
[]
[null,"Organisation/Name"]
[null,"Zusatz"]
[null,"Strasse + Nummer"]
[null,"Postfach"]
[null,"PLZ ohne Ländercode"]
[null,"Ort"]
[null,"Land"]
[null,"Kontaktperson"]
[]
[null,"Bemerkungen"]

{"sheet":"Sum","index":2,"n_rows":69,"n_cols":20,"rows_kept":69,"cut":false,"hidden":false,"merged":[[41,1,41,7],[38,1,38,6],[35,1,35,3],[11,1,11,2],[36,1,36,3],[36,6,36,7],[17,1,17,6],[18,1,18,6],[62,3,62,6],[59,5,59,7],[53,3,53,7],[49,2,49,7],[43,1,43,7],[61,3,61,7],[46,1,46,7],[68,6,68,7],[68,3,68,4],[66,1,66,2],[66,3,66,7],[64,2,64,7],[0,19,2,19],[3,19,6,19],[29,1,29,6],[30,1,30,6],[31,1,31,6],[1,1,1,7],[3,13,6,15],[7,13,7,15],[3,16,6,18],[7,16,7,18],[3,10,6,12],[7,10,7,12],[5,2,5,7],[6,2,6,7],[21,1,21,6],[22,1,22,6],[0,13,2,15],[7,2,7,7],[0,10,2,12],[0,16,2,18],[66,18,66,19],[55,2,55,7],[13,1,13,6],[14,1,14,6],[15,1,15,6],[33,1,33,7],[35,6,35,7],[25,1,25,6],[26,1,26,6],[19,1,19,6],[23,1,23,6],[27,1,27,6]]}
[{"$nulls":10},"In den letzten 12 Jahren mindestens 5 Jahre Leadership-Erfahrung in einem sehr komplexen, agilen Umfeld, davon mindestens 3 Jahre auf strategischem Level.",null,null,"In den letzten 8 Jahren mindestens 5 Jahre Leadership-Erfahrung in einem agilen Umfeld, davon mindestens 3 Jahre Umsetzungsverantwortung für komplexe Vorhaben.",null,null,"In den letzten 6 Jahren mindestens 3 Jahre Leadership-Erfahrung mit Umsetzungsverantwortung in bedingt komplexen, agilen Vorhaben\noder\n3 Jahre Leadership-Erfahrung in einer Rolle, welche die verantwortliche Person in komplexen, agilen Vorhaben unterstützt."]
[null,"Diesem Tabellenblatt können Sie nach dem Ausfüllen Ihrer Erfahrung in den Tabellenblättern 'PM', 'PgM' und 'PfM' die nachgewiesene Erfahrung im Überblick entnehmen. Beachten Sie bitte, dass eine Vielzahl von Regeln in den unterschiedlichsten Kombinationen zur Überprüfung des Komplexitätslevels herangezogen werden. Weitere Informationen s. Leitfaden Kapitel 3.2.3!"]
[]
[null,"Zulassungbedingungen",{"$nulls":8},"5 Jahre Erfahrung als Projektmanager in verantwortlicher Führungsfunktion in sehr komplexen Projekten, davon mindestens 3 Jahre auf strategischem Level.",null,null,"5 Jahre Erfahrung als Programmmanager in verantwortlicher Führungsfunktion in sehr komplexen Programmen auf strategischem Level\noder\n4 Jahre Erfahrung als Programmmanager in verantwortlicher Führungsfunktion in sehr komplexen Programmen und 3 Jahre Erfahrung als Projektmanager in verantwortlicher Führungsfunktion in sehr komplexen Projekten auf strategischem Level",null,null,"5 Jahre Erfahrung als Portfoliomanager in verantwortlicher Führungsfunktion in sehr komplexen Portfolios auf strategischem Level\noder\n4 Jahre Erfahrung als Portfoliomanager in verantwortlicher Führungsfunktion in sehr komplexen Portfolios und 3 Jahre Erfahrung als Programm- oder Projektmanager in verantwortlicher Führungsfunktion in sehr komplexen Programmen oder Projekten auf strategischem Level"]
[]
[null,"Level",{"$f":"IF(Pers!D12=\"\",\"\",Pers!D12)","v":""}]
[null,"Zertifikat",{"$f":"IF(Pers!D13=\"\",\"\",Pers!D13)","v":""}]
[null,"Zulassungsbedingung",{"$f":"IF(C7=\"Level A - Certified Project Director\",K4,IF(C7=\"Level A - Certified Programme Director\",N4,IF(C7=\"Level A - Certified Portfolio Director\",Q4,IF(C7=\"Level B - Certified Senior Project Manager\",K8,IF(C7=\"Level B - Certified Senior Programme Manager\",N8,IF(C7=\"Level B - Certified Senior Portfolio Manager\",Q8,IF(C7=\"Level C - Certified Project Manager\",T8,IF(C7=\"Level A - Certified Agile Organisational Leader\",K1,IF(C7=\"Level B - Certified Agile Senior Leader\",N1,IF(C7=\"Level C - Certified Agile Leader\",Q1,\"\"))))))))))","v":""},{"$nulls":7},"5 Jahre Erfahrung als Projektmanager, davon mindestens 3 Jahre in einer verantwortlichen Führungsfunktion in komplexen Projekten.",null,null,"5 Jahre Erfahrung als Programmmanager, davon mindestens 3 Jahre in einer verantwortlichen Führungsfunktion in komplexen Programmen.",null,null,"5 Jahre Erfahrung als Portfoliomanager, davon mindestens 3 Jahre in einer verantwortlichen Führungsfunktion in komplexen Portfolios.",null,null,"In den letzten 6 Jahren mindestens 3 Jahre Erfahrung als Projektmanager in begrenzt komplexen Projekten oder in einer verantwortlichen Projektmanagement-Rolle als Assistent des Projektmanagers - nur die Rollen 'stellvertretender Projektleiter' und 'Teilprojektleiter' werden akzeptiert - von komplexen Projekten."]
[]
[]
[]
[null,"Nachweis der Erfahrung",{"$nulls":5},"Monate",null,null,"Zertifikat","Ergebnis","insgesamt","levelkonform","strategisch","PM levelkonform","PM strategisch","PM/PgM levelkonform","PM/PgM strategisch"]
[]
[null,"Insgesamt im Projekt-, Programm- und Portfoliomanagemen sowie Agile Leadership nachgewiesene Erfahrung",{"$nulls":5},{"$f":"Exp!D156","v":0},null,null,"A-PM",{"$f":"IF(AND(M14=\"ja\",N14=\"ja\",O14=\"ja\"),\"ja\",\"nein\")","v":"nein"},{"$f":"IF(H14>=60,\"ja\",\"nein\")","v":"nein"},{"$f":"IF(H19>=36,\"ja\",\"nein\")","v":"nein"},{"$f":"IF(H20>=36,\"ja\",\"nein\")","v":"nein"}]
[null,"davon auf dem geforderten Komplexitätslevel",{"$nulls":5},{"$f":"Exp!E156","v":0},null,null,"A-PgM Zulassung 1",{"$f":"IF(AND(M15=\"ja\",N15=\"ja\",O15=\"ja\"),\"ja\",\"nein\")","v":"nein"},{"$f":"IF(H15>=60,\"ja\",\"nein\")","v":"nein"},{"$f":"IF(H23>=36,\"ja\",\"nein\")","v":"nein"},{"$f":"IF(H24>=36,\"ja\",\"nein\")","v":"nein"}]
[null,"davon in Projekten, Programmen, Portfolios und Vorhaben mit strategischer Bedeutung",{"$nulls":5},{"$f":"Exp!F156","v":0},null,null,"A-PgM Zulassung 2",{"$f":"IF(AND(M16=\"ja\",N16=\"ja\",P16=\"ja\",Q16=\"ja\"),\"ja\",\"nein\")","v":"nein"},{"$f":"IF(H14>=84,\"ja\",\"nein\")","v":"nein"},{"$f":"IF(H23>=48,\"ja\",\"nein\")","v":"nein"},null,{"$f":"IF(H19>=36,\"ja\",\"nein\")","v":"nein"},{"$f":"IF(H20>=36,\"ja\",\"nein\")","v":"nein"}]
[]
[null,"Insgesamt im Projektmanagement nachgewiesene Erfahrung",{"$nulls":5},{"$f":"Exp!H156","v":0},null,null,"A-PfM Zulassung 1",{"$f":"IF(AND(M18=\"ja\",N18=\"ja\",O18=\"ja\"),\"ja\",\"nein\")","v":"nein"},{"$f":"IF(H15>=60,\"ja\",\"nein\")","v":"nein"},{"$f":"IF(H27>=36,\"ja\",\"nein\")","v":"nein"},{"$f":"IF(H28>=36,\"ja\",\"nein\")","v":"nein"}]
[null,"davon auf dem geforderten Komplexitätslevel und in leitender Rolle",{"$nulls":5},{"$f":"Exp!I156","v":0},null,null,"A-PfM Zulassung 2",{"$f":"IF(AND(M19=\"ja\",N19=\"ja\",R19=\"ja\",S19=\"ja\"),\"ja\",\"nein\")","v":"nein"},{"$f":"IF(H14>=84,\"ja\",\"nein\")","v":"nein"},{"$f":"IF(H27>=48,\"ja\",\"nein\")","v":"nein"},null,null,null,{"$f":"IF(H19+H23>=36,\"ja\",\"nein\")","v":"nein"},{"$f":"IF(H20+H24>=36,\"ja\",\"nein\")","v":"nein"}]
[null,"davon in Projekten mit strategischer Bedeutung",{"$nulls":5},{"$f":"Exp!J156","v":0},null,null,"B-PM",{"$f":"IF(AND(M20=\"ja\",N20=\"ja\"),\"ja\",\"nein\")","v":"nein"},{"$f":"IF(H14>=60,\"ja\",\"nein\")","v":"nein"},{"$f":"IF(H19>=36,\"ja\",\"nein\")","v":"nein"}]
[]
[null,"Insgesamt im Programmmanagement nachgewiesene Erfahrung",{"$nulls":5},{"$f":"Exp!AR156","v":0},null,null,"B-PgM",{"$f":"IF(AND(M22=\"ja\",N22=\"ja\"),\"ja\",\"nein\")","v":"nein"},{"$f":"IF(H14>=60,\"ja\",\"nein\")","v":"nein"},{"$f":"IF(H23>=36,\"ja\",\"nein\")","v":"nein"}]
[null,"davon auf dem geforderten Komplexitätslevel und in leitender Rolle",{"$nulls":5},{"$f":"Exp!AS156","v":0},null,null,"B-PfM",{"$f":"IF(AND(M23=\"ja\",N23=\"ja\"),\"ja\",\"nein\")","v":"nein"},{"$f":"IF(H14>=60,\"ja\",\"nein\")","v":"nein"},{"$f":"IF(H27>=36,\"ja\",\"nein\")","v":"nein"}]
[null,"davon in Programmen mit strategischer Bedeutung",{"$nulls":5},{"$f":"Exp!AT156","v":0}]
[]
[null,"Insgesamt im Portfoliomanagement nachgewiesene Erfahrung",{"$nulls":5},{"$f":"Exp!BG156","v":0},null,null,"C-PM",{"$f":"IF(AND(M26=\"ja\",N26=\"ja\"),\"ja\",\"nein\")","v":"nein"},{"$f":"IF(H14>=36,\"ja\",\"nein\")","v":"nein"},{"$f":"IF(H19>=24,\"ja\",\"nein\")","v":"nein"}]
[null,"davon auf dem geforderten Komplexitätslevel und in leitender Rolle",{"$nulls":5},{"$f":"Exp!BH156","v":0},null,null,"A-PgM 1+2",{"$f":"IF(OR(L15=\"ja\",L16=\"ja\"),\"ja\",\"nein\")","v":"nein"}]
[null,"davon in Portfolios mit strategischer Bedeutung",{"$nulls":5},{"$f":"Exp!BI156","v":0},null,null,"A-PfM 1+2",{"$f":"IF(OR(L18=\"ja\",L19=\"ja\"),\"ja\",\"nein\")","v":"nein"}]
[]
[null,"Insgesamt in Agile Leadership nachgewiesene Erfahrung",{"$nulls":5},{"$f":"Exp!BV156+Exp!DF156","v":0},null,null,"A-Agile",{"$f":"IF(AND(M30=\"ja\",N30=\"ja\",O30=\"ja\"),\"ja\",\"nein\")","v":"nein"},{"$f":"IF(H14>=60,\"ja\",\"nein\")","v":"nein"},{"$f":"IF(H31>=36,\"ja\",\"nein\")","v":"nein"},{"$f":"IF(H32>=36,\"ja\",\"nein\")","v":"nein"}]
[null,"davon auf dem geforderten Komplexitätslevel",{"$nulls":5},{"$f":"Exp!BW156+Exp!DG156","v":0},null,null,"B-Agile",{"$f":"IF(AND(M31=\"ja\",N31=\"ja\"),\"ja\",\"nein\")","v":"nein"},{"$f":"IF(H14>=60,\"ja\",\"nein\")","v":"nein"},{"$f":"IF(H31>=36,\"ja\",\"nein\")","v":"nein"}]
[null,"davon in Vorhaben mit strategischer Bedeutung",{"$nulls":5},{"$f":"Exp!BX156+Exp!DH156","v":0},null,null,"C-Agile","nein",{"$f":"IF(H14>=36,\"ja\",\"nein\")","v":"nein"},{"$f":"IF(H31>=24,\"ja\",\"nein\")","v":"nein"}]
[]
[null,"Die Summe der einzelnen Domänen können höher sein als die Gesamtsumme."]
[]
[null,"Level A und B: empfohlene Domäne",{"$nulls":4},{"$f":"IF(OR(C6=\"A\",C6=\"B\"),IF(AND(H19>H23,H19>H27,H19>H31),\"Projektmanagement\",IF(AND(H23>H19,H23>H27,H23>H31),\"Programmmanagement\",IF(AND(H27>H19,H27>H23,H27>H31),\"Portfoliomanagement\",IF(AND(H31>H19,H31>H23,H31>H27),\"Agile Leadership\",\"\")))),\"\")","v":""}]
[null,"Level C: empfohlene Zertifizierung",{"$nulls":4},{"$f":"IF(C6=\"C\",IF(AND(H19=0,H31=0),\"\",IF(H19>H31,\"Projektmanagement\",IF(H31>H19,\"Agile Leadership\"))),\"\")","v":""}]
[]
[null,"Erfüllt der ausgefüllte Zertifizierungsantrag die formalen Anforderungen?",{"$nulls":5},{"$f":"IF(C7=\"Level A - Certified Project Director\",L14,IF(C7=\"Level A - Certified Programme Director\",L27,IF(C7=\"Level A - Certified Portfolio Director\",L28,IF(C7=\"Level B - Certified Senior Project Manager\",L20,IF(C7=\"Level B - Certified Senior Programme Manager\",L22,IF(C7=\"Level B - Certified Senior Portfolio Manager\",L23,IF(C7=\"Level C - Certified Project Manager\",L26,IF(C7=\"Level A - Certified Agile Organisational Leader\",L30,IF(C7=\"Level B - Certified Agile Senior Leader\",L31,IF(C7=\"Level C - Certified Agile Leader\",L32,\"\"))))))))))","v":""}]
[]
[]
[null,{"$f":"IF(H39=\"nein\",IF(H14>=60,IF(H15>=36,\"Nehmen Sie bitte mit uns Kontakt auf!\",\"\")))","v":false}]
[]
[null,"Diese Angaben können von denjenigen nach der Prüfung durch die im VZPM zuständigen Personen abweichen."]
[]
[]
[null,"Von Geschäftsstelle des VZPM auszufüllen"]
[]
[]
[null,"Bemerkungen"]
[]
[]
[]
[null,"Verlängerung des Erfahrungszeitraums"]
[]
[null,"Begründung der Ablehnung"]
[]
[]
[]
[null,"Referenz einholen"]
[]
[null,"Zulassungsentscheid"]
[null,null,null,"Verkürztes Zertifizierungsverfahren?   "]
[]
[null,"Auflage oder\nBegründung der Ablehnung"]
[]
[null,"Mitglied der Geschäftsleitung"]
[]
[null,null,"Ort ","Glattbrugg",null,"Datum  "]

{"sheet":"Pos","index":3,"n_rows":6,"n_cols":10,"rows_kept":6,"cut":false,"hidden":false,"merged":[[3,1,3,9]]}
[]
[null,"Beruflicher Werdegang"]
[]
[null,"Diese Tabelle ist unbedingt auszufüllen. Für eine Zertifizierung IPMA Level A, B oder C sind im Zeitraum des Nachweises der Erfahrung im Projekt-, Programm-, Portfoliomanagement und/oder Agile Leadership mindestens 50-Stellenprozente notwendig. Legen Sie Ihrem Zertifizierungsantrag kein CV bei."]
[]
[null,"von (MM/JJJJ)",null,"bis (MM/JJJJ)",null,"Arbeitgeber",null,"Rolle/Funktion",null,"% in Rolle"]

{"sheet":"Ref","index":4,"n_rows":6,"n_cols":12,"rows_kept":6,"cut":false,"hidden":false,"merged":[[3,1,3,11]]}
[]
[null,"Referenzpersonen"]
[]
[null,"Geben Sie bitte mindestens zwei Personen an, welche Ihre Angaben im Zertifizierungsantrag bestätigen können."]
[]
[null,"Name",null,"Vorname",null,"Unternehmen/Organisation",null,"Rolle/Funktion",null,"Telefon",null,"E-Mail"]

{"sheet":"Edu","index":5,"n_rows":77,"n_cols":8,"rows_kept":77,"cut":false,"hidden":false,"merged":[[1,1,1,7],[3,1,3,7],[6,1,6,5],[5,1,5,5],[68,3,68,7],[63,3,63,7],[72,1,72,7],[74,1,74,7],[10,1,10,7],[64,3,64,7],[65,3,65,7],[66,3,66,7],[67,3,67,7],[12,1,12,7],[25,1,25,7],[48,1,48,7],[61,1,61,7],[59,1,59,7],[46,1,46,7],[23,1,23,7]]}
[]
[null,"Vorbereitung der Zertifizierung"]
[]
[null,"Besuchen Sie zur Vorbereitung Ihrer Zertifizierung einen Kurs oder lassen Sie sich coachen, tragen Sie bitte unbedingt das Bildungsinstitut sowie den entsprechenden Ort ein."]
[]
[null,"Bildungsinstitut",{"$nulls":5},"Ort"]
[]
[]
[]
[]
[null,"Studien und berufliche Abschlüsse"]
[]
[null,"Tragen Sie bitte die von Ihnen absolvierten Studien sowie Ihre beruflichen Abschlüsse ein.\nSie brauchen dem Zertifizierungsantrag keine Kopien der Abschlüsse beizulegen."]
[]
[null,"von (MM/JJJJ)",null,"bis (MM/JJJJ)",null,"Bildungsinstitut",null,"Abschluss"]
{"$rows_empty":8}
[null,"Weiterbildungen im Projekt-, Programm- und Portfoliomanagement und in Agile Leadership"]
[]
[null,"Tragen Sie bitte die von Ihnen absolvierten Weiterbildungen und Zertifizierungen ein. Sie brauchen dem Zertifizierungsantrag keine Kopien der Diplome beizulegen."]
[]
[null,"von (MM/JJJJ)",null,"bis (MM/JJJJ)",null,"Bildungsinstitut",null,"Veranstaltung/Zertifikat"]
{"$rows_empty":18}
[null,"Weitere Aktivitäten im Projekt-, Programm- und Portfoliomanagement sowie in Agile Leadership"]
[]
[null,"Tragen Sie bitte Ihre Engagements im Projekt-, Programm- und Portfoliomanagement sowie in Agile Leadership ein, wie beispielsweise die Mitarbeit oder Mitgliedschaft in Fachverbänden. Sie brauchen diese Aktivitäten nicht zu belegen. "]
[]
[null,"von (MM/JJJJ)",null,"bis (MM/JJJJ)",null,"Organisation",null,"Rolle/Funktion"]
{"$rows_empty":8}
[null,"Im Projekt-, Programm- und Portfoliomanagement sowie in Agile Leadership erbrachte Leistungen sowie Teilnahme an bzw. Erhalt von Awards"]
[]
[null,"Tragen Sie bitte besondere im Projekt-, Programm- und Portfoliomanagement sowie in Agile Leadership erbrachte Leistungen ein, beispielsweise die Teilnahme an einem Award. Sie brauchen diese Aktivitäten nicht zu belegen."]
[]
[null,"Jahr",null,"Beschreibung der Leistung"]
{"$rows_empty":8}
[null,"Publikation von Büchern, Artikeln, White Papers, Blogs und internen Anweisungen"]
[]
[null,"Führen Sie diejenigen fachspezifischen Dokumente auf, welche Sie persönlich verfasst und einem entsprechenden Zielpublikum zugängig gemacht haben.\nSie brauchen diese Publikationen nicht zu belegen."]
[]
[null,"Datum",null,"Anzahl Seiten",null,"Titel",null,"Ort und Art der Publikation"]

{"sheet":"PM","index":6,"n_rows":437,"n_cols":41,"rows_kept":437,"cut":false,"hidden":false,"merged":[[74,12,74,17],[115,12,115,17],[156,12,156,17],[197,12,197,17],[238,12,238,17],[279,12,279,17],[320,12,320,17],[361,12,361,17],[402,12,402,17],[112,12,112,17],[153,12,153,17],[194,12,194,17],[235,12,235,17],[318,12,318,13],[318,14,318,15],[318,16,318,17],[359,12,359,13],[359,14,359,15],[359,16,359,17],[358,12,358,17],[320,3,320,5],[338,3,338,9],[339,3,339,9],[340,3,340,9],[326,1,326,7],[327,1,327,7],[328,1,328,7],[318,1,318,8],[346,3,346,9],[329,1,329,7],[330,1,330,7],[331,1,331,7],[332,1,332,7],[333,1,333,7],[334,1,334,7],[335,1,335,7],[341,3,341,9],[345,3,345,9],[235,38,236,38],[235,40,236,40],[276,38,277,38],[276,40,277,40],[317,38,318,38],[317,40,318,40],[358,38,359,38],[358,40,359,40],[399,38,400,38],[399,40,400,40],[438,31,438,32],[284,1,284,7],[325,1,325,7],[366,1,366,7],[407,1,407,7],[288,1,288,7],[289,1,289,7],[290,1,290,7],[291,1,291,7],[292,1,292,7],[293,1,293,7],[294,1,294,7],[305,3,305,9],[306,3,306,9],[435,12,435,13],[436,12,436,13],[435,14,435,15],[436,14,436,15],[435,16,435,17],[436,16,436,17],[435,18,435,19],[436,18,436,19],[435,20,435,21],[436,20,436,21],[20,38,21,38],[20,40,21,40],[71,38,72,38],[71,40,72,40],[112,38,113,38],[112,40,113,40],[153,38,154,38],[153,40,154,40],[194,38,195,38],[194,40,195,40],[374,1,374,7],[375,1,375,7],[376,1,376,7],[379,3,379,9],[380,3,380,9],[386,3,386,9],[387,3,387,9],[388,3,388,9],[359,1,359,8],[263,3,263,9],[264,3,264,9],[256,3,256,9],[257,3,257,9],[244,1,244,7],[245,1,245,7],[246,1,246,7],[247,1,247,7],[248,1,248,7],[249,1,249,7],[250,1,250,7],[251,1,251,7],[252,1,252,7],[253,1,253,7],[258,3,258,9],[259,3,259,9],[243,1,243,7],[206,1,206,7],[207,1,207,7],[208,1,208,7],[209,1,209,7],[210,1,210,7],[211,1,211,7],[212,1,212,7],[215,3,215,9],[231,3,232,4],[231,7,232,8],[216,3,216,9],[217,3,217,9],[218,3,218,9],[222,3,222,9],[223,3,223,9],[224,3,224,9],[225,3,225,9],[226,3,226,9],[228,3,228,5],[233,1,233,8],[235,1,235,8],[238,3,238,5],[182,3,182,9],[183,3,183,9],[184,3,184,9],[185,3,185,9],[194,1,194,8],[197,3,197,5],[203,1,203,7],[204,1,204,7],[205,1,205,7],[187,3,187,5],[190,3,191,4],[190,7,191,8],[192,1,192,8],[202,1,202,7],[156,3,156,5],[162,1,162,7],[163,1,163,7],[164,1,164,7],[165,1,165,7],[166,1,166,7],[167,1,167,7],[179,3,179,9],[181,3,181,9],[168,1,168,7],[169,1,169,7],[170,1,170,7],[171,1,171,7],[174,3,174,9],[175,3,175,9],[176,3,176,9],[177,3,177,9],[161,1,161,7],[115,3,115,5],[135,3,135,9],[136,3,136,9],[121,1,121,7],[122,1,122,7],[123,1,123,7],[124,1,124,7],[125,1,125,7],[126,1,126,7],[127,1,127,7],[128,1,128,7],[129,1,129,7],[130,1,130,7],[133,3,133,9],[134,3,134,9],[120,1,120,7],[85,1,85,7],[86,1,86,7],[87,1,87,7],[102,3,102,9],[103,3,103,9],[105,3,105,5],[108,3,109,4],[108,7,109,8],[110,1,110,8],[88,1,88,7],[89,1,89,7],[92,3,92,9],[93,3,93,9],[94,3,94,9],[95,3,95,9],[99,3,99,9],[100,3,100,9],[101,3,101,9],[67,7,68,8],[69,1,69,8],[71,1,71,8],[74,3,74,5],[80,1,80,7],[81,1,81,7],[82,1,82,7],[83,1,83,7],[84,1,84,7],[79,1,79,7],[13,3,13,5],[18,1,18,8],[8,3,8,9],[9,3,9,9],[11,3,11,9],[23,3,23,5],[51,3,51,9],[52,3,52,9],[3,1,3,9],[7,3,7,9],[20,1,20,8],[21,1,21,8],[16,7,17,8],[16,3,17,4],[10,3,10,9],[48,1,48,9],[28,1,28,7],[41,1,41,7],[42,1,42,7],[43,1,43,7],[44,1,44,7],[59,3,59,9],[60,3,60,9],[61,3,61,9],[428,12,428,17],[428,18,428,23],[428,24,428,29],[21,12,21,13],[21,14,21,15],[21,16,21,17],[21,18,21,19],[21,20,21,21],[21,22,21,23],[21,24,21,25],[21,26,21,27],[21,28,21,29],[36,1,36,7],[37,1,37,7],[38,1,38,7],[58,3,58,9],[62,3,62,9],[64,3,64,5],[67,3,68,4],[53,3,53,9],[54,3,54,9],[429,12,429,13],[430,12,430,13],[431,12,431,13],[432,12,432,13],[429,14,429,15],[430,14,430,15],[431,14,431,15],[432,14,432,15],[429,16,429,17],[430,16,430,17],[431,16,431,17],[432,16,432,17],[429,18,429,19],[430,18,430,19],[431,18,431,19],[432,18,432,19],[429,20,429,21],[430,20,430,21],[431,20,431,21],[432,20,432,21],[429,22,429,23],[430,22,430,23],[431,22,431,23],[432,22,432,23],[429,24,429,25],[430,24,430,25],[431,24,431,25],[432,24,432,25],[429,26,429,27],[430,26,430,27],[431,26,431,27],[432,26,432,27],[429,28,429,29],[430,28,430,29],[431,28,431,29],[432,28,432,29],[20,31,20,33],[29,1,29,7],[30,1,30,7],[31,1,31,7],[32,1,32,7],[33,1,33,7],[34,1,34,7],[35,1,35,7],[20,24,20,29],[20,12,20,17],[20,18,20,23],[23,12,23,17],[71,12,71,17],[71,18,71,23],[71,24,71,29],[71,31,71,33],[72,1,72,8],[72,12,72,13],[72,14,72,15],[72,16,72,17],[72,18,72,19],[72,20,72,21],[72,22,72,23],[72,24,72,25],[72,26,72,27],[72,28,72,29],[112,18,112,23],[112,24,112,29],[112,31,112,33],[113,1,113,8],[113,12,113,13],[113,14,113,15],[113,16,113,17],[113,18,113,19],[113,20,113,21],[113,22,113,23],[113,24,113,25],[113,26,113,27],[113,28,113,29],[112,1,112,8],[140,3,140,9],[141,3,141,9],[142,3,142,9],[143,3,143,9],[144,3,144,9],[146,3,146,5],[149,3,150,4],[149,7,150,8],[151,1,151,8],[153,18,153,23],[153,24,153,29],[153,31,153,33],[154,1,154,8],[154,12,154,13],[154,14,154,15],[154,16,154,17],[154,18,154,19],[154,20,154,21],[154,22,154,23],[154,24,154,25],[154,26,154,27],[154,28,154,29],[153,1,153,8],[194,18,194,23],[194,24,194,29],[194,31,194,33],[195,1,195,8],[195,12,195,13],[195,14,195,15],[195,16,195,17],[195,18,195,19],[195,20,195,21],[195,22,195,23],[195,24,195,25],[195,26,195,27],[195,28,195,29],[235,18,235,23],[235,24,235,29],[235,31,235,33],[236,1,236,8],[236,12,236,13],[236,14,236,15],[236,16,236,17],[236,18,236,19],[236,20,236,21],[236,22,236,23],[236,24,236,25],[236,26,236,27],[236,28,236,29],[265,3,265,9],[266,3,266,9],[267,3,267,9],[269,3,269,5],[272,3,273,4],[272,7,273,8],[274,1,274,8],[276,1,276,8],[276,12,276,17],[299,3,299,9],[300,3,300,9],[304,3,304,9],[313,7,314,8],[279,3,279,5],[285,1,285,7],[286,1,286,7],[287,1,287,7],[317,12,317,17],[310,3,310,5],[313,3,314,4],[307,3,307,9],[308,3,308,9],[297,3,297,9],[298,3,298,9],[315,1,315,8],[317,1,317,8],[276,18,276,23],[276,24,276,29],[276,31,276,33],[277,1,277,8],[277,12,277,13],[277,14,277,15],[277,16,277,17],[277,18,277,19],[277,20,277,21],[277,22,277,23],[277,24,277,25],[277,26,277,27],[277,28,277,29],[354,3,355,4],[354,7,355,8],[347,3,347,9],[349,3,349,9],[351,3,351,5],[348,3,348,9],[392,3,392,5],[395,3,396,4],[395,7,396,8],[389,3,389,9],[390,3,390,9],[381,3,381,9],[382,3,382,9],[384,3,384,9],[356,1,356,8],[358,1,358,8],[361,3,361,5],[367,1,367,7],[368,1,368,7],[369,1,369,7],[370,1,370,7],[371,1,371,7],[372,1,372,7],[373,1,373,7],[397,1,397,8],[399,1,399,8],[399,12,399,17],[399,18,399,23],[399,24,399,29],[428,31,428,32],[400,14,400,15],[400,16,400,17],[400,18,400,19],[400,20,400,21],[400,22,400,23],[400,24,400,25],[400,26,400,27],[425,3,425,9],[39,12,39,14],[43,12,43,14],[43,15,43,17],[433,31,433,32],[400,28,400,29],[416,1,416,7],[417,1,417,7],[420,3,420,9],[421,3,421,9],[422,3,422,9],[423,3,423,9],[402,3,402,5],[408,1,408,7],[409,1,409,7],[410,1,410,7],[411,1,411,7],[412,1,412,7],[413,1,413,7],[414,1,414,7],[415,1,415,7],[400,1,400,8],[400,12,400,13],[48,12,48,24],[399,31,399,33],[399,35,399,36],[20,35,20,36],[71,35,71,36],[112,35,112,36],[153,35,153,36],[194,35,194,36],[235,35,235,36],[276,35,276,36],[317,35,317,36],[358,35,358,36],[358,18,358,23],[358,24,358,29],[358,31,358,33],[359,28,359,29],[317,18,317,23],[317,24,317,29],[317,31,317,33],[318,18,318,19],[318,20,318,21],[318,22,318,23],[318,24,318,25],[359,18,359,19],[359,20,359,21],[359,22,359,23],[359,24,359,25],[359,26,359,27],[318,26,318,27],[318,28,318,29]]}
[]
[null,"Im Projektmanagement nachgewiesene Erfahrung"]
[]
[null,"Das Projekt Nr. 1 wird in der Zertifizierung als Referenzprojekt eingesetzt und muss im Executive Summary Report beschrieben werden. Die Projekte Nr. 2 und 3 sind für die Level A und B ebenfalls im Executive Summary Report zu beschreiben. Tragen Sie deshalb diejenigen Ihrer anderen Projekte mit der höchsten Projektmanagement-Komplexität als Projekte Nr. 2 und 3 ein.\n\nDie unten einzugebenden Informationen müssen sich auf die von Ihnen persönlich verantworteten Bereiche (Projekt, Teilprojekt) beziehen. Geben Sie bitte in den Zahlenfeldern nur Zahlen ein!"]
[]
[]
[]
[null,"Projekt Nr. 1",null,"Referenzprojekt"]
[null,"Name des Projekts"]
[null,"Projektkunde (Unternehmen)"]
[null,"Projektart"]
[null,"Projektscope"]
[]
[null,"Informationen zum Projekt",null,"Datum eingeben",{"$nulls":5},"Monate"]
[null,"Projektdauer","von ",null,"bis ",{"$nulls":4},{"$f":"ROUND(((F15-D15)/30.4),0)","v":0}]
[]
[null,"Projektumfang geplant",null,"Personentage ",null,null,null,"Cash-out \nin CHF"]
[null,"Projektumfang realisiert"]
[null,"Anzahl im Projekt direkt und indirekt geführte Personen "]
[]
[null,"Projekt ist abgeschlossen (massgebend ist das Datum der Einreichung des Berichts)",{"$nulls":10},"Personentage",{"$nulls":5},"Projektleitung",{"$nulls":5},"Anzahl geführte Personen",{"$nulls":6},"Levelkonformität",null,null,null,"Rolle",null,null,"Minimal-\nanforderung",null,"Dauer\nin Rolle"]
[null,"Projekt mit strategischer Bedeutung",{"$nulls":10},"C",null,"B",null,"A",null,"C",null,"B",null,"A",null,"C",null,"B",null,"A",null,null,"C","B","A",null,"C","B"]
[]
[null,"Ihre Rolle(n) im Projekt",null,"Datum eingeben",null,null,null,"Stunden",null,"Std/Monat",null,null,{"$f":"IF(F17>=F18,F17,F18)","v":0}]
[null,null,"von ",null,"bis ",{"$nulls":4},{"$f":"IFERROR(ROUND(H25/((F25-D25)/30.4),0),\"\")","v":""},null,null,{"$f":"((($M24-$M$432)/($M$431-$M$432))*0.5+1)","v":-0.25},{"$f":"IF($M25>1.5,1.5,IF($M25<0.5,0,$M25))","v":0},{"$f":"((($M24-$O$432)/($O$431-$O$432))*0.5+1)","v":-0.75},{"$f":"IF($O25>1.5,1.5,IF($O25<0.5,0,$O25))","v":0},{"$f":"((($M24-$Q$432)/($Q$431-$Q$432))*0.5+1)","v":-0.5},{"$f":"IF($Q25>1.5,1.5,IF($Q25<0.5,0,$Q25))","v":0},{"$f":"((($H25-$S$432)/($S$431-$S$432))*0.5+1)","v":-1},{"$f":"IF($S25>1.5,1.5,IF($S25<0.5,0,$S25))","v":0},{"$f":"((($H25-$U$432)/($U$431-$U$432))*0.5+1)","v":-0.75},{"$f":"IF($U25>1.5,1.5,IF($U25<0.5,0,$U25))","v":0},{"$f":"((($H25-$W$432)/($W$431-$W$432))*0.5+1)","v":-1.4},{"$f":"IF($W25>1.5,1.5,IF($W25<0.5,0,$W25))","v":0},{"$f":"((($J19-$Y$432)/($Y$431-$Y$432))*0.5+1)","v":-0.25},{"$f":"IF($Y25>1.5,1.5,IF($Y25<0.5,0,$Y25))","v":0},{"$f":"((($J19-$AA$432)/($AA$431-$AA$432))*0.5+1)","v":0},{"$f":"IF($AA25>1.5,1.5,IF($AA25<0.5,0,$AA25))","v":0},{"$f":"((($J19-$AC$432)/($AC$431-$AC$432))*0.5+1)","v":0},{"$f":"IF($AC25>1.5,1.5,IF($AC25<0.5,0,$AC25))","v":0},null,{"$f":"IF(AND($AJ25=1,PRODUCT(N25,T25,Z25)>=1,$J29>=$AG$432),1,0)","v":0},{"$f":"IF(AND($AK25=1,PRODUCT(P25,V25,AB25)>=1,$J29>=$AG$431),1,0)","v":0},{"$f":"IF(AND($B25=\"Projektleiter*in\",PRODUCT(R25,X25,AD25)>=1,$J29>=$AG$430),1,0)","v":0},null,{"$f":"IF(OR($B25=\"Projektleiter*in\",$B25=\"Co-Projektleiter*in\",$B25=\"Teilprojektleiter*in\",$B25=\"Stv. Projektleiter*in\"),1,0)","v":0},{"$f":"IF(OR($B25=\"Projektleiter*in\",$B25=\"Co-Projektleiter*in\",$B25=\"Teilprojektleiter*in\"),1,0)","v":0},null,{"$f":"IF(AND(F18>=M$437,H25>=O$437,J19>=Q$437,AO25>=S$437,J29>=U$437),1,0)","v":0},null,{"$f":"IF(F25=\"\",0,DATEDIF(D25,F25,\"m\")+1)","v":0}]
[null,null,"von ",null,"bis ",{"$nulls":4},"",null,null,{"$f":"((($M24-$M$432)/($M$431-$M$432))*0.5+1)","v":-0.25},{"$f":"IF($M26>1.5,1.5,IF($M26<0.5,0,$M26))","v":0},{"$f":"((($M24-$O$432)/($O$431-$O$432))*0.5+1)","v":-0.75},{"$f":"IF($O26>1.5,1.5,IF($O26<0.5,0,$O26))","v":0},{"$f":"((($M24-$Q$432)/($Q$431-$Q$432))*0.5+1)","v":-0.5},{"$f":"IF($Q26>1.5,1.5,IF($Q26<0.5,0,$Q26))","v":0},{"$f":"((($H26-$S$432)/($S$431-$S$432))*0.5+1)","v":-1},{"$f":"IF($S26>1.5,1.5,IF($S26<0.5,0,$S26))","v":0},{"$f":"((($H26-$U$432)/($U$431-$U$432))*0.5+1)","v":-0.75},{"$f":"IF($U26>1.5,1.5,IF($U26<0.5,0,$U26))","v":0},{"$f":"((($H26-$W$432)/($W$431-$W$432))*0.5+1)","v":-1.4},{"$f":"IF($W26>1.5,1.5,IF($W26<0.5,0,$W26))","v":0},{"$f":"((($J19-$Y$432)/($Y$431-$Y$432))*0.5+1)","v":-0.25},{"$f":"IF($Y26>1.5,1.5,IF($Y26<0.5,0,$Y26))","v":0},{"$f":"((($J19-$AA$432)/($AA$431-$AA$432))*0.5+1)","v":0},{"$f":"IF($AA26>1.5,1.5,IF($AA26<0.5,0,$AA26))","v":0},{"$f":"((($J19-$AC$432)/($AC$431-$AC$432))*0.5+1)","v":0},{"$f":"IF($AC26>1.5,1.5,IF($AC26<0.5,0,$AC26))","v":0},null,{"$f":"IF(AND($AJ26=1,PRODUCT(N26,T26,Z26)>=1,$J29>=$AG$432),1,0)","v":0},{"$f":"IF(AND($AK26=1,PRODUCT(P26,V26,AB26)>=1,$J29>=$AG$431),1,0)","v":0},{"$f":"IF(AND($B26=\"Projektleiter*in\",PRODUCT(R26,X26,AD26)>=1,$J29>=$AG$430),1,0)","v":0},null,{"$f":"IF(OR($B26=\"Projektleiter*in\",$B26=\"Co-Projektleiter*in\",$B26=\"Teilprojektleiter*in\",$B26=\"Stv. Projektleiter*in\"),1,0)","v":0},{"$f":"IF(OR($B26=\"Projektleiter*in\",$B26=\"Co-Projektleiter*in\",$B26=\"Teilprojektleiter*in\"),1,0)","v":0},null,{"$f":"IF(AND(F18>=M$437,H26>=O$437,J19>=Q$437,AO26>=S$437,J29>=U$437),1,0)","v":0},null,{"$f":"IF(F26=\"\",0,DATEDIF(D26,F26,\"m\")+1)","v":0}]
[null,null,"von ",null,"bis ",{"$nulls":4},"",null,null,{"$f":"((($M24-$M$432)/($M$431-$M$432))*0.5+1)","v":-0.25},0,{"$f":"((($M24-$O$432)/($O$431-$O$432))*0.5+1)","v":-0.75},0,{"$f":"((($M24-$Q$432)/($Q$431-$Q$432))*0.5+1)","v":-0.5},0,{"$f":"((($H27-$S$432)/($S$431-$S$432))*0.5+1)","v":-1},0,{"$f":"((($H27-$U$432)/($U$431-$U$432))*0.5+1)","v":-0.75},0,{"$f":"((($H27-$W$432)/($W$431-$W$432))*0.5+1)","v":-1.4},0,{"$f":"((($J19-$Y$432)/($Y$431-$Y$432))*0.5+1)","v":-0.25},0,{"$f":"((($J19-$AA$432)/($AA$431-$AA$432))*0.5+1)","v":0},0,{"$f":"((($J19-$AC$432)/($AC$431-$AC$432))*0.5+1)","v":0},0,null,{"$f":"IF(AND($AJ27=1,PRODUCT(N27,T27,Z27)>=1,$J29>=$AG$432),1,0)","v":0},{"$f":"IF(AND($AK27=1,PRODUCT(P27,V27,AB27)>=1,$J29>=$AG$431),1,0)","v":0},{"$f":"IF(AND($B27=\"Projektleiter*in\",PRODUCT(R27,X27,AD27)>=1,$J29>=$AG$430),1,0)","v":0},null,{"$f":"IF(OR($B27=\"Projektleiter*in\",$B27=\"Co-Projektleiter*in\",$B27=\"Teilprojektleiter*in\",$B27=\"Stv. Projektleiter*in\"),1,0)","v":0},{"$f":"IF(OR($B27=\"Projektleiter\",$B27=\"Co-Projektleiter\",$B27=\"Teilprojektleiter\"),1,0)","v":0},null,{"$f":"IF(AND(F18>=M$437,H27>=O$437,J19>=Q$437,AO27>=S$437,J29>=U$437),1,0)","v":0},null,{"$f":"IF(F27=\"\",0,DATEDIF(D27,F27,\"m\")+1)","v":0}]
[]
[null,"Komplexitätsbeurteilung des Projekts (s. Hinweise im Tabellenblatt 'Tips')",{"$nulls":7},{"$f":"SUM(J30:J39)","v":0}]
[null,"01 Ziele und Ergebnisbeurteilung"]
[null,"02 Prozesse, Methoden, Tools und Techniken des PP&PM"]
[null,"03 Ressourcen und Finanzierung"]
[null,"04 Chancen und Risiken"]
[null,"05 Stakeholder und Integration"]
[null,"06 Beziehungen zur Stammorganisation"]
[null,"07 Kultureller und sozialer Kontext"]
[null,"08 Führung, Teamarbeit und Entscheidungen"]
[null,"09 Innovationsgrad und Rahmenbedingungen"]
[null,"10 Koordinationsbedarf"]
[{"$nulls":12},"Level"]
[null,"Erfüllung der Kriterien als Referenzprojekt",{"$nulls":10},"C","B","A"]
[null,"Entspricht das Projekt den Anforderungen an den Level?",{"$nulls":7},{"$f":"IF(Pers!D12=\"\",\"\",IF(Pers!D12=\"A\",O42,IF(Pers!D12=\"B\",N42,IF(Pers!D12=\"C\",M42))))","v":""},null,null,{"$f":"IF(OR(AF$25=1,AF$26=1,AF$27=1),\"ja\",\"nein\")","v":"nein"},{"$f":"IF(OR(AG$25=1,AG$26=1,AG$27=1),\"ja\",\"nein\")","v":"nein"},{"$f":"IF(AND(J22=\"ja\",OR(AH$25=1,AH$26=1,AH$27=1)),\"ja\",\"nein\")","v":"nein"}]
[null,"Ist das Projekt abgeschlossen?",{"$nulls":7},{"$f":"IF(J21=\"ja\",\"ja\",\"nein\")","v":"nein"}]
[null,"Liegt der letzte Einsatzmonat nicht mehr als 4 Jahre zurück?",{"$nulls":7},{"$f":"IF(M44>=P44,\"ja\",\"nein\")","v":"nein"},null,null,{"$f":"IF(F25>=F26,F25,IF(F26>=F27,F26,F27))","v":"00:00:00"},null,null,{"$f":"DATE(YEAR(Pers!D18)-4,MONTH(Pers!D18),DAY(Pers!D18))","v":"3795-12-31"}]
[null,"Entspricht die minimale Einsatzdauer im Projekt den Anforderungen an den Level?",{"$nulls":7},{"$f":"IF(AND(Pers!D12=\"A\",O45>=AG435),\"ja\",IF(AND(Pers!D12=\"B\",N45>=AG436),\"ja\",IF(AND(Pers!D12=\"C\",M45>=AG437),\"ja\",\"nein\")))","v":"nein"},null,null,{"$f":"COUNTIF(Exp!$L$11:$L$154,\">=30\")","v":0},{"$f":"COUNTIF(Exp!$L$11:$L$154,\">=50\")","v":0},{"$f":"COUNTIF(Exp!$L$11:$L$154,\">=75\")","v":0},"Monate"]
[]
[null,"Kann das Projekt als Referenzprojekt eingereicht werden?",{"$nulls":7},{"$f":"IF(AND(J42=\"ja\",J43=\"ja\",J44=\"ja\",J45=\"ja\"),\"ja\",\"nein\")","v":"nein"}]
[]
[null,{"$f":"IF(J43=\"nein\",M49,\"\")","v":"Kann kein abgeschlossenes Projekt vorgelegt werden, kann ein Antrag mit folgenden zusätzlichen Informationen eingereicht werden: Terminplan und Projektorganigramm"},{"$nulls":10},"Kann kein abgeschlossenes Projekt vorgelegt werden, kann ein Antrag mit folgenden zusätzlichen Informationen eingereicht werden: Terminplan und Projektorganigramm"]
[]
[null,"Referenzperson (üblicherweise Auftraggeber oder Arbeitgeber)"]
[null,"Vorname Name"]
[null,"Rolle im Projekt/Unternehmen"]
[null,"Telefon"]
[null,"E-Mail"]
[]
[]
[]
[null,"Projekt Nr. 2"]
[null,"Name des Projekts"]
[null,"Projektkunde (Unternehmen)"]
[null,"Projektart"]
[null,"Projektscope"]
[]
[null,"Informationen zum Projekt",null,"Datum eingeben",{"$nulls":5},"Monate"]
[null,"Projektdauer","von ",null,"bis ",{"$nulls":4},{"$f":"ROUND(((F66-D66)/30.4),0)","v":0}]
[]
[null,"Projektumfang geplant",null,"Personentage ",null,null,null,"Cash-out \nin CHF"]
[null,"Projektumfang realisiert"]
[null,"Anzahl im Projekt direkt und indirekt geführte Personen "]
[]
[null,"Projekt ist abgeschlossen (massgebend ist das Datum der Einreichung des Antrags)",{"$nulls":10},"Personentage",{"$nulls":5},"Projektleitung",{"$nulls":5},"Anzahl geführte Personen",{"$nulls":6},"Levelkonformität",null,null,null,"Rolle",null,null,"Minimal-\nanforderung",null,"Dauer\nin Rolle"]
[null,"Projekt mit strategischer Bedeutung",{"$nulls":10},"C",null,"B",null,"A",null,"C",null,"B",null,"A",null,"C",null,"B",null,"A",null,null,"C","B","A",null,"C","B"]
[]
[null,"Ihre Rolle(n) im Projekt",null,"Datum eingeben",null,null,null,"Stunden",null,"Std/Monat",null,null,{"$f":"IF(F68>=F69,F68,F69)","v":0}]
[null,null,"von ",null,"bis ",{"$nulls":4},{"$f":"IFERROR(ROUND(H76/((F76-D76)/30.4),0),\"\")","v":""},null,null,{"$f":"((($M75-$M$432)/($M$431-$M$432))*0.5+1)","v":-0.25},{"$f":"IF($M76>1.5,1.5,IF($M76<0.5,0,$M76))","v":0},{"$f":"((($M75-$O$432)/($O$431-$O$432))*0.5+1)","v":-0.75},{"$f":"IF($O76>1.5,1.5,IF($O76<0.5,0,$O76))","v":0},{"$f":"((($M75-$Q$432)/($Q$431-$Q$432))*0.5+1)","v":-0.5},{"$f":"IF($Q76>1.5,1.5,IF($Q76<0.5,0,$Q76))","v":0},{"$f":"((($H76-$S$432)/($S$431-$S$432))*0.5+1)","v":-1},{"$f":"IF($S76>1.5,1.5,IF($S76<0.5,0,$S76))","v":0},{"$f":"((($H76-$U$432)/($U$431-$U$432))*0.5+1)","v":-0.75},{"$f":"IF($U76>1.5,1.5,IF($U76<0.5,0,$U76))","v":0},{"$f":"((($H76-$W$432)/($W$431-$W$432))*0.5+1)","v":-1.4},{"$f":"IF($W76>1.5,1.5,IF($W76<0.5,0,$W76))","v":0},{"$f":"((($J70-$Y$432)/($Y$431-$Y$432))*0.5+1)","v":-0.25},{"$f":"IF($Y76>1.5,1.5,IF($Y76<0.5,0,$Y76))","v":0},{"$f":"((($J70-$AA$432)/($AA$431-$AA$432))*0.5+1)","v":0},{"$f":"IF($AA76>1.5,1.5,IF($AA76<0.5,0,$AA76))","v":0},{"$f":"((($J70-$AC$432)/($AC$431-$AC$432))*0.5+1)","v":0},{"$f":"IF($AC76>1.5,1.5,IF($AC76<0.5,0,$AC76))","v":0},null,{"$f":"IF(AND($AJ76=1,PRODUCT(N76,T76,Z76)>=1,$J80>=$AG$432),1,0)","v":0},{"$f":"IF(AND($AK76=1,PRODUCT(P76,V76,AB76)>=1,$J80>=$AG$431),1,0)","v":0},{"$f":"IF(AND($B76=\"Projektleiter*in\",PRODUCT(R76,X76,AD76)>=1,$J80>=$AG$430),1,0)","v":0},null,{"$f":"IF(OR($B76=\"Projektleiter*in\",$B76=\"Co-Projektleiter*in\",$B76=\"Teilprojektleiter*in\",$B76=\"Stv. Projektleiter*in\"),1,0)","v":0},{"$f":"IF(OR($B76=\"Projektleiter*in\",$B76=\"Co-Projektleiter*in\",$B76=\"Teilprojektleiter*in\"),1,0)","v":0},null,{"$f":"IF(AND(F69>=M$437,H76>=O$437,J70>=Q$437,AO76>=S$437,J80>=U$437),1,0)","v":0},null,{"$f":"IF(F76=\"\",0,DATEDIF(D76,F76,\"m\")+1)","v":0}]
[null,null,"von ",null,"bis ",{"$nulls":4},{"$f":"IFERROR(ROUND(H77/((F77-D77)/30.4),0),\"\")","v":""},null,null,{"$f":"((($M75-$M$432)/($M$431-$M$432))*0.5+1)","v":-0.25},{"$f":"IF($M77>1.5,1.5,IF($M77<0.5,0,$M77))","v":0},{"$f":"((($M75-$O$432)/($O$431-$O$432))*0.5+1)","v":-0.75},{"$f":"IF($O77>1.5,1.5,IF($O77<0.5,0,$O77))","v":0},{"$f":"((($M75-$Q$432)/($Q$431-$Q$432))*0.5+1)","v":-0.5},{"$f":"IF($Q77>1.5,1.5,IF($Q77<0.5,0,$Q77))","v":0},{"$f":"((($H77-$S$432)/($S$431-$S$432))*0.5+1)","v":-1},{"$f":"IF($S77>1.5,1.5,IF($S77<0.5,0,$S77))","v":0},{"$f":"((($H77-$U$432)/($U$431-$U$432))*0.5+1)","v":-0.75},{"$f":"IF($U77>1.5,1.5,IF($U77<0.5,0,$U77))","v":0},{"$f":"((($H77-$W$432)/($W$431-$W$432))*0.5+1)","v":-1.4},{"$f":"IF($W77>1.5,1.5,IF($W77<0.5,0,$W77))","v":0},{"$f":"((($J70-$Y$432)/($Y$431-$Y$432))*0.5+1)","v":-0.25},{"$f":"IF($Y77>1.5,1.5,IF($Y77<0.5,0,$Y77))","v":0},{"$f":"((($J70-$AA$432)/($AA$431-$AA$432))*0.5+1)","v":0},{"$f":"IF($AA77>1.5,1.5,IF($AA77<0.5,0,$AA77))","v":0},{"$f":"((($J70-$AC$432)/($AC$431-$AC$432))*0.5+1)","v":0},{"$f":"IF($AC77>1.5,1.5,IF($AC77<0.5,0,$AC77))","v":0},null,{"$f":"IF(AND($AJ77=1,PRODUCT(N77,T77,Z77)>=1,$J80>=$AG$432),1,0)","v":0},{"$f":"IF(AND($AK77=1,PRODUCT(P77,V77,AB77)>=1,$J80>=$AG$431),1,0)","v":0},{"$f":"IF(AND($B77=\"Projektleiter*in\",PRODUCT(R77,X77,AD77)>=1,$J80>=$AG$430),1,0)","v":0},null,{"$f":"IF(OR($B77=\"Projektleiter*in\",$B77=\"Co-Projektleiter*in\",$B77=\"Teilprojektleiter*in\",$B77=\"Stv. Projektleiter*in\"),1,0)","v":0},{"$f":"IF(OR($B77=\"Projektleiter*in\",$B77=\"Co-Projektleiter*in\",$B77=\"Teilprojektleiter*in\"),1,0)","v":0},null,{"$f":"IF(AND(F69>=M$437,H77>=O$437,J70>=Q$437,AO77>=S$437,J80>=U$437),1,0)","v":0},null,{"$f":"IF(F77=\"\",0,DATEDIF(D77,F77,\"m\")+1)","v":0}]
[null,null,"von ",null,"bis ",{"$nulls":4},"",null,null,{"$f":"((($M75-$M$432)/($M$431-$M$432))*0.5+1)","v":-0.25},0,{"$f":"((($M75-$O$432)/($O$431-$O$432))*0.5+1)","v":-0.75},0,{"$f":"((($M75-$Q$432)/($Q$431-$Q$432))*0.5+1)","v":-0.5},0,{"$f":"((($H78-$S$432)/($S$431-$S$432))*0.5+1)","v":-1},0,{"$f":"((($H78-$U$432)/($U$431-$U$432))*0.5+1)","v":-0.75},0,{"$f":"((($H78-$W$432)/($W$431-$W$432))*0.5+1)","v":-1.4},0,{"$f":"((($J70-$Y$432)/($Y$431-$Y$432))*0.5+1)","v":-0.25},0,{"$f":"((($J70-$AA$432)/($AA$431-$AA$432))*0.5+1)","v":0},0,{"$f":"((($J70-$AC$432)/($AC$431-$AC$432))*0.5+1)","v":0},0,null,{"$f":"IF(AND($AJ78=1,PRODUCT(N78,T78,Z78)>=1,$J80>=$AG$432),1,0)","v":0},{"$f":"IF(AND($AK78=1,PRODUCT(P78,V78,AB78)>=1,$J80>=$AG$431),1,0)","v":0},{"$f":"IF(AND($B78=\"Projektleiter*in\",PRODUCT(R78,X78,AD78)>=1,$J80>=$AG$430),1,0)","v":0},null,{"$f":"IF(OR($B78=\"Projektleiter*in\",$B78=\"Co-Projektleiter*in\",$B78=\"Teilprojektleiter*in\",$B78=\"Stv. Projektleiter*in\"),1,0)","v":0},{"$f":"IF(OR($B78=\"Projektleiter*in\",$B78=\"Co-Projektleiter*in\",$B78=\"Teilprojektleiter*in\"),1,0)","v":0},null,{"$f":"IF(AND(F69>=M$437,H78>=O$437,J70>=Q$437,AO78>=S$437,J80>=U$437),1,0)","v":0},null,{"$f":"IF(F78=\"\",0,DATEDIF(D78,F78,\"m\")+1)","v":0}]
[]
[null,"Komplexitätsbeurteilung des Projekts (s. Hinweise im Tabellenblatt 'Tips')",{"$nulls":7},{"$f":"SUM(J81:J90)","v":0}]
[null,"01 Ziele und Ergebnisbeurteilung"]
[null,"02 Prozesse, Methoden, Tools und Techniken des PP&PM"]
[null,"03 Ressourcen und Finanzierung"]
[null,"04 Chancen und Risiken"]
[null,"05 Stakeholder und Integration"]
[null,"06 Beziehungen zur Stammorganisation"]
[null,"07 Kultureller und sozialer Kontext"]
[null,"08 Führung, Teamarbeit und Entscheidungen"]
[null,"09 Innovationsgrad und Rahmenbedingungen"]
[null,"10 Koordinationsbedarf"]
[]
[null,"Referenzperson (üblicherweise Auftraggeber oder Arbeitgeber)"]
[null,"Vorname Name"]
[null,"Rolle im Projekt/Unternehmen"]
[null,"Telefon"]
[null,"E-Mail"]
[]
[]
[]
[null,"Projekt Nr. 3"]
[null,"Name des Projekts"]
[null,"Projektkunde (Unternehmen)"]
[null,"Projektart"]
[null,"Projektscope"]
[]
[null,"Informationen zum Projekt",null,"Datum eingeben",{"$nulls":5},"Monate"]
[null,"Projektdauer","von ",null,"bis ",{"$nulls":4},{"$f":"ROUND(((F107-D107)/30.4),0)","v":0}]
[]
[null,"Projektumfang geplant",null,"Personentage ",null,null,null,"Cash-out \nin CHF"]
[null,"Projektumfang realisiert"]
[null,"Anzahl im Projekt direkt und indirekt geführte Personen "]
[]
[null,"Projekt ist abgeschlossen (massgebend ist das Datum der Einreichung des Antrags)",{"$nulls":10},"Personentage",{"$nulls":5},"Projektleitung",{"$nulls":5},"Anzahl geführte Personen",{"$nulls":6},"Levelkonformität",null,null,null,"Rolle",null,null,"Minimal-\nanforderung",null,"Dauer\nin Rolle"]
[null,"Projekt mit strategischer Bedeutung",{"$nulls":10},"C",null,"B",null,"A",null,"C",null,"B",null,"A",null,"C",null,"B",null,"A",null,null,"C","B","A",null,"C","B"]
[]
[null,"Ihre Rolle(n) im Projekt",null,"Datum eingeben",null,null,null,"Stunden",null,"Std/Monat",null,null,{"$f":"IF(F109>=F110,F109,F110)","v":0}]
[null,null,"von ",null,"bis ",{"$nulls":4},{"$f":"IFERROR(ROUND(H117/((F117-D117)/30.4),0),\"\")","v":""},null,null,{"$f":"((($M116-$M$432)/($M$431-$M$432))*0.5+1)","v":-0.25},{"$f":"IF($M117>1.5,1.5,IF($M117<0.5,0,$M117))","v":0},{"$f":"((($M116-$O$432)/($O$431-$O$432))*0.5+1)","v":-0.75},{"$f":"IF($O117>1.5,1.5,IF($O117<0.5,0,$O117))","v":0},{"$f":"((($M116-$Q$432)/($Q$431-$Q$432))*0.5+1)","v":-0.5},{"$f":"IF($Q117>1.5,1.5,IF($Q117<0.5,0,$Q117))","v":0},{"$f":"((($H117-$S$432)/($S$431-$S$432))*0.5+1)","v":-1},{"$f":"IF($S117>1.5,1.5,IF($S117<0.5,0,$S117))","v":0},{"$f":"((($H117-$U$432)/($U$431-$U$432))*0.5+1)","v":-0.75},{"$f":"IF($U117>1.5,1.5,IF($U117<0.5,0,$U117))","v":0},{"$f":"((($H117-$W$432)/($W$431-$W$432))*0.5+1)","v":-1.4},{"$f":"IF($W117>1.5,1.5,IF($W117<0.5,0,$W117))","v":0},{"$f":"((($J111-$Y$432)/($Y$431-$Y$432))*0.5+1)","v":-0.25},{"$f":"IF($Y117>1.5,1.5,IF($Y117<0.5,0,$Y117))","v":0},{"$f":"((($J111-$AA$432)/($AA$431-$AA$432))*0.5+1)","v":0},{"$f":"IF($AA117>1.5,1.5,IF($AA117<0.5,0,$AA117))","v":0},{"$f":"((($J111-$AC$432)/($AC$431-$AC$432))*0.5+1)","v":0},{"$f":"IF($AC117>1.5,1.5,IF($AC117<0.5,0,$AC117))","v":0},null,{"$f":"IF(AND($AJ117=1,PRODUCT(N117,T117,Z117)>=1,$J121>=$AG$432),1,0)","v":0},{"$f":"IF(AND($AK117=1,PRODUCT(P117,V117,AB117)>=1,$J121>=$AG$431),1,0)","v":0},{"$f":"IF(AND($B117=\"Projektleiter*in\",PRODUCT(R117,X117,AD117)>=1,$J121>=$AG$430),1,0)","v":0},null,{"$f":"IF(OR($B117=\"Projektleiter*in\",$B117=\"Co-Projektleiter*in\",$B117=\"Teilprojektleiter*in\",$B117=\"Stv. Projektleiter*in\"),1,0)","v":0},{"$f":"IF(OR($B117=\"Projektleiter*in\",$B117=\"Co-Projektleiter*in\",$B117=\"Teilprojektleiter*in\"),1,0)","v":0},null,{"$f":"IF(AND(F110>=M$437,H117>=O$437,J111>=Q$437,AO117>=S$437,J121>=U$437),1,0)","v":0},null,{"$f":"IF(F117=\"\",0,DATEDIF(D117,F117,\"m\")+1)","v":0}]
[null,null,"von ",null,"bis ",{"$nulls":4},{"$f":"IFERROR(ROUND(H118/((F118-D118)/30.4),0),\"\")","v":""},null,null,{"$f":"((($M116-$M$432)/($M$431-$M$432))*0.5+1)","v":-0.25},{"$f":"IF($M118>1.5,1.5,IF($M118<0.5,0,$M118))","v":0},{"$f":"((($M116-$O$432)/($O$431-$O$432))*0.5+1)","v":-0.75},{"$f":"IF($O118>1.5,1.5,IF($O118<0.5,0,$O118))","v":0},{"$f":"((($M116-$Q$432)/($Q$431-$Q$432))*0.5+1)","v":-0.5},{"$f":"IF($Q118>1.5,1.5,IF($Q118<0.5,0,$Q118))","v":0},{"$f":"((($H118-$S$432)/($S$431-$S$432))*0.5+1)","v":-1},{"$f":"IF($S118>1.5,1.5,IF($S118<0.5,0,$S118))","v":0},{"$f":"((($H118-$U$432)/($U$431-$U$432))*0.5+1)","v":-0.75},{"$f":"IF($U118>1.5,1.5,IF($U118<0.5,0,$U118))","v":0},{"$f":"((($H118-$W$432)/($W$431-$W$432))*0.5+1)","v":-1.4},{"$f":"IF($W118>1.5,1.5,IF($W118<0.5,0,$W118))","v":0},{"$f":"((($J111-$Y$432)/($Y$431-$Y$432))*0.5+1)","v":-0.25},{"$f":"IF($Y118>1.5,1.5,IF($Y118<0.5,0,$Y118))","v":0},{"$f":"((($J111-$AA$432)/($AA$431-$AA$432))*0.5+1)","v":0},{"$f":"IF($AA118>1.5,1.5,IF($AA118<0.5,0,$AA118))","v":0},{"$f":"((($J111-$AC$432)/($AC$431-$AC$432))*0.5+1)","v":0},{"$f":"IF($AC118>1.5,1.5,IF($AC118<0.5,0,$AC118))","v":0},null,{"$f":"IF(AND($AJ118=1,PRODUCT(N118,T118,Z118)>=1,$J121>=$AG$432),1,0)","v":0},{"$f":"IF(AND($AK118=1,PRODUCT(P118,V118,AB118)>=1,$J121>=$AG$431),1,0)","v":0},{"$f":"IF(AND($B118=\"Projektleiter*in\",PRODUCT(R118,X118,AD118)>=1,$J121>=$AG$430),1,0)","v":0},null,{"$f":"IF(OR($B118=\"Projektleiter*in\",$B118=\"Co-Projektleiter*in\",$B118=\"Teilprojektleiter*in\",$B118=\"Stv. Projektleiter*in\"),1,0)","v":0},{"$f":"IF(OR($B118=\"Projektleiter*in\",$B118=\"Co-Projektleiter*in\",$B118=\"Teilprojektleiter*in\"),1,0)","v":0},null,{"$f":"IF(AND(F110>=M$437,H118>=O$437,J111>=Q$437,AO118>=S$437,J121>=U$437),1,0)","v":0},null,{"$f":"IF(F118=\"\",0,DATEDIF(D118,F118,\"m\")+1)","v":0}]
[null,null,"von ",null,"bis ",{"$nulls":4},"",null,null,{"$f":"((($M116-$M$432)/($M$431-$M$432))*0.5+1)","v":-0.25},0,{"$f":"((($M116-$O$432)/($O$431-$O$432))*0.5+1)","v":-0.75},0,{"$f":"((($M116-$Q$432)/($Q$431-$Q$432))*0.5+1)","v":-0.5},0,{"$f":"((($H119-$S$432)/($S$431-$S$432))*0.5+1)","v":-1},0,{"$f":"((($H119-$U$432)/($U$431-$U$432))*0.5+1)","v":-0.75},0,{"$f":"((($H119-$W$432)/($W$431-$W$432))*0.5+1)","v":-1.4},0,{"$f":"((($J111-$Y$432)/($Y$431-$Y$432))*0.5+1)","v":-0.25},0,{"$f":"((($J111-$AA$432)/($AA$431-$AA$432))*0.5+1)","v":0},0,{"$f":"((($J111-$AC$432)/($AC$431-$AC$432))*0.5+1)","v":0},0,null,{"$f":"IF(AND($AJ119=1,PRODUCT(N119,T119,Z119)>=1,$J121>=$AG$432),1,0)","v":0},{"$f":"IF(AND($AK119=1,PRODUCT(P119,V119,AB119)>=1,$J121>=$AG$431),1,0)","v":0},{"$f":"IF(AND($B119=\"Projektleiter*in\",PRODUCT(R119,X119,AD119)>=1,$J121>=$AG$430),1,0)","v":0},null,{"$f":"IF(OR($B119=\"Projektleiter*in\",$B119=\"Co-Projektleiter*in\",$B119=\"Teilprojektleiter*in\",$B119=\"Stv. Projektleiter*in\"),1,0)","v":0},{"$f":"IF(OR($B119=\"Projektleiter*in\",$B119=\"Co-Projektleiter*in\",$B119=\"Teilprojektleiter*in\"),1,0)","v":0},null,{"$f":"IF(AND(F110>=M$437,H119>=O$437,J111>=Q$437,AO119>=S$437,J121>=U$437),1,0)","v":0},null,{"$f":"IF(F119=\"\",0,DATEDIF(D119,F119,\"m\")+1)","v":0}]
[]
[null,"Komplexitätsbeurteilung des Projekts (s. Hinweise im Tabellenblatt 'Tips')",{"$nulls":7},{"$f":"SUM(J122:J131)","v":0}]
[null,"01 Ziele und Ergebnisbeurteilung"]
[null,"02 Prozesse, Methoden, Tools und Techniken des PP&PM"]
[null,"03 Ressourcen und Finanzierung"]
[null,"04 Chancen und Risiken"]
[null,"05 Stakeholder und Integration"]
[null,"06 Beziehungen zur Stammorganisation"]
[null,"07 Kultureller und sozialer Kontext"]
[null,"08 Führung, Teamarbeit und Entscheidungen"]
[null,"09 Innovationsgrad und Rahmenbedingungen"]
[null,"10 Koordinationsbedarf"]
[]
[null,"Referenzperson (üblicherweise Auftraggeber oder Arbeitgeber)"]
[null,"Vorname Name"]
[null,"Rolle im Projekt/Unternehmen"]
[null,"Telefon"]
[null,"E-Mail"]
[]
[]
[]
[null,"Projekt Nr. 4"]
[null,"Name des Projekts"]
[null,"Projektkunde (Unternehmen)"]
[null,"Projektart"]
[null,"Projektscope"]
[]
[null,"Informationen zum Projekt",null,"Datum eingeben",{"$nulls":5},"Monate"]
[null,"Projektdauer","von ",null,"bis ",{"$nulls":4},{"$f":"ROUND(((F148-D148)/30.4),0)","v":0}]
[]
[null,"Projektumfang geplant",null,"Personentage ",null,null,null,"Cash-out \nin CHF"]
[null,"Projektumfang realisiert"]
[null,"Anzahl im Projekt direkt und indirekt geführte Personen "]
[]
[null,"Projekt ist abgeschlossen (massgebend ist das Datum der Einreichung des Antrags)",{"$nulls":10},"Personentage",{"$nulls":5},"Projektleitung",{"$nulls":5},"Anzahl geführte Personen",{"$nulls":6},"Levelkonformität",null,null,null,"Rolle",null,null,"Minimal-\nanforderung",null,"Dauer\nin Rolle"]
[null,"Projekt mit strategischer Bedeutung",{"$nulls":10},"C",null,"B",null,"A",null,"C",null,"B",null,"A",null,"C",null,"B",null,"A",null,null,"C","B","A",null,"C","B"]
[]
[null,"Ihre Rolle(n) im Projekt",null,"Datum eingeben",null,null,null,"Stunden",null,"Std/Monat",null,null,{"$f":"IF(F150>=F151,F150,F151)","v":0}]
[null,null,"von ",null,"bis ",{"$nulls":4},{"$f":"IFERROR(ROUND(H158/((F158-D158)/30.4),0),\"\")","v":""},null,null,{"$f":"((($M157-$M$432)/($M$431-$M$432))*0.5+1)","v":-0.25},{"$f":"IF($M158>1.5,1.5,IF($M158<0.5,0,$M158))","v":0},{"$f":"((($M157-$O$432)/($O$431-$O$432))*0.5+1)","v":-0.75},{"$f":"IF($O158>1.5,1.5,IF($O158<0.5,0,$O158))","v":0},{"$f":"((($M157-$Q$432)/($Q$431-$Q$432))*0.5+1)","v":-0.5},{"$f":"IF($Q158>1.5,1.5,IF($Q158<0.5,0,$Q158))","v":0},{"$f":"((($H158-$S$432)/($S$431-$S$432))*0.5+1)","v":-1},{"$f":"IF($S158>1.5,1.5,IF($S158<0.5,0,$S158))","v":0},{"$f":"((($H158-$U$432)/($U$431-$U$432))*0.5+1)","v":-0.75},{"$f":"IF($U158>1.5,1.5,IF($U158<0.5,0,$U158))","v":0},{"$f":"((($H158-$W$432)/($W$431-$W$432))*0.5+1)","v":-1.4},{"$f":"IF($W158>1.5,1.5,IF($W158<0.5,0,$W158))","v":0},{"$f":"((($J152-$Y$432)/($Y$431-$Y$432))*0.5+1)","v":-0.25},{"$f":"IF($Y158>1.5,1.5,IF($Y158<0.5,0,$Y158))","v":0},{"$f":"((($J152-$AA$432)/($AA$431-$AA$432))*0.5+1)","v":0},{"$f":"IF($AA158>1.5,1.5,IF($AA158<0.5,0,$AA158))","v":0},{"$f":"((($J152-$AC$432)/($AC$431-$AC$432))*0.5+1)","v":0},{"$f":"IF($AC158>1.5,1.5,IF($AC158<0.5,0,$AC158))","v":0},null,{"$f":"IF(AND($AJ158=1,PRODUCT(N158,T158,Z158)>=1,$J162>=$AG$432),1,0)","v":0},{"$f":"IF(AND($AK158=1,PRODUCT(P158,V158,AB158)>=1,$J162>=$AG$431),1,0)","v":0},{"$f":"IF(AND($B158=\"Projektleiter*in\",PRODUCT(R158,X158,AD158)>=1,$J162>=$AG$430),1,0)","v":0},null,{"$f":"IF(OR($B158=\"Projektleiter*in\",$B158=\"Co-Projektleiter*in\",$B158=\"Teilprojektleiter*in\",$B158=\"Stv. Projektleiter*in\"),1,0)","v":0},{"$f":"IF(OR($B158=\"Projektleiter*in\",$B158=\"Co-Projektleiter*in\",$B158=\"Teilprojektleiter*in\"),1,0)","v":0},null,{"$f":"IF(AND(F151>=M$437,H158>=O$437,J152>=Q$437,AO158>=S$437,J162>=U$437),1,0)","v":0},null,{"$f":"IF(F158=\"\",0,DATEDIF(D158,F158,\"m\")+1)","v":0}]
[null,null,"von ",null,"bis ",{"$nulls":4},{"$f":"IFERROR(ROUND(H159/((F159-D159)/30.4),0),\"\")","v":""},null,null,{"$f":"((($M157-$M$432)/($M$431-$M$432))*0.5+1)","v":-0.25},{"$f":"IF($M159>1.5,1.5,IF($M159<0.5,0,$M159))","v":0},{"$f":"((($M157-$O$432)/($O$431-$O$432))*0.5+1)","v":-0.75},{"$f":"IF($O159>1.5,1.5,IF($O159<0.5,0,$O159))","v":0},{"$f":"((($M157-$Q$432)/($Q$431-$Q$432))*0.5+1)","v":-0.5},{"$f":"IF($Q159>1.5,1.5,IF($Q159<0.5,0,$Q159))","v":0},{"$f":"((($H159-$S$432)/($S$431-$S$432))*0.5+1)","v":-1},{"$f":"IF($S159>1.5,1.5,IF($S159<0.5,0,$S159))","v":0},{"$f":"((($H159-$U$432)/($U$431-$U$432))*0.5+1)","v":-0.75},{"$f":"IF($U159>1.5,1.5,IF($U159<0.5,0,$U159))","v":0},{"$f":"((($H159-$W$432)/($W$431-$W$432))*0.5+1)","v":-1.4},{"$f":"IF($W159>1.5,1.5,IF($W159<0.5,0,$W159))","v":0},{"$f":"((($J152-$Y$432)/($Y$431-$Y$432))*0.5+1)","v":-0.25},{"$f":"IF($Y159>1.5,1.5,IF($Y159<0.5,0,$Y159))","v":0},{"$f":"((($J152-$AA$432)/($AA$431-$AA$432))*0.5+1)","v":0},{"$f":"IF($AA159>1.5,1.5,IF($AA159<0.5,0,$AA159))","v":0},{"$f":"((($J152-$AC$432)/($AC$431-$AC$432))*0.5+1)","v":0},{"$f":"IF($AC159>1.5,1.5,IF($AC159<0.5,0,$AC159))","v":0},null,{"$f":"IF(AND($AJ159=1,PRODUCT(N159,T159,Z159)>=1,$J162>=$AG$432),1,0)","v":0},{"$f":"IF(AND($AK159=1,PRODUCT(P159,V159,AB159)>=1,$J162>=$AG$431),1,0)","v":0},{"$f":"IF(AND($B159=\"Projektleiter*in\",PRODUCT(R159,X159,AD159)>=1,$J162>=$AG$430),1,0)","v":0},null,{"$f":"IF(OR($B159=\"Projektleiter*in\",$B159=\"Co-Projektleiter*in\",$B159=\"Teilprojektleiter*in\",$B159=\"Stv. Projektleiter*in\"),1,0)","v":0},{"$f":"IF(OR($B159=\"Projektleiter*in\",$B159=\"Co-Projektleiter*in\",$B159=\"Teilprojektleiter*in\"),1,0)","v":0},null,{"$f":"IF(AND(F151>=M$437,H159>=O$437,J152>=Q$437,AO159>=S$437,J162>=U$437),1,0)","v":0},null,{"$f":"IF(F159=\"\",0,DATEDIF(D159,F159,\"m\")+1)","v":0}]
[null,null,"von ",null,"bis ",{"$nulls":4},"",null,null,{"$f":"((($M157-$M$432)/($M$431-$M$432))*0.5+1)","v":-0.25},0,{"$f":"((($M157-$O$432)/($O$431-$O$432))*0.5+1)","v":-0.75},0,{"$f":"((($M157-$Q$432)/($Q$431-$Q$432))*0.5+1)","v":-0.5},0,{"$f":"((($H160-$S$432)/($S$431-$S$432))*0.5+1)","v":-1},0,{"$f":"((($H160-$U$432)/($U$431-$U$432))*0.5+1)","v":-0.75},0,{"$f":"((($H160-$W$432)/($W$431-$W$432))*0.5+1)","v":-1.4},0,{"$f":"((($J152-$Y$432)/($Y$431-$Y$432))*0.5+1)","v":-0.25},0,{"$f":"((($J152-$AA$432)/($AA$431-$AA$432))*0.5+1)","v":0},0,{"$f":"((($J152-$AC$432)/($AC$431-$AC$432))*0.5+1)","v":0},0,null,{"$f":"IF(AND($AJ160=1,PRODUCT(N160,T160,Z160)>=1,$J162>=$AG$432),1,0)","v":0},{"$f":"IF(AND($AK160=1,PRODUCT(P160,V160,AB160)>=1,$J162>=$AG$431),1,0)","v":0},{"$f":"IF(AND($B160=\"Projektleiter*in\",PRODUCT(R160,X160,AD160)>=1,$J162>=$AG$430),1,0)","v":0},null,{"$f":"IF(OR($B160=\"Projektleiter*in\",$B160=\"Co-Projektleiter*in\",$B160=\"Teilprojektleiter*in\",$B160=\"Stv. Projektleiter*in\"),1,0)","v":0},{"$f":"IF(OR($B160=\"Projektleiter*in\",$B160=\"Co-Projektleiter*in\",$B160=\"Teilprojektleiter*in\"),1,0)","v":0},null,{"$f":"IF(AND(F151>=M$437,H160>=O$437,J152>=Q$437,AO160>=S$437,J162>=U$437),1,0)","v":0},null,{"$f":"IF(F160=\"\",0,DATEDIF(D160,F160,\"m\")+1)","v":0}]
[]
[null,"Komplexitätsbeurteilung des Projekts (s. Hinweise im Tabellenblatt 'Tips')",{"$nulls":7},{"$f":"SUM(J163:J172)","v":0}]
[null,"01 Ziele und Ergebnisbeurteilung"]
[null,"02 Prozesse, Methoden, Tools und Techniken des PP&PM"]
[null,"03 Ressourcen und Finanzierung"]
[null,"04 Chancen und Risiken"]
[null,"05 Stakeholder und Integration"]
[null,"06 Beziehungen zur Stammorganisation"]
[null,"07 Kultureller und sozialer Kontext"]
[null,"08 Führung, Teamarbeit und Entscheidungen"]
[null,"09 Innovationsgrad und Rahmenbedingungen"]
[null,"10 Koordinationsbedarf"]
[]
[null,"Referenzperson (üblicherweise Auftraggeber oder Arbeitgeber)"]
[null,"Vorname Name"]
[null,"Rolle im Projekt/Unternehmen"]
[null,"Telefon"]
[null,"E-Mail"]
[]
[]
[]
[null,"Projekt Nr. 5"]
[null,"Name des Projekts"]
[null,"Projektkunde (Unternehmen)"]
[null,"Projektart"]
[null,"Projektscope"]
[]
[null,"Informationen zum Projekt",null,"Datum eingeben",{"$nulls":5},"Monate"]
[null,"Projektdauer","von ",null,"bis ",{"$nulls":4},{"$f":"ROUND(((F189-D189)/30.4),0)","v":0}]
[]
[null,"Projektumfang geplant",null,"Personentage ",null,null,null,"Cash-out \nin CHF"]
[null,"Projektumfang realisiert"]
[null,"Anzahl im Projekt direkt und indirekt geführte Personen "]
[]
[null,"Projekt ist abgeschlossen (massgebend ist das Datum der Einreichung des Antrags)",{"$nulls":10},"Personentage",{"$nulls":5},"Projektleitung",{"$nulls":5},"Anzahl geführte Personen",{"$nulls":6},"Levelkonformität",null,null,null,"Rolle",null,null,"Minimal-\nanforderung",null,"Dauer\nin Rolle"]
[null,"Projekt mit strategischer Bedeutung",{"$nulls":10},"C",null,"B",null,"A",null,"C",null,"B",null,"A",null,"C",null,"B",null,"A",null,null,"C","B","A",null,"C","B"]
[]
[null,"Ihre Rolle(n) im Projekt",null,"Datum eingeben",null,null,null,"Stunden",null,"Std/Monat",null,null,{"$f":"IF(F191>=F192,F191,F192)","v":0}]
[null,null,"von ",null,"bis ",{"$nulls":4},{"$f":"IFERROR(ROUND(H199/((F199-D199)/30.4),0),\"\")","v":""},null,null,{"$f":"((($M198-$M$432)/($M$431-$M$432))*0.5+1)","v":-0.25},{"$f":"IF($M199>1.5,1.5,IF($M199<0.5,0,$M199))","v":0},{"$f":"((($M198-$O$432)/($O$431-$O$432))*0.5+1)","v":-0.75},{"$f":"IF($O199>1.5,1.5,IF($O199<0.5,0,$O199))","v":0},{"$f":"((($M198-$Q$432)/($Q$431-$Q$432))*0.5+1)","v":-0.5},{"$f":"IF($Q199>1.5,1.5,IF($Q199<0.5,0,$Q199))","v":0},{"$f":"((($H199-$S$432)/($S$431-$S$432))*0.5+1)","v":-1},{"$f":"IF($S199>1.5,1.5,IF($S199<0.5,0,$S199))","v":0},{"$f":"((($H199-$U$432)/($U$431-$U$432))*0.5+1)","v":-0.75},{"$f":"IF($U199>1.5,1.5,IF($U199<0.5,0,$U199))","v":0},{"$f":"((($H199-$W$432)/($W$431-$W$432))*0.5+1)","v":-1.4},{"$f":"IF($W199>1.5,1.5,IF($W199<0.5,0,$W199))","v":0},{"$f":"((($J193-$Y$432)/($Y$431-$Y$432))*0.5+1)","v":-0.25},{"$f":"IF($Y199>1.5,1.5,IF($Y199<0.5,0,$Y199))","v":0},{"$f":"((($J193-$AA$432)/($AA$431-$AA$432))*0.5+1)","v":0},{"$f":"IF($AA199>1.5,1.5,IF($AA199<0.5,0,$AA199))","v":0},{"$f":"((($J193-$AC$432)/($AC$431-$AC$432))*0.5+1)","v":0},{"$f":"IF($AC199>1.5,1.5,IF($AC199<0.5,0,$AC199))","v":0},null,{"$f":"IF(AND($AJ199=1,PRODUCT(N199,T199,Z199)>=1,$J203>=$AG$432),1,0)","v":0},{"$f":"IF(AND($AK199=1,PRODUCT(P199,V199,AB199)>=1,$J203>=$AG$431),1,0)","v":0},{"$f":"IF(AND($B199=\"Projektleiter*in\",PRODUCT(R199,X199,AD199)>=1,$J203>=$AG$430),1,0)","v":0},null,{"$f":"IF(OR($B199=\"Projektleiter*in\",$B199=\"Co-Projektleiter*in\",$B199=\"Teilprojektleiter*in\",$B199=\"Stv. Projektleiter*in\"),1,0)","v":0},{"$f":"IF(OR($B199=\"Projektleiter*in\",$B199=\"Co-Projektleiter*in\",$B199=\"Teilprojektleiter*in\"),1,0)","v":0},null,{"$f":"IF(AND(F192>=M$437,H199>=O$437,J193>=Q$437,AO199>=S$437,J203>=U$437),1,0)","v":0},null,{"$f":"IF(F199=\"\",0,DATEDIF(D199,F199,\"m\")+1)","v":0}]
[null,null,"von ",null,"bis ",{"$nulls":4},{"$f":"IFERROR(ROUND(H200/((F200-D200)/30.4),0),\"\")","v":""},null,null,{"$f":"((($M198-$M$432)/($M$431-$M$432))*0.5+1)","v":-0.25},{"$f":"IF($M200>1.5,1.5,IF($M200<0.5,0,$M200))","v":0},{"$f":"((($M198-$O$432)/($O$431-$O$432))*0.5+1)","v":-0.75},{"$f":"IF($O200>1.5,1.5,IF($O200<0.5,0,$O200))","v":0},{"$f":"((($M198-$Q$432)/($Q$431-$Q$432))*0.5+1)","v":-0.5},{"$f":"IF($Q200>1.5,1.5,IF($Q200<0.5,0,$Q200))","v":0},{"$f":"((($H200-$S$432)/($S$431-$S$432))*0.5+1)","v":-1},{"$f":"IF($S200>1.5,1.5,IF($S200<0.5,0,$S200))","v":0},{"$f":"((($H200-$U$432)/($U$431-$U$432))*0.5+1)","v":-0.75},{"$f":"IF($U200>1.5,1.5,IF($U200<0.5,0,$U200))","v":0},{"$f":"((($H200-$W$432)/($W$431-$W$432))*0.5+1)","v":-1.4},{"$f":"IF($W200>1.5,1.5,IF($W200<0.5,0,$W200))","v":0},{"$f":"((($J193-$Y$432)/($Y$431-$Y$432))*0.5+1)","v":-0.25},{"$f":"IF($Y200>1.5,1.5,IF($Y200<0.5,0,$Y200))","v":0},{"$f":"((($J193-$AA$432)/($AA$431-$AA$432))*0.5+1)","v":0},{"$f":"IF($AA200>1.5,1.5,IF($AA200<0.5,0,$AA200))","v":0},{"$f":"((($J193-$AC$432)/($AC$431-$AC$432))*0.5+1)","v":0},{"$f":"IF($AC200>1.5,1.5,IF($AC200<0.5,0,$AC200))","v":0},null,{"$f":"IF(AND($AJ200=1,PRODUCT(N200,T200,Z200)>=1,$J203>=$AG$432),1,0)","v":0},{"$f":"IF(AND($AK200=1,PRODUCT(P200,V200,AB200)>=1,$J203>=$AG$431),1,0)","v":0},{"$f":"IF(AND($B200=\"Projektleiter*in\",PRODUCT(R200,X200,AD200)>=1,$J203>=$AG$430),1,0)","v":0},null,{"$f":"IF(OR($B200=\"Projektleiter*in\",$B200=\"Co-Projektleiter*in\",$B200=\"Teilprojektleiter*in\",$B200=\"Stv. Projektleiter*in\"),1,0)","v":0},{"$f":"IF(OR($B200=\"Projektleiter*in\",$B200=\"Co-Projektleiter*in\",$B200=\"Teilprojektleiter*in\"),1,0)","v":0},null,{"$f":"IF(AND(F192>=M$437,H200>=O$437,J193>=Q$437,AO200>=S$437,J203>=U$437),1,0)","v":0},null,{"$f":"IF(F200=\"\",0,DATEDIF(D200,F200,\"m\")+1)","v":0}]
[null,null,"von ",null,"bis ",{"$nulls":4},"",null,null,{"$f":"((($M198-$M$432)/($M$431-$M$432))*0.5+1)","v":-0.25},0,{"$f":"((($M198-$O$432)/($O$431-$O$432))*0.5+1)","v":-0.75},0,{"$f":"((($M198-$Q$432)/($Q$431-$Q$432))*0.5+1)","v":-0.5},0,{"$f":"((($H201-$S$432)/($S$431-$S$432))*0.5+1)","v":-1},0,{"$f":"((($H201-$U$432)/($U$431-$U$432))*0.5+1)","v":-0.75},0,{"$f":"((($H201-$W$432)/($W$431-$W$432))*0.5+1)","v":-1.4},0,{"$f":"((($J193-$Y$432)/($Y$431-$Y$432))*0.5+1)","v":-0.25},0,{"$f":"((($J193-$AA$432)/($AA$431-$AA$432))*0.5+1)","v":0},0,{"$f":"((($J193-$AC$432)/($AC$431-$AC$432))*0.5+1)","v":0},0,null,{"$f":"IF(AND($AJ201=1,PRODUCT(N201,T201,Z201)>=1,$J203>=$AG$432),1,0)","v":0},{"$f":"IF(AND($AK201=1,PRODUCT(P201,V201,AB201)>=1,$J203>=$AG$431),1,0)","v":0},{"$f":"IF(AND($B201=\"Projektleiter*in\",PRODUCT(R201,X201,AD201)>=1,$J203>=$AG$430),1,0)","v":0},null,{"$f":"IF(OR($B201=\"Projektleiter*in\",$B201=\"Co-Projektleiter*in\",$B201=\"Teilprojektleiter*in\",$B201=\"Stv. Projektleiter*in\"),1,0)","v":0},{"$f":"IF(OR($B201=\"Projektleiter*in\",$B201=\"Co-Projektleiter*in\",$B201=\"Teilprojektleiter*in\"),1,0)","v":0},null,{"$f":"IF(AND(F192>=M$437,H201>=O$437,J193>=Q$437,AO201>=S$437,J203>=U$437),1,0)","v":0},null,{"$f":"IF(F201=\"\",0,DATEDIF(D201,F201,\"m\")+1)","v":0}]
[]
[null,"Komplexitätsbeurteilung des Projekts (s. Hinweise im Tabellenblatt 'Tips')",{"$nulls":7},{"$f":"SUM(J204:J213)","v":0}]
[null,"01 Ziele und Ergebnisbeurteilung"]
[null,"02 Prozesse, Methoden, Tools und Techniken des PP&PM"]
[null,"03 Ressourcen und Finanzierung"]
[null,"04 Chancen und Risiken"]
[null,"05 Stakeholder und Integration"]
[null,"06 Beziehungen zur Stammorganisation"]
[null,"07 Kultureller und sozialer Kontext"]
[null,"08 Führung, Teamarbeit und Entscheidungen"]
[null,"09 Innovationsgrad und Rahmenbedingungen"]
[null,"10 Koordinationsbedarf"]
[]
[null,"Referenzperson (üblicherweise Auftraggeber oder Arbeitgeber)"]
[null,"Vorname Name"]
[null,"Rolle im Projekt/Unternehmen"]
[null,"Telefon"]
[null,"E-Mail"]
[]
[]
[]
[null,"Projekt Nr. 6"]
[null,"Name des Projekts"]
[null,"Projektkunde (Unternehmen)"]
[null,"Projektart"]
[null,"Projektscope"]
[]
[null,"Informationen zum Projekt",null,"Datum eingeben",{"$nulls":5},"Monate"]
[null,"Projektdauer","von ",null,"bis ",{"$nulls":4},{"$f":"ROUND(((F230-D230)/30.4),0)","v":0}]
[]
[null,"Projektumfang geplant",null,"Personentage ",null,null,null,"Cash-out \nin CHF"]
[null,"Projektumfang realisiert"]
[null,"Anzahl im Projekt direkt und indirekt geführte Personen "]
[]
[null,"Projekt ist abgeschlossen (massgebend ist das Datum der Einreichung des Antrags)",{"$nulls":10},"Personentage",{"$nulls":5},"Projektleitung",{"$nulls":5},"Anzahl geführte Personen",{"$nulls":6},"Levelkonformität",null,null,null,"Rolle",null,null,"Minimal-\nanforderung",null,"Dauer\nin Rolle"]
[null,"Projekt mit strategischer Bedeutung",{"$nulls":10},"C",null,"B",null,"A",null,"C",null,"B",null,"A",null,"C",null,"B",null,"A",null,null,"C","B","A",null,"C","B"]
[]
[null,"Ihre Rolle(n) im Projekt",null,"Datum eingeben",null,null,null,"Stunden",null,"Std/Monat",null,null,{"$f":"IF(F232>=F233,F232,F233)","v":0}]
[null,null,"von ",null,"bis ",{"$nulls":4},{"$f":"IFERROR(ROUND(H240/((F240-D240)/30.4),0),\"\")","v":""},null,null,{"$f":"((($M239-$M$432)/($M$431-$M$432))*0.5+1)","v":-0.25},{"$f":"IF($M240>1.5,1.5,IF($M240<0.5,0,$M240))","v":0},{"$f":"((($M239-$O$432)/($O$431-$O$432))*0.5+1)","v":-0.75},{"$f":"IF($O240>1.5,1.5,IF($O240<0.5,0,$O240))","v":0},{"$f":"((($M239-$Q$432)/($Q$431-$Q$432))*0.5+1)","v":-0.5},{"$f":"IF($Q240>1.5,1.5,IF($Q240<0.5,0,$Q240))","v":0},{"$f":"((($H240-$S$432)/($S$431-$S$432))*0.5+1)","v":-1},{"$f":"IF($S240>1.5,1.5,IF($S240<0.5,0,$S240))","v":0},{"$f":"((($H240-$U$432)/($U$431-$U$432))*0.5+1)","v":-0.75},{"$f":"IF($U240>1.5,1.5,IF($U240<0.5,0,$U240))","v":0},{"$f":"((($H240-$W$432)/($W$431-$W$432))*0.5+1)","v":-1.4},{"$f":"IF($W240>1.5,1.5,IF($W240<0.5,0,$W240))","v":0},{"$f":"((($J234-$Y$432)/($Y$431-$Y$432))*0.5+1)","v":-0.25},{"$f":"IF($Y240>1.5,1.5,IF($Y240<0.5,0,$Y240))","v":0},{"$f":"((($J234-$AA$432)/($AA$431-$AA$432))*0.5+1)","v":0},{"$f":"IF($AA240>1.5,1.5,IF($AA240<0.5,0,$AA240))","v":0},{"$f":"((($J234-$AC$432)/($AC$431-$AC$432))*0.5+1)","v":0},{"$f":"IF($AC240>1.5,1.5,IF($AC240<0.5,0,$AC240))","v":0},null,{"$f":"IF(AND($AJ240=1,PRODUCT(N240,T240,Z240)>=1,$J244>=$AG$432),1,0)","v":0},{"$f":"IF(AND($AK240=1,PRODUCT(P240,V240,AB240)>=1,$J244>=$AG$431),1,0)","v":0},{"$f":"IF(AND($B240=\"Projektleiter*in\",PRODUCT(R240,X240,AD240)>=1,$J244>=$AG$430),1,0)","v":0},null,{"$f":"IF(OR($B240=\"Projektleiter*in\",$B240=\"Co-Projektleiter*in\",$B240=\"Teilprojektleiter*in\",$B240=\"Stv. Projektleiter*in\"),1,0)","v":0},{"$f":"IF(OR($B240=\"Projektleiter*in\",$B240=\"Co-Projektleiter*in\",$B240=\"Teilprojektleiter*in\"),1,0)","v":0},null,{"$f":"IF(AND(F233>=M$437,H240>=O$437,J234>=Q$437,AO240>=S$437,J244>=U$437),1,0)","v":0},null,{"$f":"IF(F240=\"\",0,DATEDIF(D240,F240,\"m\")+1)","v":0}]
[null,null,"von ",null,"bis ",{"$nulls":4},{"$f":"IFERROR(ROUND(H241/((F241-D241)/30.4),0),\"\")","v":""},null,null,{"$f":"((($M239-$M$432)/($M$431-$M$432))*0.5+1)","v":-0.25},{"$f":"IF($M241>1.5,1.5,IF($M241<0.5,0,$M241))","v":0},{"$f":"((($M239-$O$432)/($O$431-$O$432))*0.5+1)","v":-0.75},{"$f":"IF($O241>1.5,1.5,IF($O241<0.5,0,$O241))","v":0},{"$f":"((($M239-$Q$432)/($Q$431-$Q$432))*0.5+1)","v":-0.5},{"$f":"IF($Q241>1.5,1.5,IF($Q241<0.5,0,$Q241))","v":0},{"$f":"((($H241-$S$432)/($S$431-$S$432))*0.5+1)","v":-1},{"$f":"IF($S241>1.5,1.5,IF($S241<0.5,0,$S241))","v":0},{"$f":"((($H241-$U$432)/($U$431-$U$432))*0.5+1)","v":-0.75},{"$f":"IF($U241>1.5,1.5,IF($U241<0.5,0,$U241))","v":0},{"$f":"((($H241-$W$432)/($W$431-$W$432))*0.5+1)","v":-1.4},{"$f":"IF($W241>1.5,1.5,IF($W241<0.5,0,$W241))","v":0},{"$f":"((($J234-$Y$432)/($Y$431-$Y$432))*0.5+1)","v":-0.25},{"$f":"IF($Y241>1.5,1.5,IF($Y241<0.5,0,$Y241))","v":0},{"$f":"((($J234-$AA$432)/($AA$431-$AA$432))*0.5+1)","v":0},{"$f":"IF($AA241>1.5,1.5,IF($AA241<0.5,0,$AA241))","v":0},{"$f":"((($J234-$AC$432)/($AC$431-$AC$432))*0.5+1)","v":0},{"$f":"IF($AC241>1.5,1.5,IF($AC241<0.5,0,$AC241))","v":0},null,{"$f":"IF(AND($AJ241=1,PRODUCT(N241,T241,Z241)>=1,$J244>=$AG$432),1,0)","v":0},{"$f":"IF(AND($AK241=1,PRODUCT(P241,V241,AB241)>=1,$J244>=$AG$431),1,0)","v":0},{"$f":"IF(AND($B241=\"Projektleiter*in\",PRODUCT(R241,X241,AD241)>=1,$J244>=$AG$430),1,0)","v":0},null,{"$f":"IF(OR($B241=\"Projektleiter*in\",$B241=\"Co-Projektleiter*in\",$B241=\"Teilprojektleiter*in\",$B241=\"Stv. Projektleiter*in\"),1,0)","v":0},{"$f":"IF(OR($B241=\"Projektleiter*in\",$B241=\"Co-Projektleiter*in\",$B241=\"Teilprojektleiter*in\"),1,0)","v":0},null,{"$f":"IF(AND(F233>=M$437,H241>=O$437,J234>=Q$437,AO241>=S$437,J244>=U$437),1,0)","v":0},null,{"$f":"IF(F241=\"\",0,DATEDIF(D241,F241,\"m\")+1)","v":0}]
[null,null,"von ",null,"bis ",{"$nulls":4},"",null,null,{"$f":"((($M239-$M$432)/($M$431-$M$432))*0.5+1)","v":-0.25},0,{"$f":"((($M239-$O$432)/($O$431-$O$432))*0.5+1)","v":-0.75},0,{"$f":"((($M239-$Q$432)/($Q$431-$Q$432))*0.5+1)","v":-0.5},0,{"$f":"((($H242-$S$432)/($S$431-$S$432))*0.5+1)","v":-1},0,{"$f":"((($H242-$U$432)/($U$431-$U$432))*0.5+1)","v":-0.75},0,{"$f":"((($H242-$W$432)/($W$431-$W$432))*0.5+1)","v":-1.4},0,{"$f":"((($J234-$Y$432)/($Y$431-$Y$432))*0.5+1)","v":-0.25},0,{"$f":"((($J234-$AA$432)/($AA$431-$AA$432))*0.5+1)","v":0},0,{"$f":"((($J234-$AC$432)/($AC$431-$AC$432))*0.5+1)","v":0},0,null,{"$f":"IF(AND($AJ242=1,PRODUCT(N242,T242,Z242)>=1,$J244>=$AG$432),1,0)","v":0},{"$f":"IF(AND($AK242=1,PRODUCT(P242,V242,AB242)>=1,$J244>=$AG$431),1,0)","v":0},{"$f":"IF(AND($B242=\"Projektleiter*in\",PRODUCT(R242,X242,AD242)>=1,$J244>=$AG$430),1,0)","v":0},null,{"$f":"IF(OR($B242=\"Projektleiter*in\",$B242=\"Co-Projektleiter*in\",$B242=\"Teilprojektleiter*in\",$B242=\"Stv. Projektleiter*in\"),1,0)","v":0},{"$f":"IF(OR($B242=\"Projektleiter*in\",$B242=\"Co-Projektleiter*in\",$B242=\"Teilprojektleiter*in\"),1,0)","v":0},null,{"$f":"IF(AND(F233>=M$437,H242>=O$437,J234>=Q$437,AO242>=S$437,J244>=U$437),1,0)","v":0},null,{"$f":"IF(F242=\"\",0,DATEDIF(D242,F242,\"m\")+1)","v":0}]
[]
[null,"Komplexitätsbeurteilung des Projekts (s. Hinweise im Tabellenblatt 'Tips')",{"$nulls":7},{"$f":"SUM(J245:J254)","v":0}]
[null,"01 Ziele und Ergebnisbeurteilung"]
[null,"02 Prozesse, Methoden, Tools und Techniken des PP&PM"]
[null,"03 Ressourcen und Finanzierung"]
[null,"04 Chancen und Risiken"]
[null,"05 Stakeholder und Integration"]
[null,"06 Beziehungen zur Stammorganisation"]
[null,"07 Kultureller und sozialer Kontext"]
[null,"08 Führung, Teamarbeit und Entscheidungen"]
[null,"09 Innovationsgrad und Rahmenbedingungen"]
[null,"10 Koordinationsbedarf"]
[]
[null,"Referenzperson (üblicherweise Auftraggeber oder Arbeitgeber)"]
[null,"Vorname Name"]
[null,"Rolle im Projekt/Unternehmen"]
[null,"Telefon"]
[null,"E-Mail"]
[]
[]
[]
[null,"Projekt Nr. 7"]
[null,"Name des Projekts"]
[null,"Projektkunde (Unternehmen)"]
[null,"Projektart"]
[null,"Projektscope"]
[]
[null,"Informationen zum Projekt",null,"Datum eingeben",{"$nulls":5},"Monate"]
[null,"Projektdauer","von ",null,"bis ",{"$nulls":4},{"$f":"ROUND(((F271-D271)/30.4),0)","v":0}]
[]
[null,"Projektumfang geplant",null,"Personentage ",null,null,null,"Cash-out \nin CHF"]
[null,"Projektumfang realisiert"]
[null,"Anzahl im Projekt direkt und indirekt geführte Personen "]
[]
[null,"Projekt ist abgeschlossen (massgebend ist das Datum der Einreichung des Antrags)",{"$nulls":10},"Personentage",{"$nulls":5},"Projektleitung",{"$nulls":5},"Anzahl geführte Personen",{"$nulls":6},"Levelkonformität",null,null,null,"Rolle",null,null,"Minimal-\nanforderung",null,"Dauer\nin Rolle"]
[null,"Projekt mit strategischer Bedeutung",{"$nulls":10},"C",null,"B",null,"A",null,"C",null,"B",null,"A",null,"C",null,"B",null,"A",null,null,"C","B","A",null,"C","B"]
[]
[null,"Ihre Rolle(n) im Projekt",null,"Datum eingeben",null,null,null,"Stunden",null,"Std/Monat",null,null,{"$f":"IF(F273>=F274,F273,F274)","v":0}]
[null,null,"von ",null,"bis ",{"$nulls":4},{"$f":"IFERROR(ROUND(H281/((F281-D281)/30.4),0),\"\")","v":""},null,null,{"$f":"((($M280-$M$432)/($M$431-$M$432))*0.5+1)","v":-0.25},{"$f":"IF($M281>1.5,1.5,IF($M281<0.5,0,$M281))","v":0},{"$f":"((($M280-$O$432)/($O$431-$O$432))*0.5+1)","v":-0.75},{"$f":"IF($O281>1.5,1.5,IF($O281<0.5,0,$O281))","v":0},{"$f":"((($M280-$Q$432)/($Q$431-$Q$432))*0.5+1)","v":-0.5},{"$f":"IF($Q281>1.5,1.5,IF($Q281<0.5,0,$Q281))","v":0},{"$f":"((($H281-$S$432)/($S$431-$S$432))*0.5+1)","v":-1},{"$f":"IF($S281>1.5,1.5,IF($S281<0.5,0,$S281))","v":0},{"$f":"((($H281-$U$432)/($U$431-$U$432))*0.5+1)","v":-0.75},{"$f":"IF($U281>1.5,1.5,IF($U281<0.5,0,$U281))","v":0},{"$f":"((($H281-$W$432)/($W$431-$W$432))*0.5+1)","v":-1.4},{"$f":"IF($W281>1.5,1.5,IF($W281<0.5,0,$W281))","v":0},{"$f":"((($J275-$Y$432)/($Y$431-$Y$432))*0.5+1)","v":-0.25},{"$f":"IF($Y281>1.5,1.5,IF($Y281<0.5,0,$Y281))","v":0},{"$f":"((($J275-$AA$432)/($AA$431-$AA$432))*0.5+1)","v":0},{"$f":"IF($AA281>1.5,1.5,IF($AA281<0.5,0,$AA281))","v":0},{"$f":"((($J275-$AC$432)/($AC$431-$AC$432))*0.5+1)","v":0},{"$f":"IF($AC281>1.5,1.5,IF($AC281<0.5,0,$AC281))","v":0},null,{"$f":"IF(AND($AJ281=1,PRODUCT(N281,T281,Z281)>=1,$J285>=$AG$432),1,0)","v":0},{"$f":"IF(AND($AK281=1,PRODUCT(P281,V281,AB281)>=1,$J285>=$AG$431),1,0)","v":0},{"$f":"IF(AND($B281=\"Projektleiter*in\",PRODUCT(R281,X281,AD281)>=1,$J285>=$AG$430),1,0)","v":0},null,{"$f":"IF(OR($B281=\"Projektleiter*in\",$B281=\"Co-Projektleiter*in\",$B281=\"Teilprojektleiter*in\",$B281=\"Stv. Projektleiter*in\"),1,0)","v":0},{"$f":"IF(OR($B281=\"Projektleiter*in\",$B281=\"Co-Projektleiter*in\",$B281=\"Teilprojektleiter*in\"),1,0)","v":0},null,{"$f":"IF(AND(F274>=M$437,H281>=O$437,J275>=Q$437,AO281>=S$437,J285>=U$437),1,0)","v":0},null,{"$f":"IF(F281=\"\",0,DATEDIF(D281,F281,\"m\")+1)","v":0}]
[null,null,"von ",null,"bis ",{"$nulls":4},{"$f":"IFERROR(ROUND(H282/((F282-D282)/30.4),0),\"\")","v":""},null,null,{"$f":"((($M280-$M$432)/($M$431-$M$432))*0.5+1)","v":-0.25},{"$f":"IF($M282>1.5,1.5,IF($M282<0.5,0,$M282))","v":0},{"$f":"((($M280-$O$432)/($O$431-$O$432))*0.5+1)","v":-0.75},{"$f":"IF($O282>1.5,1.5,IF($O282<0.5,0,$O282))","v":0},{"$f":"((($M280-$Q$432)/($Q$431-$Q$432))*0.5+1)","v":-0.5},{"$f":"IF($Q282>1.5,1.5,IF($Q282<0.5,0,$Q282))","v":0},{"$f":"((($H282-$S$432)/($S$431-$S$432))*0.5+1)","v":-1},{"$f":"IF($S282>1.5,1.5,IF($S282<0.5,0,$S282))","v":0},{"$f":"((($H282-$U$432)/($U$431-$U$432))*0.5+1)","v":-0.75},{"$f":"IF($U282>1.5,1.5,IF($U282<0.5,0,$U282))","v":0},{"$f":"((($H282-$W$432)/($W$431-$W$432))*0.5+1)","v":-1.4},{"$f":"IF($W282>1.5,1.5,IF($W282<0.5,0,$W282))","v":0},{"$f":"((($J275-$Y$432)/($Y$431-$Y$432))*0.5+1)","v":-0.25},{"$f":"IF($Y282>1.5,1.5,IF($Y282<0.5,0,$Y282))","v":0},{"$f":"((($J275-$AA$432)/($AA$431-$AA$432))*0.5+1)","v":0},{"$f":"IF($AA282>1.5,1.5,IF($AA282<0.5,0,$AA282))","v":0},{"$f":"((($J275-$AC$432)/($AC$431-$AC$432))*0.5+1)","v":0},{"$f":"IF($AC282>1.5,1.5,IF($AC282<0.5,0,$AC282))","v":0},null,{"$f":"IF(AND($AJ282=1,PRODUCT(N282,T282,Z282)>=1,$J285>=$AG$432),1,0)","v":0},{"$f":"IF(AND($AK282=1,PRODUCT(P282,V282,AB282)>=1,$J285>=$AG$431),1,0)","v":0},{"$f":"IF(AND($B282=\"Projektleiter*in\",PRODUCT(R282,X282,AD282)>=1,$J285>=$AG$430),1,0)","v":0},null,{"$f":"IF(OR($B282=\"Projektleiter*in\",$B282=\"Co-Projektleiter*in\",$B282=\"Teilprojektleiter*in\",$B282=\"Stv. Projektleiter*in\"),1,0)","v":0},{"$f":"IF(OR($B282=\"Projektleiter*in\",$B282=\"Co-Projektleiter*in\",$B282=\"Teilprojektleiter*in\"),1,0)","v":0},null,{"$f":"IF(AND(F274>=M$437,H282>=O$437,J275>=Q$437,AO282>=S$437,J285>=U$437),1,0)","v":0},null,{"$f":"IF(F282=\"\",0,DATEDIF(D282,F282,\"m\")+1)","v":0}]
[null,null,"von ",null,"bis ",{"$nulls":4},"",null,null,{"$f":"((($M280-$M$432)/($M$431-$M$432))*0.5+1)","v":-0.25},0,{"$f":"((($M280-$O$432)/($O$431-$O$432))*0.5+1)","v":-0.75},0,{"$f":"((($M280-$Q$432)/($Q$431-$Q$432))*0.5+1)","v":-0.5},0,{"$f":"((($H283-$S$432)/($S$431-$S$432))*0.5+1)","v":-1},0,{"$f":"((($H283-$U$432)/($U$431-$U$432))*0.5+1)","v":-0.75},0,{"$f":"((($H283-$W$432)/($W$431-$W$432))*0.5+1)","v":-1.4},0,{"$f":"((($J275-$Y$432)/($Y$431-$Y$432))*0.5+1)","v":-0.25},0,{"$f":"((($J275-$AA$432)/($AA$431-$AA$432))*0.5+1)","v":0},0,{"$f":"((($J275-$AC$432)/($AC$431-$AC$432))*0.5+1)","v":0},0,null,{"$f":"IF(AND($AJ283=1,PRODUCT(N283,T283,Z283)>=1,$J285>=$AG$432),1,0)","v":0},{"$f":"IF(AND($AK283=1,PRODUCT(P283,V283,AB283)>=1,$J285>=$AG$431),1,0)","v":0},{"$f":"IF(AND($B283=\"Projektleiter*in\",PRODUCT(R283,X283,AD283)>=1,$J285>=$AG$430),1,0)","v":0},null,{"$f":"IF(OR($B283=\"Projektleiter*in\",$B283=\"Co-Projektleiter*in\",$B283=\"Teilprojektleiter*in\",$B283=\"Stv. Projektleiter*in\"),1,0)","v":0},{"$f":"IF(OR($B283=\"Projektleiter*in\",$B283=\"Co-Projektleiter*in\",$B283=\"Teilprojektleiter*in\"),1,0)","v":0},null,{"$f":"IF(AND(F274>=M$437,H283>=O$437,J275>=Q$437,AO283>=S$437,J285>=U$437),1,0)","v":0},null,{"$f":"IF(F283=\"\",0,DATEDIF(D283,F283,\"m\")+1)","v":0}]
[]
[null,"Komplexitätsbeurteilung des Projekts (s. Hinweise im Tabellenblatt 'Tips')",{"$nulls":7},{"$f":"SUM(J286:J295)","v":0}]
[null,"01 Ziele und Ergebnisbeurteilung"]
[null,"02 Prozesse, Methoden, Tools und Techniken des PP&PM"]
[null,"03 Ressourcen und Finanzierung"]
[null,"04 Chancen und Risiken"]
[null,"05 Stakeholder und Integration"]
[null,"06 Beziehungen zur Stammorganisation"]
[null,"07 Kultureller und sozialer Kontext"]
[null,"08 Führung, Teamarbeit und Entscheidungen"]
[null,"09 Innovationsgrad und Rahmenbedingungen"]
[null,"10 Koordinationsbedarf"]
[]
[null,"Referenzperson (üblicherweise Auftraggeber oder Arbeitgeber)"]
[null,"Vorname Name"]
[null,"Rolle im Projekt/Unternehmen"]
[null,"Telefon"]
[null,"E-Mail"]
[]
[]
[]
[null,"Projekt Nr. 8"]
[null,"Name des Projekts"]
[null,"Projektkunde (Unternehmen)"]
[null,"Projektart"]
[null,"Projektscope"]
[]
[null,"Informationen zum Projekt",null,"Datum eingeben",{"$nulls":5},"Monate"]
[null,"Projektdauer","von ",null,"bis ",{"$nulls":4},{"$f":"ROUND(((F312-D312)/30.4),0)","v":0}]
[]
[null,"Projektumfang geplant",null,"Personentage ",null,null,null,"Cash-out \nin CHF"]
[null,"Projektumfang realisiert"]
[null,"Anzahl im Projekt direkt und indirekt geführte Personen "]
[]
[null,"Projekt ist abgeschlossen (massgebend ist das Datum der Einreichung des Antrags)",{"$nulls":10},"Personentage",{"$nulls":5},"Projektleitung",{"$nulls":5},"Anzahl geführte Personen",{"$nulls":6},"Levelkonformität",null,null,null,"Rolle",null,null,"Minimal-\nanforderung",null,"Dauer\nin Rolle"]
[null,"Projekt mit strategischer Bedeutung",{"$nulls":10},"C",null,"B",null,"A",null,"C",null,"B",null,"A",null,"C",null,"B",null,"A",null,null,"C","B","A",null,"C","B"]
[]
[null,"Ihre Rolle(n) im Projekt",null,"Datum eingeben",null,null,null,"Stunden",null,"Std/Monat",null,null,{"$f":"IF(F314>=F315,F314,F315)","v":0}]
[null,null,"von ",null,"bis ",{"$nulls":4},{"$f":"IFERROR(ROUND(H322/((F322-D322)/30.4),0),\"\")","v":""},null,null,{"$f":"((($M321-$M$432)/($M$431-$M$432))*0.5+1)","v":-0.25},{"$f":"IF($M322>1.5,1.5,IF($M322<0.5,0,$M322))","v":0},{"$f":"((($M321-$O$432)/($O$431-$O$432))*0.5+1)","v":-0.75},{"$f":"IF($O322>1.5,1.5,IF($O322<0.5,0,$O322))","v":0},{"$f":"((($M321-$Q$432)/($Q$431-$Q$432))*0.5+1)","v":-0.5},{"$f":"IF($Q322>1.5,1.5,IF($Q322<0.5,0,$Q322))","v":0},{"$f":"((($H322-$S$432)/($S$431-$S$432))*0.5+1)","v":-1},{"$f":"IF($S322>1.5,1.5,IF($S322<0.5,0,$S322))","v":0},{"$f":"((($H322-$U$432)/($U$431-$U$432))*0.5+1)","v":-0.75},{"$f":"IF($U322>1.5,1.5,IF($U322<0.5,0,$U322))","v":0},{"$f":"((($H322-$W$432)/($W$431-$W$432))*0.5+1)","v":-1.4},{"$f":"IF($W322>1.5,1.5,IF($W322<0.5,0,$W322))","v":0},{"$f":"((($J316-$Y$432)/($Y$431-$Y$432))*0.5+1)","v":-0.25},{"$f":"IF($Y322>1.5,1.5,IF($Y322<0.5,0,$Y322))","v":0},{"$f":"((($J316-$AA$432)/($AA$431-$AA$432))*0.5+1)","v":0},{"$f":"IF($AA322>1.5,1.5,IF($AA322<0.5,0,$AA322))","v":0},{"$f":"((($J316-$AC$432)/($AC$431-$AC$432))*0.5+1)","v":0},{"$f":"IF($AC322>1.5,1.5,IF($AC322<0.5,0,$AC322))","v":0},null,{"$f":"IF(AND($AJ322=1,PRODUCT(N322,T322,Z322)>=1,$J326>=$AG$432),1,0)","v":0},{"$f":"IF(AND($AK322=1,PRODUCT(P322,V322,AB322)>=1,$J326>=$AG$431),1,0)","v":0},{"$f":"IF(AND($B322=\"Projektleiter*in\",PRODUCT(R322,X322,AD322)>=1,$J326>=$AG$430),1,0)","v":0},null,{"$f":"IF(OR($B322=\"Projektleiter*in\",$B322=\"Co-Projektleiter*in\",$B322=\"Teilprojektleiter*in\",$B322=\"Stv. Projektleiter*in\"),1,0)","v":0},{"$f":"IF(OR($B322=\"Projektleiter*in\",$B322=\"Co-Projektleiter*in\",$B322=\"Teilprojektleiter*in\"),1,0)","v":0},null,{"$f":"IF(AND(F315>=M$437,H322>=O$437,J316>=Q$437,AO322>=S$437,J326>=U$437),1,0)","v":0},null,{"$f":"IF(F322=\"\",0,DATEDIF(D322,F322,\"m\")+1)","v":0}]
[null,null,"von ",null,"bis ",{"$nulls":4},{"$f":"IFERROR(ROUND(H323/((F323-D323)/30.4),0),\"\")","v":""},null,null,{"$f":"((($M321-$M$432)/($M$431-$M$432))*0.5+1)","v":-0.25},{"$f":"IF($M323>1.5,1.5,IF($M323<0.5,0,$M323))","v":0},{"$f":"((($M321-$O$432)/($O$431-$O$432))*0.5+1)","v":-0.75},{"$f":"IF($O323>1.5,1.5,IF($O323<0.5,0,$O323))","v":0},{"$f":"((($M321-$Q$432)/($Q$431-$Q$432))*0.5+1)","v":-0.5},{"$f":"IF($Q323>1.5,1.5,IF($Q323<0.5,0,$Q323))","v":0},{"$f":"((($H323-$S$432)/($S$431-$S$432))*0.5+1)","v":-1},{"$f":"IF($S323>1.5,1.5,IF($S323<0.5,0,$S323))","v":0},{"$f":"((($H323-$U$432)/($U$431-$U$432))*0.5+1)","v":-0.75},{"$f":"IF($U323>1.5,1.5,IF($U323<0.5,0,$U323))","v":0},{"$f":"((($H323-$W$432)/($W$431-$W$432))*0.5+1)","v":-1.4},{"$f":"IF($W323>1.5,1.5,IF($W323<0.5,0,$W323))","v":0},{"$f":"((($J316-$Y$432)/($Y$431-$Y$432))*0.5+1)","v":-0.25},{"$f":"IF($Y323>1.5,1.5,IF($Y323<0.5,0,$Y323))","v":0},{"$f":"((($J316-$AA$432)/($AA$431-$AA$432))*0.5+1)","v":0},{"$f":"IF($AA323>1.5,1.5,IF($AA323<0.5,0,$AA323))","v":0},{"$f":"((($J316-$AC$432)/($AC$431-$AC$432))*0.5+1)","v":0},{"$f":"IF($AC323>1.5,1.5,IF($AC323<0.5,0,$AC323))","v":0},null,{"$f":"IF(AND($AJ323=1,PRODUCT(N323,T323,Z323)>=1,$J326>=$AG$432),1,0)","v":0},{"$f":"IF(AND($AK323=1,PRODUCT(P323,V323,AB323)>=1,$J326>=$AG$431),1,0)","v":0},{"$f":"IF(AND($B323=\"Projektleiter*in\",PRODUCT(R323,X323,AD323)>=1,$J326>=$AG$430),1,0)","v":0},null,{"$f":"IF(OR($B323=\"Projektleiter*in\",$B323=\"Co-Projektleiter*in\",$B323=\"Teilprojektleiter*in\",$B323=\"Stv. Projektleiter*in\"),1,0)","v":0},{"$f":"IF(OR($B323=\"Projektleiter*in\",$B323=\"Co-Projektleiter*in\",$B323=\"Teilprojektleiter*in\"),1,0)","v":0},null,{"$f":"IF(AND(F315>=M$437,H323>=O$437,J316>=Q$437,AO323>=S$437,J326>=U$437),1,0)","v":0},null,{"$f":"IF(F323=\"\",0,DATEDIF(D323,F323,\"m\")+1)","v":0}]
[null,null,"von ",null,"bis ",{"$nulls":4},"",null,null,{"$f":"((($M321-$M$432)/($M$431-$M$432))*0.5+1)","v":-0.25},0,{"$f":"((($M321-$O$432)/($O$431-$O$432))*0.5+1)","v":-0.75},0,{"$f":"((($M321-$Q$432)/($Q$431-$Q$432))*0.5+1)","v":-0.5},0,{"$f":"((($H324-$S$432)/($S$431-$S$432))*0.5+1)","v":-1},0,{"$f":"((($H324-$U$432)/($U$431-$U$432))*0.5+1)","v":-0.75},0,{"$f":"((($H324-$W$432)/($W$431-$W$432))*0.5+1)","v":-1.4},0,{"$f":"((($J316-$Y$432)/($Y$431-$Y$432))*0.5+1)","v":-0.25},0,{"$f":"((($J316-$AA$432)/($AA$431-$AA$432))*0.5+1)","v":0},0,{"$f":"((($J316-$AC$432)/($AC$431-$AC$432))*0.5+1)","v":0},0,null,{"$f":"IF(AND($AJ324=1,PRODUCT(N324,T324,Z324)>=1,$J326>=$AG$432),1,0)","v":0},{"$f":"IF(AND($AK324=1,PRODUCT(P324,V324,AB324)>=1,$J326>=$AG$431),1,0)","v":0},{"$f":"IF(AND($B324=\"Projektleiter*in\",PRODUCT(R324,X324,AD324)>=1,$J326>=$AG$430),1,0)","v":0},null,{"$f":"IF(OR($B324=\"Projektleiter*in\",$B324=\"Co-Projektleiter*in\",$B324=\"Teilprojektleiter*in\",$B324=\"Stv. Projektleiter*in\"),1,0)","v":0},{"$f":"IF(OR($B324=\"Projektleiter*in\",$B324=\"Co-Projektleiter*in\",$B324=\"Teilprojektleiter*in\"),1,0)","v":0},null,{"$f":"IF(AND(F315>=M$437,H324>=O$437,J316>=Q$437,AO324>=S$437,J326>=U$437),1,0)","v":0},null,{"$f":"IF(F324=\"\",0,DATEDIF(D324,F324,\"m\")+1)","v":0}]
[]
[null,"Komplexitätsbeurteilung des Projekts (s. Hinweise im Tabellenblatt 'Tips')",{"$nulls":7},{"$f":"SUM(J327:J336)","v":0}]
[null,"01 Ziele und Ergebnisbeurteilung"]
[null,"02 Prozesse, Methoden, Tools und Techniken des PP&PM"]
[null,"03 Ressourcen und Finanzierung"]
[null,"04 Chancen und Risiken"]
[null,"05 Stakeholder und Integration"]
[null,"06 Beziehungen zur Stammorganisation"]
[null,"07 Kultureller und sozialer Kontext"]
[null,"08 Führung, Teamarbeit und Entscheidungen"]
[null,"09 Innovationsgrad und Rahmenbedingungen"]
[null,"10 Koordinationsbedarf"]
[]
[null,"Referenzperson (üblicherweise Auftraggeber oder Arbeitgeber)"]
[null,"Vorname Name"]
[null,"Rolle im Projekt/Unternehmen"]
[null,"Telefon"]
[null,"E-Mail"]
[]
[]
[]
[null,"Projekt Nr. 9"]
[null,"Name des Projekts"]
[null,"Projektkunde (Unternehmen)"]
[null,"Projektart"]
[null,"Projektscope"]
[]
[null,"Informationen zum Projekt",null,"Datum eingeben",{"$nulls":5},"Monate"]
[null,"Projektdauer","von ",null,"bis ",{"$nulls":4},{"$f":"ROUND(((F353-D353)/30.4),0)","v":0}]
[]
[null,"Projektumfang geplant",null,"Personentage ",null,null,null,"Cash-out \nin CHF"]
[null,"Projektumfang realisiert"]
[null,"Anzahl im Projekt direkt und indirekt geführte Personen "]
[]
[null,"Projekt ist abgeschlossen (massgebend ist das Datum der Einreichung des Antrags)",{"$nulls":10},"Personentage",{"$nulls":5},"Projektleitung",{"$nulls":5},"Anzahl geführte Personen",{"$nulls":6},"Levelkonformität",null,null,null,"Rolle",null,null,"Minimal-\nanforderung",null,"Dauer\nin Rolle"]
[null,"Projekt mit strategischer Bedeutung",{"$nulls":10},"C",null,"B",null,"A",null,"C",null,"B",null,"A",null,"C",null,"B",null,"A",null,null,"C","B","A",null,"C","B"]
[]
[null,"Ihre Rolle(n) im Projekt",null,"Datum eingeben",null,null,null,"Stunden",null,"Std/Monat",null,null,{"$f":"IF(F355>=F356,F355,F356)","v":0}]
[null,null,"von ",null,"bis ",{"$nulls":4},{"$f":"IFERROR(ROUND(H363/((F363-D363)/30.4),0),\"\")","v":""},null,null,{"$f":"((($M362-$M$432)/($M$431-$M$432))*0.5+1)","v":-0.25},{"$f":"IF($M363>1.5,1.5,IF($M363<0.5,0,$M363))","v":0},{"$f":"((($M362-$O$432)/($O$431-$O$432))*0.5+1)","v":-0.75},{"$f":"IF($O363>1.5,1.5,IF($O363<0.5,0,$O363))","v":0},{"$f":"((($M362-$Q$432)/($Q$431-$Q$432))*0.5+1)","v":-0.5},{"$f":"IF($Q363>1.5,1.5,IF($Q363<0.5,0,$Q363))","v":0},{"$f":"((($H363-$S$432)/($S$431-$S$432))*0.5+1)","v":-1},{"$f":"IF($S363>1.5,1.5,IF($S363<0.5,0,$S363))","v":0},{"$f":"((($H363-$U$432)/($U$431-$U$432))*0.5+1)","v":-0.75},{"$f":"IF($U363>1.5,1.5,IF($U363<0.5,0,$U363))","v":0},{"$f":"((($H363-$W$432)/($W$431-$W$432))*0.5+1)","v":-1.4},{"$f":"IF($W363>1.5,1.5,IF($W363<0.5,0,$W363))","v":0},{"$f":"((($J357-$Y$432)/($Y$431-$Y$432))*0.5+1)","v":-0.25},{"$f":"IF($Y363>1.5,1.5,IF($Y363<0.5,0,$Y363))","v":0},{"$f":"((($J357-$AA$432)/($AA$431-$AA$432))*0.5+1)","v":0},{"$f":"IF($AA363>1.5,1.5,IF($AA363<0.5,0,$AA363))","v":0},{"$f":"((($J357-$AC$432)/($AC$431-$AC$432))*0.5+1)","v":0},{"$f":"IF($AC363>1.5,1.5,IF($AC363<0.5,0,$AC363))","v":0},null,{"$f":"IF(AND($AJ363=1,PRODUCT(N363,T363,Z363)>=1,$J367>=$AG$432),1,0)","v":0},{"$f":"IF(AND($AK363=1,PRODUCT(P363,V363,AB363)>=1,$J367>=$AG$431),1,0)","v":0},{"$f":"IF(AND($B363=\"Projektleiter*in\",PRODUCT(R363,X363,AD363)>=1,$J367>=$AG$430),1,0)","v":0},null,{"$f":"IF(OR($B363=\"Projektleiter*in\",$B363=\"Co-Projektleiter*in\",$B363=\"Teilprojektleiter*in\",$B363=\"Stv. Projektleiter*in\"),1,0)","v":0},{"$f":"IF(OR($B363=\"Projektleiter*in\",$B363=\"Co-Projektleiter*in\",$B363=\"Teilprojektleiter*in\"),1,0)","v":0},null,{"$f":"IF(AND(F356>=M$437,H363>=O$437,J357>=Q$437,AO363>=S$437,J367>=U$437),1,0)","v":0},null,{"$f":"IF(F363=\"\",0,DATEDIF(D363,F363,\"m\")+1)","v":0}]
[null,null,"von ",null,"bis ",{"$nulls":4},{"$f":"IFERROR(ROUND(H364/((F364-D364)/30.4),0),\"\")","v":""},null,null,{"$f":"((($M362-$M$432)/($M$431-$M$432))*0.5+1)","v":-0.25},{"$f":"IF($M364>1.5,1.5,IF($M364<0.5,0,$M364))","v":0},{"$f":"((($M362-$O$432)/($O$431-$O$432))*0.5+1)","v":-0.75},{"$f":"IF($O364>1.5,1.5,IF($O364<0.5,0,$O364))","v":0},{"$f":"((($M362-$Q$432)/($Q$431-$Q$432))*0.5+1)","v":-0.5},{"$f":"IF($Q364>1.5,1.5,IF($Q364<0.5,0,$Q364))","v":0},{"$f":"((($H364-$S$432)/($S$431-$S$432))*0.5+1)","v":-1},{"$f":"IF($S364>1.5,1.5,IF($S364<0.5,0,$S364))","v":0},{"$f":"((($H364-$U$432)/($U$431-$U$432))*0.5+1)","v":-0.75},{"$f":"IF($U364>1.5,1.5,IF($U364<0.5,0,$U364))","v":0},{"$f":"((($H364-$W$432)/($W$431-$W$432))*0.5+1)","v":-1.4},{"$f":"IF($W364>1.5,1.5,IF($W364<0.5,0,$W364))","v":0},{"$f":"((($J357-$Y$432)/($Y$431-$Y$432))*0.5+1)","v":-0.25},{"$f":"IF($Y364>1.5,1.5,IF($Y364<0.5,0,$Y364))","v":0},{"$f":"((($J357-$AA$432)/($AA$431-$AA$432))*0.5+1)","v":0},{"$f":"IF($AA364>1.5,1.5,IF($AA364<0.5,0,$AA364))","v":0},{"$f":"((($J357-$AC$432)/($AC$431-$AC$432))*0.5+1)","v":0},{"$f":"IF($AC364>1.5,1.5,IF($AC364<0.5,0,$AC364))","v":0},null,{"$f":"IF(AND($AJ364=1,PRODUCT(N364,T364,Z364)>=1,$J367>=$AG$432),1,0)","v":0},{"$f":"IF(AND($AK364=1,PRODUCT(P364,V364,AB364)>=1,$J367>=$AG$431),1,0)","v":0},{"$f":"IF(AND($B364=\"Projektleiter*in\",PRODUCT(R364,X364,AD364)>=1,$J367>=$AG$430),1,0)","v":0},null,{"$f":"IF(OR($B364=\"Projektleiter*in\",$B364=\"Co-Projektleiter*in\",$B364=\"Teilprojektleiter*in\",$B364=\"Stv. Projektleiter*in\"),1,0)","v":0},{"$f":"IF(OR($B364=\"Projektleiter*in\",$B364=\"Co-Projektleiter*in\",$B364=\"Teilprojektleiter*in\"),1,0)","v":0},null,{"$f":"IF(AND(F356>=M$437,H364>=O$437,J357>=Q$437,AO364>=S$437,J367>=U$437),1,0)","v":0},null,{"$f":"IF(F364=\"\",0,DATEDIF(D364,F364,\"m\")+1)","v":0}]
[null,null,"von ",null,"bis ",{"$nulls":4},"",null,null,{"$f":"((($M362-$M$432)/($M$431-$M$432))*0.5+1)","v":-0.25},0,{"$f":"((($M362-$O$432)/($O$431-$O$432))*0.5+1)","v":-0.75},0,{"$f":"((($M362-$Q$432)/($Q$431-$Q$432))*0.5+1)","v":-0.5},0,{"$f":"((($H365-$S$432)/($S$431-$S$432))*0.5+1)","v":-1},0,{"$f":"((($H365-$U$432)/($U$431-$U$432))*0.5+1)","v":-0.75},0,{"$f":"((($H365-$W$432)/($W$431-$W$432))*0.5+1)","v":-1.4},0,{"$f":"((($J357-$Y$432)/($Y$431-$Y$432))*0.5+1)","v":-0.25},0,{"$f":"((($J357-$AA$432)/($AA$431-$AA$432))*0.5+1)","v":0},0,{"$f":"((($J357-$AC$432)/($AC$431-$AC$432))*0.5+1)","v":0},0,null,{"$f":"IF(AND($AJ365=1,PRODUCT(N365,T365,Z365)>=1,$J367>=$AG$432),1,0)","v":0},{"$f":"IF(AND($AK365=1,PRODUCT(P365,V365,AB365)>=1,$J367>=$AG$431),1,0)","v":0},{"$f":"IF(AND($B365=\"Projektleiter*in\",PRODUCT(R365,X365,AD365)>=1,$J367>=$AG$430),1,0)","v":0},null,{"$f":"IF(OR($B365=\"Projektleiter*in\",$B365=\"Co-Projektleiter*in\",$B365=\"Teilprojektleiter*in\",$B365=\"Stv. Projektleiter*in\"),1,0)","v":0},{"$f":"IF(OR($B365=\"Projektleiter*in\",$B365=\"Co-Projektleiter*in\",$B365=\"Teilprojektleiter*in\"),1,0)","v":0},null,{"$f":"IF(AND(F356>=M$437,H365>=O$437,J357>=Q$437,AO365>=S$437,J367>=U$437),1,0)","v":0},null,{"$f":"IF(F365=\"\",0,DATEDIF(D365,F365,\"m\")+1)","v":0}]
[]
[null,"Komplexitätsbeurteilung des Projekts (s. Hinweise im Tabellenblatt 'Tips')",{"$nulls":7},{"$f":"SUM(J368:J377)","v":0}]
[null,"01 Ziele und Ergebnisbeurteilung"]
[null,"02 Prozesse, Methoden, Tools und Techniken des PP&PM"]
[null,"03 Ressourcen und Finanzierung"]
[null,"04 Chancen und Risiken"]
[null,"05 Stakeholder und Integration"]
[null,"06 Beziehungen zur Stammorganisation"]
[null,"07 Kultureller und sozialer Kontext"]
[null,"08 Führung, Teamarbeit und Entscheidungen"]
[null,"09 Innovationsgrad und Rahmenbedingungen"]
[null,"10 Koordinationsbedarf"]
[]
[null,"Referenzperson (üblicherweise Auftraggeber oder Arbeitgeber)"]
[null,"Vorname Name"]
[null,"Rolle im Projekt/Unternehmen"]
[null,"Telefon"]
[null,"E-Mail"]
[]
[]
[]
[null,"Projekt Nr. 10"]
[null,"Name des Projekts"]
[null,"Projektkunde (Unternehmen)"]
[null,"Projektart"]
[null,"Projektscope"]
[]
[null,"Informationen zum Projekt",null,"Datum eingeben",{"$nulls":5},"Monate"]
[null,"Projektdauer","von ",null,"bis ",{"$nulls":4},{"$f":"ROUND(((F394-D394)/30.4),0)","v":0}]
[]
[null,"Projektumfang geplant",null,"Personentage ",null,null,null,"Cash-out \nin CHF"]
[null,"Projektumfang realisiert"]
[null,"Anzahl im Projekt direkt und indirekt geführte Personen "]
[]
[null,"Projekt ist abgeschlossen (massgebend ist das Datum der Einreichung des Antrags)",{"$nulls":10},"Personentage",{"$nulls":5},"Projektleitung",{"$nulls":5},"Anzahl geführte Personen",{"$nulls":6},"Levelkonformität",null,null,null,"Rolle",null,null,"Minimal-\nanforderung",null,"Dauer\nin Rolle"]
[null,"Projekt mit strategischer Bedeutung",{"$nulls":10},"C",null,"B",null,"A",null,"C",null,"B",null,"A",null,"C",null,"B",null,"A",null,null,"C","B","A",null,"C","B"]
[]
[null,"Ihre Rolle(n) im Projekt",null,"Datum eingeben",null,null,null,"Stunden",null,"Std/Monat",null,null,{"$f":"IF(F396>=F397,F396,F397)","v":0}]
[null,null,"von ",null,"bis ",{"$nulls":4},{"$f":"IFERROR(ROUND(H404/((F404-D404)/30.4),0),\"\")","v":""},null,null,{"$f":"((($M403-$M$432)/($M$431-$M$432))*0.5+1)","v":-0.25},{"$f":"IF($M404>1.5,1.5,IF($M404<0.5,0,$M404))","v":0},{"$f":"((($M403-$O$432)/($O$431-$O$432))*0.5+1)","v":-0.75},{"$f":"IF($O404>1.5,1.5,IF($O404<0.5,0,$O404))","v":0},{"$f":"((($M403-$Q$432)/($Q$431-$Q$432))*0.5+1)","v":-0.5},{"$f":"IF($Q404>1.5,1.5,IF($Q404<0.5,0,$Q404))","v":0},{"$f":"((($H404-$S$432)/($S$431-$S$432))*0.5+1)","v":-1},{"$f":"IF($S404>1.5,1.5,IF($S404<0.5,0,$S404))","v":0},{"$f":"((($H404-$U$432)/($U$431-$U$432))*0.5+1)","v":-0.75},{"$f":"IF($U404>1.5,1.5,IF($U404<0.5,0,$U404))","v":0},{"$f":"((($H404-$W$432)/($W$431-$W$432))*0.5+1)","v":-1.4},{"$f":"IF($W404>1.5,1.5,IF($W404<0.5,0,$W404))","v":0},{"$f":"((($J398-$Y$432)/($Y$431-$Y$432))*0.5+1)","v":-0.25},{"$f":"IF($Y404>1.5,1.5,IF($Y404<0.5,0,$Y404))","v":0},{"$f":"((($J398-$AA$432)/($AA$431-$AA$432))*0.5+1)","v":0},{"$f":"IF($AA404>1.5,1.5,IF($AA404<0.5,0,$AA404))","v":0},{"$f":"((($J398-$AC$432)/($AC$431-$AC$432))*0.5+1)","v":0},{"$f":"IF($AC404>1.5,1.5,IF($AC404<0.5,0,$AC404))","v":0},null,{"$f":"IF(AND($AJ404=1,PRODUCT(N404,T404,Z404)>=1,$J408>=$AG$432),1,0)","v":0},{"$f":"IF(AND($AK404=1,PRODUCT(P404,V404,AB404)>=1,$J408>=$AG$431),1,0)","v":0},{"$f":"IF(AND($B404=\"Projektleiter*in\",PRODUCT(R404,X404,AD404)>=1,$J408>=$AG$430),1,0)","v":0},null,{"$f":"IF(OR($B404=\"Projektleiter*in\",$B404=\"Co-Projektleiter*in\",$B404=\"Teilprojektleiter*in\",$B404=\"Stv. Projektleiter*in\"),1,0)","v":0},{"$f":"IF(OR($B404=\"Projektleiter*in\",$B404=\"Co-Projektleiter*in\",$B404=\"Teilprojektleiter*in\"),1,0)","v":0},null,{"$f":"IF(AND(F397>=M$437,H404>=O$437,J398>=Q$437,AO404>=S$437,J408>=U$437),1,0)","v":0},null,{"$f":"IF(F404=\"\",0,DATEDIF(D404,F404,\"m\")+1)","v":0}]
[null,null,"von ",null,"bis ",{"$nulls":4},{"$f":"IFERROR(ROUND(H405/((F405-D405)/30.4),0),\"\")","v":""},null,null,{"$f":"((($M403-$M$432)/($M$431-$M$432))*0.5+1)","v":-0.25},{"$f":"IF($M405>1.5,1.5,IF($M405<0.5,0,$M405))","v":0},{"$f":"((($M403-$O$432)/($O$431-$O$432))*0.5+1)","v":-0.75},{"$f":"IF($O405>1.5,1.5,IF($O405<0.5,0,$O405))","v":0},{"$f":"((($M403-$Q$432)/($Q$431-$Q$432))*0.5+1)","v":-0.5},{"$f":"IF($Q405>1.5,1.5,IF($Q405<0.5,0,$Q405))","v":0},{"$f":"((($H405-$S$432)/($S$431-$S$432))*0.5+1)","v":-1},{"$f":"IF($S405>1.5,1.5,IF($S405<0.5,0,$S405))","v":0},{"$f":"((($H405-$U$432)/($U$431-$U$432))*0.5+1)","v":-0.75},{"$f":"IF($U405>1.5,1.5,IF($U405<0.5,0,$U405))","v":0},{"$f":"((($H405-$W$432)/($W$431-$W$432))*0.5+1)","v":-1.4},{"$f":"IF($W405>1.5,1.5,IF($W405<0.5,0,$W405))","v":0},{"$f":"((($J398-$Y$432)/($Y$431-$Y$432))*0.5+1)","v":-0.25},{"$f":"IF($Y405>1.5,1.5,IF($Y405<0.5,0,$Y405))","v":0},{"$f":"((($J398-$AA$432)/($AA$431-$AA$432))*0.5+1)","v":0},{"$f":"IF($AA405>1.5,1.5,IF($AA405<0.5,0,$AA405))","v":0},{"$f":"((($J398-$AC$432)/($AC$431-$AC$432))*0.5+1)","v":0},{"$f":"IF($AC405>1.5,1.5,IF($AC405<0.5,0,$AC405))","v":0},null,{"$f":"IF(AND($AJ405=1,PRODUCT(N405,T405,Z405)>=1,$J408>=$AG$432),1,0)","v":0},{"$f":"IF(AND($AK405=1,PRODUCT(P405,V405,AB405)>=1,$J408>=$AG$431),1,0)","v":0},{"$f":"IF(AND($B405=\"Projektleiter*in\",PRODUCT(R405,X405,AD405)>=1,$J408>=$AG$430),1,0)","v":0},null,{"$f":"IF(OR($B405=\"Projektleiter*in\",$B405=\"Co-Projektleiter*in\",$B405=\"Teilprojektleiter*in\",$B405=\"Stv. Projektleiter*in\"),1,0)","v":0},{"$f":"IF(OR($B405=\"Projektleiter*in\",$B405=\"Co-Projektleiter*in\",$B405=\"Teilprojektleiter*in\"),1,0)","v":0},null,{"$f":"IF(AND(F397>=M$437,H405>=O$437,J398>=Q$437,AO405>=S$437,J408>=U$437),1,0)","v":0},null,{"$f":"IF(F405=\"\",0,DATEDIF(D405,F405,\"m\")+1)","v":0}]
[null,null,"von ",null,"bis ",{"$nulls":4},"",null,null,{"$f":"((($M403-$M$432)/($M$431-$M$432))*0.5+1)","v":-0.25},0,{"$f":"((($M403-$O$432)/($O$431-$O$432))*0.5+1)","v":-0.75},0,{"$f":"((($M403-$Q$432)/($Q$431-$Q$432))*0.5+1)","v":-0.5},0,{"$f":"((($H406-$S$432)/($S$431-$S$432))*0.5+1)","v":-1},0,{"$f":"((($H406-$U$432)/($U$431-$U$432))*0.5+1)","v":-0.75},0,{"$f":"((($H406-$W$432)/($W$431-$W$432))*0.5+1)","v":-1.4},0,{"$f":"((($J398-$Y$432)/($Y$431-$Y$432))*0.5+1)","v":-0.25},0,{"$f":"((($J398-$AA$432)/($AA$431-$AA$432))*0.5+1)","v":0},0,{"$f":"((($J398-$AC$432)/($AC$431-$AC$432))*0.5+1)","v":0},0,null,{"$f":"IF(AND($AJ406=1,PRODUCT(N406,T406,Z406)>=1,$J408>=$AG$432),1,0)","v":0},{"$f":"IF(AND($AK406=1,PRODUCT(P406,V406,AB406)>=1,$J408>=$AG$431),1,0)","v":0},{"$f":"IF(AND($B406=\"Projektleiter*in\",PRODUCT(R406,X406,AD406)>=1,$J408>=$AG$430),1,0)","v":0},null,{"$f":"IF(OR($B406=\"Projektleiter*in\",$B406=\"Co-Projektleiter*in\",$B406=\"Teilprojektleiter*in\",$B406=\"Stv. Projektleiter*in\"),1,0)","v":0},{"$f":"IF(OR($B406=\"Projektleiter*in\",$B406=\"Co-Projektleiter*in\",$B406=\"Teilprojektleiter*in\"),1,0)","v":0},null,{"$f":"IF(AND(F397>=M$437,H406>=O$437,J398>=Q$437,AO406>=S$437,J408>=U$437),1,0)","v":0},null,{"$f":"IF(F406=\"\",0,DATEDIF(D406,F406,\"m\")+1)","v":0}]
[]
[null,"Komplexitätsbeurteilung des Projekts (s. Hinweise im Tabellenblatt 'Tips')",{"$nulls":7},{"$f":"SUM(J409:J418)","v":0}]
[null,"01 Ziele und Ergebnisbeurteilung"]
[null,"02 Prozesse, Methoden, Tools und Techniken des PP&PM"]
[null,"03 Ressourcen und Finanzierung"]
[null,"04 Chancen und Risiken"]
[null,"05 Stakeholder und Integration"]
[null,"06 Beziehungen zur Stammorganisation"]
[null,"07 Kultureller und sozialer Kontext"]
[null,"08 Führung, Teamarbeit und Entscheidungen"]
[null,"09 Innovationsgrad und Rahmenbedingungen"]
[null,"10 Koordinationsbedarf"]
[]
[null,"Referenzperson (üblicherweise Auftraggeber oder Arbeitgeber)"]
[null,"Vorname Name"]
[null,"Rolle im Projekt/Unternehmen"]
[null,"Telefon"]
[null,"E-Mail"]
[]
[]
[{"$nulls":12},"Vorgaben für Berechnung der Levelkonformität"]
[]
[{"$nulls":12},"Personentage",{"$nulls":5},"Projektleitung in Stunden",{"$nulls":5},"Anzahl geführte Personen",{"$nulls":6},"Komplexität"]
[{"$nulls":12},"C",null,"B",null,"A",null,"C",null,"B",null,"A",null,"C",null,"B",null,"A",null,null,"A",32]
[{"$nulls":12},350,null,900,null,4000,null,250,null,900,null,2900,null,7,null,15,null,45,null,null,"B",25]
[{"$nulls":12},250,null,700,null,3000,null,200,null,700,null,2400,null,5,null,10,null,30,null,null,"C",16]
[{"$nulls":12},150,null,500,null,2000,null,150,null,500,null,1900,null,3,null,5,null,15]
[{"$nulls":31},"Einsatzdauer"]
[{"$nulls":12},"Minimalanforderungen für Projekterfahrung",{"$nulls":18},"A",18]
[{"$nulls":12},"PT",null,"PL",null,"Personen",null,"Dauer",null,"Komplexität",{"$nulls":10},"B",9]
[{"$nulls":12},100,null,100,null,2,null,2,null,10,{"$nulls":10},"C",6]

{"sheet":"PgM","index":7,"n_rows":263,"n_cols":45,"rows_kept":263,"cut":false,"hidden":false,"merged":[[21,42,22,42],[21,44,22,44],[45,17,45,18],[46,17,46,18],[44,17,44,22],[130,17,130,22],[52,17,52,18],[53,17,53,18],[21,18,21,21],[21,22,21,25],[21,26,21,29],[21,30,21,33],[21,34,21,37],[22,32,22,33],[107,42,108,42],[107,44,108,44],[70,17,70,18],[21,39,21,40],[46,21,46,22],[107,22,107,25],[107,26,107,29],[107,30,107,33],[107,34,107,37],[107,39,107,40],[187,42,188,42],[187,44,188,44],[131,19,131,20],[131,21,131,22],[108,34,108,35],[108,36,108,37],[108,28,108,29],[187,26,187,29],[187,30,187,33],[187,34,187,37],[108,30,108,31],[108,32,108,33],[108,22,108,23],[108,24,108,25],[187,39,187,40],[188,32,188,33],[188,34,188,35],[188,36,188,37],[259,39,259,40],[257,22,257,23],[257,24,257,25],[257,26,257,27],[257,28,257,29],[255,28,255,29],[256,22,256,23],[256,24,256,25],[256,26,256,27],[256,28,256,29],[256,34,256,35],[257,34,257,35],[254,26,254,27],[254,28,254,29],[255,22,255,23],[255,24,255,25],[255,26,255,27],[253,39,253,40],[254,22,254,23],[254,24,254,25],[253,14,253,17],[253,18,253,21],[253,22,253,25],[253,26,253,29],[253,30,253,31],[253,32,253,35],[254,32,254,33],[254,34,254,35],[255,34,255,35],[253,36,253,37],[44,1,45,1],[44,2,45,2],[44,3,45,3],[44,4,45,4],[44,6,44,7],[257,14,257,15],[257,16,257,17],[257,18,257,19],[257,20,257,21],[256,14,256,15],[256,16,256,17],[256,18,256,19],[256,20,256,21],[255,14,255,15],[255,16,255,17],[255,18,255,19],[255,20,255,21],[254,14,254,15],[254,16,254,17],[254,18,254,19],[254,20,254,21],[143,15,143,16],[143,17,143,18],[144,15,144,16],[216,15,216,16],[216,17,216,18],[217,15,217,16],[217,17,217,18],[132,2,132,4],[137,15,137,16],[137,17,137,18],[138,15,138,16],[138,17,138,18],[139,15,139,16],[139,17,139,18],[140,15,140,16],[140,17,140,18],[132,17,132,18],[133,15,133,16],[133,17,133,18],[134,15,134,16],[134,17,134,18],[135,15,135,16],[135,17,135,18],[210,17,210,22],[142,17,142,18],[144,17,144,18],[145,17,145,18],[110,6,110,8],[111,2,111,3],[112,2,112,3],[113,2,113,3],[115,2,115,5],[108,20,108,21],[206,14,206,16],[211,17,211,18],[211,19,211,20],[211,21,211,22],[146,17,146,18],[147,17,147,18],[158,17,158,18],[136,17,136,18],[188,2,188,5],[108,2,108,5],[195,2,195,5],[145,15,145,16],[146,15,146,16],[147,15,147,16],[158,15,158,16],[136,15,136,16],[156,15,156,16],[156,17,156,18],[89,4,89,11],[101,6,101,7],[101,8,101,9],[101,10,101,11],[107,14,107,17],[108,14,108,15],[108,16,108,17],[80,17,80,19],[93,4,93,11],[94,4,94,11],[86,4,86,11],[87,4,87,11],[88,4,88,11],[103,14,103,15],[103,16,103,17],[103,18,103,19],[104,14,104,15],[104,16,104,17],[104,18,104,19],[108,18,108,19],[98,7,98,9],[95,4,95,11],[96,4,96,11],[107,18,107,21],[77,15,77,16],[77,17,77,18],[54,17,54,18],[76,17,76,18],[50,15,50,16],[55,15,55,16],[60,15,60,16],[65,15,65,16],[70,15,70,16],[75,15,75,16],[75,17,75,18],[76,15,76,16],[60,17,60,18],[61,15,61,16],[61,17,61,18],[62,15,62,16],[62,17,62,18],[63,15,63,16],[51,17,51,18],[52,15,52,16],[59,15,59,16],[59,17,59,18],[50,17,50,18],[51,15,51,16],[39,2,39,10],[40,14,40,16],[79,2,79,10],[80,14,80,16],[3,2,3,11],[15,6,15,7],[15,8,15,9],[15,10,15,11],[12,7,12,9],[7,4,7,11],[53,15,53,16],[54,15,54,16],[21,14,21,17],[32,2,32,10],[33,2,33,10],[34,2,34,10],[35,2,35,10],[36,2,36,10],[37,2,37,10],[46,2,46,4],[44,5,45,5],[44,8,44,9],[44,10,44,11],[77,6,77,7],[24,6,24,8],[30,2,30,10],[31,2,31,10],[25,2,25,3],[26,2,26,3],[27,2,27,3],[29,2,29,5],[22,2,22,5],[38,2,38,10],[17,14,17,15],[17,16,17,17],[17,18,17,19],[18,14,18,15],[18,16,18,17],[18,18,18,19],[18,20,18,21],[17,20,17,21],[8,4,8,11],[9,4,9,11],[10,4,10,11],[47,15,47,16],[47,17,47,18],[48,15,48,16],[48,17,48,18],[49,15,49,16],[49,17,49,18],[58,17,58,18],[45,19,45,20],[45,21,45,22],[46,19,46,20],[22,26,22,27],[22,28,22,29],[22,30,22,31],[22,22,22,23],[22,24,22,25],[22,14,22,15],[22,16,22,17],[22,18,22,19],[22,20,22,21],[73,15,73,16],[73,17,73,18],[74,15,74,16],[74,17,74,18],[63,17,63,18],[64,15,64,16],[64,17,64,18],[56,15,56,16],[56,17,56,18],[57,15,57,16],[57,17,57,18],[58,15,58,16],[71,15,71,16],[71,17,71,18],[65,17,65,18],[66,15,66,16],[66,17,66,18],[67,15,67,16],[67,17,67,18],[68,15,68,16],[68,17,68,18],[69,15,69,16],[69,17,69,18],[261,14,261,15],[261,16,261,17],[262,14,262,15],[262,16,262,17],[263,14,263,15],[263,16,263,17],[264,14,264,15],[264,16,264,17],[255,32,255,33],[261,18,261,19],[261,20,261,21],[261,22,261,23],[262,18,262,19],[262,20,262,21],[262,22,262,23],[261,24,261,25],[262,24,262,25],[261,26,261,27],[262,26,262,27],[256,32,256,33],[257,32,257,33],[22,34,22,35],[22,36,22,37],[55,17,55,18],[103,20,103,21],[104,20,104,21],[108,26,108,27],[131,17,131,18],[132,21,132,22],[123,2,123,10],[124,2,124,10],[125,2,125,10],[126,14,126,16],[132,19,132,20],[122,2,122,10],[116,2,116,10],[117,2,117,10],[118,2,118,10],[119,2,119,10],[120,2,120,10],[121,2,121,10],[42,2,42,11],[128,2,128,11],[72,15,72,16],[72,17,72,18],[130,1,131,1],[130,2,131,2],[130,3,131,3],[130,4,131,4],[130,5,131,5],[130,6,130,7],[130,8,130,9],[130,10,130,11],[130,14,131,14],[157,15,157,16],[157,17,157,18],[148,15,148,16],[148,17,148,18],[149,15,149,16],[149,17,149,18],[150,15,150,16],[150,17,150,18],[151,15,151,16],[151,17,151,18],[152,15,152,16],[152,17,152,18],[153,15,153,16],[153,17,153,18],[141,15,141,16],[141,17,141,18],[142,15,142,16],[174,4,174,11],[159,15,159,16],[159,17,159,18],[160,15,160,16],[160,17,160,18],[161,15,161,16],[161,17,161,18],[162,15,162,16],[162,17,162,18],[163,6,163,7],[163,15,163,16],[163,17,163,18],[166,4,166,11],[167,4,167,11],[168,4,168,11],[169,4,169,11],[173,4,173,11],[154,15,154,16],[154,17,154,18],[155,15,155,16],[155,17,155,18],[176,4,176,11],[178,7,178,9],[181,6,181,7],[181,8,181,9],[181,10,181,11],[187,14,187,17],[187,18,187,21],[187,22,187,25],[183,14,183,15],[183,16,183,17],[183,18,183,19],[184,14,184,15],[184,16,184,17],[184,18,184,19],[183,20,183,21],[184,20,184,21],[188,14,188,15],[188,16,188,17],[188,18,188,19],[188,20,188,21],[188,22,188,23],[188,24,188,25],[188,26,188,27],[188,28,188,29],[188,30,188,31],[210,1,211,1],[210,2,211,2],[210,3,211,3],[210,4,211,4],[210,5,211,5],[210,6,210,7],[210,8,210,9],[210,10,210,11],[210,14,211,14],[212,17,212,18],[212,19,212,20],[212,21,212,22],[213,15,213,16],[213,17,213,18],[214,15,214,16],[214,17,214,18],[215,15,215,16],[215,17,215,18],[218,17,218,18],[219,15,219,16],[219,17,219,18],[220,15,220,16],[220,17,220,18],[221,15,221,16],[221,17,221,18],[222,15,222,16],[222,17,222,18],[218,15,218,16],[223,15,223,16],[223,17,223,18],[224,15,224,16],[224,17,224,18],[225,15,225,16],[225,17,225,18],[226,15,226,16],[226,17,226,18],[227,15,227,16],[227,17,227,18],[236,17,236,18],[237,15,237,16],[237,17,237,18],[228,15,228,16],[228,17,228,18],[229,15,229,16],[229,17,229,18],[230,15,230,16],[230,17,230,18],[231,15,231,16],[231,17,231,18],[232,15,232,16],[232,17,232,18],[200,2,200,10],[212,2,212,4],[175,4,175,11],[243,15,243,16],[243,17,243,18],[246,4,246,11],[247,4,247,11],[238,15,238,16],[238,17,238,18],[239,15,239,16],[239,17,239,18],[240,15,240,16],[240,17,240,18],[241,15,241,16],[241,17,241,18],[242,15,242,16],[242,17,242,18],[233,15,233,16],[233,17,233,18],[234,15,234,16],[234,17,234,18],[235,15,235,16],[235,17,235,18],[236,15,236,16],[80,2,80,10],[81,2,81,10],[83,2,83,10],[208,2,208,11],[248,4,248,11],[249,4,249,11],[20,8,20,10],[21,7,21,10],[107,7,107,10],[187,7,187,10],[243,6,243,7],[201,2,201,10],[202,2,202,10],[203,2,203,10],[204,2,204,10],[205,2,205,10],[190,6,190,8],[191,2,191,3],[192,2,192,3],[193,2,193,3],[196,2,196,10],[197,2,197,10],[198,2,198,10],[199,2,199,10]]}
[]
[null,null,"Im Programmmanagement nachgewiesene Erfahrung"]
[]
[null,null,"Das Programm Nr. 1 wird in der Zertifizierung als Referenzprogramm eingesetzt und muss im Executive Summary Report beschrieben werden. Falls Sie 2 oder 3 Programme anführen, sind die Programme Nr. 2 und 3 ebenfalls im Executive Summary Report zu beschreiben.\n\nDie unten einzugebenden Informationen müssen sich auf den von Ihnen persönlich verantworteten Bereich beziehen."]
[]
[]
[]
[null,null,"Programm Nr. 1",null,"Referenzprogramm"]
[null,null,"Name des Programms"]
[null,null,"Programmkunde (Unternehmen)"]
[null,null,"Programmscope"]
[]
[null,null,"Informationen zum Programm",{"$nulls":4},"Datum eingeben",null,null,null,"Monate"]
[null,null,"Effektive Programmdauer",null,null,null,"von ",null,"bis ",null,null,{"$f":"ROUND(((J14-H14)/30.4),0)","v":0}]
[]
[{"$nulls":6},"Anzahl geführte Personen",null,"Personentage",null,"Investition in TCHF"]
[{"$nulls":6},"direkt","indirekt","geplant","realisiert","geplant","realisiert"]
[null,null,"Programmumfang und Anzahl geführte Personen",{"$nulls":5},{"$f":"I78","v":0},{"$f":"J78","v":0},{"$f":"K78","v":0},{"$f":"L78","v":0},null,null,"Start",null,"Ende",null,"Monate",null,"Dauer?"]
[null,null,"Jährliches Investitionsvolumen (berechnet aus untenstehender Projektliste)",{"$nulls":7},{"$f":"IF(U19=0,0,(K18/S19)*12)","v":0},{"$f":"IF(U19=0,0,(L18/S19)*12)","v":0},null,null,{"$f":"MIN(G47:G77)","v":"00:00:00"},null,{"$f":"MAX(H47:H77)","v":"00:00:00"},null,{"$f":"DATEDIF(O19,Q19,\"m\")+1","v":1},null,{"$f":"COUNTA(G47:G77)","v":0}]
[]
[null,null,"Anzahl verschiedene Projektarten",{"$nulls":8},{"$f":"SUMPRODUCT((E48:E77<>\"\")/COUNTIF(E48:E77,E48:E77&\"\"))","v":0}]
[null,null,"Programm mit strategischer Bedeutung",{"$nulls":4},"Anzahl Projekte mit strategischer Bedeutung ",null,null,null,{"$f":"F78","v":0},null,null,"Jährl. Investitionsvolumen",null,null,null,"Programmleitung in Stunden",null,null,null,"Direkt geführte Personen",null,null,null,"Indirekt geführte Personen",null,null,null,"Projektarten",null,null,null,"Anzahl (komplexe) Projekte",{"$nulls":4},"Levelkonformität",null,null,"Minimal-\nanforderung",null,"Dauer\nin Rolle"]
[null,null,"Programm ist abgeschlossen (massgebend ist das Datum der Einreichung des Berichts)",{"$nulls":11},"B",null,"A",null,"B",null,"A",null,"B",null,"A",null,"B",null,"A",null,"B",null,"A",null,"B",null,"A",null,null,"B","A"]
[]
[null,null,"Ihre Rolle(n) im Programm",null,null,null,"Datum eingeben",null,null,null,"Stunden","Std/Monat"]
[{"$nulls":5},"von ",null,"bis ",null,null,null,{"$f":"IFERROR(ROUND(K26/((I26-G26)/30.4),0),\"\")","v":""},null,null,{"$f":"((($L19-$O$257)/($O$256-$O$257))*0.5+1)","v":0.25},{"$f":"IF($O26>1.5,1.5,IF($O26<0.5,0,$O26))","v":0},{"$f":"((($L19-$Q$257)/($Q$256-$Q$257))*0.5+1)","v":0},{"$f":"IF($Q26>1.5,1.5,IF($Q26<0.5,0,$Q26))","v":0},{"$f":"((($K26-$S$257)/($S$256-$S$257))*0.5+1)","v":-0.75},{"$f":"IF($S26>1.5,1.5,IF($S26<0.5,0,$S26))","v":0},{"$f":"((($K26-$U$257)/($U$256-$U$257))*0.5+1)","v":-1.4},{"$f":"IF($U26>1.5,1.5,IF($U26<0.5,0,$U26))","v":0},{"$f":"((($G18-$W$257)/($W$256-$W$257))*0.5+1)","v":0.25},{"$f":"IF($W26>1.5,1.5,IF($W26<0.5,0,$W26))","v":0},{"$f":"((($G18-$Y$257)/($Y$256-$Y$257))*0.5+1)","v":0.125},{"$f":"IF($Y26>1.5,1.5,IF($Y26<0.5,0,$Y26))","v":0},{"$f":"((($H18-$AA$257)/($AA$256-$AA$257))*0.5+1)","v":0},{"$f":"IF($AA26>1.5,1.5,IF($AA26<0.5,0,$AA26))","v":0},{"$f":"((($H18-$AC$257)/($AC$256-$AC$257))*0.5+1)","v":-0.5},{"$f":"IF($AC26>1.5,1.5,IF($AC26<0.5,0,$AC26))","v":0},{"$f":"((($L21-$AE$257)/($AE$256-$AE$257))*0.5+1)","v":0},{"$f":"IF($AE26>1.5,1.5,IF($AE26<0.5,0,$AE26))","v":0},{"$f":"((($L21-$AF$257)/($AF$256-$AF$257))*0.5+1)","v":-0.5},{"$f":"IF($AG26>1.5,1.5,IF($AG26<0.5,0,$AG26))","v":0},{"$f":"((($T47-$AG$257)/($AG$256-$AG$257))*0.5+1)","v":0.16666666666666663},{"$f":"IF($AI26>1.5,1.5,IF($AI26<0.5,0,$AI26))","v":0},{"$f":"((($V47-$AI$257)/($AI$256-$AI$257))*0.5+1)","v":0},{"$f":"IF($AK26>1.5,1.5,IF($AK26<0.5,0,$AK26))","v":0},null,{"$f":"IF(AND($C26=\"Programmleiter*in\",PRODUCT(P26,T26,X26,AB26,AF26,AJ26)>=1,$L$30>=$AO$256),1,0)","v":0},{"$f":"IF(AND($C26=\"Programmleiter*in\",PRODUCT(R26,V26,Z26,AD26,AH26,AL26)>=1,$L$30>=$AO$255),1,0)","v":0},null,{"$f":"IF(AND(OR(J18>=O$263,L18>=Q$263),K26>=S$263,G18+H18>=U$263,AS26>=W$263,L30>=Y$263,R47>=AA$263),1,0)","v":0},null,{"$f":"IF(I26=\"\",0,DATEDIF(G26,I26,\"m\")+1)","v":0}]
[{"$nulls":5},"von ",null,"bis ",null,null,null,{"$f":"IFERROR(ROUND(K27/((I27-G27)/30.4),0),\"\")","v":""},null,null,{"$f":"((($L19-$O$257)/($O$256-$O$257))*0.5+1)","v":0.25},{"$f":"IF($O27>1.5,1.5,IF($O27<0.5,0,$O27))","v":0},{"$f":"((($L19-$Q$257)/($Q$256-$Q$257))*0.5+1)","v":0},{"$f":"IF($Q27>1.5,1.5,IF($Q27<0.5,0,$Q27))","v":0},{"$f":"((($K27-$S$257)/($S$256-$S$257))*0.5+1)","v":-0.75},{"$f":"IF($S27>1.5,1.5,IF($S27<0.5,0,$S27))","v":0},{"$f":"((($K27-$U$257)/($U$256-$U$257))*0.5+1)","v":-1.4},{"$f":"IF($U27>1.5,1.5,IF($U27<0.5,0,$U27))","v":0},{"$f":"((($G18-$W$257)/($W$256-$W$257))*0.5+1)","v":0.25},{"$f":"IF($W27>1.5,1.5,IF($W27<0.5,0,$W27))","v":0},{"$f":"((($G18-$Y$257)/($Y$256-$Y$257))*0.5+1)","v":0.125},{"$f":"IF($Y27>1.5,1.5,IF($Y27<0.5,0,$Y27))","v":0},{"$f":"((($H18-$AA$257)/($AA$256-$AA$257))*0.5+1)","v":0},{"$f":"IF($AA27>1.5,1.5,IF($AA27<0.5,0,$AA27))","v":0},{"$f":"((($H18-$AC$257)/($AC$256-$AC$257))*0.5+1)","v":-0.5},{"$f":"IF($AC27>1.5,1.5,IF($AC27<0.5,0,$AC27))","v":0},{"$f":"((($L21-$AE$257)/($AE$256-$AE$257))*0.5+1)","v":0},{"$f":"IF($AE27>1.5,1.5,IF($AE27<0.5,0,$AE27))","v":0},{"$f":"((($L21-$AF$257)/($AF$256-$AF$257))*0.5+1)","v":-0.5},{"$f":"IF($AG27>1.5,1.5,IF($AG27<0.5,0,$AG27))","v":0},{"$f":"((($T47-$AG$257)/($AG$256-$AG$257))*0.5+1)","v":0.16666666666666663},{"$f":"IF($AI27>1.5,1.5,IF($AI27<0.5,0,$AI27))","v":0},{"$f":"((($V47-$AI$257)/($AI$256-$AI$257))*0.5+1)","v":0},{"$f":"IF($AK27>1.5,1.5,IF($AK27<0.5,0,$AK27))","v":0},null,{"$f":"IF(AND($C27=\"Programmleiter*in\",PRODUCT(P27,T27,X27,AB27,AF27,AJ27)>=1,$L$30>=$AO$256),1,0)","v":0},{"$f":"IF(AND($C27=\"Programmleiter*in\",PRODUCT(R27,V27,Z27,AD27,AH27,AL27)>=1,$L$30>=$AO$255),1,0)","v":0},null,{"$f":"IF(AND(OR(J18>=O$263,L18>=Q$263),K27>=S$263,G18+H18>=U$263,AS27>=W$263,L30>=Y$263,R47>=AA$263),1,0)","v":0},null,{"$f":"IF(I27=\"\",0,DATEDIF(G27,I27,\"m\")+1)","v":0}]
[{"$nulls":5},"von ",null,"bis ",null,null,null,"",null,null,{"$f":"((($L19-$O$257)/($O$256-$O$257))*0.5+1)","v":0.25},0,{"$f":"((($L19-$Q$257)/($Q$256-$Q$257))*0.5+1)","v":0},0,{"$f":"((($K28-$S$257)/($S$256-$S$257))*0.5+1)","v":-0.75},0,{"$f":"((($K28-$U$257)/($U$256-$U$257))*0.5+1)","v":-1.4},0,{"$f":"((($G18-$W$257)/($W$256-$W$257))*0.5+1)","v":0.25},0,{"$f":"((($G18-$Y$257)/($Y$256-$Y$257))*0.5+1)","v":0.125},0,{"$f":"((($H18-$AA$257)/($AA$256-$AA$257))*0.5+1)","v":0},0,{"$f":"((($H18-$AC$257)/($AC$256-$AC$257))*0.5+1)","v":-0.5},0,{"$f":"((($L21-$AE$257)/($AE$256-$AE$257))*0.5+1)","v":0},0,{"$f":"((($L21-$AF$257)/($AF$256-$AF$257))*0.5+1)","v":-0.5},{"$f":"IF($AG28>1.5,1.5,IF($AG28<0.5,0,$AG28))","v":0},{"$f":"((($T47-$AG$257)/($AG$256-$AG$257))*0.5+1)","v":0.16666666666666663},{"$f":"IF($AI28>1.5,1.5,IF($AI28<0.5,0,$AI28))","v":0},{"$f":"((($V47-$AI$257)/($AI$256-$AI$257))*0.5+1)","v":0},{"$f":"IF($AK28>1.5,1.5,IF($AK28<0.5,0,$AK28))","v":0},null,{"$f":"IF(AND($C28=\"Programmleiter*in\",PRODUCT(P28,T28,X28,AB28,AF28,AJ28)>=1,$L$30>=$AO$256),1,0)","v":0},{"$f":"IF(AND($C28=\"Programmleiter*in\",PRODUCT(R28,V28,Z28,AD28,AH28,AL28)>=1,$L$30>=$AO$255),1,0)","v":0},null,{"$f":"IF(AND(OR(J18>=O$263,L18>=Q$263),K28>=S$263,G18+H18>=U$263,AS28>=W$263,L30>=Y$263,R47>=AA$263),1,0)","v":0},null,0]
[]
[null,null,"Komplexitätsbeurteilung des Programms (s. Hinweise im Tabellenblatt 'Tips')",{"$nulls":8},{"$f":"SUM(L31:L40)","v":0}]
[null,null,"01 Ziele und Ergebnisbeurteilung"]
[null,null,"02 Prozesse, Methoden, Tools und Techniken des PP&PM"]
[null,null,"03 Ressourcen und Finanzierung"]
[null,null,"04 Chancen und Risiken"]
[null,null,"05 Stakeholder und Integration"]
[null,null,"06 Beziehungen zur Stammorganisation"]
[null,null,"07 Kultureller und sozialer Kontext"]
[null,null,"08 Führung, Teamarbeit und Entscheidungen"]
[null,null,"09 Innovationsgrad und Rahmenbedingungen"]
[null,null,"10 Koordinationsbedarf"]
[]
[null,null,"Projektliste"]
[null,null,"Geben Sie unter 'geplant' die bis zum Ende des Programms geplanten Umfänge und unter 'realisiert' die bis zur Einreichung des Zertifizierungsantrags geleisteten Umfänge an."]
[]
[null,"Nr","Name des Projekts","Projektscope","Projektart","strate-\ngisch","Dauer",null,"Personentage",null,"Investition in TCHF",{"$nulls":6},"Projektgrösse"]
[{"$nulls":6},"von","bis","geplant","realisiert","geplant","realisiert",{"$nulls":5},"≥ 1 PT",null,"≥ 250 PT",null,"≥ 700 PT"]
[null,null,"Aufwände im Programm ausserhalb der Projekte",{"$nulls":14},{"$f":"COUNTIF($P48:PJ77,\">=1\")","v":0},null,{"$f":"COUNTIF($P48:$P77,\">=250\")","v":0},null,{"$f":"COUNTIF($P48:$P77,\">=700\")","v":0}]
[null,1,{"$nulls":13},{"$f":"IF(I48>=J48,I48,J48)","v":0}]
[null,2,{"$nulls":13},{"$f":"IF(I49>=J49,I49,J49)","v":0}]
[null,3,{"$nulls":13},0]
[null,4,{"$nulls":13},0]
[null,5,{"$nulls":13},0]
[null,6,{"$nulls":13},0]
[null,7,{"$nulls":13},0]
[null,8,{"$nulls":13},0]
[null,9,{"$nulls":13},0]
[null,10,{"$nulls":13},0]
[null,11,{"$nulls":13},0]
[null,12,{"$nulls":13},0]
[null,13,{"$nulls":13},0]
[null,14,{"$nulls":13},0]
[null,15,{"$nulls":13},0]
[null,16,{"$nulls":13},0]
[null,17,{"$nulls":13},0]
[null,18,{"$nulls":13},0]
[null,19,{"$nulls":13},0]
[null,20,{"$nulls":13},0]
[null,21,{"$nulls":13},0]
[null,22,{"$nulls":13},0]
[null,23,{"$nulls":13},0]
[null,24,{"$nulls":13},0]
[null,25,{"$nulls":13},0]
[null,26,{"$nulls":13},0]
[null,27,{"$nulls":13},0]
[null,28,{"$nulls":13},0]
[null,29,{"$nulls":13},0]
[null,30,{"$nulls":13},0]
[{"$nulls":5},{"$f":"COUNTIF(F48:F77,\"ja\")","v":0},"Total ",null,{"$f":"SUM(I47:I77)","v":0},{"$f":"SUM(J47:J77)","v":0},0,0]
[null,null,"Erfüllung der Kriterien als Referenzprogramm",{"$nulls":11},"B","A"]
[null,null,"Entspricht das Programm den Anforderungen an den Level?",{"$nulls":8},{"$f":"IF(OR(Pers!D12=\"C\",Pers!D12=\"\"),\"\",IF(Pers!D12=\"A\",P80,IF(Pers!D12=\"B\",O80)))","v":""},null,null,{"$f":"IF(OR(AN$26=1,AN$27=1,AN$28=1),\"ja\",\"nein\")","v":"nein"},{"$f":"IF(OR(AO$26=1,AO$27=1,AO$28=1),\"ja\",\"nein\")","v":"nein"}]
[null,null,"Liegt der letzte Einsatzmonat nicht mehr als 4 Jahre zurück?",{"$nulls":8},{"$f":"IF(O81>=R81,\"ja\",\"nein\")","v":"nein"},null,null,{"$f":"IF(I26>=I27,I26,IF(I27>=I28,I27,I28))","v":"00:00:00"},null,null,{"$f":"DATE(YEAR(Pers!D18)-4,MONTH(Pers!D18),DAY(Pers!D18))","v":"3795-12-31"}]
[null,null,"Entspricht die minimale Einsatzdauer im Programm den Anforderungen an den Level?",{"$nulls":8},{"$f":"IF(AND(Pers!D12=\"A\",P82>=AL255),\"ja\",IF(AND(Pers!D12=\"B\",O82>=AL256),\"ja\",\"nein\"))","v":"nein"},null,null,{"$f":"COUNTIF(Exp!$AV$11:$AV$154,\">=50\")","v":0},{"$f":"COUNTIF(Exp!$AV$11:$AV$154,\">=75\")","v":0},"Monate"]
[]
[null,null,"Kann das Programm als Referenzprogramm eingereicht werden?",{"$nulls":8},{"$f":"IF(AND(L80=\"ja\",L81=\"ja\",L82=\"ja\"),\"ja\",\"nein\")","v":"nein"}]
[]
[null,null,"Referenzperson (üblicherweise Auftraggeber oder Arbeitgeber)"]
[null,null,"Vorname Name"]
[null,null,"Rolle im Programm/Unternehmen"]
[null,null,"Telefon"]
[null,null,"E-Mail"]
[]
[]
[]
[null,null,"Programm Nr. 2"]
[null,null,"Name des Programms"]
[null,null,"Programmkunde (Unternehmen)"]
[null,null,"Programmscope"]
[]
[null,null,"Informationen zum Programm",{"$nulls":4},"Datum eingeben",null,null,null,"Monate"]
[null,null,"Effektive Programmdauer",null,null,null,"von ",null,"bis ",null,null,{"$f":"ROUND(((J100-H100)/30.4),0)","v":0}]
[]
[{"$nulls":6},"Anzahl geführte Personen",null,"Personentage",null,"Investition in TCHF"]
[{"$nulls":6},"direkt","indirekt","geplant","realisiert","geplant","realisiert"]
[null,null,"Programmumfang und Anzahl geführte Personen",{"$nulls":5},{"$f":"I164","v":0},{"$f":"J164","v":0},{"$f":"K164","v":0},{"$f":"L164","v":0},null,null,"Start",null,"Ende",null,"Monate",null,"Dauer?"]
[null,null,"Jährliches Investitionsvolumen (berechnet aus untenstehender Projektliste)",{"$nulls":7},{"$f":"IF(U105=0,0,(K104/S105)*12)","v":0},{"$f":"IF(U105=0,0,(L104/S105)*12)","v":0},null,null,{"$f":"MIN(G133:G163)","v":"00:00:00"},null,{"$f":"MAX(H133:H163)","v":"00:00:00"},null,{"$f":"DATEDIF(O105,Q105,\"m\")+1","v":1},null,{"$f":"COUNTA(G133:G163)","v":0}]
[]
[null,null,"Anzahl verschiedene Projektarten",{"$nulls":8},{"$f":"SUMPRODUCT((E134:E163<>\"\")/COUNTIF(E134:E163,E134:E163&\"\"))","v":0}]
[null,null,"Programm mit strategischer Bedeutung",{"$nulls":4},"Anzahl Projekte mit strategischer Bedeutung ",null,null,null,{"$f":"F164","v":0},null,null,"Jährl. Investitionsvolumen",null,null,null,"Programmleitung in Stunden",null,null,null,"Direkt geführte Personen",null,null,null,"Indirekt geführte Personen",null,null,null,"Projektarten",null,null,null,"Anzahl (komplexe) Projekte",{"$nulls":4},"Levelkonformität",null,null,"Minimal-\nanforderung",null,"Dauer\nin Rolle"]
[null,null,"Programm ist abgeschlossen (massgend ist das Datum der Einreichung des Antrags)",{"$nulls":11},"B",null,"A",null,"B",null,"A",null,"B",null,"A",null,"B",null,"A",null,"B",null,"A",null,"B",null,"A",null,null,"B","A"]
[]
[null,null,"Ihre Rolle(n) im Programm",null,null,null,"Datum eingeben",null,null,null,"Stunden","Std/Monat"]
[{"$nulls":5},"von ",null,"bis ",null,null,null,{"$f":"IFERROR(ROUND(K112/((I112-G112)/30.4),0),\"\")","v":""},null,null,{"$f":"((($L105-$O$257)/($O$256-$O$257))*0.5+1)","v":0.25},{"$f":"IF($O112>1.5,1.5,IF($O112<0.5,0,$O112))","v":0},{"$f":"((($L105-$Q$257)/($Q$256-$Q$257))*0.5+1)","v":0},{"$f":"IF($Q112>1.5,1.5,IF($Q112<0.5,0,$Q112))","v":0},{"$f":"((($K112-$S$257)/($S$256-$S$257))*0.5+1)","v":-0.75},{"$f":"IF($S112>1.5,1.5,IF($S112<0.5,0,$S112))","v":0},{"$f":"((($K112-$U$257)/($U$256-$U$257))*0.5+1)","v":-1.4},{"$f":"IF($U112>1.5,1.5,IF($U112<0.5,0,$U112))","v":0},{"$f":"((($G104-$W$257)/($W$256-$W$257))*0.5+1)","v":0.25},{"$f":"IF($W112>1.5,1.5,IF($W112<0.5,0,$W112))","v":0},{"$f":"((($G104-$Y$257)/($Y$256-$Y$257))*0.5+1)","v":0.125},{"$f":"IF($Y112>1.5,1.5,IF($Y112<0.5,0,$Y112))","v":0},{"$f":"((($H104-$AA$257)/($AA$256-$AA$257))*0.5+1)","v":0},{"$f":"IF($AA112>1.5,1.5,IF($AA112<0.5,0,$AA112))","v":0},{"$f":"((($H104-$AC$257)/($AC$256-$AC$257))*0.5+1)","v":-0.5},{"$f":"IF($AC112>1.5,1.5,IF($AC112<0.5,0,$AC112))","v":0},{"$f":"((($L107-$AE$257)/($AE$256-$AE$257))*0.5+1)","v":0},{"$f":"IF($AE112>1.5,1.5,IF($AE112<0.5,0,$AE112))","v":0},{"$f":"((($L107-$AF$257)/($AF$256-$AF$257))*0.5+1)","v":-0.5},{"$f":"IF($AG112>1.5,1.5,IF($AG112<0.5,0,$AG112))","v":0},{"$f":"((($T133-$AG$257)/($AG$256-$AG$257))*0.5+1)","v":0.16666666666666663},{"$f":"IF($AI112>1.5,1.5,IF($AI112<0.5,0,$AI112))","v":0},{"$f":"((($V133-$AI$257)/($AI$256-$AI$257))*0.5+1)","v":0},{"$f":"IF($AK112>1.5,1.5,IF($AK112<0.5,0,$AK112))","v":0},null,{"$f":"IF(AND($C112=\"Programmleiter*in\",PRODUCT(P112,T112,X112,AB112,AF112,AJ112)>=1,$L$116>=$AO$256),1,0)","v":0},{"$f":"IF(AND($C112=\"Programmleiter*in\",PRODUCT(R112,V112,Z112,AD112,AH112,AL112)>=1,$L$116>=$AO$255),1,0)","v":0},null,{"$f":"IF(AND(OR(J104>=O$263,L104>=Q$263),K112>=S$263,G104+H104>=U$263,AS112>=W$263,L116>=Y$263,R133>=AA$263),1,0)","v":0},null,{"$f":"IF(I112=\"\",0,DATEDIF(G112,I112,\"m\")+1)","v":0}]
[{"$nulls":5},"von ",null,"bis ",null,null,null,{"$f":"IFERROR(ROUND(K113/((I113-G113)/30.4),0),\"\")","v":""},null,null,{"$f":"((($L105-$O$257)/($O$256-$O$257))*0.5+1)","v":0.25},{"$f":"IF($O113>1.5,1.5,IF($O113<0.5,0,$O113))","v":0},{"$f":"((($L105-$Q$257)/($Q$256-$Q$257))*0.5+1)","v":0},{"$f":"IF($Q113>1.5,1.5,IF($Q113<0.5,0,$Q113))","v":0},{"$f":"((($K113-$S$257)/($S$256-$S$257))*0.5+1)","v":-0.75},{"$f":"IF($S113>1.5,1.5,IF($S113<0.5,0,$S113))","v":0},{"$f":"((($K113-$U$257)/($U$256-$U$257))*0.5+1)","v":-1.4},{"$f":"IF($U113>1.5,1.5,IF($U113<0.5,0,$U113))","v":0},{"$f":"((($G104-$W$257)/($W$256-$W$257))*0.5+1)","v":0.25},{"$f":"IF($W113>1.5,1.5,IF($W113<0.5,0,$W113))","v":0},{"$f":"((($G104-$Y$257)/($Y$256-$Y$257))*0.5+1)","v":0.125},{"$f":"IF($Y113>1.5,1.5,IF($Y113<0.5,0,$Y113))","v":0},{"$f":"((($H104-$AA$257)/($AA$256-$AA$257))*0.5+1)","v":0},{"$f":"IF($AA113>1.5,1.5,IF($AA113<0.5,0,$AA113))","v":0},{"$f":"((($H104-$AC$257)/($AC$256-$AC$257))*0.5+1)","v":-0.5},{"$f":"IF($AC113>1.5,1.5,IF($AC113<0.5,0,$AC113))","v":0},{"$f":"((($L107-$AE$257)/($AE$256-$AE$257))*0.5+1)","v":0},{"$f":"IF($AE113>1.5,1.5,IF($AE113<0.5,0,$AE113))","v":0},{"$f":"((($L107-$AF$257)/($AF$256-$AF$257))*0.5+1)","v":-0.5},{"$f":"IF($AG113>1.5,1.5,IF($AG113<0.5,0,$AG113))","v":0},{"$f":"((($T133-$AG$257)/($AG$256-$AG$257))*0.5+1)","v":0.16666666666666663},{"$f":"IF($AI113>1.5,1.5,IF($AI113<0.5,0,$AI113))","v":0},{"$f":"((($V133-$AI$257)/($AI$256-$AI$257))*0.5+1)","v":0},{"$f":"IF($AK113>1.5,1.5,IF($AK113<0.5,0,$AK113))","v":0},null,{"$f":"IF(AND($C113=\"Programmleiter*in\",PRODUCT(P113,T113,X113,AB113,AF113,AJ113)>=1,$L$116>=$AO$256),1,0)","v":0},{"$f":"IF(AND($C113=\"Programmleiter*in\",PRODUCT(R113,V113,Z113,AD113,AH113,AL113)>=1,$L$116>=$AO$255),1,0)","v":0},null,{"$f":"IF(AND(OR(J104>=O$263,L104>=Q$263),K113>=S$263,G104+H104>=U$263,AS113>=W$263,L116>=Y$263,R133>=AA$263),1,0)","v":0},null,{"$f":"IF(I113=\"\",0,DATEDIF(G113,I113,\"m\")+1)","v":0}]
[{"$nulls":5},"von ",null,"bis ",null,null,null,"",null,null,{"$f":"((($L105-$O$257)/($O$256-$O$257))*0.5+1)","v":0.25},0,{"$f":"((($L105-$Q$257)/($Q$256-$Q$257))*0.5+1)","v":0},0,{"$f":"((($K114-$S$257)/($S$256-$S$257))*0.5+1)","v":-0.75},0,{"$f":"((($K114-$U$257)/($U$256-$U$257))*0.5+1)","v":-1.4},0,{"$f":"((($G104-$W$257)/($W$256-$W$257))*0.5+1)","v":0.25},0,{"$f":"((($G104-$Y$257)/($Y$256-$Y$257))*0.5+1)","v":0.125},0,{"$f":"((($H104-$AA$257)/($AA$256-$AA$257))*0.5+1)","v":0},0,{"$f":"((($H104-$AC$257)/($AC$256-$AC$257))*0.5+1)","v":-0.5},0,{"$f":"((($L107-$AE$257)/($AE$256-$AE$257))*0.5+1)","v":0},0,{"$f":"((($L107-$AF$257)/($AF$256-$AF$257))*0.5+1)","v":-0.5},{"$f":"IF($AG114>1.5,1.5,IF($AG114<0.5,0,$AG114))","v":0},{"$f":"((($T133-$AG$257)/($AG$256-$AG$257))*0.5+1)","v":0.16666666666666663},{"$f":"IF($AI114>1.5,1.5,IF($AI114<0.5,0,$AI114))","v":0},{"$f":"((($V133-$AI$257)/($AI$256-$AI$257))*0.5+1)","v":0},{"$f":"IF($AK114>1.5,1.5,IF($AK114<0.5,0,$AK114))","v":0},null,{"$f":"IF(AND($C114=\"Programmleiter*in\",PRODUCT(P114,T114,X114,AB114,AF114,AJ114)>=1,$L$116>=$AO$256),1,0)","v":0},{"$f":"IF(AND($C114=\"Programmleiter*in\",PRODUCT(R114,V114,Z114,AD114,AH114,AL114)>=1,$L$116>=$AO$255),1,0)","v":0},null,{"$f":"IF(AND(OR(J104>=O$263,L104>=Q$263),K114>=S$263,G104+H104>=U$263,AS114>=W$263,L116>=Y$263,R133>=AA$263),1,0)","v":0},null,0]
[]
[null,null,"Komplexitätsbeurteilung des Programms (s. Hinweise im Tabellenblatt 'Tips')",{"$nulls":8},{"$f":"SUM(L117:L126)","v":0}]
[null,null,"01 Ziele und Ergebnisbeurteilung"]
[null,null,"02 Prozesse, Methoden, Tools und Techniken des PP&PM"]
[null,null,"03 Ressourcen und Finanzierung"]
[null,null,"04 Chancen und Risiken"]
[null,null,"05 Stakeholder und Integration"]
[null,null,"06 Beziehungen zur Stammorganisation"]
[null,null,"07 Kultureller und sozialer Kontext"]
[null,null,"08 Führung, Teamarbeit und Entscheidungen"]
[null,null,"09 Innovationsgrad und Rahmenbedingungen"]
[null,null,"10 Koordinationsbedarf"]
[]
[null,null,"Projektliste"]
[null,null,"Geben Sie unter 'geplant' die bis zum Ende des Programms geplanten Umfänge und unter 'realisiert' die bis zur Einreichung des Zertifizierungsantrags geleisteten Umfänge an."]
[]
[null,"Nr","Name des Projekts","Projektscope","Projektart","strate-\ngisch","Dauer",null,"Personentage",null,"Investition in TCHF",{"$nulls":6},"Projektgrösse"]
[{"$nulls":6},"von","bis","geplant","realisiert","geplant","realisiert",{"$nulls":5},"≥ 1 PT",null,"≥ 250 PT",null,"≥ 700 PT"]
[null,null,"Aufwände im Programm ausserhalb der Projekte",{"$nulls":14},{"$f":"COUNTIF($P134:PJ163,\">=1\")","v":0},null,{"$f":"COUNTIF($P134:$P163,\">=250\")","v":0},null,{"$f":"COUNTIF($P134:$P163,\">=700\")","v":0}]
[null,1,{"$nulls":13},{"$f":"IF(I134>=J134,I134,J134)","v":0}]
[null,2,{"$nulls":13},{"$f":"IF(I135>=J135,I135,J135)","v":0}]
[null,3,{"$nulls":13},0]
[null,4,{"$nulls":13},0]
[null,5,{"$nulls":13},0]
[null,6,{"$nulls":13},0]
[null,7,{"$nulls":13},0]
[null,8,{"$nulls":13},0]
[null,9,{"$nulls":13},0]
[null,10,{"$nulls":13},0]
[null,11,{"$nulls":13},0]
[null,12,{"$nulls":13},0]
[null,13,{"$nulls":13},0]
[null,14,{"$nulls":13},0]
[null,15,{"$nulls":13},0]
[null,16,{"$nulls":13},0]
[null,17,{"$nulls":13},0]
[null,18,{"$nulls":13},0]
[null,19,{"$nulls":13},0]
[null,20,{"$nulls":13},0]
[null,21,{"$nulls":13},0]
[null,22,{"$nulls":13},0]
[null,23,{"$nulls":13},0]
[null,24,{"$nulls":13},0]
[null,25,{"$nulls":13},0]
[null,26,{"$nulls":13},0]
[null,27,{"$nulls":13},0]
[null,28,{"$nulls":13},0]
[null,29,{"$nulls":13},0]
[null,30,{"$nulls":13},0]
[{"$nulls":5},{"$f":"COUNTIF(F134:F163,\"ja\")","v":0},"Total ",null,{"$f":"SUM(I133:I163)","v":0},{"$f":"SUM(J133:J163)","v":0},{"$f":"SUM(K133:K163)","v":0},{"$f":"SUM(L133:L163)","v":0}]
[]
[null,null,"Referenzperson (üblicherweise Auftraggeber oder Arbeitgeber)"]
[null,null,"Vorname Name"]
[null,null,"Rolle im Programm/Unternehmen"]
[null,null,"Telefon"]
[null,null,"E-Mail"]
[]
[]
[]
[null,null,"Programm Nr. 3"]
[null,null,"Name des Programms"]
[null,null,"Programmkunde (Unternehmen)"]
[null,null,"Programmscope"]
[]
[null,null,"Informationen zum Programm",{"$nulls":4},"Datum eingeben",null,null,null,"Monate"]
[null,null,"Effektive Programmdauer",null,null,null,"von ",null,"bis ",null,null,{"$f":"ROUND(((J180-H180)/30.4),0)","v":0}]
[]
[{"$nulls":6},"Anzahl geführte Personen",null,"Personentage",null,"Investition in TCHF"]
[{"$nulls":6},"direkt","indirekt","geplant","realisiert","geplant","realisiert"]
[null,null,"Programmumfang und Anzahl geführte Personen",{"$nulls":5},{"$f":"I244","v":0},{"$f":"J244","v":0},{"$f":"K244","v":0},{"$f":"L244","v":0},null,null,"Start",null,"Ende",null,"Monate",null,"Dauer?"]
[null,null,"Jährliches Investitionsvolumen (berechnet aus untenstehender Projektliste)",{"$nulls":7},{"$f":"IF(U185=0,0,(K184/S185)*12)","v":0},{"$f":"IF(U185=0,0,(L184/S185)*12)","v":0},null,null,{"$f":"MIN(G213:G243)","v":"00:00:00"},null,{"$f":"MAX(H213:H243)","v":"00:00:00"},null,{"$f":"DATEDIF(O185,Q185,\"m\")+1","v":1},null,{"$f":"COUNTA(G213:G243)","v":0}]
[]
[null,null,"Anzahl verschiedene Projektarten",{"$nulls":8},{"$f":"SUMPRODUCT((E214:E243<>\"\")/COUNTIF(E214:E243,E214:E243&\"\"))","v":0}]
[null,null,"Programm mit strategischer Bedeutung",{"$nulls":4},"Anzahl Projekte mit strategischer Bedeutung ",null,null,null,{"$f":"F244","v":0},null,null,"Jährl. Investitionsvolumen",null,null,null,"Programmleitung in Stunden",null,null,null,"Direkt geführte Personen",null,null,null,"Indirekt geführte Personen",null,null,null,"Projektarten",null,null,null,"Anzahl (komplexe) Projekte",{"$nulls":4},"Levelkonformität",null,null,"Minimal-\nanforderung",null,"Dauer\nin Rolle"]
[null,null,"Programm ist abgeschlossen (massgend ist das Datum der Einreichung des Antrags)",{"$nulls":11},"B",null,"A",null,"B",null,"A",null,"B",null,"A",null,"B",null,"A",null,"B",null,"A",null,"B",null,"A",null,null,"B","A"]
[]
[null,null,"Ihre Rolle(n) im Programm",null,null,null,"Datum eingeben",null,null,null,"Stunden","Std/Monat"]
[{"$nulls":5},"von ",null,"bis ",null,null,null,{"$f":"IFERROR(ROUND(K192/((I192-G192)/30.4),0),\"\")","v":""},null,null,{"$f":"((($L185-$O$257)/($O$256-$O$257))*0.5+1)","v":0.25},{"$f":"IF($O192>1.5,1.5,IF($O192<0.5,0,$O192))","v":0},{"$f":"((($L185-$Q$257)/($Q$256-$Q$257))*0.5+1)","v":0},{"$f":"IF($Q192>1.5,1.5,IF($Q192<0.5,0,$Q192))","v":0},{"$f":"((($K192-$S$257)/($S$256-$S$257))*0.5+1)","v":-0.75},{"$f":"IF($S192>1.5,1.5,IF($S192<0.5,0,$S192))","v":0},{"$f":"((($K192-$U$257)/($U$256-$U$257))*0.5+1)","v":-1.4},{"$f":"IF($U192>1.5,1.5,IF($U192<0.5,0,$U192))","v":0},{"$f":"((($G184-$W$257)/($W$256-$W$257))*0.5+1)","v":0.25},{"$f":"IF($W192>1.5,1.5,IF($W192<0.5,0,$W192))","v":0},{"$f":"((($G184-$Y$257)/($Y$256-$Y$257))*0.5+1)","v":0.125},{"$f":"IF($Y192>1.5,1.5,IF($Y192<0.5,0,$Y192))","v":0},{"$f":"((($H184-$AA$257)/($AA$256-$AA$257))*0.5+1)","v":0},{"$f":"IF($AA192>1.5,1.5,IF($AA192<0.5,0,$AA192))","v":0},{"$f":"((($H184-$AC$257)/($AC$256-$AC$257))*0.5+1)","v":-0.5},{"$f":"IF($AC192>1.5,1.5,IF($AC192<0.5,0,$AC192))","v":0},{"$f":"((($L187-$AE$257)/($AE$256-$AE$257))*0.5+1)","v":0},{"$f":"IF($AE192>1.5,1.5,IF($AE192<0.5,0,$AE192))","v":0},{"$f":"((($L187-$AF$257)/($AF$256-$AF$257))*0.5+1)","v":-0.5},{"$f":"IF($AG192>1.5,1.5,IF($AG192<0.5,0,$AG192))","v":0},{"$f":"((($T213-$AG$257)/($AG$256-$AG$257))*0.5+1)","v":0.16666666666666663},{"$f":"IF($AI192>1.5,1.5,IF($AI192<0.5,0,$AI192))","v":0},{"$f":"((($V213-$AI$257)/($AI$256-$AI$257))*0.5+1)","v":0},{"$f":"IF($AK192>1.5,1.5,IF($AK192<0.5,0,$AK192))","v":0},null,{"$f":"IF(AND($C192=\"Programmleiter*in\",PRODUCT(P192,T192,X192,AB192,AF192,AJ192)>=1,$L$196>=$AO$256),1,0)","v":0},{"$f":"IF(AND($C192=\"Programmleiter*in\",PRODUCT(R192,V192,Z192,AD192,AH192,AL192)>=1,$L$196>=$AO$255),1,0)","v":0},null,{"$f":"IF(AND(OR(J184>=O$263,L184>=Q$263),K192>=S$263,G184+H184>=U$263,AS192>=W$263,L196>=Y$263,R213>=AA$263),1,0)","v":0},null,{"$f":"IF(I192=\"\",0,DATEDIF(G192,I192,\"m\")+1)","v":0}]
[{"$nulls":5},"von ",null,"bis ",null,null,null,{"$f":"IFERROR(ROUND(K193/((I193-G193)/30.4),0),\"\")","v":""},null,null,{"$f":"((($L185-$O$257)/($O$256-$O$257))*0.5+1)","v":0.25},{"$f":"IF($O193>1.5,1.5,IF($O193<0.5,0,$O193))","v":0},{"$f":"((($L185-$Q$257)/($Q$256-$Q$257))*0.5+1)","v":0},{"$f":"IF($Q193>1.5,1.5,IF($Q193<0.5,0,$Q193))","v":0},{"$f":"((($K193-$S$257)/($S$256-$S$257))*0.5+1)","v":-0.75},{"$f":"IF($S193>1.5,1.5,IF($S193<0.5,0,$S193))","v":0},{"$f":"((($K193-$U$257)/($U$256-$U$257))*0.5+1)","v":-1.4},{"$f":"IF($U193>1.5,1.5,IF($U193<0.5,0,$U193))","v":0},{"$f":"((($G184-$W$257)/($W$256-$W$257))*0.5+1)","v":0.25},{"$f":"IF($W193>1.5,1.5,IF($W193<0.5,0,$W193))","v":0},{"$f":"((($G184-$Y$257)/($Y$256-$Y$257))*0.5+1)","v":0.125},{"$f":"IF($Y193>1.5,1.5,IF($Y193<0.5,0,$Y193))","v":0},{"$f":"((($H184-$AA$257)/($AA$256-$AA$257))*0.5+1)","v":0},{"$f":"IF($AA193>1.5,1.5,IF($AA193<0.5,0,$AA193))","v":0},{"$f":"((($H184-$AC$257)/($AC$256-$AC$257))*0.5+1)","v":-0.5},{"$f":"IF($AC193>1.5,1.5,IF($AC193<0.5,0,$AC193))","v":0},{"$f":"((($L187-$AE$257)/($AE$256-$AE$257))*0.5+1)","v":0},{"$f":"IF($AE193>1.5,1.5,IF($AE193<0.5,0,$AE193))","v":0},{"$f":"((($L187-$AF$257)/($AF$256-$AF$257))*0.5+1)","v":-0.5},{"$f":"IF($AG193>1.5,1.5,IF($AG193<0.5,0,$AG193))","v":0},{"$f":"((($T213-$AG$257)/($AG$256-$AG$257))*0.5+1)","v":0.16666666666666663},{"$f":"IF($AI193>1.5,1.5,IF($AI193<0.5,0,$AI193))","v":0},{"$f":"((($V213-$AI$257)/($AI$256-$AI$257))*0.5+1)","v":0},{"$f":"IF($AK193>1.5,1.5,IF($AK193<0.5,0,$AK193))","v":0},null,{"$f":"IF(AND($C193=\"Programmleiter*in\",PRODUCT(P193,T193,X193,AB193,AF193,AJ193)>=1,$L$196>=$AO$256),1,0)","v":0},{"$f":"IF(AND($C193=\"Programmleiter*in\",PRODUCT(R193,V193,Z193,AD193,AH193,AL193)>=1,$L$196>=$AO$255),1,0)","v":0},null,{"$f":"IF(AND(OR(J184>=O$263,L184>=Q$263),K193>=S$263,G184+H184>=U$263,AS193>=W$263,L196>=Y$263,R213>=AA$263),1,0)","v":0},null,{"$f":"IF(I193=\"\",0,DATEDIF(G193,I193,\"m\")+1)","v":0}]
[{"$nulls":5},"von ",null,"bis ",null,null,null,"",null,null,{"$f":"((($L185-$O$257)/($O$256-$O$257))*0.5+1)","v":0.25},0,{"$f":"((($L185-$Q$257)/($Q$256-$Q$257))*0.5+1)","v":0},0,{"$f":"((($K194-$S$257)/($S$256-$S$257))*0.5+1)","v":-0.75},0,{"$f":"((($K194-$U$257)/($U$256-$U$257))*0.5+1)","v":-1.4},0,{"$f":"((($G184-$W$257)/($W$256-$W$257))*0.5+1)","v":0.25},0,{"$f":"((($G184-$Y$257)/($Y$256-$Y$257))*0.5+1)","v":0.125},0,{"$f":"((($H184-$AA$257)/($AA$256-$AA$257))*0.5+1)","v":0},0,{"$f":"((($H184-$AC$257)/($AC$256-$AC$257))*0.5+1)","v":-0.5},0,{"$f":"((($L187-$AE$257)/($AE$256-$AE$257))*0.5+1)","v":0},0,{"$f":"((($L187-$AF$257)/($AF$256-$AF$257))*0.5+1)","v":-0.5},{"$f":"IF($AG194>1.5,1.5,IF($AG194<0.5,0,$AG194))","v":0},{"$f":"((($T213-$AG$257)/($AG$256-$AG$257))*0.5+1)","v":0.16666666666666663},{"$f":"IF($AI194>1.5,1.5,IF($AI194<0.5,0,$AI194))","v":0},{"$f":"((($V213-$AI$257)/($AI$256-$AI$257))*0.5+1)","v":0},{"$f":"IF($AK194>1.5,1.5,IF($AK194<0.5,0,$AK194))","v":0},null,{"$f":"IF(AND($C194=\"Programmleiter*in\",PRODUCT(P194,T194,X194,AB194,AF194,AJ194)>=1,$L$196>=$AO$256),1,0)","v":0},{"$f":"IF(AND($C194=\"Programmleiter*in\",PRODUCT(R194,V194,Z194,AD194,AH194,AL194)>=1,$L$196>=$AO$255),1,0)","v":0},null,{"$f":"IF(AND(OR(J184>=O$263,L184>=Q$263),K194>=S$263,G184+H184>=U$263,AS194>=W$263,L196>=Y$263,R213>=AA$263),1,0)","v":0},null,0]
[]
[null,null,"Komplexitätsbeurteilung des Programms (s. Hinweise im Tabellenblatt 'Tips')",{"$nulls":8},{"$f":"SUM(L197:L206)","v":0}]
[null,null,"01 Ziele und Ergebnisbeurteilung"]
[null,null,"02 Prozesse, Methoden, Tools und Techniken des PP&PM"]
[null,null,"03 Ressourcen und Finanzierung"]
[null,null,"04 Chancen und Risiken"]
[null,null,"05 Stakeholder und Integration"]
[null,null,"06 Beziehungen zur Stammorganisation"]
[null,null,"07 Kultureller und sozialer Kontext"]
[null,null,"08 Führung, Teamarbeit und Entscheidungen"]
[null,null,"09 Innovationsgrad und Rahmenbedingungen"]
[null,null,"10 Koordinationsbedarf"]
[]
[null,null,"Projektliste"]
[null,null,"Geben Sie unter 'geplant' die bis zum Ende des Programms geplanten Umfänge und unter 'realisiert' die bis zur Einreichung des Zertifizierungsantrags geleisteten Umfänge an."]
[]
[null,"Nr","Name des Projekts","Projektscope","Projektart","strate-\ngisch","Dauer",null,"Personentage",null,"Investition in TCHF",{"$nulls":6},"Projektgrösse"]
[{"$nulls":6},"von","bis","geplant","realisiert","geplant","realisiert",{"$nulls":5},"≥ 1 PT",null,"≥ 250 PT",null,"≥ 700 PT"]
[null,null,"Aufwände im Programm ausserhalb der Projekte",{"$nulls":14},{"$f":"COUNTIF($P214:PJ243,\">=1\")","v":0},null,{"$f":"COUNTIF($P214:$P243,\">=250\")","v":0},null,{"$f":"COUNTIF($P214:$P243,\">=700\")","v":0}]
[null,1,{"$nulls":13},{"$f":"IF(I214>=J214,I214,J214)","v":0}]
[null,2,{"$nulls":13},{"$f":"IF(I215>=J215,I215,J215)","v":0}]
[null,3,{"$nulls":13},0]
[null,4,{"$nulls":13},0]
[null,5,{"$nulls":13},0]
[null,6,{"$nulls":13},0]
[null,7,{"$nulls":13},0]
[null,8,{"$nulls":13},0]
[null,9,{"$nulls":13},0]
[null,10,{"$nulls":13},0]
[null,11,{"$nulls":13},0]
[null,12,{"$nulls":13},0]
[null,13,{"$nulls":13},0]
[null,14,{"$nulls":13},0]
[null,15,{"$nulls":13},0]
[null,16,{"$nulls":13},0]
[null,17,{"$nulls":13},0]
[null,18,{"$nulls":13},0]
[null,19,{"$nulls":13},0]
[null,20,{"$nulls":13},0]
[null,21,{"$nulls":13},0]
[null,22,{"$nulls":13},0]
[null,23,{"$nulls":13},0]
[null,24,{"$nulls":13},0]
[null,25,{"$nulls":13},0]
[null,26,{"$nulls":13},0]
[null,27,{"$nulls":13},0]
[null,28,{"$nulls":13},0]
[null,29,{"$nulls":13},0]
[null,30,{"$nulls":13},0]
[{"$nulls":5},{"$f":"COUNTIF(F214:F243,\"ja\")","v":0},"Total ",null,{"$f":"SUM(I213:I243)","v":0},{"$f":"SUM(J213:J243)","v":0},0,0]
[]
[null,null,"Referenzperson (üblicherweise Auftraggeber oder Arbeitgeber)"]
[null,null,"Vorname Name"]
[null,null,"Rolle im Programm/Unternehmen"]
[null,null,"Telefon"]
[null,null,"E-Mail"]
[]
[{"$nulls":14},"Vorgaben für Berechnung der Levelkonformität"]
[]
[{"$nulls":14},"Jährl. Investitionsvolumen",null,null,null,"Programmleitung in Stunden",null,null,null,"Direkt geführte Personen",null,null,null,"Indirekt geführte Personen",null,null,null,"Projektarten",null,"Anzahl (komplexe) Projekte",null,null,null,"Einsatzdauer",null,null,"Komplexität"]
[{"$nulls":14},"B",null,"A",null,"B",null,"A",null,"B",null,"A",null,"B",null,"A",null,"B","A","B",null,"A",null,"A",24,null,"A",32]
[{"$nulls":14},5000,null,30000,null,900,null,2900,null,5,null,11,null,45,null,200,null,3,4,8,null,15,null,"B",18,null,"B",25]
[{"$nulls":14},3000,null,20000,null,700,null,2400,null,3,null,7,null,30,null,150,null,2,3,5,null,10]
[{"$nulls":14},1000,null,10000,null,500,null,1900,null,1,null,3,null,15,null,100,null,1,2,2,null,5]
[]
[{"$nulls":14},"Minimalanforderungen für Programmerfahrung"]
[]
[{"$nulls":14},"Summe PT",null,"Investition",null,"PgL",null,"Personen",null,"Dauer",null,"Komplexität",null,"# Projekte"]
[{"$nulls":14},200,null,250,null,200,null,5,null,3,null,10,null,2]

{"sheet":"PfM","index":8,"n_rows":263,"n_cols":45,"rows_kept":263,"cut":false,"hidden":false,"merged":[[262,20,262,21],[262,22,262,23],[262,24,262,25],[262,26,262,27],[44,17,44,22],[130,17,130,22],[210,17,210,22],[21,42,22,42],[107,39,107,40],[108,26,108,27],[108,28,108,29],[108,30,108,31],[108,32,108,33],[108,34,108,35],[108,36,108,37],[188,30,188,31],[188,32,188,33],[188,34,188,35],[188,36,188,37],[212,19,212,20],[212,21,212,22],[253,22,253,25],[253,26,253,29],[211,17,211,18],[21,44,22,44],[107,42,108,42],[107,44,108,44],[187,42,188,42],[187,44,188,44],[261,18,261,19],[261,20,261,21],[261,22,261,23],[261,24,261,25],[261,26,261,27],[21,30,21,33],[21,34,21,37],[21,39,21,40],[22,26,22,27],[22,28,22,29],[22,30,22,31],[22,32,22,33],[22,34,22,35],[22,36,22,37],[107,18,107,21],[107,22,107,25],[107,26,107,29],[107,30,107,33],[107,34,107,37],[3,2,3,11],[7,4,7,11],[8,4,8,11],[9,4,9,11],[10,4,10,11],[12,7,12,9],[21,18,21,21],[21,22,21,25],[21,26,21,29],[15,6,15,7],[15,8,15,9],[15,10,15,11],[20,8,20,10],[21,7,21,10],[21,14,21,17],[17,14,17,15],[17,16,17,17],[17,18,17,19],[18,14,18,15],[18,16,18,17],[18,18,18,19],[17,20,17,21],[18,20,18,21],[22,14,22,15],[22,16,22,17],[22,18,22,19],[22,20,22,21],[22,22,22,23],[22,24,22,25],[32,2,32,10],[33,2,33,10],[34,2,34,10],[29,2,29,5],[22,2,22,5],[35,2,35,10],[36,2,36,10],[37,2,37,10],[24,6,24,8],[25,2,25,3],[26,2,26,3],[27,2,27,3],[30,2,30,10],[31,2,31,10],[38,2,38,10],[39,2,39,10],[40,14,40,16],[44,1,45,1],[44,2,45,2],[44,3,45,3],[44,4,45,4],[44,5,45,5],[44,6,44,7],[44,8,44,9],[42,2,42,11],[46,2,46,4],[46,17,46,18],[46,19,46,20],[46,21,46,22],[47,15,47,16],[47,17,47,18],[44,10,44,11],[44,14,45,14],[45,17,45,18],[45,19,45,20],[45,21,45,22],[51,15,51,16],[51,17,51,18],[52,15,52,16],[52,17,52,18],[53,15,53,16],[53,17,53,18],[48,15,48,16],[48,17,48,18],[49,15,49,16],[49,17,49,18],[50,15,50,16],[50,17,50,18],[57,15,57,16],[57,17,57,18],[58,15,58,16],[58,17,58,18],[59,15,59,16],[59,17,59,18],[54,15,54,16],[54,17,54,18],[55,15,55,16],[55,17,55,18],[56,15,56,16],[56,17,56,18],[63,15,63,16],[63,17,63,18],[64,15,64,16],[64,17,64,18],[65,15,65,16],[65,17,65,18],[60,15,60,16],[60,17,60,18],[61,15,61,16],[61,17,61,18],[62,15,62,16],[62,17,62,18],[69,15,69,16],[69,17,69,18],[70,15,70,16],[70,17,70,18],[71,15,71,16],[71,17,71,18],[66,15,66,16],[66,17,66,18],[67,15,67,16],[67,17,67,18],[68,15,68,16],[68,17,68,18],[75,15,75,16],[75,17,75,18],[76,15,76,16],[76,17,76,18],[77,6,77,7],[77,15,77,16],[77,17,77,18],[72,15,72,16],[72,17,72,18],[73,15,73,16],[73,17,73,18],[74,15,74,16],[74,17,74,18],[88,4,88,11],[89,4,89,11],[93,4,93,11],[94,4,94,11],[95,4,95,11],[96,4,96,11],[79,2,79,10],[80,14,80,16],[80,17,80,19],[86,4,86,11],[87,4,87,11],[80,2,80,10],[81,2,81,10],[83,2,83,10],[98,7,98,9],[101,6,101,7],[101,8,101,9],[101,10,101,11],[107,7,107,10],[107,14,107,17],[103,14,103,15],[103,16,103,17],[103,18,103,19],[104,14,104,15],[104,16,104,17],[104,18,104,19],[108,14,108,15],[108,16,108,17],[108,18,108,19],[108,20,108,21],[108,22,108,23],[108,24,108,25],[118,2,118,10],[119,2,119,10],[120,2,120,10],[115,2,115,5],[108,2,108,5],[121,2,121,10],[122,2,122,10],[123,2,123,10],[110,6,110,8],[111,2,111,3],[112,2,112,3],[113,2,113,3],[116,2,116,10],[117,2,117,10],[124,2,124,10],[125,2,125,10],[126,14,126,16],[130,1,131,1],[130,2,131,2],[130,3,131,3],[130,4,131,4],[130,5,131,5],[130,6,130,7],[130,8,130,9],[128,2,128,11],[132,2,132,4],[132,17,132,18],[132,19,132,20],[132,21,132,22],[133,15,133,16],[133,17,133,18],[130,10,130,11],[130,14,131,14],[131,17,131,18],[131,19,131,20],[131,21,131,22],[137,15,137,16],[137,17,137,18],[138,15,138,16],[138,17,138,18],[139,15,139,16],[139,17,139,18],[134,15,134,16],[134,17,134,18],[135,15,135,16],[135,17,135,18],[136,15,136,16],[136,17,136,18],[143,15,143,16],[143,17,143,18],[144,15,144,16],[144,17,144,18],[145,15,145,16],[145,17,145,18],[140,15,140,16],[140,17,140,18],[141,15,141,16],[141,17,141,18],[142,15,142,16],[142,17,142,18],[154,15,154,16],[154,17,154,18],[149,15,149,16],[149,17,149,18],[150,15,150,16],[150,17,150,18],[151,15,151,16],[151,17,151,18],[146,15,146,16],[146,17,146,18],[147,15,147,16],[147,17,147,18],[148,15,148,16],[148,17,148,18],[163,6,163,7],[163,15,163,16],[163,17,163,18],[158,15,158,16],[158,17,158,18],[159,15,159,16],[159,17,159,18],[160,15,160,16],[160,17,160,18],[175,4,175,11],[176,4,176,11],[178,7,178,9],[181,6,181,7],[181,8,181,9],[181,10,181,11],[166,4,166,11],[167,4,167,11],[168,4,168,11],[169,4,169,11],[173,4,173,11],[174,4,174,11],[190,6,190,8],[191,2,191,3],[187,34,187,37],[187,39,187,40],[188,14,188,15],[188,16,188,17],[188,18,188,19],[188,20,188,21],[188,22,188,23],[188,24,188,25],[188,26,188,27],[188,28,188,29],[187,7,187,10],[187,14,187,17],[187,18,187,21],[187,22,187,25],[187,26,187,29],[187,30,187,33],[188,2,188,5],[200,2,200,10],[201,2,201,10],[202,2,202,10],[203,2,203,10],[204,2,204,10],[205,2,205,10],[192,2,192,3],[193,2,193,3],[196,2,196,10],[197,2,197,10],[198,2,198,10],[199,2,199,10],[195,2,195,5],[211,19,211,20],[211,21,211,22],[214,15,214,16],[214,17,214,18],[215,15,215,16],[215,17,215,18],[206,14,206,16],[210,1,211,1],[210,2,211,2],[210,3,211,3],[210,4,211,4],[210,5,211,5],[210,6,210,7],[210,8,210,9],[210,10,210,11],[210,14,211,14],[208,2,208,11],[216,15,216,16],[216,17,216,18],[212,2,212,4],[212,17,212,18],[220,15,220,16],[220,17,220,18],[221,15,221,16],[221,17,221,18],[222,15,222,16],[222,17,222,18],[217,15,217,16],[217,17,217,18],[218,15,218,16],[218,17,218,18],[219,15,219,16],[219,17,219,18],[213,15,213,16],[213,17,213,18],[226,15,226,16],[226,17,226,18],[227,15,227,16],[227,17,227,18],[228,15,228,16],[228,17,228,18],[223,15,223,16],[223,17,223,18],[224,15,224,16],[224,17,224,18],[225,15,225,16],[225,17,225,18],[232,15,232,16],[232,17,232,18],[233,15,233,16],[233,17,233,18],[234,15,234,16],[234,17,234,18],[229,15,229,16],[229,17,229,18],[230,15,230,16],[230,17,230,18],[231,15,231,16],[231,17,231,18],[243,6,243,7],[243,15,243,16],[243,17,243,18],[238,15,238,16],[238,17,238,18],[239,15,239,16],[239,17,239,18],[240,15,240,16],[240,17,240,18],[253,30,253,31],[253,32,253,35],[253,36,253,37],[253,39,253,40],[246,4,246,11],[247,4,247,11],[248,4,248,11],[249,4,249,11],[253,14,253,17],[253,18,253,21],[257,28,257,29],[257,32,257,33],[257,34,257,35],[254,26,254,27],[254,28,254,29],[254,32,254,33],[254,34,254,35],[255,14,255,15],[255,16,255,17],[255,18,255,19],[255,20,255,21],[255,22,255,23],[255,24,255,25],[254,14,254,15],[254,16,254,17],[254,18,254,19],[254,20,254,21],[254,22,254,23],[254,24,254,25],[255,26,255,27],[255,28,255,29],[255,32,255,33],[255,34,255,35],[235,15,235,16],[235,17,235,18],[236,15,236,16],[236,17,236,18],[237,15,237,16],[237,17,237,18],[257,26,257,27],[259,39,259,40],[256,26,256,27],[256,28,256,29],[256,32,256,33],[256,34,256,35],[257,14,257,15],[257,16,257,17],[257,18,257,19],[257,20,257,21],[257,22,257,23],[257,24,257,25],[256,14,256,15],[256,16,256,17],[256,18,256,19],[256,20,256,21],[256,22,256,23],[256,24,256,25],[263,14,263,15],[263,16,263,17],[261,14,261,15],[261,16,261,17],[262,14,262,15],[262,16,262,17],[241,15,241,16],[241,17,241,18],[242,15,242,16],[242,17,242,18],[262,18,262,19],[103,20,103,21],[104,20,104,21],[183,20,183,21],[184,20,184,21],[183,14,183,15],[183,16,183,17],[183,18,183,19],[184,14,184,15],[184,16,184,17],[184,18,184,19],[161,15,161,16],[161,17,161,18],[162,15,162,16],[162,17,162,18],[155,15,155,16],[155,17,155,18],[156,15,156,16],[156,17,156,18],[157,15,157,16],[157,17,157,18],[152,15,152,16],[152,17,152,18],[153,15,153,16],[153,17,153,18]]}
[]
[null,null,"Im Portfoliomanagement nachgewiesene Erfahrung"]
[]
[null,null,"Das Portfolio Nr. 1 wird in der Zertifizierung als Referenzportfolio eingesetzt und muss im Executive Summary Report beschrieben werden. Falls Sie 2 oder 3 Portfolios anführen, sind die Portfolios Nr. 2 und 3 ebenfalls im Executive Summary Report zu beschreiben.\n\nDie unten einzugebenden Informationen müssen sich auf den von Ihnen persönlich verantworteten Bereich beziehen. "]
[]
[]
[]
[null,null,"Portfolio Nr. 1",null,"Referenzportfolio"]
[null,null,"Name des Portfolios"]
[null,null,"Portfoliokunde (Unternehmen)"]
[null,null,"Portfolioscope"]
[]
[null,null,"Informationen zum Portfolio",{"$nulls":4},"Datum eingeben",null,null,null,"Monate"]
[null,null,"Effektive Portfoliodauer",null,null,null,"von ",null,"bis ",null,null,{"$f":"ROUND(((J14-H14)/30.4),0)","v":0}]
[]
[{"$nulls":6},"Anzahl geführte Personen",null,"Personentage",null,"Investition in TCHF"]
[{"$nulls":6},"direkt","indirekt","geplant","realisiert","geplant","realisiert"]
[null,null,"Portfolioumfang und Anzahl geführte Personen",{"$nulls":5},{"$f":"I78","v":0},{"$f":"J78","v":0},{"$f":"K78","v":0},{"$f":"L78","v":0},null,null,"Start",null,"Ende",null,"Monate",null,"Dauer?"]
[null,null,"Jährliches Investitionsvolumen (berechnet aus untenstehender Projektliste)",{"$nulls":7},{"$f":"IF(U19=0,0,(K18/S19)*12)","v":0},{"$f":"IF(U19=0,0,(L18/S19)*12)","v":0},null,null,{"$f":"MIN(G47:G77)","v":"00:00:00"},null,{"$f":"MAX(H47:H77)","v":"00:00:00"},null,{"$f":"DATEDIF(O19,Q19,\"m\")+1","v":1},null,{"$f":"COUNTA(G47:G77)","v":0}]
[]
[null,null,"Anzahl verschiedene Projektarten",{"$nulls":8},{"$f":"SUMPRODUCT((E48:E77<>\"\")/COUNTIF(E48:E77,E48:E77&\"\"))","v":0}]
[null,null,"Portfolio mit strategischer Bedeutung",{"$nulls":4},"Anzahl Projekte mit strategischer Bedeutung ",null,null,null,{"$f":"F78","v":0},null,null,"Jährl. Investitionsvolumen",null,null,null,"Portfolioleitung in Stunden",null,null,null,"Direkt geführte Personen",null,null,null,"Indirekt geführte Personen",null,null,null,"Projektarten",null,null,null,"Anzahl (komplexe) Projekte",{"$nulls":4},"Levelkonformität",null,null,"Minimal-\nanforderung",null,"Dauer\nin Rolle"]
[null,null,"Portfolio ist abgeschlossen (massgebend ist das Datum der Einreichung des Antrags)",{"$nulls":11},"B",null,"A",null,"B",null,"A",null,"B",null,"A",null,"B",null,"A",null,"B",null,"A",null,"B",null,"A",null,null,"B","A"]
[]
[null,null,"Ihre Rolle(n) im Portfolio",null,null,null,"Datum eingeben",null,null,null,"Stunden","Std/Monat"]
[{"$nulls":5},"von ",null,"bis ",null,null,null,{"$f":"IFERROR(ROUND(K26/((I26-G26)/30.4),0),\"\")","v":""},null,null,{"$f":"((($L19-$O$257)/($O$256-$O$257))*0.5+1)","v":0.25},{"$f":"IF($O26>1.5,1.5,IF($O26<0.5,0,$O26))","v":0},{"$f":"((($L19-$Q$257)/($Q$256-$Q$257))*0.5+1)","v":0},{"$f":"IF($Q26>1.5,1.5,IF($Q26<0.5,0,$Q26))","v":0},{"$f":"((($K26-$S$257)/($S$256-$S$257))*0.5+1)","v":-0.75},{"$f":"IF($S26>1.5,1.5,IF($S26<0.5,0,$S26))","v":0},{"$f":"((($K26-$U$257)/($U$256-$U$257))*0.5+1)","v":-1.4},{"$f":"IF($U26>1.5,1.5,IF($U26<0.5,0,$U26))","v":0},{"$f":"((($G18-$W$257)/($W$256-$W$257))*0.5+1)","v":0.25},{"$f":"IF($W26>1.5,1.5,IF($W26<0.5,0,$W26))","v":0},{"$f":"((($G18-$Y$257)/($Y$256-$Y$257))*0.5+1)","v":0.125},{"$f":"IF($Y26>1.5,1.5,IF($Y26<0.5,0,$Y26))","v":0},{"$f":"((($H18-$AA$257)/($AA$256-$AA$257))*0.5+1)","v":0},{"$f":"IF($AA26>1.5,1.5,IF($AA26<0.5,0,$AA26))","v":0},{"$f":"((($H18-$AC$257)/($AC$256-$AC$257))*0.5+1)","v":-0.5},{"$f":"IF($AC26>1.5,1.5,IF($AC26<0.5,0,$AC26))","v":0},{"$f":"((($L21-$AE$257)/($AE$256-$AE$257))*0.5+1)","v":0},{"$f":"IF($AE26>1.5,1.5,IF($AE26<0.5,0,$AE26))","v":0},{"$f":"((($L21-$AF$257)/($AF$256-$AF$257))*0.5+1)","v":-0.5},{"$f":"IF($AG26>1.5,1.5,IF($AG26<0.5,0,$AG26))","v":0},{"$f":"((($T47-$AG$257)/($AG$256-$AG$257))*0.5+1)","v":0.16666666666666663},{"$f":"IF($AI26>1.5,1.5,IF($AI26<0.5,0,$AI26))","v":0},{"$f":"((($V47-$AI$257)/($AI$256-$AI$257))*0.5+1)","v":0},{"$f":"IF($AK26>1.5,1.5,IF($AK26<0.5,0,$AK26))","v":0},null,{"$f":"IF(AND($C26=\"Portfoliomanager*in\",PRODUCT(P26,T26,X26,AB26,AF26,AJ26)>=1,$L$30>=$AO$256),1,0)","v":0},{"$f":"IF(AND($C26=\"Portfoliomanager*in\",PRODUCT(R26,V26,Z26,AD26,AH26,AL26)>=1,$L$30>=$AO$255),1,0)","v":0},null,{"$f":"IF(AND(OR(J18>=O$263,L18>=Q$263),K26>=S$263,G18+H18>=U$263,AS26>=W$263,L30>=Y$263,R47>=AA$263),1,0)","v":0},null,{"$f":"IF(I26=\"\",0,DATEDIF(G26,I26,\"m\")+1)","v":0}]
[{"$nulls":5},"von ",null,"bis ",null,null,null,{"$f":"IFERROR(ROUND(K27/((I27-G27)/30.4),0),\"\")","v":""},null,null,{"$f":"((($L19-$O$257)/($O$256-$O$257))*0.5+1)","v":0.25},{"$f":"IF($O27>1.5,1.5,IF($O27<0.5,0,$O27))","v":0},{"$f":"((($L19-$Q$257)/($Q$256-$Q$257))*0.5+1)","v":0},{"$f":"IF($Q27>1.5,1.5,IF($Q27<0.5,0,$Q27))","v":0},{"$f":"((($K27-$S$257)/($S$256-$S$257))*0.5+1)","v":-0.75},{"$f":"IF($S27>1.5,1.5,IF($S27<0.5,0,$S27))","v":0},{"$f":"((($K27-$U$257)/($U$256-$U$257))*0.5+1)","v":-1.4},{"$f":"IF($U27>1.5,1.5,IF($U27<0.5,0,$U27))","v":0},{"$f":"((($G18-$W$257)/($W$256-$W$257))*0.5+1)","v":0.25},{"$f":"IF($W27>1.5,1.5,IF($W27<0.5,0,$W27))","v":0},{"$f":"((($G18-$Y$257)/($Y$256-$Y$257))*0.5+1)","v":0.125},{"$f":"IF($Y27>1.5,1.5,IF($Y27<0.5,0,$Y27))","v":0},{"$f":"((($H18-$AA$257)/($AA$256-$AA$257))*0.5+1)","v":0},{"$f":"IF($AA27>1.5,1.5,IF($AA27<0.5,0,$AA27))","v":0},{"$f":"((($H18-$AC$257)/($AC$256-$AC$257))*0.5+1)","v":-0.5},{"$f":"IF($AC27>1.5,1.5,IF($AC27<0.5,0,$AC27))","v":0},{"$f":"((($L21-$AE$257)/($AE$256-$AE$257))*0.5+1)","v":0},{"$f":"IF($AE27>1.5,1.5,IF($AE27<0.5,0,$AE27))","v":0},{"$f":"((($L21-$AF$257)/($AF$256-$AF$257))*0.5+1)","v":-0.5},{"$f":"IF($AG27>1.5,1.5,IF($AG27<0.5,0,$AG27))","v":0},{"$f":"((($T47-$AG$257)/($AG$256-$AG$257))*0.5+1)","v":0.16666666666666663},{"$f":"IF($AI27>1.5,1.5,IF($AI27<0.5,0,$AI27))","v":0},{"$f":"((($V47-$AI$257)/($AI$256-$AI$257))*0.5+1)","v":0},{"$f":"IF($AK27>1.5,1.5,IF($AK27<0.5,0,$AK27))","v":0},null,{"$f":"IF(AND($C27=\"Portfoliomanager*in\",PRODUCT(P27,T27,X27,AB27,AF27,AJ27)>=1,$L$30>=$AO$256),1,0)","v":0},{"$f":"IF(AND($C27=\"Portfoliomanager*in\",PRODUCT(R27,V27,Z27,AD27,AH27,AL27)>=1,$L$30>=$AO$255),1,0)","v":0},null,{"$f":"IF(AND(OR(J18>=O$263,L18>=Q$263),K27>=S$263,G18+H18>=U$263,AS27>=W$263,L30>=Y$263,R47>=AA$263),1,0)","v":0},null,{"$f":"IF(I27=\"\",0,DATEDIF(G27,I27,\"m\")+1)","v":0}]
[{"$nulls":5},"von ",null,"bis ",null,null,null,"",null,null,{"$f":"((($L19-$O$257)/($O$256-$O$257))*0.5+1)","v":0.25},0,{"$f":"((($L19-$Q$257)/($Q$256-$Q$257))*0.5+1)","v":0},0,{"$f":"((($K28-$S$257)/($S$256-$S$257))*0.5+1)","v":-0.75},0,{"$f":"((($K28-$U$257)/($U$256-$U$257))*0.5+1)","v":-1.4},0,{"$f":"((($G18-$W$257)/($W$256-$W$257))*0.5+1)","v":0.25},0,{"$f":"((($G18-$Y$257)/($Y$256-$Y$257))*0.5+1)","v":0.125},0,{"$f":"((($H18-$AA$257)/($AA$256-$AA$257))*0.5+1)","v":0},0,{"$f":"((($H18-$AC$257)/($AC$256-$AC$257))*0.5+1)","v":-0.5},0,{"$f":"((($L21-$AE$257)/($AE$256-$AE$257))*0.5+1)","v":0},0,{"$f":"((($L21-$AF$257)/($AF$256-$AF$257))*0.5+1)","v":-0.5},{"$f":"IF($AG28>1.5,1.5,IF($AG28<0.5,0,$AG28))","v":0},{"$f":"((($T47-$AG$257)/($AG$256-$AG$257))*0.5+1)","v":0.16666666666666663},{"$f":"IF($AI28>1.5,1.5,IF($AI28<0.5,0,$AI28))","v":0},{"$f":"((($V47-$AI$257)/($AI$256-$AI$257))*0.5+1)","v":0},{"$f":"IF($AK28>1.5,1.5,IF($AK28<0.5,0,$AK28))","v":0},null,{"$f":"IF(AND($C28=\"Portfoliomanager*in\",PRODUCT(P28,T28,X28,AB28,AF28,AJ28)>=1,$L$30>=$AO$256),1,0)","v":0},{"$f":"IF(AND($C28=\"Portfoliomanager*in\",PRODUCT(R28,V28,Z28,AD28,AH28,AL28)>=1,$L$30>=$AO$255),1,0)","v":0},null,{"$f":"IF(AND(OR(J18>=O$263,L18>=Q$263),K28>=S$263,G18+H18>=U$263,AS28>=W$263,L30>=Y$263,R47>=AA$263),1,0)","v":0},null,0]
[]
[null,null,"Komplexitätsbeurteilung des Portfolios (s. Hinweise im Tabellenblatt 'Tips')",{"$nulls":8},{"$f":"SUM(L31:L40)","v":0}]
[null,null,"01 Ziele und Ergebnisbeurteilung"]
[null,null,"02 Prozesse, Methoden, Tools und Techniken des PP&PM"]
[null,null,"03 Ressourcen und Finanzierung"]
[null,null,"04 Chancen und Risiken"]
[null,null,"05 Stakeholder und Integration"]
[null,null,"06 Beziehungen zur Stammorganisation"]
[null,null,"07 Kultureller und sozialer Kontext"]
[null,null,"08 Führung, Teamarbeit und Entscheidungen"]
[null,null,"09 Innovationsgrad und Rahmenbedingungen"]
[null,null,"10 Koordinationsbedarf"]
[]
[null,null,"Projektliste"]
[null,null,"Geben Sie unter 'geplant' die bis zum Ende des Portfolios geplanten Umfänge und unter 'realisiert' die bis zur Einreichung des Zertifizierungsantrags geleisteten Umfänge an."]
[]
[null,"Nr","Name des Projekts","Projektscope","Projektart","strate-\ngisch","Dauer",null,"Personentage",null,"Investition in TCHF",{"$nulls":6},"Projektgrösse"]
[{"$nulls":6},"von","bis","geplant","realisiert","geplant","realisiert",{"$nulls":5},"≥ 1 PT",null,"≥ 250 PT",null,"≥ 700 PT"]
[null,null,"Aufwände im Portfolioausserhalb der Projekte",{"$nulls":14},{"$f":"COUNTIF($P48:PJ77,\">=1\")","v":0},null,{"$f":"COUNTIF($P48:$P77,\">=250\")","v":0},null,{"$f":"COUNTIF($P48:$P77,\">=700\")","v":0}]
[null,1,{"$nulls":13},{"$f":"IF(I48>=J48,I48,J48)","v":0}]
[null,2,{"$nulls":13},{"$f":"IF(I49>=J49,I49,J49)","v":0}]
[null,3,{"$nulls":13},0]
[null,4,{"$nulls":13},0]
[null,5,{"$nulls":13},0]
[null,6,{"$nulls":13},0]
[null,7,{"$nulls":13},0]
[null,8,{"$nulls":13},0]
[null,9,{"$nulls":13},0]
[null,10,{"$nulls":13},0]
[null,11,{"$nulls":13},0]
[null,12,{"$nulls":13},0]
[null,13,{"$nulls":13},0]
[null,14,{"$nulls":13},0]
[null,15,{"$nulls":13},0]
[null,16,{"$nulls":13},0]
[null,17,{"$nulls":13},0]
[null,18,{"$nulls":13},0]
[null,19,{"$nulls":13},0]
[null,20,{"$nulls":13},0]
[null,21,{"$nulls":13},0]
[null,22,{"$nulls":13},0]
[null,23,{"$nulls":13},0]
[null,24,{"$nulls":13},0]
[null,25,{"$nulls":13},0]
[null,26,{"$nulls":13},0]
[null,27,{"$nulls":13},0]
[null,28,{"$nulls":13},0]
[null,29,{"$nulls":13},0]
[null,30,{"$nulls":13},0]
[{"$nulls":5},{"$f":"COUNTIF(F48:F77,\"ja\")","v":0},"Total ",null,{"$f":"SUM(I47:I77)","v":0},{"$f":"SUM(J47:J77)","v":0},0,0]
[null,null,"Erfüllung der Kriterien als Referenzportfolio",{"$nulls":11},"B","A"]
[null,null,"Entspricht das Portfolio den Anforderungen an den Level?",{"$nulls":8},{"$f":"IF(OR(Pers!D12=\"C\",Pers!D12=\"\"),\"\",IF(Pers!D12=\"A\",P80,IF(Pers!D12=\"B\",O80)))","v":""},null,null,{"$f":"IF(OR(AN$26=1,AN$27=1,AN$28=1),\"ja\",\"nein\")","v":"nein"},{"$f":"IF(OR(AO$26=1,AO$27=1,AO$28=1),\"ja\",\"nein\")","v":"nein"}]
[null,null,"Liegt der letzte Einsatzmonat nicht mehr als 4 Jahre zurück?",{"$nulls":8},{"$f":"IF(O81>=R81,\"ja\",\"nein\")","v":"nein"},null,null,{"$f":"IF(I26>=I27,I26,IF(I27>=I28,I27,I28))","v":"00:00:00"},null,null,{"$f":"DATE(YEAR(Pers!D18)-4,MONTH(Pers!D18),DAY(Pers!D18))","v":"3795-12-31"}]
[null,null,"Entspricht die minimale Einsatzdauer im Portfolio den Anforderungen an den Level?",{"$nulls":8},{"$f":"IF(AND(Pers!D12=\"A\",P82>=AL255),\"ja\",IF(AND(Pers!D12=\"B\",O82>=AL256),\"ja\",\"nein\"))","v":"nein"},null,null,{"$f":"COUNTIF(Exp!$BK$11:$BK$154,\">=50\")","v":0},{"$f":"COUNTIF(Exp!$BK$11:$BK$154,\">=75\")","v":0},"Monate"]
[]
[null,null,"Kann das Portfolio als Referenzportfolio eingereicht werden?",{"$nulls":8},{"$f":"IF(AND(L80=\"ja\",L81=\"ja\",L82=\"ja\"),\"ja\",\"nein\")","v":"nein"}]
[]
[null,null,"Referenzperson (üblicherweise Auftraggeber oder Arbeitgeber)"]
[null,null,"Vorname Name"]
[null,null,"Rolle im Portfolio/Unternehmen"]
[null,null,"Telefon"]
[null,null,"E-Mail"]
[]
[]
[]
[null,null,"Portfolio Nr. 2"]
[null,null,"Name des Portfolios"]
[null,null,"Portfoliokunde (Unternehmen)"]
[null,null,"Portfolioscope"]
[]
[null,null,"Informationen zum Portfolio",{"$nulls":4},"Datum eingeben",null,null,null,"Monate"]
[null,null,"Effektive Portfoliodauer",null,null,null,"von ",null,"bis ",null,null,{"$f":"ROUND(((J100-H100)/30.4),0)","v":0}]
[]
[{"$nulls":6},"Anzahl geführte Personen",null,"Personentage",null,"Investition in TCHF"]
[{"$nulls":6},"direkt","indirekt","geplant","realisiert","geplant","realisiert"]
[null,null,"Portfolioumfang und Anzahl geführte Personen",{"$nulls":5},{"$f":"I164","v":0},{"$f":"J164","v":0},{"$f":"K164","v":0},{"$f":"L164","v":0},null,null,"Start",null,"Ende",null,"Monate",null,"Dauer?"]
[null,null,"Jährliches Investitionsvolumen (berechnet aus untenstehender Projektliste)",{"$nulls":7},{"$f":"IF(U105=0,0,(K104/S105)*12)","v":0},{"$f":"IF(U105=0,0,(L104/S105)*12)","v":0},null,null,{"$f":"MIN(G133:G163)","v":"00:00:00"},null,{"$f":"MAX(H133:H163)","v":"00:00:00"},null,{"$f":"DATEDIF(O105,Q105,\"m\")+1","v":1},null,{"$f":"COUNTA(G133:G163)","v":0}]
[]
[null,null,"Anzahl verschiedene Projektarten",{"$nulls":8},{"$f":"SUMPRODUCT((E134:E163<>\"\")/COUNTIF(E134:E163,E134:E163&\"\"))","v":0}]
[null,null,"Portfolio mit strategischer Bedeutung",{"$nulls":4},"Anzahl Projekte mit strategischer Bedeutung ",null,null,null,{"$f":"F164","v":0},null,null,"Jährl. Investitionsvolumen",null,null,null,"Portfolioleitung in Stunden",null,null,null,"Direkt geführte Personen",null,null,null,"Indirekt geführte Personen",null,null,null,"Projektarten",null,null,null,"Anzahl (komplexe) Projekte",{"$nulls":4},"Levelkonformität",null,null,"Minimal-\nanforderung",null,"Dauer\nin Rolle"]
[null,null,"Portfolio ist abgeschlossen (massgebend ist das Datum der Einreichung des Antrags)",{"$nulls":11},"B",null,"A",null,"B",null,"A",null,"B",null,"A",null,"B",null,"A",null,"B",null,"A",null,"B",null,"A",null,null,"B","A"]
[]
[null,null,"Ihre Rolle(n) im Portfolio",null,null,null,"Datum eingeben",null,null,null,"Stunden","Std/Monat"]
[{"$nulls":5},"von ",null,"bis ",null,null,null,{"$f":"IFERROR(ROUND(K112/((I112-G112)/30.4),0),\"\")","v":""},null,null,{"$f":"((($L105-$O$257)/($O$256-$O$257))*0.5+1)","v":0.25},{"$f":"IF($O112>1.5,1.5,IF($O112<0.5,0,$O112))","v":0},{"$f":"((($L105-$Q$257)/($Q$256-$Q$257))*0.5+1)","v":0},{"$f":"IF($Q112>1.5,1.5,IF($Q112<0.5,0,$Q112))","v":0},{"$f":"((($K112-$S$257)/($S$256-$S$257))*0.5+1)","v":-0.75},{"$f":"IF($S112>1.5,1.5,IF($S112<0.5,0,$S112))","v":0},{"$f":"((($K112-$U$257)/($U$256-$U$257))*0.5+1)","v":-1.4},{"$f":"IF($U112>1.5,1.5,IF($U112<0.5,0,$U112))","v":0},{"$f":"((($G104-$W$257)/($W$256-$W$257))*0.5+1)","v":0.25},{"$f":"IF($W112>1.5,1.5,IF($W112<0.5,0,$W112))","v":0},{"$f":"((($G104-$Y$257)/($Y$256-$Y$257))*0.5+1)","v":0.125},{"$f":"IF($Y112>1.5,1.5,IF($Y112<0.5,0,$Y112))","v":0},{"$f":"((($H104-$AA$257)/($AA$256-$AA$257))*0.5+1)","v":0},{"$f":"IF($AA112>1.5,1.5,IF($AA112<0.5,0,$AA112))","v":0},{"$f":"((($H104-$AC$257)/($AC$256-$AC$257))*0.5+1)","v":-0.5},{"$f":"IF($AC112>1.5,1.5,IF($AC112<0.5,0,$AC112))","v":0},{"$f":"((($L107-$AE$257)/($AE$256-$AE$257))*0.5+1)","v":0},{"$f":"IF($AE112>1.5,1.5,IF($AE112<0.5,0,$AE112))","v":0},{"$f":"((($L107-$AF$257)/($AF$256-$AF$257))*0.5+1)","v":-0.5},{"$f":"IF($AG112>1.5,1.5,IF($AG112<0.5,0,$AG112))","v":0},{"$f":"((($T133-$AG$257)/($AG$256-$AG$257))*0.5+1)","v":0.16666666666666663},{"$f":"IF($AI112>1.5,1.5,IF($AI112<0.5,0,$AI112))","v":0},{"$f":"((($V133-$AI$257)/($AI$256-$AI$257))*0.5+1)","v":0},{"$f":"IF($AK112>1.5,1.5,IF($AK112<0.5,0,$AK112))","v":0},null,{"$f":"IF(AND($C112=\"Portfoliomanager*in\",PRODUCT(P112,T112,X112,AB112,AF112,AJ112)>=1,$L$116>=$AO$256),1,0)","v":0},{"$f":"IF(AND($C112=\"Portfoliomanager*in\",PRODUCT(R112,V112,Z112,AD112,AH112,AL112)>=1,$L$116>=$AO$255),1,0)","v":0},null,{"$f":"IF(AND(OR(J104>=O$263,L104>=Q$263),K112>=S$263,G104+H104>=U$263,AS112>=W$263,L116>=Y$263,R133>=AA$263),1,0)","v":0},null,{"$f":"IF(I112=\"\",0,DATEDIF(G112,I112,\"m\")+1)","v":0}]
[{"$nulls":5},"von ",null,"bis ",null,null,null,{"$f":"IFERROR(ROUND(K113/((I113-G113)/30.4),0),\"\")","v":""},null,null,{"$f":"((($L105-$O$257)/($O$256-$O$257))*0.5+1)","v":0.25},{"$f":"IF($O113>1.5,1.5,IF($O113<0.5,0,$O113))","v":0},{"$f":"((($L105-$Q$257)/($Q$256-$Q$257))*0.5+1)","v":0},{"$f":"IF($Q113>1.5,1.5,IF($Q113<0.5,0,$Q113))","v":0},{"$f":"((($K113-$S$257)/($S$256-$S$257))*0.5+1)","v":-0.75},{"$f":"IF($S113>1.5,1.5,IF($S113<0.5,0,$S113))","v":0},{"$f":"((($K113-$U$257)/($U$256-$U$257))*0.5+1)","v":-1.4},{"$f":"IF($U113>1.5,1.5,IF($U113<0.5,0,$U113))","v":0},{"$f":"((($G104-$W$257)/($W$256-$W$257))*0.5+1)","v":0.25},{"$f":"IF($W113>1.5,1.5,IF($W113<0.5,0,$W113))","v":0},{"$f":"((($G104-$Y$257)/($Y$256-$Y$257))*0.5+1)","v":0.125},{"$f":"IF($Y113>1.5,1.5,IF($Y113<0.5,0,$Y113))","v":0},{"$f":"((($H104-$AA$257)/($AA$256-$AA$257))*0.5+1)","v":0},{"$f":"IF($AA113>1.5,1.5,IF($AA113<0.5,0,$AA113))","v":0},{"$f":"((($H104-$AC$257)/($AC$256-$AC$257))*0.5+1)","v":-0.5},{"$f":"IF($AC113>1.5,1.5,IF($AC113<0.5,0,$AC113))","v":0},{"$f":"((($L107-$AE$257)/($AE$256-$AE$257))*0.5+1)","v":0},{"$f":"IF($AE113>1.5,1.5,IF($AE113<0.5,0,$AE113))","v":0},{"$f":"((($L107-$AF$257)/($AF$256-$AF$257))*0.5+1)","v":-0.5},{"$f":"IF($AG113>1.5,1.5,IF($AG113<0.5,0,$AG113))","v":0},{"$f":"((($T133-$AG$257)/($AG$256-$AG$257))*0.5+1)","v":0.16666666666666663},{"$f":"IF($AI113>1.5,1.5,IF($AI113<0.5,0,$AI113))","v":0},{"$f":"((($V133-$AI$257)/($AI$256-$AI$257))*0.5+1)","v":0},{"$f":"IF($AK113>1.5,1.5,IF($AK113<0.5,0,$AK113))","v":0},null,{"$f":"IF(AND($C113=\"Portfoliomanager*in\",PRODUCT(P113,T113,X113,AB113,AF113,AJ113)>=1,$L$116>=$AO$256),1,0)","v":0},{"$f":"IF(AND($C113=\"Portfoliomanager*in\",PRODUCT(R113,V113,Z113,AD113,AH113,AL113)>=1,$L$116>=$AO$255),1,0)","v":0},null,{"$f":"IF(AND(OR(J104>=O$263,L104>=Q$263),K113>=S$263,G104+H104>=U$263,AS113>=W$263,L116>=Y$263,R133>=AA$263),1,0)","v":0},null,{"$f":"IF(I113=\"\",0,DATEDIF(G113,I113,\"m\")+1)","v":0}]
[{"$nulls":5},"von ",null,"bis ",null,null,null,"",null,null,{"$f":"((($L105-$O$257)/($O$256-$O$257))*0.5+1)","v":0.25},0,{"$f":"((($L105-$Q$257)/($Q$256-$Q$257))*0.5+1)","v":0},0,{"$f":"((($K114-$S$257)/($S$256-$S$257))*0.5+1)","v":-0.75},0,{"$f":"((($K114-$U$257)/($U$256-$U$257))*0.5+1)","v":-1.4},0,{"$f":"((($G104-$W$257)/($W$256-$W$257))*0.5+1)","v":0.25},0,{"$f":"((($G104-$Y$257)/($Y$256-$Y$257))*0.5+1)","v":0.125},0,{"$f":"((($H104-$AA$257)/($AA$256-$AA$257))*0.5+1)","v":0},0,{"$f":"((($H104-$AC$257)/($AC$256-$AC$257))*0.5+1)","v":-0.5},0,{"$f":"((($L107-$AE$257)/($AE$256-$AE$257))*0.5+1)","v":0},0,{"$f":"((($L107-$AF$257)/($AF$256-$AF$257))*0.5+1)","v":-0.5},{"$f":"IF($AG114>1.5,1.5,IF($AG114<0.5,0,$AG114))","v":0},{"$f":"((($T133-$AG$257)/($AG$256-$AG$257))*0.5+1)","v":0.16666666666666663},{"$f":"IF($AI114>1.5,1.5,IF($AI114<0.5,0,$AI114))","v":0},{"$f":"((($V133-$AI$257)/($AI$256-$AI$257))*0.5+1)","v":0},{"$f":"IF($AK114>1.5,1.5,IF($AK114<0.5,0,$AK114))","v":0},null,{"$f":"IF(AND($C114=\"Portfoliomanager*in\",PRODUCT(P114,T114,X114,AB114,AF114,AJ114)>=1,$L$116>=$AO$256),1,0)","v":0},{"$f":"IF(AND($C114=\"Portfoliomanager*in\",PRODUCT(R114,V114,Z114,AD114,AH114,AL114)>=1,$L$116>=$AO$255),1,0)","v":0},null,{"$f":"IF(AND(OR(J104>=O$263,L104>=Q$263),K114>=S$263,G104+H104>=U$263,AS114>=W$263,L116>=Y$263,R133>=AA$263),1,0)","v":0},null,0]
[]
[null,null,"Komplexitätsbeurteilung des Portfolios (s. Hinweise im Tabellenblatt 'Tips')",{"$nulls":8},{"$f":"SUM(L117:L126)","v":0}]
[null,null,"01 Ziele und Ergebnisbeurteilung"]
[null,null,"02 Prozesse, Methoden, Tools und Techniken des PP&PM"]
[null,null,"03 Ressourcen und Finanzierung"]
[null,null,"04 Chancen und Risiken"]
[null,null,"05 Stakeholder und Integration"]
[null,null,"06 Beziehungen zur Stammorganisation"]
[null,null,"07 Kultureller und sozialer Kontext"]
[null,null,"08 Führung, Teamarbeit und Entscheidungen"]
[null,null,"09 Innovationsgrad und Rahmenbedingungen"]
[null,null,"10 Koordinationsbedarf"]
[]
[null,null,"Projektliste"]
[null,null,"Geben Sie unter 'geplant' die bis zum Ende des Portfolios geplanten Umfänge und unter 'realisiert' die bis zur Einreichung des Zertifizierungsantrags geleisteten Umfänge an."]
[]
[null,"Nr","Name des Projekts","Projektscope","Projektart","strate-\ngisch","Dauer",null,"Personentage",null,"Investition in TCHF",{"$nulls":6},"Projektgrösse"]
[{"$nulls":6},"von","bis","geplant","realisiert","geplant","realisiert",{"$nulls":5},"≥ 1 PT",null,"≥ 250 PT",null,"≥ 700 PT"]
[null,null,"Aufwände im Portfolioausserhalb der Projekte",{"$nulls":14},{"$f":"COUNTIF($P134:PJ163,\">=1\")","v":0},null,{"$f":"COUNTIF($P134:$P163,\">=250\")","v":0},null,{"$f":"COUNTIF($P134:$P163,\">=700\")","v":0}]
[null,1,{"$nulls":13},{"$f":"IF(I134>=J134,I134,J134)","v":0}]
[null,2,{"$nulls":13},{"$f":"IF(I135>=J135,I135,J135)","v":0}]
[null,3,{"$nulls":13},0]
[null,4,{"$nulls":13},0]
[null,5,{"$nulls":13},0]
[null,6,{"$nulls":13},0]
[null,7,{"$nulls":13},0]
[null,8,{"$nulls":13},0]
[null,9,{"$nulls":13},0]
[null,10,{"$nulls":13},0]
[null,11,{"$nulls":13},0]
[null,12,{"$nulls":13},0]
[null,13,{"$nulls":13},0]
[null,14,{"$nulls":13},0]
[null,15,{"$nulls":13},0]
[null,16,{"$nulls":13},0]
[null,17,{"$nulls":13},0]
[null,18,{"$nulls":13},0]
[null,19,{"$nulls":13},0]
[null,20,{"$nulls":13},0]
[null,21,{"$nulls":13},0]
[null,22,{"$nulls":13},0]
[null,23,{"$nulls":13},0]
[null,24,{"$nulls":13},0]
[null,25,{"$nulls":13},0]
[null,26,{"$nulls":13},0]
[null,27,{"$nulls":13},0]
[null,28,{"$nulls":13},0]
[null,29,{"$nulls":13},0]
[null,30,{"$nulls":13},0]
[{"$nulls":5},{"$f":"COUNTIF(F134:F163,\"ja\")","v":0},"Total ",null,{"$f":"SUM(I133:I163)","v":0},{"$f":"SUM(J133:J163)","v":0},{"$f":"SUM(K133:K163)","v":0},{"$f":"SUM(L133:L163)","v":0}]
[]
[null,null,"Referenzperson (üblicherweise Auftraggeber oder Arbeitgeber)"]
[null,null,"Vorname Name"]
[null,null,"Rolle im Portfolio/Unternehmen"]
[null,null,"Telefon"]
[null,null,"E-Mail"]
[]
[]
[]
[null,null,"Portfolio Nr. 3"]
[null,null,"Name des Portfolios"]
[null,null,"Portfoliokunde (Unternehmen)"]
[null,null,"Portfolioscope"]
[]
[null,null,"Informationen zum Portfolio",{"$nulls":4},"Datum eingeben",null,null,null,"Monate"]
[null,null,"Effektive Portfoliodauer",null,null,null,"von ",null,"bis ",null,null,{"$f":"ROUND(((J180-H180)/30.4),0)","v":0}]
[]
[{"$nulls":6},"Anzahl geführte Personen",null,"Personentage",null,"Investition in TCHF"]
[{"$nulls":6},"direkt","indirekt","geplant","realisiert","geplant","realisiert"]
[null,null,"Portfolioumfang und Anzahl geführte Personen",{"$nulls":5},{"$f":"I244","v":0},{"$f":"J244","v":0},{"$f":"K244","v":0},{"$f":"L244","v":0},null,null,"Start",null,"Ende",null,"Monate",null,"Dauer?"]
[null,null,"Jährliches Investitionsvolumen (berechnet aus untenstehender Projektliste)",{"$nulls":7},{"$f":"IF(U185=0,0,(K184/S185)*12)","v":0},{"$f":"IF(U185=0,0,(L184/S185)*12)","v":0},null,null,{"$f":"MIN(G213:G243)","v":"00:00:00"},null,{"$f":"MAX(H213:H243)","v":"00:00:00"},null,{"$f":"DATEDIF(O185,Q185,\"m\")+1","v":1},null,{"$f":"COUNTA(G213:G243)","v":0}]
[]
[null,null,"Anzahl verschiedene Projektarten",{"$nulls":8},{"$f":"SUMPRODUCT((E214:E243<>\"\")/COUNTIF(E214:E243,E214:E243&\"\"))","v":0}]
[null,null,"Portfolio mit strategischer Bedeutung",{"$nulls":4},"Anzahl Projekte mit strategischer Bedeutung ",null,null,null,{"$f":"F244","v":0},null,null,"Jährl. Investitionsvolumen",null,null,null,"Portfolioleitung in Stunden",null,null,null,"Direkt geführte Personen",null,null,null,"Indirekt geführte Personen",null,null,null,"Projektarten",null,null,null,"Anzahl (komplexe) Projekte",{"$nulls":4},"Levelkonformität",null,null,"Minimal-\nanforderung",null,"Dauer\nin Rolle"]
[null,null,"Portfolio ist abgeschlossen (massgebend ist das Datum der Einreichung des Antrags)",{"$nulls":11},"B",null,"A",null,"B",null,"A",null,"B",null,"A",null,"B",null,"A",null,"B",null,"A",null,"B",null,"A",null,null,"B","A"]
[]
[null,null,"Ihre Rolle(n) im Portfolio",null,null,null,"Datum eingeben",null,null,null,"Stunden","Std/Monat"]
[{"$nulls":5},"von ",null,"bis ",null,null,null,{"$f":"IFERROR(ROUND(K192/((I192-G192)/30.4),0),\"\")","v":""},null,null,{"$f":"((($L185-$O$257)/($O$256-$O$257))*0.5+1)","v":0.25},{"$f":"IF($O192>1.5,1.5,IF($O192<0.5,0,$O192))","v":0},{"$f":"((($L185-$Q$257)/($Q$256-$Q$257))*0.5+1)","v":0},{"$f":"IF($Q192>1.5,1.5,IF($Q192<0.5,0,$Q192))","v":0},{"$f":"((($K192-$S$257)/($S$256-$S$257))*0.5+1)","v":-0.75},{"$f":"IF($S192>1.5,1.5,IF($S192<0.5,0,$S192))","v":0},{"$f":"((($K192-$U$257)/($U$256-$U$257))*0.5+1)","v":-1.4},{"$f":"IF($U192>1.5,1.5,IF($U192<0.5,0,$U192))","v":0},{"$f":"((($G184-$W$257)/($W$256-$W$257))*0.5+1)","v":0.25},{"$f":"IF($W192>1.5,1.5,IF($W192<0.5,0,$W192))","v":0},{"$f":"((($G184-$Y$257)/($Y$256-$Y$257))*0.5+1)","v":0.125},{"$f":"IF($Y192>1.5,1.5,IF($Y192<0.5,0,$Y192))","v":0},{"$f":"((($H184-$AA$257)/($AA$256-$AA$257))*0.5+1)","v":0},{"$f":"IF($AA192>1.5,1.5,IF($AA192<0.5,0,$AA192))","v":0},{"$f":"((($H184-$AC$257)/($AC$256-$AC$257))*0.5+1)","v":-0.5},{"$f":"IF($AC192>1.5,1.5,IF($AC192<0.5,0,$AC192))","v":0},{"$f":"((($L187-$AE$257)/($AE$256-$AE$257))*0.5+1)","v":0},{"$f":"IF($AE192>1.5,1.5,IF($AE192<0.5,0,$AE192))","v":0},{"$f":"((($L187-$AF$257)/($AF$256-$AF$257))*0.5+1)","v":-0.5},{"$f":"IF($AG192>1.5,1.5,IF($AG192<0.5,0,$AG192))","v":0},{"$f":"((($T213-$AG$257)/($AG$256-$AG$257))*0.5+1)","v":0.16666666666666663},{"$f":"IF($AI192>1.5,1.5,IF($AI192<0.5,0,$AI192))","v":0},{"$f":"((($V213-$AI$257)/($AI$256-$AI$257))*0.5+1)","v":0},{"$f":"IF($AK192>1.5,1.5,IF($AK192<0.5,0,$AK192))","v":0},null,{"$f":"IF(AND($C192=\"Portfoliomanager*in\",PRODUCT(P192,T192,X192,AB192,AF192,AJ192)>=1,$L$196>=$AO$256),1,0)","v":0},{"$f":"IF(AND($C192=\"Portfoliomanager*in\",PRODUCT(R192,V192,Z192,AD192,AH192,AL192)>=1,$L$196>=$AO$255),1,0)","v":0},null,{"$f":"IF(AND(OR(J184>=O$263,L184>=Q$263),K192>=S$263,G184+H184>=U$263,AS192>=W$263,L196>=Y$263,R213>=AA$263),1,0)","v":0},null,{"$f":"IF(I192=\"\",0,DATEDIF(G192,I192,\"m\")+1)","v":0}]
[{"$nulls":5},"von ",null,"bis ",null,null,null,{"$f":"IFERROR(ROUND(K193/((I193-G193)/30.4),0),\"\")","v":""},null,null,{"$f":"((($L185-$O$257)/($O$256-$O$257))*0.5+1)","v":0.25},{"$f":"IF($O193>1.5,1.5,IF($O193<0.5,0,$O193))","v":0},{"$f":"((($L185-$Q$257)/($Q$256-$Q$257))*0.5+1)","v":0},{"$f":"IF($Q193>1.5,1.5,IF($Q193<0.5,0,$Q193))","v":0},{"$f":"((($K193-$S$257)/($S$256-$S$257))*0.5+1)","v":-0.75},{"$f":"IF($S193>1.5,1.5,IF($S193<0.5,0,$S193))","v":0},{"$f":"((($K193-$U$257)/($U$256-$U$257))*0.5+1)","v":-1.4},{"$f":"IF($U193>1.5,1.5,IF($U193<0.5,0,$U193))","v":0},{"$f":"((($G184-$W$257)/($W$256-$W$257))*0.5+1)","v":0.25},{"$f":"IF($W193>1.5,1.5,IF($W193<0.5,0,$W193))","v":0},{"$f":"((($G184-$Y$257)/($Y$256-$Y$257))*0.5+1)","v":0.125},{"$f":"IF($Y193>1.5,1.5,IF($Y193<0.5,0,$Y193))","v":0},{"$f":"((($H184-$AA$257)/($AA$256-$AA$257))*0.5+1)","v":0},{"$f":"IF($AA193>1.5,1.5,IF($AA193<0.5,0,$AA193))","v":0},{"$f":"((($H184-$AC$257)/($AC$256-$AC$257))*0.5+1)","v":-0.5},{"$f":"IF($AC193>1.5,1.5,IF($AC193<0.5,0,$AC193))","v":0},{"$f":"((($L187-$AE$257)/($AE$256-$AE$257))*0.5+1)","v":0},{"$f":"IF($AE193>1.5,1.5,IF($AE193<0.5,0,$AE193))","v":0},{"$f":"((($L187-$AF$257)/($AF$256-$AF$257))*0.5+1)","v":-0.5},{"$f":"IF($AG193>1.5,1.5,IF($AG193<0.5,0,$AG193))","v":0},{"$f":"((($T213-$AG$257)/($AG$256-$AG$257))*0.5+1)","v":0.16666666666666663},{"$f":"IF($AI193>1.5,1.5,IF($AI193<0.5,0,$AI193))","v":0},{"$f":"((($V213-$AI$257)/($AI$256-$AI$257))*0.5+1)","v":0},{"$f":"IF($AK193>1.5,1.5,IF($AK193<0.5,0,$AK193))","v":0},null,{"$f":"IF(AND($C193=\"Portfoliomanager*in\",PRODUCT(P193,T193,X193,AB193,AF193,AJ193)>=1,$L$196>=$AO$256),1,0)","v":0},{"$f":"IF(AND($C193=\"Portfoliomanager*in\",PRODUCT(R193,V193,Z193,AD193,AH193,AL193)>=1,$L$196>=$AO$255),1,0)","v":0},null,{"$f":"IF(AND(OR(J184>=O$263,L184>=Q$263),K193>=S$263,G184+H184>=U$263,AS193>=W$263,L196>=Y$263,R213>=AA$263),1,0)","v":0},null,{"$f":"IF(I193=\"\",0,DATEDIF(G193,I193,\"m\")+1)","v":0}]
[{"$nulls":5},"von ",null,"bis ",null,null,null,"",null,null,{"$f":"((($L185-$O$257)/($O$256-$O$257))*0.5+1)","v":0.25},0,{"$f":"((($L185-$Q$257)/($Q$256-$Q$257))*0.5+1)","v":0},0,{"$f":"((($K194-$S$257)/($S$256-$S$257))*0.5+1)","v":-0.75},0,{"$f":"((($K194-$U$257)/($U$256-$U$257))*0.5+1)","v":-1.4},0,{"$f":"((($G184-$W$257)/($W$256-$W$257))*0.5+1)","v":0.25},0,{"$f":"((($G184-$Y$257)/($Y$256-$Y$257))*0.5+1)","v":0.125},0,{"$f":"((($H184-$AA$257)/($AA$256-$AA$257))*0.5+1)","v":0},0,{"$f":"((($H184-$AC$257)/($AC$256-$AC$257))*0.5+1)","v":-0.5},0,{"$f":"((($L187-$AE$257)/($AE$256-$AE$257))*0.5+1)","v":0},0,{"$f":"((($L187-$AF$257)/($AF$256-$AF$257))*0.5+1)","v":-0.5},{"$f":"IF($AG194>1.5,1.5,IF($AG194<0.5,0,$AG194))","v":0},{"$f":"((($T213-$AG$257)/($AG$256-$AG$257))*0.5+1)","v":0.16666666666666663},{"$f":"IF($AI194>1.5,1.5,IF($AI194<0.5,0,$AI194))","v":0},{"$f":"((($V213-$AI$257)/($AI$256-$AI$257))*0.5+1)","v":0},{"$f":"IF($AK194>1.5,1.5,IF($AK194<0.5,0,$AK194))","v":0},null,{"$f":"IF(AND($C194=\"Portfoliomanager*in\",PRODUCT(P194,T194,X194,AB194,AF194,AJ194)>=1,$L$196>=$AO$256),1,0)","v":0},{"$f":"IF(AND($C194=\"Portfoliomanager*in\",PRODUCT(R194,V194,Z194,AD194,AH194,AL194)>=1,$L$196>=$AO$255),1,0)","v":0},null,{"$f":"IF(AND(OR(J184>=O$263,L184>=Q$263),K194>=S$263,G184+H184>=U$263,AS194>=W$263,L196>=Y$263,R213>=AA$263),1,0)","v":0},null,0]
[]
[null,null,"Komplexitätsbeurteilung des Portfolios (s. Hinweise im Tabellenblatt 'Tips')",{"$nulls":8},{"$f":"SUM(L197:L206)","v":0}]
[null,null,"01 Ziele und Ergebnisbeurteilung"]
[null,null,"02 Prozesse, Methoden, Tools und Techniken des PP&PM"]
[null,null,"03 Ressourcen und Finanzierung"]
[null,null,"04 Chancen und Risiken"]
[null,null,"05 Stakeholder und Integration"]
[null,null,"06 Beziehungen zur Stammorganisation"]
[null,null,"07 Kultureller und sozialer Kontext"]
[null,null,"08 Führung, Teamarbeit und Entscheidungen"]
[null,null,"09 Innovationsgrad und Rahmenbedingungen"]
[null,null,"10 Koordinationsbedarf"]
[]
[null,null,"Projektliste"]
[null,null,"Geben Sie unter 'geplant' die bis zum Ende des Portfolios geplanten Umfänge und unter 'realisiert' die bis zur Einreichung des Zertifizierungsantrags geleisteten Umfänge an."]
[]
[null,"Nr","Name des Projekts","Projektscope","Projektart","strate-\ngisch","Dauer",null,"Personentage",null,"Investition in TCHF",{"$nulls":6},"Projektgrösse"]
[{"$nulls":6},"von","bis","geplant","realisiert","geplant","realisiert",{"$nulls":5},"≥ 1 PT",null,"≥ 250 PT",null,"≥ 700 PT"]
[null,null,"Aufwände im Portfolioausserhalb der Projekte",{"$nulls":14},{"$f":"COUNTIF($P214:PJ243,\">=1\")","v":0},null,{"$f":"COUNTIF($P214:$P243,\">=250\")","v":0},null,{"$f":"COUNTIF($P214:$P243,\">=700\")","v":0}]
[null,1,{"$nulls":13},{"$f":"IF(I214>=J214,I214,J214)","v":0}]
[null,2,{"$nulls":13},{"$f":"IF(I215>=J215,I215,J215)","v":0}]
[null,3,{"$nulls":13},0]
[null,4,{"$nulls":13},0]
[null,5,{"$nulls":13},0]
[null,6,{"$nulls":13},0]
[null,7,{"$nulls":13},0]
[null,8,{"$nulls":13},0]
[null,9,{"$nulls":13},0]
[null,10,{"$nulls":13},0]
[null,11,{"$nulls":13},0]
[null,12,{"$nulls":13},0]
[null,13,{"$nulls":13},0]
[null,14,{"$nulls":13},0]
[null,15,{"$nulls":13},0]
[null,16,{"$nulls":13},0]
[null,17,{"$nulls":13},0]
[null,18,{"$nulls":13},0]
[null,19,{"$nulls":13},0]
[null,20,{"$nulls":13},0]
[null,21,{"$nulls":13},0]
[null,22,{"$nulls":13},0]
[null,23,{"$nulls":13},0]
[null,24,{"$nulls":13},0]
[null,25,{"$nulls":13},0]
[null,26,{"$nulls":13},0]
[null,27,{"$nulls":13},0]
[null,28,{"$nulls":13},0]
[null,29,{"$nulls":13},0]
[null,30,{"$nulls":13},0]
[{"$nulls":5},{"$f":"COUNTIF(F214:F243,\"ja\")","v":0},"Total ",null,{"$f":"SUM(I213:I243)","v":0},{"$f":"SUM(J213:J243)","v":0},0,0]
[]
[null,null,"Referenzperson (üblicherweise Auftraggeber oder Arbeitgeber)"]
[null,null,"Vorname Name"]
[null,null,"Rolle im Portfolio/Unternehmen"]
[null,null,"Telefon"]
[null,null,"E-Mail"]
[]
[{"$nulls":14},"Vorgaben für Berechnung der Levelkonformität"]
[]
[{"$nulls":14},"Jährl. Investitionsvolumen",null,null,null,"Portfolioleitung in Stunden",null,null,null,"Direkt geführte Personen",null,null,null,"Indirekt geführte Personen",null,null,null,"Projektarten",null,"Anzahl (komplexe) Projekte",null,null,null,"Einsatzdauer",null,null,"Komplexität"]
[{"$nulls":14},"B",null,"A",null,"B",null,"A",null,"B",null,"A",null,"B",null,"A",null,"B","A","B",null,"A",null,"A",24,null,"A",32]
[{"$nulls":14},5000,null,30000,null,900,null,2900,null,5,null,11,null,45,null,200,null,3,4,8,null,15,null,"B",18,null,"B",25]
[{"$nulls":14},3000,null,20000,null,700,null,2400,null,3,null,7,null,30,null,150,null,2,3,5,null,10]
[{"$nulls":14},1000,null,10000,null,500,null,1900,null,1,null,3,null,15,null,100,null,1,2,2,null,5]
[]
[{"$nulls":14},"Minimalanforderungen für Portfolioerfahrung"]
[]
[{"$nulls":14},"Summe PT",null,"Investition",null,"PfL",null,"Personen",null,"Dauer",null,"Komplexität",null,"# Projekte"]
[{"$nulls":14},200,null,250,null,200,null,5,null,3,null,10,null,2]

{"sheet":"Agil","index":9,"n_rows":437,"n_cols":38,"rows_kept":437,"cut":false,"hidden":false,"merged":[[436,12,436,13],[436,14,436,15],[436,16,436,17],[436,18,436,19],[436,20,436,21],[438,31,438,32],[433,31,433,32],[435,12,435,13],[435,14,435,15],[435,16,435,17],[435,18,435,19],[435,20,435,21],[432,12,432,13],[432,14,432,15],[432,16,432,17],[432,18,432,19],[432,20,432,21],[432,22,432,23],[432,24,432,25],[432,26,432,27],[432,28,432,29],[431,12,431,13],[431,14,431,15],[431,16,431,17],[431,18,431,19],[431,20,431,21],[431,22,431,23],[431,24,431,25],[431,26,431,27],[431,28,431,29],[429,24,429,25],[429,26,429,27],[429,28,429,29],[430,12,430,13],[430,14,430,15],[430,16,430,17],[430,18,430,19],[430,20,430,21],[430,22,430,23],[430,24,430,25],[429,12,429,13],[429,14,429,15],[429,16,429,17],[429,18,429,19],[429,20,429,21],[429,22,429,23],[430,26,430,27],[430,28,430,29],[423,3,423,9],[425,3,425,9],[428,12,428,17],[428,18,428,23],[428,24,428,29],[428,31,428,32],[415,1,415,7],[416,1,416,7],[417,1,417,7],[420,3,420,9],[421,3,421,9],[422,3,422,9],[409,1,409,7],[410,1,410,7],[411,1,411,7],[412,1,412,7],[413,1,413,7],[414,1,414,7],[400,26,400,27],[400,28,400,29],[402,3,402,5],[402,12,402,17],[407,1,407,7],[408,1,408,7],[399,35,400,35],[399,37,400,37],[400,1,400,8],[400,12,400,13],[400,14,400,15],[400,16,400,17],[400,18,400,19],[400,20,400,21],[400,22,400,23],[400,24,400,25],[399,1,399,8],[399,12,399,17],[399,18,399,23],[399,24,399,29],[399,31,399,33],[389,3,389,9],[390,3,390,9],[392,3,392,5],[395,3,396,4],[395,7,396,8],[397,1,397,8],[381,3,381,9],[382,3,382,9],[384,3,384,9],[386,3,386,9],[387,3,387,9],[388,3,388,9],[373,1,373,7],[374,1,374,7],[375,1,375,7],[376,1,376,7],[379,3,379,9],[380,3,380,9],[367,1,367,7],[368,1,368,7],[369,1,369,7],[370,1,370,7],[371,1,371,7],[372,1,372,7],[359,24,359,25],[359,26,359,27],[359,28,359,29],[361,3,361,5],[361,12,361,17],[366,1,366,7],[358,35,359,35],[358,37,359,37],[359,1,359,8],[359,12,359,13],[359,14,359,15],[359,16,359,17],[359,18,359,19],[359,20,359,21],[359,22,359,23],[356,1,356,8],[358,1,358,8],[358,12,358,17],[358,18,358,23],[358,24,358,29],[358,31,358,33],[346,3,346,9],[347,3,347,9],[348,3,348,9],[349,3,349,9],[351,3,351,5],[354,3,355,4],[354,7,355,8],[335,1,335,7],[338,3,338,9],[339,3,339,9],[340,3,340,9],[341,3,341,9],[345,3,345,9],[329,1,329,7],[330,1,330,7],[331,1,331,7],[332,1,332,7],[333,1,333,7],[334,1,334,7],[320,3,320,5],[320,12,320,17],[325,1,325,7],[326,1,326,7],[327,1,327,7],[328,1,328,7],[317,37,318,37],[318,1,318,8],[318,12,318,13],[318,14,318,15],[318,16,318,17],[318,18,318,19],[318,20,318,21],[318,22,318,23],[318,24,318,25],[318,26,318,27],[317,12,317,17],[317,18,317,23],[317,24,317,29],[317,31,317,33],[317,35,318,35],[318,28,318,29],[308,3,308,9],[310,3,310,5],[313,3,314,4],[313,7,314,8],[315,1,315,8],[317,1,317,8],[299,3,299,9],[300,3,300,9],[304,3,304,9],[305,3,305,9],[306,3,306,9],[307,3,307,9],[291,1,291,7],[292,1,292,7],[293,1,293,7],[294,1,294,7],[297,3,297,9],[298,3,298,9],[285,1,285,7],[286,1,286,7],[287,1,287,7],[288,1,288,7],[289,1,289,7],[290,1,290,7],[277,24,277,25],[277,26,277,27],[277,28,277,29],[279,3,279,5],[279,12,279,17],[284,1,284,7],[276,35,277,35],[276,37,277,37],[277,1,277,8],[277,12,277,13],[277,14,277,15],[277,16,277,17],[277,18,277,19],[277,20,277,21],[277,22,277,23],[274,1,274,8],[276,1,276,8],[276,12,276,17],[276,18,276,23],[276,24,276,29],[276,31,276,33],[264,3,264,9],[265,3,265,9],[266,3,266,9],[267,3,267,9],[269,3,269,5],[272,3,273,4],[272,7,273,8],[253,1,253,7],[256,3,256,9],[257,3,257,9],[258,3,258,9],[259,3,259,9],[263,3,263,9],[247,1,247,7],[248,1,248,7],[249,1,249,7],[250,1,250,7],[251,1,251,7],[252,1,252,7],[238,3,238,5],[238,12,238,17],[243,1,243,7],[244,1,244,7],[245,1,245,7],[246,1,246,7],[236,1,236,8],[236,12,236,13],[236,14,236,15],[236,16,236,17],[236,18,236,19],[236,20,236,21],[235,18,235,23],[235,24,235,29],[235,31,235,33],[235,35,236,35],[235,37,236,37],[236,22,236,23],[236,24,236,25],[236,26,236,27],[236,28,236,29],[228,3,228,5],[231,3,232,4],[231,7,232,8],[233,1,233,8],[235,1,235,8],[235,12,235,17],[218,3,218,9],[222,3,222,9],[223,3,223,9],[224,3,224,9],[225,3,225,9],[226,3,226,9],[210,1,210,7],[211,1,211,7],[212,1,212,7],[215,3,215,9],[216,3,216,9],[217,3,217,9],[204,1,204,7],[205,1,205,7],[206,1,206,7],[207,1,207,7],[208,1,208,7],[209,1,209,7],[195,26,195,27],[195,28,195,29],[197,3,197,5],[197,12,197,17],[202,1,202,7],[203,1,203,7],[194,35,195,35],[194,37,195,37],[195,1,195,8],[195,12,195,13],[195,14,195,15],[195,16,195,17],[195,18,195,19],[195,20,195,21],[195,22,195,23],[195,24,195,25],[194,1,194,8],[194,12,194,17],[194,18,194,23],[194,24,194,29],[194,31,194,33],[184,3,184,9],[185,3,185,9],[187,3,187,5],[190,3,191,4],[190,7,191,8],[192,1,192,8],[176,3,176,9],[177,3,177,9],[179,3,179,9],[181,3,181,9],[182,3,182,9],[183,3,183,9],[168,1,168,7],[169,1,169,7],[170,1,170,7],[171,1,171,7],[174,3,174,9],[175,3,175,9],[162,1,162,7],[163,1,163,7],[164,1,164,7],[165,1,165,7],[166,1,166,7],[167,1,167,7],[154,24,154,25],[154,26,154,27],[154,28,154,29],[156,3,156,5],[156,12,156,17],[161,1,161,7],[153,35,154,35],[153,37,154,37],[154,1,154,8],[154,12,154,13],[154,14,154,15],[154,16,154,17],[154,18,154,19],[154,20,154,21],[154,22,154,23],[151,1,151,8],[153,1,153,8],[153,12,153,17],[153,18,153,23],[153,24,153,29],[153,31,153,33],[141,3,141,9],[142,3,142,9],[143,3,143,9],[144,3,144,9],[146,3,146,5],[149,3,150,4],[149,7,150,8],[130,1,130,7],[133,3,133,9],[134,3,134,9],[135,3,135,9],[136,3,136,9],[140,3,140,9],[124,1,124,7],[125,1,125,7],[126,1,126,7],[127,1,127,7],[128,1,128,7],[129,1,129,7],[115,3,115,5],[115,12,115,17],[120,1,120,7],[121,1,121,7],[122,1,122,7],[123,1,123,7],[112,37,113,37],[113,1,113,8],[113,12,113,13],[113,14,113,15],[113,16,113,17],[113,18,113,19],[113,20,113,21],[113,22,113,23],[113,24,113,25],[113,26,113,27],[112,12,112,17],[112,18,112,23],[112,24,112,29],[112,31,112,33],[112,35,113,35],[113,28,113,29],[103,3,103,9],[105,3,105,5],[108,3,109,4],[108,7,109,8],[110,1,110,8],[112,1,112,8],[94,3,94,9],[95,3,95,9],[99,3,99,9],[100,3,100,9],[101,3,101,9],[102,3,102,9],[86,1,86,7],[87,1,87,7],[88,1,88,7],[89,1,89,7],[92,3,92,9],[93,3,93,9],[80,1,80,7],[81,1,81,7],[82,1,82,7],[83,1,83,7],[84,1,84,7],[85,1,85,7],[72,24,72,25],[72,26,72,27],[72,28,72,29],[74,3,74,5],[74,12,74,17],[79,1,79,7],[71,35,72,35],[71,37,72,37],[72,1,72,8],[72,12,72,13],[72,14,72,15],[72,16,72,17],[72,18,72,19],[72,20,72,21],[72,22,72,23],[69,1,69,8],[71,1,71,8],[71,12,71,17],[71,18,71,23],[71,24,71,29],[71,31,71,33],[60,3,60,9],[61,3,61,9],[62,3,62,9],[64,3,64,5],[67,3,68,4],[67,7,68,8],[51,3,51,9],[52,3,52,9],[53,3,53,9],[54,3,54,9],[58,3,58,9],[59,3,59,9],[38,1,38,7],[39,12,39,14],[41,1,41,7],[43,12,43,14],[43,15,43,17],[48,1,48,9],[48,12,48,24],[32,1,32,7],[33,1,33,7],[34,1,34,7],[35,1,35,7],[36,1,36,7],[37,1,37,7],[42,1,42,7],[43,1,43,7],[44,1,44,7],[23,3,23,5],[23,12,23,17],[28,1,28,7],[29,1,29,7],[30,1,30,7],[31,1,31,7],[21,1,21,8],[21,12,21,13],[21,14,21,15],[21,16,21,17],[21,18,21,19],[21,20,21,21],[20,18,20,23],[20,24,20,29],[20,31,20,33],[20,35,21,35],[20,37,21,37],[21,22,21,23],[21,24,21,25],[21,26,21,27],[21,28,21,29],[13,3,13,5],[16,3,17,4],[16,7,17,8],[18,1,18,8],[20,1,20,8],[20,12,20,17],[3,1,3,9],[7,3,7,9],[8,3,8,9],[9,3,9,9],[10,3,10,9],[11,3,11,9]]}
[]
[null,"In Agile Leadership nachgewiesene Erfahrung"]
[]
[null,"Benutzen Sie für den Nachweis von praktischer Erfahrung in der Führung von agilen Portfolios (nur Level A und B) das Tabellenblatt 'AgilPfM'\n\nDas Vorhaben Nr. 1 wird in der Zertifizierung als Referenzvorhaben eingesetzt und muss im Executive Summary Report beschrieben werden. Die Vorhaben Nr. 2 und 3 sind für die Level A und B ebenfalls im Executive Summary Report zu beschreiben. Tragen Sie deshalb diejenigen Ihrer anderen Vorhaben mit der höchsten Komplexität als Vorhaben Nr. 2 und 3 ein. Im verkürzten Zertifizierungsverfahren ist im Executive Summary Report nur das Vorhaben Nr. 1 zu beschreiben.\n\nDie unten einzugebenden Informationen müssen sich explizit auf die Vorhaben bzw. Teile eines Vorhabens beziehen, in welchen Sie in den jeweils angegebenen Rollen tätig waren. Geben Sie bitte in den Zahlenfeldern nur Zahlen ein!\n\nWählen Sie bei der Angabe Ihrer jeweiligen Rollen diejenige aus, welche Ihrer Tätigkeit am meisten entspricht. Weicht Ihre Rolle stark davon ab, geben Sie dies bitte unter Scope an."]
[]
[]
[]
[null,"Vorhaben Nr. 1",null,"Referenzvorhaben"]
[null,"Name des Vorhabens"]
[null,"Kunde (Unternehmen)"]
[null,"Art des Vorhabens"]
[null,"Scope"]
[]
[null,"Informationen zum Vorhaben",null,"Datum eingeben",{"$nulls":5},"Monate"]
[null,"Dauer","von ",null,"bis ",{"$nulls":4},{"$f":"ROUND(((F15-D15)/30.4),0)","v":0}]
[]
[null,"Umfang geplant",null,"Personentage ",null,null,null,"Cash-out \nin CHF"]
[null,"Umfang realisiert"]
[null,"Anzahl beteiligte Personen "]
[]
[null,"Vorhaben ist abgeschlossen (massgebend ist das Datum der Einreichung des Berichts)",{"$nulls":10},"Personentage",{"$nulls":5},"Mitwirkung",{"$nulls":5},"Anzahl beteiligte Personen",{"$nulls":6},"Levelkonformität",null,null,null,"Minimal-\nanforderung",null,"Dauer\nin Rolle"]
[null,"Vorhaben mit strategischer Bedeutung",{"$nulls":10},"C",null,"B",null,"A",null,"C",null,"B",null,"A",null,"C",null,"B",null,"A",null,null,"C","B","A"]
[]
[null,"Ihre Rolle(n) im Vorhaben",null,"Datum eingeben",null,null,null,"Stunden",null,"Std/Monat",null,null,{"$f":"IF(F17>=F18,F17,F18)","v":0}]
[null,null,"von ",null,"bis ",{"$nulls":4},{"$f":"IFERROR(ROUND(H25/((F25-D25)/30.4),0),\"\")","v":""},null,null,{"$f":"((($M24-$M$432)/($M$431-$M$432))*0.5+1)","v":-0.25},{"$f":"IF($M25>1.5,1.5,IF($M25<0.5,0,$M25))","v":0},{"$f":"((($M24-$O$432)/($O$431-$O$432))*0.5+1)","v":-0.75},{"$f":"IF($O25>1.5,1.5,IF($O25<0.5,0,$O25))","v":0},{"$f":"((($M24-$Q$432)/($Q$431-$Q$432))*0.5+1)","v":-0.5},{"$f":"IF($Q25>1.5,1.5,IF($Q25<0.5,0,$Q25))","v":0},{"$f":"((($H25-$S$432)/($S$431-$S$432))*0.5+1)","v":-1},{"$f":"IF($S25>1.5,1.5,IF($S25<0.5,0,$S25))","v":0},{"$f":"((($H25-$U$432)/($U$431-$U$432))*0.5+1)","v":-0.75},{"$f":"IF($U25>1.5,1.5,IF($U25<0.5,0,$U25))","v":0},{"$f":"((($H25-$W$432)/($W$431-$W$432))*0.5+1)","v":-1.4},{"$f":"IF($W25>1.5,1.5,IF($W25<0.5,0,$W25))","v":0},{"$f":"((($J19-$Y$432)/($Y$431-$Y$432))*0.5+1)","v":-0.25},{"$f":"IF($Y25>1.5,1.5,IF($Y25<0.5,0,$Y25))","v":0},{"$f":"((($J19-$AA$432)/($AA$431-$AA$432))*0.5+1)","v":0},{"$f":"IF($AA25>1.5,1.5,IF($AA25<0.5,0,$AA25))","v":0},{"$f":"((($J19-$AC$432)/($AC$431-$AC$432))*0.5+1)","v":0},{"$f":"IF($AC25>1.5,1.5,IF($AC25<0.5,0,$AC25))","v":0},null,{"$f":"IF(AND(B25<>\"\",PRODUCT(N25,T25,Z25)>=1,$J29>=$AG$432),1,0)","v":0},{"$f":"IF(AND(B25<>\"\",PRODUCT(P25,V25,AB25)>=1,$J29>=$AG$431),1,0)","v":0},{"$f":"IF(AND(B25<>\"\",PRODUCT(R25,X25,AD25)>=1,$J29>=$AG$430),1,0)","v":0},null,{"$f":"IF(AND(F18>=M$437,H25>=O$437,J19>=Q$437,AL25>=S$437,J29>=U$437),1,0)","v":0},null,{"$f":"IF(F25=\"\",0,DATEDIF(D25,F25,\"m\")+1)","v":0}]
[null,null,"von ",null,"bis ",{"$nulls":4},"",null,null,{"$f":"((($M24-$M$432)/($M$431-$M$432))*0.5+1)","v":-0.25},{"$f":"IF($M26>1.5,1.5,IF($M26<0.5,0,$M26))","v":0},{"$f":"((($M24-$O$432)/($O$431-$O$432))*0.5+1)","v":-0.75},{"$f":"IF($O26>1.5,1.5,IF($O26<0.5,0,$O26))","v":0},{"$f":"((($M24-$Q$432)/($Q$431-$Q$432))*0.5+1)","v":-0.5},{"$f":"IF($Q26>1.5,1.5,IF($Q26<0.5,0,$Q26))","v":0},{"$f":"((($H26-$S$432)/($S$431-$S$432))*0.5+1)","v":-1},{"$f":"IF($S26>1.5,1.5,IF($S26<0.5,0,$S26))","v":0},{"$f":"((($H26-$U$432)/($U$431-$U$432))*0.5+1)","v":-0.75},{"$f":"IF($U26>1.5,1.5,IF($U26<0.5,0,$U26))","v":0},{"$f":"((($H26-$W$432)/($W$431-$W$432))*0.5+1)","v":-1.4},{"$f":"IF($W26>1.5,1.5,IF($W26<0.5,0,$W26))","v":0},{"$f":"((($J19-$Y$432)/($Y$431-$Y$432))*0.5+1)","v":-0.25},{"$f":"IF($Y26>1.5,1.5,IF($Y26<0.5,0,$Y26))","v":0},{"$f":"((($J19-$AA$432)/($AA$431-$AA$432))*0.5+1)","v":0},{"$f":"IF($AA26>1.5,1.5,IF($AA26<0.5,0,$AA26))","v":0},{"$f":"((($J19-$AC$432)/($AC$431-$AC$432))*0.5+1)","v":0},{"$f":"IF($AC26>1.5,1.5,IF($AC26<0.5,0,$AC26))","v":0},null,{"$f":"IF(AND(B26<>\"\",PRODUCT(N26,T26,Z26)>=1,$J29>=$AG$432),1,0)","v":0},{"$f":"IF(AND(B26<>\"\",PRODUCT(P26,V26,AB26)>=1,$J29>=$AG$431),1,0)","v":0},{"$f":"IF(AND(B26<>\"\",PRODUCT(R26,X26,AD26)>=1,$J29>=$AG$430),1,0)","v":0},null,{"$f":"IF(AND(F18>=M$437,H26>=O$437,J19>=Q$437,AL26>=S$437,J29>=U$437),1,0)","v":0},null,{"$f":"IF(F26=\"\",0,DATEDIF(D26,F26,\"m\")+1)","v":0}]
[null,null,"von ",null,"bis ",{"$nulls":4},"",null,null,{"$f":"((($M24-$M$432)/($M$431-$M$432))*0.5+1)","v":-0.25},0,{"$f":"((($M24-$O$432)/($O$431-$O$432))*0.5+1)","v":-0.75},0,{"$f":"((($M24-$Q$432)/($Q$431-$Q$432))*0.5+1)","v":-0.5},0,{"$f":"((($H27-$S$432)/($S$431-$S$432))*0.5+1)","v":-1},0,{"$f":"((($H27-$U$432)/($U$431-$U$432))*0.5+1)","v":-0.75},0,{"$f":"((($H27-$W$432)/($W$431-$W$432))*0.5+1)","v":-1.4},0,{"$f":"((($J19-$Y$432)/($Y$431-$Y$432))*0.5+1)","v":-0.25},0,{"$f":"((($J19-$AA$432)/($AA$431-$AA$432))*0.5+1)","v":0},0,{"$f":"((($J19-$AC$432)/($AC$431-$AC$432))*0.5+1)","v":0},0,null,{"$f":"IF(AND(B27<>\"\",PRODUCT(N27,T27,Z27)>=1,$J29>=$AG$432),1,0)","v":0},{"$f":"IF(AND(B27<>\"\",PRODUCT(P27,V27,AB27)>=1,$J29>=$AG$431),1,0)","v":0},{"$f":"IF(AND(B27<>\"\",PRODUCT(R27,X27,AD27)>=1,$J29>=$AG$430),1,0)","v":0},null,{"$f":"IF(AND(F18>=M$437,H27>=O$437,J19>=Q$437,AL27>=S$437,J29>=U$437),1,0)","v":0},null,{"$f":"IF(F27=\"\",0,DATEDIF(D27,F27,\"m\")+1)","v":0}]
[]
[null,"Komplexitätsbeurteilung des Vorhabens (s. Hinweise im Tabellenblatt 'Tips')",{"$nulls":7},{"$f":"SUM(J30:J39)","v":0}]
[null,"01 Ziele und Ergebnisbeurteilung"]
[null,"02 Prozesse, Methoden, Tools und Techniken"]
[null,"03 Ressourcen und Finanzierung"]
[null,"04 Chancen und Risiken"]
[null,"05 Stakeholder und Integration"]
[null,"06 Beziehungen zur Stammorganisation"]
[null,"07 Kultureller und sozialer Kontext"]
[null,"08 Führung, Teamarbeit und Entscheidungen"]
[null,"09 Innovationsgrad und Rahmenbedingungen"]
[null,"10 Koordinationsbedarf"]
[{"$nulls":12},"Level"]
[null,"Erfüllung der Kriterien als Referenzvorhaben",{"$nulls":10},"C","B","A"]
[null,"Entspricht das Vorhaben den Anforderungen an den Level?",{"$nulls":7},{"$f":"IF(Pers!D12=\"\",\"\",IF(Pers!D12=\"A\",O42,IF(Pers!D12=\"B\",N42,IF(Pers!D12=\"C\",M42))))","v":""},null,null,{"$f":"IF(OR(AF$25=1,AF$26=1,AF$27=1),\"ja\",\"nein\")","v":"nein"},{"$f":"IF(OR(AG$25=1,AG$26=1,AG$27=1),\"ja\",\"nein\")","v":"nein"},{"$f":"IF(AND(J22=\"ja\",OR(AH$25=1,AH$26=1,AH$27=1)),\"ja\",\"nein\")","v":"nein"}]
[null,"Ist das Vorhaben abgeschlossen?",{"$nulls":7},{"$f":"IF(J21=\"ja\",\"ja\",\"nein\")","v":"nein"}]
[null,"Liegt der letzte Einsatzmonat nicht mehr als 4 Jahre zurück?",{"$nulls":7},{"$f":"IF(M44>=P44,\"ja\",\"nein\")","v":"nein"},null,null,{"$f":"IF(F25>=F26,F25,IF(F26>=F27,F26,F27))","v":"00:00:00"},null,null,{"$f":"DATE(YEAR(Pers!D18)-4,MONTH(Pers!D18),DAY(Pers!D18))","v":"3795-12-31"}]
[null,"Entspricht die minimale Einsatzdauer im Vorhaben den Anforderungen an den Level?",{"$nulls":7},{"$f":"IF(AND(Pers!D12=\"A\",O45>=AG435),\"ja\",IF(AND(Pers!D12=\"B\",N45>=AG436),\"ja\",IF(AND(Pers!D12=\"C\",M45>=AG437),\"ja\",\"nein\")))","v":"nein"},null,null,{"$f":"COUNTIF(Exp!$BZ$11:$BZ$154,\">=30\")","v":0},{"$f":"COUNTIF(Exp!$BZ$11:$BZ$154,\">=50\")","v":0},{"$f":"COUNTIF(Exp!$BZ$11:$BZ$154,\">=75\")","v":0},"Monate"]
[]
[null,"Kann das Vorhaben als Referenzvorhaben eingereicht werden?",{"$nulls":7},{"$f":"IF(AND(J42=\"ja\",J43=\"ja\",J44=\"ja\",J45=\"ja\"),\"ja\",\"nein\")","v":"nein"}]
[]
[null,{"$f":"IF(J43=\"nein\",M49,\"\")","v":"Kann kein abgeschlossenes Vorhaben vorgelegt werden, kann ein Antrag mit folgenden Informationen eingereicht werden: Plan und Organisation des Vorhabens"},{"$nulls":10},"Kann kein abgeschlossenes Vorhaben vorgelegt werden, kann ein Antrag mit folgenden Informationen eingereicht werden: Plan und Organisation des Vorhabens"]
[]
[null,"Referenzperson (üblicherweise Auftraggeber oder Arbeitgeber)"]
[null,"Vorname Name"]
[null,"Rolle im Vorhaben/Unternehmen"]
[null,"Telefon"]
[null,"E-Mail"]
[]
[]
[]
[null,"Vorhaben Nr. 2"]
[null,"Name des Vorhabens"]
[null,"Kunde (Unternehmen)"]
[null,"Art des Vorhabens"]
[null,"Scope"]
[]
[null,"Informationen zum Vorhaben",null,"Datum eingeben",{"$nulls":5},"Monate"]
[null,"Dauer","von ",null,"bis ",{"$nulls":4},{"$f":"ROUND(((F66-D66)/30.4),0)","v":0}]
[]
[null,"Umfang geplant",null,"Personentage ",null,null,null,"Cash-out \nin CHF"]
[null,"Umfang realisiert"]
[null,"Anzahl beteiligte Personen "]
[]
[null,"Vorhaben ist abgeschlossen (massgebend ist das Datum der Einreichung des Berichts)",{"$nulls":10},"Personentage",{"$nulls":5},"Mitwirkung",{"$nulls":5},"Anzahl beteiligte Personen",{"$nulls":6},"Levelkonformität",null,null,null,"Minimal-\nanforderung",null,"Dauer\nin Rolle"]
[null,"Vorhaben mit strategischer Bedeutung",{"$nulls":10},"C",null,"B",null,"A",null,"C",null,"B",null,"A",null,"C",null,"B",null,"A",null,null,"C","B","A"]
[]
[null,"Ihre Rolle(n) im Vorhaben",null,"Datum eingeben",null,null,null,"Stunden",null,"Std/Monat",null,null,{"$f":"IF(F68>=F69,F68,F69)","v":0}]
[null,null,"von ",null,"bis ",{"$nulls":4},{"$f":"IFERROR(ROUND(H76/((F76-D76)/30.4),0),\"\")","v":""},null,null,{"$f":"((($M75-$M$432)/($M$431-$M$432))*0.5+1)","v":-0.25},{"$f":"IF($M76>1.5,1.5,IF($M76<0.5,0,$M76))","v":0},{"$f":"((($M75-$O$432)/($O$431-$O$432))*0.5+1)","v":-0.75},{"$f":"IF($O76>1.5,1.5,IF($O76<0.5,0,$O76))","v":0},{"$f":"((($M75-$Q$432)/($Q$431-$Q$432))*0.5+1)","v":-0.5},{"$f":"IF($Q76>1.5,1.5,IF($Q76<0.5,0,$Q76))","v":0},{"$f":"((($H76-$S$432)/($S$431-$S$432))*0.5+1)","v":-1},{"$f":"IF($S76>1.5,1.5,IF($S76<0.5,0,$S76))","v":0},{"$f":"((($H76-$U$432)/($U$431-$U$432))*0.5+1)","v":-0.75},{"$f":"IF($U76>1.5,1.5,IF($U76<0.5,0,$U76))","v":0},{"$f":"((($H76-$W$432)/($W$431-$W$432))*0.5+1)","v":-1.4},{"$f":"IF($W76>1.5,1.5,IF($W76<0.5,0,$W76))","v":0},{"$f":"((($J70-$Y$432)/($Y$431-$Y$432))*0.5+1)","v":-0.25},{"$f":"IF($Y76>1.5,1.5,IF($Y76<0.5,0,$Y76))","v":0},{"$f":"((($J70-$AA$432)/($AA$431-$AA$432))*0.5+1)","v":0},{"$f":"IF($AA76>1.5,1.5,IF($AA76<0.5,0,$AA76))","v":0},{"$f":"((($J70-$AC$432)/($AC$431-$AC$432))*0.5+1)","v":0},{"$f":"IF($AC76>1.5,1.5,IF($AC76<0.5,0,$AC76))","v":0},null,{"$f":"IF(AND(B76<>\"\",PRODUCT(N76,T76,Z76)>=1,$J80>=$AG$432),1,0)","v":0},{"$f":"IF(AND(B76<>\"\",PRODUCT(P76,V76,AB76)>=1,$J80>=$AG$431),1,0)","v":0},{"$f":"IF(AND(B76<>\"\",PRODUCT(R76,X76,AD76)>=1,$J80>=$AG$430),1,0)","v":0},null,{"$f":"IF(AND(F69>=M$437,H76>=O$437,J70>=Q$437,AL76>=S$437,J80>=U$437),1,0)","v":0},null,{"$f":"IF(F76=\"\",0,DATEDIF(D76,F76,\"m\")+1)","v":0}]
[null,null,"von ",null,"bis ",{"$nulls":4},{"$f":"IFERROR(ROUND(H77/((F77-D77)/30.4),0),\"\")","v":""},null,null,{"$f":"((($M75-$M$432)/($M$431-$M$432))*0.5+1)","v":-0.25},{"$f":"IF($M77>1.5,1.5,IF($M77<0.5,0,$M77))","v":0},{"$f":"((($M75-$O$432)/($O$431-$O$432))*0.5+1)","v":-0.75},{"$f":"IF($O77>1.5,1.5,IF($O77<0.5,0,$O77))","v":0},{"$f":"((($M75-$Q$432)/($Q$431-$Q$432))*0.5+1)","v":-0.5},{"$f":"IF($Q77>1.5,1.5,IF($Q77<0.5,0,$Q77))","v":0},{"$f":"((($H77-$S$432)/($S$431-$S$432))*0.5+1)","v":-1},{"$f":"IF($S77>1.5,1.5,IF($S77<0.5,0,$S77))","v":0},{"$f":"((($H77-$U$432)/($U$431-$U$432))*0.5+1)","v":-0.75},{"$f":"IF($U77>1.5,1.5,IF($U77<0.5,0,$U77))","v":0},{"$f":"((($H77-$W$432)/($W$431-$W$432))*0.5+1)","v":-1.4},{"$f":"IF($W77>1.5,1.5,IF($W77<0.5,0,$W77))","v":0},{"$f":"((($J70-$Y$432)/($Y$431-$Y$432))*0.5+1)","v":-0.25},{"$f":"IF($Y77>1.5,1.5,IF($Y77<0.5,0,$Y77))","v":0},{"$f":"((($J70-$AA$432)/($AA$431-$AA$432))*0.5+1)","v":0},{"$f":"IF($AA77>1.5,1.5,IF($AA77<0.5,0,$AA77))","v":0},{"$f":"((($J70-$AC$432)/($AC$431-$AC$432))*0.5+1)","v":0},{"$f":"IF($AC77>1.5,1.5,IF($AC77<0.5,0,$AC77))","v":0},null,{"$f":"IF(AND(B77<>\"\",PRODUCT(N77,T77,Z77)>=1,$J80>=$AG$432),1,0)","v":0},{"$f":"IF(AND(B77<>\"\",PRODUCT(P77,V77,AB77)>=1,$J80>=$AG$431),1,0)","v":0},{"$f":"IF(AND(B77<>\"\",PRODUCT(R77,X77,AD77)>=1,$J80>=$AG$430),1,0)","v":0},null,{"$f":"IF(AND(F69>=M$437,H77>=O$437,J70>=Q$437,AL77>=S$437,J80>=U$437),1,0)","v":0},null,{"$f":"IF(F77=\"\",0,DATEDIF(D77,F77,\"m\")+1)","v":0}]
[null,null,"von ",null,"bis ",{"$nulls":4},"",null,null,{"$f":"((($M75-$M$432)/($M$431-$M$432))*0.5+1)","v":-0.25},0,{"$f":"((($M75-$O$432)/($O$431-$O$432))*0.5+1)","v":-0.75},0,{"$f":"((($M75-$Q$432)/($Q$431-$Q$432))*0.5+1)","v":-0.5},0,{"$f":"((($H78-$S$432)/($S$431-$S$432))*0.5+1)","v":-1},0,{"$f":"((($H78-$U$432)/($U$431-$U$432))*0.5+1)","v":-0.75},0,{"$f":"((($H78-$W$432)/($W$431-$W$432))*0.5+1)","v":-1.4},0,{"$f":"((($J70-$Y$432)/($Y$431-$Y$432))*0.5+1)","v":-0.25},0,{"$f":"((($J70-$AA$432)/($AA$431-$AA$432))*0.5+1)","v":0},0,{"$f":"((($J70-$AC$432)/($AC$431-$AC$432))*0.5+1)","v":0},0,null,{"$f":"IF(AND(B78<>\"\",PRODUCT(N78,T78,Z78)>=1,$J80>=$AG$432),1,0)","v":0},{"$f":"IF(AND(B78<>\"\",PRODUCT(P78,V78,AB78)>=1,$J80>=$AG$431),1,0)","v":0},{"$f":"IF(AND(B78<>\"\",PRODUCT(R78,X78,AD78)>=1,$J80>=$AG$430),1,0)","v":0},null,{"$f":"IF(AND(F69>=M$437,H78>=O$437,J70>=Q$437,AL78>=S$437,J80>=U$437),1,0)","v":0},null,{"$f":"IF(F78=\"\",0,DATEDIF(D78,F78,\"m\")+1)","v":0}]
[]
[null,"Komplexitätsbeurteilung des Vorhabens (s. Hinweise im Tabellenblatt 'Tips')",{"$nulls":7},{"$f":"SUM(J81:J90)","v":0}]
[null,"01 Ziele und Ergebnisbeurteilung"]
[null,"02 Prozesse, Methoden, Tools und Techniken"]
[null,"03 Ressourcen und Finanzierung"]
[null,"04 Chancen und Risiken"]
[null,"05 Stakeholder und Integration"]
[null,"06 Beziehungen zur Stammorganisation"]
[null,"07 Kultureller und sozialer Kontext"]
[null,"08 Führung, Teamarbeit und Entscheidungen"]
[null,"09 Innovationsgrad und Rahmenbedingungen"]
[null,"10 Koordinationsbedarf"]
[]
[null,"Referenzperson (üblicherweise Auftraggeber oder Arbeitgeber)"]
[null,"Vorname Name"]
[null,"Rolle im Vorhaben/Unternehmen"]
[null,"Telefon"]
[null,"E-Mail"]
[]
[]
[]
[null,"Vorhaben Nr. 3"]
[null,"Name des Vorhabens"]
[null,"Kunde (Unternehmen)"]
[null,"Art des Vorhabens"]
[null,"Scope"]
[]
[null,"Informationen zum Vorhaben",null,"Datum eingeben",{"$nulls":5},"Monate"]
[null,"Dauer","von ",null,"bis ",{"$nulls":4},{"$f":"ROUND(((F107-D107)/30.4),0)","v":0}]
[]
[null,"Umfang geplant",null,"Personentage ",null,null,null,"Cash-out \nin CHF"]
[null,"Umfang realisiert"]
[null,"Anzahl beteiligte Personen "]
[]
[null,"Vorhaben ist abgeschlossen (massgebend ist das Datum der Einreichung des Berichts)",{"$nulls":10},"Personentage",{"$nulls":5},"Mitwirkung",{"$nulls":5},"Anzahl beteiligte Personen",{"$nulls":6},"Levelkonformität",null,null,null,"Minimal-\nanforderung",null,"Dauer\nin Rolle"]
[null,"Vorhaben mit strategischer Bedeutung",{"$nulls":10},"C",null,"B",null,"A",null,"C",null,"B",null,"A",null,"C",null,"B",null,"A",null,null,"C","B","A"]
[]
[null,"Ihre Rolle(n) im Vorhaben",null,"Datum eingeben",null,null,null,"Stunden",null,"Std/Monat",null,null,{"$f":"IF(F109>=F110,F109,F110)","v":0}]
[null,null,"von ",null,"bis ",{"$nulls":4},{"$f":"IFERROR(ROUND(H117/((F117-D117)/30.4),0),\"\")","v":""},null,null,{"$f":"((($M116-$M$432)/($M$431-$M$432))*0.5+1)","v":-0.25},{"$f":"IF($M117>1.5,1.5,IF($M117<0.5,0,$M117))","v":0},{"$f":"((($M116-$O$432)/($O$431-$O$432))*0.5+1)","v":-0.75},{"$f":"IF($O117>1.5,1.5,IF($O117<0.5,0,$O117))","v":0},{"$f":"((($M116-$Q$432)/($Q$431-$Q$432))*0.5+1)","v":-0.5},{"$f":"IF($Q117>1.5,1.5,IF($Q117<0.5,0,$Q117))","v":0},{"$f":"((($H117-$S$432)/($S$431-$S$432))*0.5+1)","v":-1},{"$f":"IF($S117>1.5,1.5,IF($S117<0.5,0,$S117))","v":0},{"$f":"((($H117-$U$432)/($U$431-$U$432))*0.5+1)","v":-0.75},{"$f":"IF($U117>1.5,1.5,IF($U117<0.5,0,$U117))","v":0},{"$f":"((($H117-$W$432)/($W$431-$W$432))*0.5+1)","v":-1.4},{"$f":"IF($W117>1.5,1.5,IF($W117<0.5,0,$W117))","v":0},{"$f":"((($J111-$Y$432)/($Y$431-$Y$432))*0.5+1)","v":-0.25},{"$f":"IF($Y117>1.5,1.5,IF($Y117<0.5,0,$Y117))","v":0},{"$f":"((($J111-$AA$432)/($AA$431-$AA$432))*0.5+1)","v":0},{"$f":"IF($AA117>1.5,1.5,IF($AA117<0.5,0,$AA117))","v":0},{"$f":"((($J111-$AC$432)/($AC$431-$AC$432))*0.5+1)","v":0},{"$f":"IF($AC117>1.5,1.5,IF($AC117<0.5,0,$AC117))","v":0},null,{"$f":"IF(AND(B117<>\"\",PRODUCT(N117,T117,Z117)>=1,$J121>=$AG$432),1,0)","v":0},{"$f":"IF(AND(B117<>\"\",PRODUCT(P117,V117,AB117)>=1,$J121>=$AG$431),1,0)","v":0},{"$f":"IF(AND(B117<>\"\",PRODUCT(R117,X117,AD117)>=1,$J121>=$AG$430),1,0)","v":0},null,{"$f":"IF(AND(F110>=M$437,H117>=O$437,J111>=Q$437,AL117>=S$437,J121>=U$437),1,0)","v":0},null,{"$f":"IF(F117=\"\",0,DATEDIF(D117,F117,\"m\")+1)","v":0}]
[null,null,"von ",null,"bis ",{"$nulls":4},{"$f":"IFERROR(ROUND(H118/((F118-D118)/30.4),0),\"\")","v":""},null,null,{"$f":"((($M116-$M$432)/($M$431-$M$432))*0.5+1)","v":-0.25},{"$f":"IF($M118>1.5,1.5,IF($M118<0.5,0,$M118))","v":0},{"$f":"((($M116-$O$432)/($O$431-$O$432))*0.5+1)","v":-0.75},{"$f":"IF($O118>1.5,1.5,IF($O118<0.5,0,$O118))","v":0},{"$f":"((($M116-$Q$432)/($Q$431-$Q$432))*0.5+1)","v":-0.5},{"$f":"IF($Q118>1.5,1.5,IF($Q118<0.5,0,$Q118))","v":0},{"$f":"((($H118-$S$432)/($S$431-$S$432))*0.5+1)","v":-1},{"$f":"IF($S118>1.5,1.5,IF($S118<0.5,0,$S118))","v":0},{"$f":"((($H118-$U$432)/($U$431-$U$432))*0.5+1)","v":-0.75},{"$f":"IF($U118>1.5,1.5,IF($U118<0.5,0,$U118))","v":0},{"$f":"((($H118-$W$432)/($W$431-$W$432))*0.5+1)","v":-1.4},{"$f":"IF($W118>1.5,1.5,IF($W118<0.5,0,$W118))","v":0},{"$f":"((($J111-$Y$432)/($Y$431-$Y$432))*0.5+1)","v":-0.25},{"$f":"IF($Y118>1.5,1.5,IF($Y118<0.5,0,$Y118))","v":0},{"$f":"((($J111-$AA$432)/($AA$431-$AA$432))*0.5+1)","v":0},{"$f":"IF($AA118>1.5,1.5,IF($AA118<0.5,0,$AA118))","v":0},{"$f":"((($J111-$AC$432)/($AC$431-$AC$432))*0.5+1)","v":0},{"$f":"IF($AC118>1.5,1.5,IF($AC118<0.5,0,$AC118))","v":0},null,{"$f":"IF(AND(B118<>\"\",PRODUCT(N118,T118,Z118)>=1,$J121>=$AG$432),1,0)","v":0},{"$f":"IF(AND(B118<>\"\",PRODUCT(P118,V118,AB118)>=1,$J121>=$AG$431),1,0)","v":0},{"$f":"IF(AND(B118<>\"\",PRODUCT(R118,X118,AD118)>=1,$J121>=$AG$430),1,0)","v":0},null,{"$f":"IF(AND(F110>=M$437,H118>=O$437,J111>=Q$437,AL118>=S$437,J121>=U$437),1,0)","v":0},null,{"$f":"IF(F118=\"\",0,DATEDIF(D118,F118,\"m\")+1)","v":0}]
[null,null,"von ",null,"bis ",{"$nulls":4},"",null,null,{"$f":"((($M116-$M$432)/($M$431-$M$432))*0.5+1)","v":-0.25},0,{"$f":"((($M116-$O$432)/($O$431-$O$432))*0.5+1)","v":-0.75},0,{"$f":"((($M116-$Q$432)/($Q$431-$Q$432))*0.5+1)","v":-0.5},0,{"$f":"((($H119-$S$432)/($S$431-$S$432))*0.5+1)","v":-1},0,{"$f":"((($H119-$U$432)/($U$431-$U$432))*0.5+1)","v":-0.75},0,{"$f":"((($H119-$W$432)/($W$431-$W$432))*0.5+1)","v":-1.4},0,{"$f":"((($J111-$Y$432)/($Y$431-$Y$432))*0.5+1)","v":-0.25},0,{"$f":"((($J111-$AA$432)/($AA$431-$AA$432))*0.5+1)","v":0},0,{"$f":"((($J111-$AC$432)/($AC$431-$AC$432))*0.5+1)","v":0},0,null,{"$f":"IF(AND(B119<>\"\",PRODUCT(N119,T119,Z119)>=1,$J121>=$AG$432),1,0)","v":0},{"$f":"IF(AND(B119<>\"\",PRODUCT(P119,V119,AB119)>=1,$J121>=$AG$431),1,0)","v":0},{"$f":"IF(AND(B119<>\"\",PRODUCT(R119,X119,AD119)>=1,$J121>=$AG$430),1,0)","v":0},null,{"$f":"IF(AND(F110>=M$437,H119>=O$437,J111>=Q$437,AL119>=S$437,J121>=U$437),1,0)","v":0},null,{"$f":"IF(F119=\"\",0,DATEDIF(D119,F119,\"m\")+1)","v":0}]
[]
[null,"Komplexitätsbeurteilung des Vorhabens (s. Hinweise im Tabellenblatt 'Tips')",{"$nulls":7},{"$f":"SUM(J122:J131)","v":0}]
[null,"01 Ziele und Ergebnisbeurteilung"]
[null,"02 Prozesse, Methoden, Tools und Techniken"]
[null,"03 Ressourcen und Finanzierung"]
[null,"04 Chancen und Risiken"]
[null,"05 Stakeholder und Integration"]
[null,"06 Beziehungen zur Stammorganisation"]
[null,"07 Kultureller und sozialer Kontext"]
[null,"08 Führung, Teamarbeit und Entscheidungen"]
[null,"09 Innovationsgrad und Rahmenbedingungen"]
[null,"10 Koordinationsbedarf"]
[]
[null,"Referenzperson (üblicherweise Auftraggeber oder Arbeitgeber)"]
[null,"Vorname Name"]
[null,"Rolle im Vorhaben/Unternehmen"]
[null,"Telefon"]
[null,"E-Mail"]
[]
[]
[]
[null,"Vorhaben Nr. 4"]
[null,"Name des Vorhabens"]
[null,"Kunde (Unternehmen)"]
[null,"Art des Vorhabens"]
[null,"Scope"]
[]
[null,"Informationen zum Vorhaben",null,"Datum eingeben",{"$nulls":5},"Monate"]
[null,"Dauer","von ",null,"bis ",{"$nulls":4},{"$f":"ROUND(((F148-D148)/30.4),0)","v":0}]
[]
[null,"Umfang geplant",null,"Personentage ",null,null,null,"Cash-out \nin CHF"]
[null,"Umfang realisiert"]
[null,"Anzahl beteiligte Personen "]
[]
[null,"Vorhaben ist abgeschlossen (massgebend ist das Datum der Einreichung des Berichts)",{"$nulls":10},"Personentage",{"$nulls":5},"Mitwirkung",{"$nulls":5},"Anzahl beteiligte Personen",{"$nulls":6},"Levelkonformität",null,null,null,"Minimal-\nanforderung",null,"Dauer\nin Rolle"]
[null,"Vorhaben mit strategischer Bedeutung",{"$nulls":10},"C",null,"B",null,"A",null,"C",null,"B",null,"A",null,"C",null,"B",null,"A",null,null,"C","B","A"]
[]
[null,"Ihre Rolle(n) im Vorhaben",null,"Datum eingeben",null,null,null,"Stunden",null,"Std/Monat",null,null,{"$f":"IF(F150>=F151,F150,F151)","v":0}]
[null,null,"von ",null,"bis ",{"$nulls":4},{"$f":"IFERROR(ROUND(H158/((F158-D158)/30.4),0),\"\")","v":""},null,null,{"$f":"((($M157-$M$432)/($M$431-$M$432))*0.5+1)","v":-0.25},{"$f":"IF($M158>1.5,1.5,IF($M158<0.5,0,$M158))","v":0},{"$f":"((($M157-$O$432)/($O$431-$O$432))*0.5+1)","v":-0.75},{"$f":"IF($O158>1.5,1.5,IF($O158<0.5,0,$O158))","v":0},{"$f":"((($M157-$Q$432)/($Q$431-$Q$432))*0.5+1)","v":-0.5},{"$f":"IF($Q158>1.5,1.5,IF($Q158<0.5,0,$Q158))","v":0},{"$f":"((($H158-$S$432)/($S$431-$S$432))*0.5+1)","v":-1},{"$f":"IF($S158>1.5,1.5,IF($S158<0.5,0,$S158))","v":0},{"$f":"((($H158-$U$432)/($U$431-$U$432))*0.5+1)","v":-0.75},{"$f":"IF($U158>1.5,1.5,IF($U158<0.5,0,$U158))","v":0},{"$f":"((($H158-$W$432)/($W$431-$W$432))*0.5+1)","v":-1.4},{"$f":"IF($W158>1.5,1.5,IF($W158<0.5,0,$W158))","v":0},{"$f":"((($J152-$Y$432)/($Y$431-$Y$432))*0.5+1)","v":-0.25},{"$f":"IF($Y158>1.5,1.5,IF($Y158<0.5,0,$Y158))","v":0},{"$f":"((($J152-$AA$432)/($AA$431-$AA$432))*0.5+1)","v":0},{"$f":"IF($AA158>1.5,1.5,IF($AA158<0.5,0,$AA158))","v":0},{"$f":"((($J152-$AC$432)/($AC$431-$AC$432))*0.5+1)","v":0},{"$f":"IF($AC158>1.5,1.5,IF($AC158<0.5,0,$AC158))","v":0},null,{"$f":"IF(AND(B158<>\"\",PRODUCT(N158,T158,Z158)>=1,$J162>=$AG$432),1,0)","v":0},{"$f":"IF(AND(B158<>\"\",PRODUCT(P158,V158,AB158)>=1,$J162>=$AG$431),1,0)","v":0},{"$f":"IF(AND(B158<>\"\",PRODUCT(R158,X158,AD158)>=1,$J162>=$AG$430),1,0)","v":0},null,{"$f":"IF(AND(F151>=M$437,H158>=O$437,J152>=Q$437,AL158>=S$437,J162>=U$437),1,0)","v":0},null,{"$f":"IF(F158=\"\",0,DATEDIF(D158,F158,\"m\")+1)","v":0}]
[null,null,"von ",null,"bis ",{"$nulls":4},{"$f":"IFERROR(ROUND(H159/((F159-D159)/30.4),0),\"\")","v":""},null,null,{"$f":"((($M157-$M$432)/($M$431-$M$432))*0.5+1)","v":-0.25},{"$f":"IF($M159>1.5,1.5,IF($M159<0.5,0,$M159))","v":0},{"$f":"((($M157-$O$432)/($O$431-$O$432))*0.5+1)","v":-0.75},{"$f":"IF($O159>1.5,1.5,IF($O159<0.5,0,$O159))","v":0},{"$f":"((($M157-$Q$432)/($Q$431-$Q$432))*0.5+1)","v":-0.5},{"$f":"IF($Q159>1.5,1.5,IF($Q159<0.5,0,$Q159))","v":0},{"$f":"((($H159-$S$432)/($S$431-$S$432))*0.5+1)","v":-1},{"$f":"IF($S159>1.5,1.5,IF($S159<0.5,0,$S159))","v":0},{"$f":"((($H159-$U$432)/($U$431-$U$432))*0.5+1)","v":-0.75},{"$f":"IF($U159>1.5,1.5,IF($U159<0.5,0,$U159))","v":0},{"$f":"((($H159-$W$432)/($W$431-$W$432))*0.5+1)","v":-1.4},{"$f":"IF($W159>1.5,1.5,IF($W159<0.5,0,$W159))","v":0},{"$f":"((($J152-$Y$432)/($Y$431-$Y$432))*0.5+1)","v":-0.25},{"$f":"IF($Y159>1.5,1.5,IF($Y159<0.5,0,$Y159))","v":0},{"$f":"((($J152-$AA$432)/($AA$431-$AA$432))*0.5+1)","v":0},{"$f":"IF($AA159>1.5,1.5,IF($AA159<0.5,0,$AA159))","v":0},{"$f":"((($J152-$AC$432)/($AC$431-$AC$432))*0.5+1)","v":0},{"$f":"IF($AC159>1.5,1.5,IF($AC159<0.5,0,$AC159))","v":0},null,{"$f":"IF(AND(B159<>\"\",PRODUCT(N159,T159,Z159)>=1,$J162>=$AG$432),1,0)","v":0},{"$f":"IF(AND(B159<>\"\",PRODUCT(P159,V159,AB159)>=1,$J162>=$AG$431),1,0)","v":0},{"$f":"IF(AND(B159<>\"\",PRODUCT(R159,X159,AD159)>=1,$J162>=$AG$430),1,0)","v":0},null,{"$f":"IF(AND(F151>=M$437,H159>=O$437,J152>=Q$437,AL159>=S$437,J162>=U$437),1,0)","v":0},null,{"$f":"IF(F159=\"\",0,DATEDIF(D159,F159,\"m\")+1)","v":0}]
[null,null,"von ",null,"bis ",{"$nulls":4},"",null,null,{"$f":"((($M157-$M$432)/($M$431-$M$432))*0.5+1)","v":-0.25},0,{"$f":"((($M157-$O$432)/($O$431-$O$432))*0.5+1)","v":-0.75},0,{"$f":"((($M157-$Q$432)/($Q$431-$Q$432))*0.5+1)","v":-0.5},0,{"$f":"((($H160-$S$432)/($S$431-$S$432))*0.5+1)","v":-1},0,{"$f":"((($H160-$U$432)/($U$431-$U$432))*0.5+1)","v":-0.75},0,{"$f":"((($H160-$W$432)/($W$431-$W$432))*0.5+1)","v":-1.4},0,{"$f":"((($J152-$Y$432)/($Y$431-$Y$432))*0.5+1)","v":-0.25},0,{"$f":"((($J152-$AA$432)/($AA$431-$AA$432))*0.5+1)","v":0},0,{"$f":"((($J152-$AC$432)/($AC$431-$AC$432))*0.5+1)","v":0},0,null,{"$f":"IF(AND(B160<>\"\",PRODUCT(N160,T160,Z160)>=1,$J162>=$AG$432),1,0)","v":0},{"$f":"IF(AND(B160<>\"\",PRODUCT(P160,V160,AB160)>=1,$J162>=$AG$431),1,0)","v":0},{"$f":"IF(AND(B160<>\"\",PRODUCT(R160,X160,AD160)>=1,$J162>=$AG$430),1,0)","v":0},null,{"$f":"IF(AND(F151>=M$437,H160>=O$437,J152>=Q$437,AL160>=S$437,J162>=U$437),1,0)","v":0},null,{"$f":"IF(F160=\"\",0,DATEDIF(D160,F160,\"m\")+1)","v":0}]
[]
[null,"Komplexitätsbeurteilung des Vorhabens (s. Hinweise im Tabellenblatt 'Tips')",{"$nulls":7},{"$f":"SUM(J163:J172)","v":0}]
[null,"01 Ziele und Ergebnisbeurteilung"]
[null,"02 Prozesse, Methoden, Tools und Techniken"]
[null,"03 Ressourcen und Finanzierung"]
[null,"04 Chancen und Risiken"]
[null,"05 Stakeholder und Integration"]
[null,"06 Beziehungen zur Stammorganisation"]
[null,"07 Kultureller und sozialer Kontext"]
[null,"08 Führung, Teamarbeit und Entscheidungen"]
[null,"09 Innovationsgrad und Rahmenbedingungen"]
[null,"10 Koordinationsbedarf"]
[]
[null,"Referenzperson (üblicherweise Auftraggeber oder Arbeitgeber)"]
[null,"Vorname Name"]
[null,"Rolle im Vorhaben/Unternehmen"]
[null,"Telefon"]
[null,"E-Mail"]
[]
[]
[]
[null,"Projekt Nr. 5"]
[null,"Name des Vorhabens"]
[null,"Kunde (Unternehmen)"]
[null,"Art des Vorhabens"]
[null,"Scope"]
[]
[null,"Informationen zum Vorhaben",null,"Datum eingeben",{"$nulls":5},"Monate"]
[null,"Dauer","von ",null,"bis ",{"$nulls":4},{"$f":"ROUND(((F189-D189)/30.4),0)","v":0}]
[]
[null,"Umfang geplant",null,"Personentage ",null,null,null,"Cash-out \nin CHF"]
[null,"Umfang realisiert"]
[null,"Anzahl beteiligte Personen "]
[]
[null,"Vorhaben ist abgeschlossen (massgebend ist das Datum der Einreichung des Berichts)",{"$nulls":10},"Personentage",{"$nulls":5},"Mitwirkung",{"$nulls":5},"Anzahl beteiligte Personen",{"$nulls":6},"Levelkonformität",null,null,null,"Minimal-\nanforderung",null,"Dauer\nin Rolle"]
[null,"Vorhaben mit strategischer Bedeutung",{"$nulls":10},"C",null,"B",null,"A",null,"C",null,"B",null,"A",null,"C",null,"B",null,"A",null,null,"C","B","A"]
[]
[null,"Ihre Rolle(n) im Vorhaben",null,"Datum eingeben",null,null,null,"Stunden",null,"Std/Monat",null,null,{"$f":"IF(F191>=F192,F191,F192)","v":0}]
[null,null,"von ",null,"bis ",{"$nulls":4},{"$f":"IFERROR(ROUND(H199/((F199-D199)/30.4),0),\"\")","v":""},null,null,{"$f":"((($M198-$M$432)/($M$431-$M$432))*0.5+1)","v":-0.25},{"$f":"IF($M199>1.5,1.5,IF($M199<0.5,0,$M199))","v":0},{"$f":"((($M198-$O$432)/($O$431-$O$432))*0.5+1)","v":-0.75},{"$f":"IF($O199>1.5,1.5,IF($O199<0.5,0,$O199))","v":0},{"$f":"((($M198-$Q$432)/($Q$431-$Q$432))*0.5+1)","v":-0.5},{"$f":"IF($Q199>1.5,1.5,IF($Q199<0.5,0,$Q199))","v":0},{"$f":"((($H199-$S$432)/($S$431-$S$432))*0.5+1)","v":-1},{"$f":"IF($S199>1.5,1.5,IF($S199<0.5,0,$S199))","v":0},{"$f":"((($H199-$U$432)/($U$431-$U$432))*0.5+1)","v":-0.75},{"$f":"IF($U199>1.5,1.5,IF($U199<0.5,0,$U199))","v":0},{"$f":"((($H199-$W$432)/($W$431-$W$432))*0.5+1)","v":-1.4},{"$f":"IF($W199>1.5,1.5,IF($W199<0.5,0,$W199))","v":0},{"$f":"((($J193-$Y$432)/($Y$431-$Y$432))*0.5+1)","v":-0.25},{"$f":"IF($Y199>1.5,1.5,IF($Y199<0.5,0,$Y199))","v":0},{"$f":"((($J193-$AA$432)/($AA$431-$AA$432))*0.5+1)","v":0},{"$f":"IF($AA199>1.5,1.5,IF($AA199<0.5,0,$AA199))","v":0},{"$f":"((($J193-$AC$432)/($AC$431-$AC$432))*0.5+1)","v":0},{"$f":"IF($AC199>1.5,1.5,IF($AC199<0.5,0,$AC199))","v":0},null,{"$f":"IF(AND(B199<>\"\",PRODUCT(N199,T199,Z199)>=1,$J203>=$AG$432),1,0)","v":0},{"$f":"IF(AND(B199<>\"\",PRODUCT(P199,V199,AB199)>=1,$J203>=$AG$431),1,0)","v":0},{"$f":"IF(AND(B199<>\"\",PRODUCT(R199,X199,AD199)>=1,$J203>=$AG$430),1,0)","v":0},null,{"$f":"IF(AND(F192>=M$437,H199>=O$437,J193>=Q$437,AL199>=S$437,J203>=U$437),1,0)","v":0},null,{"$f":"IF(F199=\"\",0,DATEDIF(D199,F199,\"m\")+1)","v":0}]
[null,null,"von ",null,"bis ",{"$nulls":4},{"$f":"IFERROR(ROUND(H200/((F200-D200)/30.4),0),\"\")","v":""},null,null,{"$f":"((($M198-$M$432)/($M$431-$M$432))*0.5+1)","v":-0.25},{"$f":"IF($M200>1.5,1.5,IF($M200<0.5,0,$M200))","v":0},{"$f":"((($M198-$O$432)/($O$431-$O$432))*0.5+1)","v":-0.75},{"$f":"IF($O200>1.5,1.5,IF($O200<0.5,0,$O200))","v":0},{"$f":"((($M198-$Q$432)/($Q$431-$Q$432))*0.5+1)","v":-0.5},{"$f":"IF($Q200>1.5,1.5,IF($Q200<0.5,0,$Q200))","v":0},{"$f":"((($H200-$S$432)/($S$431-$S$432))*0.5+1)","v":-1},{"$f":"IF($S200>1.5,1.5,IF($S200<0.5,0,$S200))","v":0},{"$f":"((($H200-$U$432)/($U$431-$U$432))*0.5+1)","v":-0.75},{"$f":"IF($U200>1.5,1.5,IF($U200<0.5,0,$U200))","v":0},{"$f":"((($H200-$W$432)/($W$431-$W$432))*0.5+1)","v":-1.4},{"$f":"IF($W200>1.5,1.5,IF($W200<0.5,0,$W200))","v":0},{"$f":"((($J193-$Y$432)/($Y$431-$Y$432))*0.5+1)","v":-0.25},{"$f":"IF($Y200>1.5,1.5,IF($Y200<0.5,0,$Y200))","v":0},{"$f":"((($J193-$AA$432)/($AA$431-$AA$432))*0.5+1)","v":0},{"$f":"IF($AA200>1.5,1.5,IF($AA200<0.5,0,$AA200))","v":0},{"$f":"((($J193-$AC$432)/($AC$431-$AC$432))*0.5+1)","v":0},{"$f":"IF($AC200>1.5,1.5,IF($AC200<0.5,0,$AC200))","v":0},null,{"$f":"IF(AND(B200<>\"\",PRODUCT(N200,T200,Z200)>=1,$J203>=$AG$432),1,0)","v":0},{"$f":"IF(AND(B200<>\"\",PRODUCT(P200,V200,AB200)>=1,$J203>=$AG$431),1,0)","v":0},{"$f":"IF(AND(B200<>\"\",PRODUCT(R200,X200,AD200)>=1,$J203>=$AG$430),1,0)","v":0},null,{"$f":"IF(AND(F192>=M$437,H200>=O$437,J193>=Q$437,AL200>=S$437,J203>=U$437),1,0)","v":0},null,{"$f":"IF(F200=\"\",0,DATEDIF(D200,F200,\"m\")+1)","v":0}]
[null,null,"von ",null,"bis ",{"$nulls":4},"",null,null,{"$f":"((($M198-$M$432)/($M$431-$M$432))*0.5+1)","v":-0.25},0,{"$f":"((($M198-$O$432)/($O$431-$O$432))*0.5+1)","v":-0.75},0,{"$f":"((($M198-$Q$432)/($Q$431-$Q$432))*0.5+1)","v":-0.5},0,{"$f":"((($H201-$S$432)/($S$431-$S$432))*0.5+1)","v":-1},0,{"$f":"((($H201-$U$432)/($U$431-$U$432))*0.5+1)","v":-0.75},0,{"$f":"((($H201-$W$432)/($W$431-$W$432))*0.5+1)","v":-1.4},0,{"$f":"((($J193-$Y$432)/($Y$431-$Y$432))*0.5+1)","v":-0.25},0,{"$f":"((($J193-$AA$432)/($AA$431-$AA$432))*0.5+1)","v":0},0,{"$f":"((($J193-$AC$432)/($AC$431-$AC$432))*0.5+1)","v":0},0,null,{"$f":"IF(AND(B201<>\"\",PRODUCT(N201,T201,Z201)>=1,$J203>=$AG$432),1,0)","v":0},{"$f":"IF(AND(B201<>\"\",PRODUCT(P201,V201,AB201)>=1,$J203>=$AG$431),1,0)","v":0},{"$f":"IF(AND(B201<>\"\",PRODUCT(R201,X201,AD201)>=1,$J203>=$AG$430),1,0)","v":0},null,{"$f":"IF(AND(F192>=M$437,H201>=O$437,J193>=Q$437,AL201>=S$437,J203>=U$437),1,0)","v":0},null,{"$f":"IF(F201=\"\",0,DATEDIF(D201,F201,\"m\")+1)","v":0}]
[]
[null,"Komplexitätsbeurteilung des Vorhabens (s. Hinweise im Tabellenblatt 'Tips')",{"$nulls":7},{"$f":"SUM(J204:J213)","v":0}]
[null,"01 Ziele und Ergebnisbeurteilung"]
[null,"02 Prozesse, Methoden, Tools und Techniken"]
[null,"03 Ressourcen und Finanzierung"]
[null,"04 Chancen und Risiken"]
[null,"05 Stakeholder und Integration"]
[null,"06 Beziehungen zur Stammorganisation"]
[null,"07 Kultureller und sozialer Kontext"]
[null,"08 Führung, Teamarbeit und Entscheidungen"]
[null,"09 Innovationsgrad und Rahmenbedingungen"]
[null,"10 Koordinationsbedarf"]
[]
[null,"Referenzperson (üblicherweise Auftraggeber oder Arbeitgeber)"]
[null,"Vorname Name"]
[null,"Rolle im Vorhaben/Unternehmen"]
[null,"Telefon"]
[null,"E-Mail"]
[]
[]
[]
[null,"Projekt Nr. 6"]
[null,"Name des Vorhabens"]
[null,"Kunde (Unternehmen)"]
[null,"Art des Vorhabens"]
[null,"Scope"]
[]
[null,"Informationen zum Vorhaben",null,"Datum eingeben",{"$nulls":5},"Monate"]
[null,"Dauer","von ",null,"bis ",{"$nulls":4},{"$f":"ROUND(((F230-D230)/30.4),0)","v":0}]
[]
[null,"Umfang geplant",null,"Personentage ",null,null,null,"Cash-out \nin CHF"]
[null,"Umfang realisiert"]
[null,"Anzahl beteiligte Personen "]
[]
[null,"Vorhaben ist abgeschlossen (massgebend ist das Datum der Einreichung des Berichts)",{"$nulls":10},"Personentage",{"$nulls":5},"Mitwirkung",{"$nulls":5},"Anzahl beteiligte Personen",{"$nulls":6},"Levelkonformität",null,null,null,"Minimal-\nanforderung",null,"Dauer\nin Rolle"]
[null,"Vorhaben mit strategischer Bedeutung",{"$nulls":10},"C",null,"B",null,"A",null,"C",null,"B",null,"A",null,"C",null,"B",null,"A",null,null,"C","B","A"]
[]
[null,"Ihre Rolle(n) im Vorhaben",null,"Datum eingeben",null,null,null,"Stunden",null,"Std/Monat",null,null,{"$f":"IF(F232>=F233,F232,F233)","v":0}]
[null,null,"von ",null,"bis ",{"$nulls":4},{"$f":"IFERROR(ROUND(H240/((F240-D240)/30.4),0),\"\")","v":""},null,null,{"$f":"((($M239-$M$432)/($M$431-$M$432))*0.5+1)","v":-0.25},{"$f":"IF($M240>1.5,1.5,IF($M240<0.5,0,$M240))","v":0},{"$f":"((($M239-$O$432)/($O$431-$O$432))*0.5+1)","v":-0.75},{"$f":"IF($O240>1.5,1.5,IF($O240<0.5,0,$O240))","v":0},{"$f":"((($M239-$Q$432)/($Q$431-$Q$432))*0.5+1)","v":-0.5},{"$f":"IF($Q240>1.5,1.5,IF($Q240<0.5,0,$Q240))","v":0},{"$f":"((($H240-$S$432)/($S$431-$S$432))*0.5+1)","v":-1},{"$f":"IF($S240>1.5,1.5,IF($S240<0.5,0,$S240))","v":0},{"$f":"((($H240-$U$432)/($U$431-$U$432))*0.5+1)","v":-0.75},{"$f":"IF($U240>1.5,1.5,IF($U240<0.5,0,$U240))","v":0},{"$f":"((($H240-$W$432)/($W$431-$W$432))*0.5+1)","v":-1.4},{"$f":"IF($W240>1.5,1.5,IF($W240<0.5,0,$W240))","v":0},{"$f":"((($J234-$Y$432)/($Y$431-$Y$432))*0.5+1)","v":-0.25},{"$f":"IF($Y240>1.5,1.5,IF($Y240<0.5,0,$Y240))","v":0},{"$f":"((($J234-$AA$432)/($AA$431-$AA$432))*0.5+1)","v":0},{"$f":"IF($AA240>1.5,1.5,IF($AA240<0.5,0,$AA240))","v":0},{"$f":"((($J234-$AC$432)/($AC$431-$AC$432))*0.5+1)","v":0},{"$f":"IF($AC240>1.5,1.5,IF($AC240<0.5,0,$AC240))","v":0},null,{"$f":"IF(AND(B240<>\"\",PRODUCT(N240,T240,Z240)>=1,$J244>=$AG$432),1,0)","v":0},{"$f":"IF(AND(B240<>\"\",PRODUCT(P240,V240,AB240)>=1,$J244>=$AG$431),1,0)","v":0},{"$f":"IF(AND(B240<>\"\",PRODUCT(R240,X240,AD240)>=1,$J244>=$AG$430),1,0)","v":0},null,{"$f":"IF(AND(F233>=M$437,H240>=O$437,J234>=Q$437,AL240>=S$437,J244>=U$437),1,0)","v":0},null,{"$f":"IF(F240=\"\",0,DATEDIF(D240,F240,\"m\")+1)","v":0}]
[null,null,"von ",null,"bis ",{"$nulls":4},{"$f":"IFERROR(ROUND(H241/((F241-D241)/30.4),0),\"\")","v":""},null,null,{"$f":"((($M239-$M$432)/($M$431-$M$432))*0.5+1)","v":-0.25},{"$f":"IF($M241>1.5,1.5,IF($M241<0.5,0,$M241))","v":0},{"$f":"((($M239-$O$432)/($O$431-$O$432))*0.5+1)","v":-0.75},{"$f":"IF($O241>1.5,1.5,IF($O241<0.5,0,$O241))","v":0},{"$f":"((($M239-$Q$432)/($Q$431-$Q$432))*0.5+1)","v":-0.5},{"$f":"IF($Q241>1.5,1.5,IF($Q241<0.5,0,$Q241))","v":0},{"$f":"((($H241-$S$432)/($S$431-$S$432))*0.5+1)","v":-1},{"$f":"IF($S241>1.5,1.5,IF($S241<0.5,0,$S241))","v":0},{"$f":"((($H241-$U$432)/($U$431-$U$432))*0.5+1)","v":-0.75},{"$f":"IF($U241>1.5,1.5,IF($U241<0.5,0,$U241))","v":0},{"$f":"((($H241-$W$432)/($W$431-$W$432))*0.5+1)","v":-1.4},{"$f":"IF($W241>1.5,1.5,IF($W241<0.5,0,$W241))","v":0},{"$f":"((($J234-$Y$432)/($Y$431-$Y$432))*0.5+1)","v":-0.25},{"$f":"IF($Y241>1.5,1.5,IF($Y241<0.5,0,$Y241))","v":0},{"$f":"((($J234-$AA$432)/($AA$431-$AA$432))*0.5+1)","v":0},{"$f":"IF($AA241>1.5,1.5,IF($AA241<0.5,0,$AA241))","v":0},{"$f":"((($J234-$AC$432)/($AC$431-$AC$432))*0.5+1)","v":0},{"$f":"IF($AC241>1.5,1.5,IF($AC241<0.5,0,$AC241))","v":0},null,{"$f":"IF(AND(B241<>\"\",PRODUCT(N241,T241,Z241)>=1,$J244>=$AG$432),1,0)","v":0},{"$f":"IF(AND(B241<>\"\",PRODUCT(P241,V241,AB241)>=1,$J244>=$AG$431),1,0)","v":0},{"$f":"IF(AND(B241<>\"\",PRODUCT(R241,X241,AD241)>=1,$J244>=$AG$430),1,0)","v":0},null,{"$f":"IF(AND(F233>=M$437,H241>=O$437,J234>=Q$437,AL241>=S$437,J244>=U$437),1,0)","v":0},null,{"$f":"IF(F241=\"\",0,DATEDIF(D241,F241,\"m\")+1)","v":0}]
[null,null,"von ",null,"bis ",{"$nulls":4},"",null,null,{"$f":"((($M239-$M$432)/($M$431-$M$432))*0.5+1)","v":-0.25},0,{"$f":"((($M239-$O$432)/($O$431-$O$432))*0.5+1)","v":-0.75},0,{"$f":"((($M239-$Q$432)/($Q$431-$Q$432))*0.5+1)","v":-0.5},0,{"$f":"((($H242-$S$432)/($S$431-$S$432))*0.5+1)","v":-1},0,{"$f":"((($H242-$U$432)/($U$431-$U$432))*0.5+1)","v":-0.75},0,{"$f":"((($H242-$W$432)/($W$431-$W$432))*0.5+1)","v":-1.4},0,{"$f":"((($J234-$Y$432)/($Y$431-$Y$432))*0.5+1)","v":-0.25},0,{"$f":"((($J234-$AA$432)/($AA$431-$AA$432))*0.5+1)","v":0},0,{"$f":"((($J234-$AC$432)/($AC$431-$AC$432))*0.5+1)","v":0},0,null,{"$f":"IF(AND(B242<>\"\",PRODUCT(N242,T242,Z242)>=1,$J244>=$AG$432),1,0)","v":0},{"$f":"IF(AND(B242<>\"\",PRODUCT(P242,V242,AB242)>=1,$J244>=$AG$431),1,0)","v":0},{"$f":"IF(AND(B242<>\"\",PRODUCT(R242,X242,AD242)>=1,$J244>=$AG$430),1,0)","v":0},null,{"$f":"IF(AND(F233>=M$437,H242>=O$437,J234>=Q$437,AL242>=S$437,J244>=U$437),1,0)","v":0},null,{"$f":"IF(F242=\"\",0,DATEDIF(D242,F242,\"m\")+1)","v":0}]
[]
[null,"Komplexitätsbeurteilung des Vorhabens (s. Hinweise im Tabellenblatt 'Tips')",{"$nulls":7},{"$f":"SUM(J245:J254)","v":0}]
[null,"01 Ziele und Ergebnisbeurteilung"]
[null,"02 Prozesse, Methoden, Tools und Techniken"]
[null,"03 Ressourcen und Finanzierung"]
[null,"04 Chancen und Risiken"]
[null,"05 Stakeholder und Integration"]
[null,"06 Beziehungen zur Stammorganisation"]
[null,"07 Kultureller und sozialer Kontext"]
[null,"08 Führung, Teamarbeit und Entscheidungen"]
[null,"09 Innovationsgrad und Rahmenbedingungen"]
[null,"10 Koordinationsbedarf"]
[]
[null,"Referenzperson (üblicherweise Auftraggeber oder Arbeitgeber)"]
[null,"Vorname Name"]
[null,"Rolle im Vorhaben/Unternehmen"]
[null,"Telefon"]
[null,"E-Mail"]
[]
[]
[]
[null,"Projekt Nr. 7"]
[null,"Name des Vorhabens"]
[null,"Kunde (Unternehmen)"]
[null,"Art des Vorhabens"]
[null,"Scope"]
[]
[null,"Informationen zum Vorhaben",null,"Datum eingeben",{"$nulls":5},"Monate"]
[null,"Dauer","von ",null,"bis ",{"$nulls":4},{"$f":"ROUND(((F271-D271)/30.4),0)","v":0}]
[]
[null,"Umfang geplant",null,"Personentage ",null,null,null,"Cash-out \nin CHF"]
[null,"Umfang realisiert"]
[null,"Anzahl beteiligte Personen "]
[]
[null,"Vorhaben ist abgeschlossen (massgebend ist das Datum der Einreichung des Berichts)",{"$nulls":10},"Personentage",{"$nulls":5},"Mitwirkung",{"$nulls":5},"Anzahl beteiligte Personen",{"$nulls":6},"Levelkonformität",null,null,null,"Minimal-\nanforderung",null,"Dauer\nin Rolle"]
[null,"Vorhaben mit strategischer Bedeutung",{"$nulls":10},"C",null,"B",null,"A",null,"C",null,"B",null,"A",null,"C",null,"B",null,"A",null,null,"C","B","A"]
[]
[null,"Ihre Rolle(n) im Vorhaben",null,"Datum eingeben",null,null,null,"Stunden",null,"Std/Monat",null,null,{"$f":"IF(F273>=F274,F273,F274)","v":0}]
[null,null,"von ",null,"bis ",{"$nulls":4},{"$f":"IFERROR(ROUND(H281/((F281-D281)/30.4),0),\"\")","v":""},null,null,{"$f":"((($M280-$M$432)/($M$431-$M$432))*0.5+1)","v":-0.25},{"$f":"IF($M281>1.5,1.5,IF($M281<0.5,0,$M281))","v":0},{"$f":"((($M280-$O$432)/($O$431-$O$432))*0.5+1)","v":-0.75},{"$f":"IF($O281>1.5,1.5,IF($O281<0.5,0,$O281))","v":0},{"$f":"((($M280-$Q$432)/($Q$431-$Q$432))*0.5+1)","v":-0.5},{"$f":"IF($Q281>1.5,1.5,IF($Q281<0.5,0,$Q281))","v":0},{"$f":"((($H281-$S$432)/($S$431-$S$432))*0.5+1)","v":-1},{"$f":"IF($S281>1.5,1.5,IF($S281<0.5,0,$S281))","v":0},{"$f":"((($H281-$U$432)/($U$431-$U$432))*0.5+1)","v":-0.75},{"$f":"IF($U281>1.5,1.5,IF($U281<0.5,0,$U281))","v":0},{"$f":"((($H281-$W$432)/($W$431-$W$432))*0.5+1)","v":-1.4},{"$f":"IF($W281>1.5,1.5,IF($W281<0.5,0,$W281))","v":0},{"$f":"((($J275-$Y$432)/($Y$431-$Y$432))*0.5+1)","v":-0.25},{"$f":"IF($Y281>1.5,1.5,IF($Y281<0.5,0,$Y281))","v":0},{"$f":"((($J275-$AA$432)/($AA$431-$AA$432))*0.5+1)","v":0},{"$f":"IF($AA281>1.5,1.5,IF($AA281<0.5,0,$AA281))","v":0},{"$f":"((($J275-$AC$432)/($AC$431-$AC$432))*0.5+1)","v":0},{"$f":"IF($AC281>1.5,1.5,IF($AC281<0.5,0,$AC281))","v":0},null,{"$f":"IF(AND(B281<>\"\",PRODUCT(N281,T281,Z281)>=1,$J285>=$AG$432),1,0)","v":0},{"$f":"IF(AND(B281<>\"\",PRODUCT(P281,V281,AB281)>=1,$J285>=$AG$431),1,0)","v":0},{"$f":"IF(AND(B281<>\"\",PRODUCT(R281,X281,AD281)>=1,$J285>=$AG$430),1,0)","v":0},null,{"$f":"IF(AND(F274>=M$437,H281>=O$437,J275>=Q$437,AL281>=S$437,J285>=U$437),1,0)","v":0},null,{"$f":"IF(F281=\"\",0,DATEDIF(D281,F281,\"m\")+1)","v":0}]
[null,null,"von ",null,"bis ",{"$nulls":4},{"$f":"IFERROR(ROUND(H282/((F282-D282)/30.4),0),\"\")","v":""},null,null,{"$f":"((($M280-$M$432)/($M$431-$M$432))*0.5+1)","v":-0.25},{"$f":"IF($M282>1.5,1.5,IF($M282<0.5,0,$M282))","v":0},{"$f":"((($M280-$O$432)/($O$431-$O$432))*0.5+1)","v":-0.75},{"$f":"IF($O282>1.5,1.5,IF($O282<0.5,0,$O282))","v":0},{"$f":"((($M280-$Q$432)/($Q$431-$Q$432))*0.5+1)","v":-0.5},{"$f":"IF($Q282>1.5,1.5,IF($Q282<0.5,0,$Q282))","v":0},{"$f":"((($H282-$S$432)/($S$431-$S$432))*0.5+1)","v":-1},{"$f":"IF($S282>1.5,1.5,IF($S282<0.5,0,$S282))","v":0},{"$f":"((($H282-$U$432)/($U$431-$U$432))*0.5+1)","v":-0.75},{"$f":"IF($U282>1.5,1.5,IF($U282<0.5,0,$U282))","v":0},{"$f":"((($H282-$W$432)/($W$431-$W$432))*0.5+1)","v":-1.4},{"$f":"IF($W282>1.5,1.5,IF($W282<0.5,0,$W282))","v":0},{"$f":"((($J275-$Y$432)/($Y$431-$Y$432))*0.5+1)","v":-0.25},{"$f":"IF($Y282>1.5,1.5,IF($Y282<0.5,0,$Y282))","v":0},{"$f":"((($J275-$AA$432)/($AA$431-$AA$432))*0.5+1)","v":0},{"$f":"IF($AA282>1.5,1.5,IF($AA282<0.5,0,$AA282))","v":0},{"$f":"((($J275-$AC$432)/($AC$431-$AC$432))*0.5+1)","v":0},{"$f":"IF($AC282>1.5,1.5,IF($AC282<0.5,0,$AC282))","v":0},null,{"$f":"IF(AND(B282<>\"\",PRODUCT(N282,T282,Z282)>=1,$J285>=$AG$432),1,0)","v":0},{"$f":"IF(AND(B282<>\"\",PRODUCT(P282,V282,AB282)>=1,$J285>=$AG$431),1,0)","v":0},{"$f":"IF(AND(B282<>\"\",PRODUCT(R282,X282,AD282)>=1,$J285>=$AG$430),1,0)","v":0},null,{"$f":"IF(AND(F274>=M$437,H282>=O$437,J275>=Q$437,AL282>=S$437,J285>=U$437),1,0)","v":0},null,{"$f":"IF(F282=\"\",0,DATEDIF(D282,F282,\"m\")+1)","v":0}]
[null,null,"von ",null,"bis ",{"$nulls":4},"",null,null,{"$f":"((($M280-$M$432)/($M$431-$M$432))*0.5+1)","v":-0.25},0,{"$f":"((($M280-$O$432)/($O$431-$O$432))*0.5+1)","v":-0.75},0,{"$f":"((($M280-$Q$432)/($Q$431-$Q$432))*0.5+1)","v":-0.5},0,{"$f":"((($H283-$S$432)/($S$431-$S$432))*0.5+1)","v":-1},0,{"$f":"((($H283-$U$432)/($U$431-$U$432))*0.5+1)","v":-0.75},0,{"$f":"((($H283-$W$432)/($W$431-$W$432))*0.5+1)","v":-1.4},0,{"$f":"((($J275-$Y$432)/($Y$431-$Y$432))*0.5+1)","v":-0.25},0,{"$f":"((($J275-$AA$432)/($AA$431-$AA$432))*0.5+1)","v":0},0,{"$f":"((($J275-$AC$432)/($AC$431-$AC$432))*0.5+1)","v":0},0,null,{"$f":"IF(AND(B283<>\"\",PRODUCT(N283,T283,Z283)>=1,$J285>=$AG$432),1,0)","v":0},{"$f":"IF(AND(B283<>\"\",PRODUCT(P283,V283,AB283)>=1,$J285>=$AG$431),1,0)","v":0},{"$f":"IF(AND(B283<>\"\",PRODUCT(R283,X283,AD283)>=1,$J285>=$AG$430),1,0)","v":0},null,{"$f":"IF(AND(F274>=M$437,H283>=O$437,J275>=Q$437,AL283>=S$437,J285>=U$437),1,0)","v":0},null,{"$f":"IF(F283=\"\",0,DATEDIF(D283,F283,\"m\")+1)","v":0}]
[]
[null,"Komplexitätsbeurteilung des Vorhabens (s. Hinweise im Tabellenblatt 'Tips')",{"$nulls":7},{"$f":"SUM(J286:J295)","v":0}]
[null,"01 Ziele und Ergebnisbeurteilung"]
[null,"02 Prozesse, Methoden, Tools und Techniken"]
[null,"03 Ressourcen und Finanzierung"]
[null,"04 Chancen und Risiken"]
[null,"05 Stakeholder und Integration"]
[null,"06 Beziehungen zur Stammorganisation"]
[null,"07 Kultureller und sozialer Kontext"]
[null,"08 Führung, Teamarbeit und Entscheidungen"]
[null,"09 Innovationsgrad und Rahmenbedingungen"]
[null,"10 Koordinationsbedarf"]
[]
[null,"Referenzperson (üblicherweise Auftraggeber oder Arbeitgeber)"]
[null,"Vorname Name"]
[null,"Rolle im Vorhaben/Unternehmen"]
[null,"Telefon"]
[null,"E-Mail"]
[]
[]
[]
[null,"Projekt Nr. 8"]
[null,"Name des Vorhabens"]
[null,"Kunde (Unternehmen)"]
[null,"Art des Vorhabens"]
[null,"Scope"]
[]
[null,"Informationen zum Vorhaben",null,"Datum eingeben",{"$nulls":5},"Monate"]
[null,"Dauer","von ",null,"bis ",{"$nulls":4},{"$f":"ROUND(((F312-D312)/30.4),0)","v":0}]
[]
[null,"Umfang geplant",null,"Personentage ",null,null,null,"Cash-out \nin CHF"]
[null,"Umfang realisiert"]
[null,"Anzahl beteiligte Personen "]
[]
[null,"Vorhaben ist abgeschlossen (massgebend ist das Datum der Einreichung des Berichts)",{"$nulls":10},"Personentage",{"$nulls":5},"Mitwirkung",{"$nulls":5},"Anzahl beteiligte Personen",{"$nulls":6},"Levelkonformität",null,null,null,"Minimal-\nanforderung",null,"Dauer\nin Rolle"]
[null,"Vorhaben mit strategischer Bedeutung",{"$nulls":10},"C",null,"B",null,"A",null,"C",null,"B",null,"A",null,"C",null,"B",null,"A",null,null,"C","B","A"]
[]
[null,"Ihre Rolle(n) im Vorhaben",null,"Datum eingeben",null,null,null,"Stunden",null,"Std/Monat",null,null,{"$f":"IF(F314>=F315,F314,F315)","v":0}]
[null,null,"von ",null,"bis ",{"$nulls":4},{"$f":"IFERROR(ROUND(H322/((F322-D322)/30.4),0),\"\")","v":""},null,null,{"$f":"((($M321-$M$432)/($M$431-$M$432))*0.5+1)","v":-0.25},{"$f":"IF($M322>1.5,1.5,IF($M322<0.5,0,$M322))","v":0},{"$f":"((($M321-$O$432)/($O$431-$O$432))*0.5+1)","v":-0.75},{"$f":"IF($O322>1.5,1.5,IF($O322<0.5,0,$O322))","v":0},{"$f":"((($M321-$Q$432)/($Q$431-$Q$432))*0.5+1)","v":-0.5},{"$f":"IF($Q322>1.5,1.5,IF($Q322<0.5,0,$Q322))","v":0},{"$f":"((($H322-$S$432)/($S$431-$S$432))*0.5+1)","v":-1},{"$f":"IF($S322>1.5,1.5,IF($S322<0.5,0,$S322))","v":0},{"$f":"((($H322-$U$432)/($U$431-$U$432))*0.5+1)","v":-0.75},{"$f":"IF($U322>1.5,1.5,IF($U322<0.5,0,$U322))","v":0},{"$f":"((($H322-$W$432)/($W$431-$W$432))*0.5+1)","v":-1.4},{"$f":"IF($W322>1.5,1.5,IF($W322<0.5,0,$W322))","v":0},{"$f":"((($J316-$Y$432)/($Y$431-$Y$432))*0.5+1)","v":-0.25},{"$f":"IF($Y322>1.5,1.5,IF($Y322<0.5,0,$Y322))","v":0},{"$f":"((($J316-$AA$432)/($AA$431-$AA$432))*0.5+1)","v":0},{"$f":"IF($AA322>1.5,1.5,IF($AA322<0.5,0,$AA322))","v":0},{"$f":"((($J316-$AC$432)/($AC$431-$AC$432))*0.5+1)","v":0},{"$f":"IF($AC322>1.5,1.5,IF($AC322<0.5,0,$AC322))","v":0},null,{"$f":"IF(AND(B322<>\"\",PRODUCT(N322,T322,Z322)>=1,$J326>=$AG$432),1,0)","v":0},{"$f":"IF(AND(B322<>\"\",PRODUCT(P322,V322,AB322)>=1,$J326>=$AG$431),1,0)","v":0},{"$f":"IF(AND(B322<>\"\",PRODUCT(R322,X322,AD322)>=1,$J326>=$AG$430),1,0)","v":0},null,{"$f":"IF(AND(F315>=M$437,H322>=O$437,J316>=Q$437,AL322>=S$437,J326>=U$437),1,0)","v":0},null,{"$f":"IF(F322=\"\",0,DATEDIF(D322,F322,\"m\")+1)","v":0}]
[null,null,"von ",null,"bis ",{"$nulls":4},{"$f":"IFERROR(ROUND(H323/((F323-D323)/30.4),0),\"\")","v":""},null,null,{"$f":"((($M321-$M$432)/($M$431-$M$432))*0.5+1)","v":-0.25},{"$f":"IF($M323>1.5,1.5,IF($M323<0.5,0,$M323))","v":0},{"$f":"((($M321-$O$432)/($O$431-$O$432))*0.5+1)","v":-0.75},{"$f":"IF($O323>1.5,1.5,IF($O323<0.5,0,$O323))","v":0},{"$f":"((($M321-$Q$432)/($Q$431-$Q$432))*0.5+1)","v":-0.5},{"$f":"IF($Q323>1.5,1.5,IF($Q323<0.5,0,$Q323))","v":0},{"$f":"((($H323-$S$432)/($S$431-$S$432))*0.5+1)","v":-1},{"$f":"IF($S323>1.5,1.5,IF($S323<0.5,0,$S323))","v":0},{"$f":"((($H323-$U$432)/($U$431-$U$432))*0.5+1)","v":-0.75},{"$f":"IF($U323>1.5,1.5,IF($U323<0.5,0,$U323))","v":0},{"$f":"((($H323-$W$432)/($W$431-$W$432))*0.5+1)","v":-1.4},{"$f":"IF($W323>1.5,1.5,IF($W323<0.5,0,$W323))","v":0},{"$f":"((($J316-$Y$432)/($Y$431-$Y$432))*0.5+1)","v":-0.25},{"$f":"IF($Y323>1.5,1.5,IF($Y323<0.5,0,$Y323))","v":0},{"$f":"((($J316-$AA$432)/($AA$431-$AA$432))*0.5+1)","v":0},{"$f":"IF($AA323>1.5,1.5,IF($AA323<0.5,0,$AA323))","v":0},{"$f":"((($J316-$AC$432)/($AC$431-$AC$432))*0.5+1)","v":0},{"$f":"IF($AC323>1.5,1.5,IF($AC323<0.5,0,$AC323))","v":0},null,{"$f":"IF(AND(B323<>\"\",PRODUCT(N323,T323,Z323)>=1,$J326>=$AG$432),1,0)","v":0},{"$f":"IF(AND(B323<>\"\",PRODUCT(P323,V323,AB323)>=1,$J326>=$AG$431),1,0)","v":0},{"$f":"IF(AND(B323<>\"\",PRODUCT(R323,X323,AD323)>=1,$J326>=$AG$430),1,0)","v":0},null,{"$f":"IF(AND(F315>=M$437,H323>=O$437,J316>=Q$437,AL323>=S$437,J326>=U$437),1,0)","v":0},null,{"$f":"IF(F323=\"\",0,DATEDIF(D323,F323,\"m\")+1)","v":0}]
[null,null,"von ",null,"bis ",{"$nulls":4},"",null,null,{"$f":"((($M321-$M$432)/($M$431-$M$432))*0.5+1)","v":-0.25},0,{"$f":"((($M321-$O$432)/($O$431-$O$432))*0.5+1)","v":-0.75},0,{"$f":"((($M321-$Q$432)/($Q$431-$Q$432))*0.5+1)","v":-0.5},0,{"$f":"((($H324-$S$432)/($S$431-$S$432))*0.5+1)","v":-1},0,{"$f":"((($H324-$U$432)/($U$431-$U$432))*0.5+1)","v":-0.75},0,{"$f":"((($H324-$W$432)/($W$431-$W$432))*0.5+1)","v":-1.4},0,{"$f":"((($J316-$Y$432)/($Y$431-$Y$432))*0.5+1)","v":-0.25},0,{"$f":"((($J316-$AA$432)/($AA$431-$AA$432))*0.5+1)","v":0},0,{"$f":"((($J316-$AC$432)/($AC$431-$AC$432))*0.5+1)","v":0},0,null,{"$f":"IF(AND(B324<>\"\",PRODUCT(N324,T324,Z324)>=1,$J326>=$AG$432),1,0)","v":0},{"$f":"IF(AND(B324<>\"\",PRODUCT(P324,V324,AB324)>=1,$J326>=$AG$431),1,0)","v":0},{"$f":"IF(AND(B324<>\"\",PRODUCT(R324,X324,AD324)>=1,$J326>=$AG$430),1,0)","v":0},null,{"$f":"IF(AND(F315>=M$437,H324>=O$437,J316>=Q$437,AL324>=S$437,J326>=U$437),1,0)","v":0},null,{"$f":"IF(F324=\"\",0,DATEDIF(D324,F324,\"m\")+1)","v":0}]
[]
[null,"Komplexitätsbeurteilung des Vorhabens (s. Hinweise im Tabellenblatt 'Tips')",{"$nulls":7},{"$f":"SUM(J327:J336)","v":0}]
[null,"01 Ziele und Ergebnisbeurteilung"]
[null,"02 Prozesse, Methoden, Tools und Techniken"]
[null,"03 Ressourcen und Finanzierung"]
[null,"04 Chancen und Risiken"]
[null,"05 Stakeholder und Integration"]
[null,"06 Beziehungen zur Stammorganisation"]
[null,"07 Kultureller und sozialer Kontext"]
[null,"08 Führung, Teamarbeit und Entscheidungen"]
[null,"09 Innovationsgrad und Rahmenbedingungen"]
[null,"10 Koordinationsbedarf"]
[]
[null,"Referenzperson (üblicherweise Auftraggeber oder Arbeitgeber)"]
[null,"Vorname Name"]
[null,"Rolle im Vorhaben/Unternehmen"]
[null,"Telefon"]
[null,"E-Mail"]
[]
[]
[]
[null,"Projekt Nr. 9"]
[null,"Name des Vorhabens"]
[null,"Kunde (Unternehmen)"]
[null,"Art des Vorhabens"]
[null,"Scope"]
[]
[null,"Informationen zum Vorhaben",null,"Datum eingeben",{"$nulls":5},"Monate"]
[null,"Dauer","von ",null,"bis ",{"$nulls":4},{"$f":"ROUND(((F353-D353)/30.4),0)","v":0}]
[]
[null,"Umfang geplant",null,"Personentage ",null,null,null,"Cash-out \nin CHF"]
[null,"Umfang realisiert"]
[null,"Anzahl beteiligte Personen "]
[]
[null,"Vorhaben ist abgeschlossen (massgebend ist das Datum der Einreichung des Berichts)",{"$nulls":10},"Personentage",{"$nulls":5},"Mitwirkung",{"$nulls":5},"Anzahl beteiligte Personen",{"$nulls":6},"Levelkonformität",null,null,null,"Minimal-\nanforderung",null,"Dauer\nin Rolle"]
[null,"Vorhaben mit strategischer Bedeutung",{"$nulls":10},"C",null,"B",null,"A",null,"C",null,"B",null,"A",null,"C",null,"B",null,"A",null,null,"C","B","A"]
[]
[null,"Ihre Rolle(n) im Vorhaben",null,"Datum eingeben",null,null,null,"Stunden",null,"Std/Monat",null,null,{"$f":"IF(F355>=F356,F355,F356)","v":0}]
[null,null,"von ",null,"bis ",{"$nulls":4},{"$f":"IFERROR(ROUND(H363/((F363-D363)/30.4),0),\"\")","v":""},null,null,{"$f":"((($M362-$M$432)/($M$431-$M$432))*0.5+1)","v":-0.25},{"$f":"IF($M363>1.5,1.5,IF($M363<0.5,0,$M363))","v":0},{"$f":"((($M362-$O$432)/($O$431-$O$432))*0.5+1)","v":-0.75},{"$f":"IF($O363>1.5,1.5,IF($O363<0.5,0,$O363))","v":0},{"$f":"((($M362-$Q$432)/($Q$431-$Q$432))*0.5+1)","v":-0.5},{"$f":"IF($Q363>1.5,1.5,IF($Q363<0.5,0,$Q363))","v":0},{"$f":"((($H363-$S$432)/($S$431-$S$432))*0.5+1)","v":-1},{"$f":"IF($S363>1.5,1.5,IF($S363<0.5,0,$S363))","v":0},{"$f":"((($H363-$U$432)/($U$431-$U$432))*0.5+1)","v":-0.75},{"$f":"IF($U363>1.5,1.5,IF($U363<0.5,0,$U363))","v":0},{"$f":"((($H363-$W$432)/($W$431-$W$432))*0.5+1)","v":-1.4},{"$f":"IF($W363>1.5,1.5,IF($W363<0.5,0,$W363))","v":0},{"$f":"((($J357-$Y$432)/($Y$431-$Y$432))*0.5+1)","v":-0.25},{"$f":"IF($Y363>1.5,1.5,IF($Y363<0.5,0,$Y363))","v":0},{"$f":"((($J357-$AA$432)/($AA$431-$AA$432))*0.5+1)","v":0},{"$f":"IF($AA363>1.5,1.5,IF($AA363<0.5,0,$AA363))","v":0},{"$f":"((($J357-$AC$432)/($AC$431-$AC$432))*0.5+1)","v":0},{"$f":"IF($AC363>1.5,1.5,IF($AC363<0.5,0,$AC363))","v":0},null,{"$f":"IF(AND(B363<>\"\",PRODUCT(N363,T363,Z363)>=1,$J367>=$AG$432),1,0)","v":0},{"$f":"IF(AND(B363<>\"\",PRODUCT(P363,V363,AB363)>=1,$J367>=$AG$431),1,0)","v":0},{"$f":"IF(AND(B363<>\"\",PRODUCT(R363,X363,AD363)>=1,$J367>=$AG$430),1,0)","v":0},null,{"$f":"IF(AND(F356>=M$437,H363>=O$437,J357>=Q$437,AL363>=S$437,J367>=U$437),1,0)","v":0},null,{"$f":"IF(F363=\"\",0,DATEDIF(D363,F363,\"m\")+1)","v":0}]
[null,null,"von ",null,"bis ",{"$nulls":4},{"$f":"IFERROR(ROUND(H364/((F364-D364)/30.4),0),\"\")","v":""},null,null,{"$f":"((($M362-$M$432)/($M$431-$M$432))*0.5+1)","v":-0.25},{"$f":"IF($M364>1.5,1.5,IF($M364<0.5,0,$M364))","v":0},{"$f":"((($M362-$O$432)/($O$431-$O$432))*0.5+1)","v":-0.75},{"$f":"IF($O364>1.5,1.5,IF($O364<0.5,0,$O364))","v":0},{"$f":"((($M362-$Q$432)/($Q$431-$Q$432))*0.5+1)","v":-0.5},{"$f":"IF($Q364>1.5,1.5,IF($Q364<0.5,0,$Q364))","v":0},{"$f":"((($H364-$S$432)/($S$431-$S$432))*0.5+1)","v":-1},{"$f":"IF($S364>1.5,1.5,IF($S364<0.5,0,$S364))","v":0},{"$f":"((($H364-$U$432)/($U$431-$U$432))*0.5+1)","v":-0.75},{"$f":"IF($U364>1.5,1.5,IF($U364<0.5,0,$U364))","v":0},{"$f":"((($H364-$W$432)/($W$431-$W$432))*0.5+1)","v":-1.4},{"$f":"IF($W364>1.5,1.5,IF($W364<0.5,0,$W364))","v":0},{"$f":"((($J357-$Y$432)/($Y$431-$Y$432))*0.5+1)","v":-0.25},{"$f":"IF($Y364>1.5,1.5,IF($Y364<0.5,0,$Y364))","v":0},{"$f":"((($J357-$AA$432)/($AA$431-$AA$432))*0.5+1)","v":0},{"$f":"IF($AA364>1.5,1.5,IF($AA364<0.5,0,$AA364))","v":0},{"$f":"((($J357-$AC$432)/($AC$431-$AC$432))*0.5+1)","v":0},{"$f":"IF($AC364>1.5,1.5,IF($AC364<0.5,0,$AC364))","v":0},null,{"$f":"IF(AND(B364<>\"\",PRODUCT(N364,T364,Z364)>=1,$J367>=$AG$432),1,0)","v":0},{"$f":"IF(AND(B364<>\"\",PRODUCT(P364,V364,AB364)>=1,$J367>=$AG$431),1,0)","v":0},{"$f":"IF(AND(B364<>\"\",PRODUCT(R364,X364,AD364)>=1,$J367>=$AG$430),1,0)","v":0},null,{"$f":"IF(AND(F356>=M$437,H364>=O$437,J357>=Q$437,AL364>=S$437,J367>=U$437),1,0)","v":0},null,{"$f":"IF(F364=\"\",0,DATEDIF(D364,F364,\"m\")+1)","v":0}]
[null,null,"von ",null,"bis ",{"$nulls":4},"",null,null,{"$f":"((($M362-$M$432)/($M$431-$M$432))*0.5+1)","v":-0.25},0,{"$f":"((($M362-$O$432)/($O$431-$O$432))*0.5+1)","v":-0.75},0,{"$f":"((($M362-$Q$432)/($Q$431-$Q$432))*0.5+1)","v":-0.5},0,{"$f":"((($H365-$S$432)/($S$431-$S$432))*0.5+1)","v":-1},0,{"$f":"((($H365-$U$432)/($U$431-$U$432))*0.5+1)","v":-0.75},0,{"$f":"((($H365-$W$432)/($W$431-$W$432))*0.5+1)","v":-1.4},0,{"$f":"((($J357-$Y$432)/($Y$431-$Y$432))*0.5+1)","v":-0.25},0,{"$f":"((($J357-$AA$432)/($AA$431-$AA$432))*0.5+1)","v":0},0,{"$f":"((($J357-$AC$432)/($AC$431-$AC$432))*0.5+1)","v":0},0,null,{"$f":"IF(AND(B365<>\"\",PRODUCT(N365,T365,Z365)>=1,$J367>=$AG$432),1,0)","v":0},{"$f":"IF(AND(B365<>\"\",PRODUCT(P365,V365,AB365)>=1,$J367>=$AG$431),1,0)","v":0},{"$f":"IF(AND(B365<>\"\",PRODUCT(R365,X365,AD365)>=1,$J367>=$AG$430),1,0)","v":0},null,{"$f":"IF(AND(F356>=M$437,H365>=O$437,J357>=Q$437,AL365>=S$437,J367>=U$437),1,0)","v":0},null,{"$f":"IF(F365=\"\",0,DATEDIF(D365,F365,\"m\")+1)","v":0}]
[]
[null,"Komplexitätsbeurteilung des Vorhabens (s. Hinweise im Tabellenblatt 'Tips')",{"$nulls":7},{"$f":"SUM(J368:J377)","v":0}]
[null,"01 Ziele und Ergebnisbeurteilung"]
[null,"02 Prozesse, Methoden, Tools und Techniken"]
[null,"03 Ressourcen und Finanzierung"]
[null,"04 Chancen und Risiken"]
[null,"05 Stakeholder und Integration"]
[null,"06 Beziehungen zur Stammorganisation"]
[null,"07 Kultureller und sozialer Kontext"]
[null,"08 Führung, Teamarbeit und Entscheidungen"]
[null,"09 Innovationsgrad und Rahmenbedingungen"]
[null,"10 Koordinationsbedarf"]
[]
[null,"Referenzperson (üblicherweise Auftraggeber oder Arbeitgeber)"]
[null,"Vorname Name"]
[null,"Rolle im Vorhaben/Unternehmen"]
[null,"Telefon"]
[null,"E-Mail"]
[]
[]
[]
[null,"Projekt Nr. 10"]
[null,"Name des Vorhabens"]
[null,"Kunde (Unternehmen)"]
[null,"Art des Vorhabens"]
[null,"Scope"]
[]
[null,"Informationen zum Vorhaben",null,"Datum eingeben",{"$nulls":5},"Monate"]
[null,"Dauer","von ",null,"bis ",{"$nulls":4},{"$f":"ROUND(((F394-D394)/30.4),0)","v":0}]
[]
[null,"Umfang geplant",null,"Personentage ",null,null,null,"Cash-out \nin CHF"]
[null,"Umfang realisiert"]
[null,"Anzahl beteiligte Personen "]
[]
[null,"Vorhaben ist abgeschlossen (massgebend ist das Datum der Einreichung des Berichts)",{"$nulls":10},"Personentage",{"$nulls":5},"Mitwirkung",{"$nulls":5},"Anzahl beteiligte Personen",{"$nulls":6},"Levelkonformität",null,null,null,"Minimal-\nanforderung",null,"Dauer\nin Rolle"]
[null,"Vorhaben mit strategischer Bedeutung",{"$nulls":10},"C",null,"B",null,"A",null,"C",null,"B",null,"A",null,"C",null,"B",null,"A",null,null,"C","B","A"]
[]
[null,"Ihre Rolle(n) im Vorhaben",null,"Datum eingeben",null,null,null,"Stunden",null,"Std/Monat",null,null,{"$f":"IF(F396>=F397,F396,F397)","v":0}]
[null,null,"von ",null,"bis ",{"$nulls":4},{"$f":"IFERROR(ROUND(H404/((F404-D404)/30.4),0),\"\")","v":""},null,null,{"$f":"((($M403-$M$432)/($M$431-$M$432))*0.5+1)","v":-0.25},{"$f":"IF($M404>1.5,1.5,IF($M404<0.5,0,$M404))","v":0},{"$f":"((($M403-$O$432)/($O$431-$O$432))*0.5+1)","v":-0.75},{"$f":"IF($O404>1.5,1.5,IF($O404<0.5,0,$O404))","v":0},{"$f":"((($M403-$Q$432)/($Q$431-$Q$432))*0.5+1)","v":-0.5},{"$f":"IF($Q404>1.5,1.5,IF($Q404<0.5,0,$Q404))","v":0},{"$f":"((($H404-$S$432)/($S$431-$S$432))*0.5+1)","v":-1},{"$f":"IF($S404>1.5,1.5,IF($S404<0.5,0,$S404))","v":0},{"$f":"((($H404-$U$432)/($U$431-$U$432))*0.5+1)","v":-0.75},{"$f":"IF($U404>1.5,1.5,IF($U404<0.5,0,$U404))","v":0},{"$f":"((($H404-$W$432)/($W$431-$W$432))*0.5+1)","v":-1.4},{"$f":"IF($W404>1.5,1.5,IF($W404<0.5,0,$W404))","v":0},{"$f":"((($J398-$Y$432)/($Y$431-$Y$432))*0.5+1)","v":-0.25},{"$f":"IF($Y404>1.5,1.5,IF($Y404<0.5,0,$Y404))","v":0},{"$f":"((($J398-$AA$432)/($AA$431-$AA$432))*0.5+1)","v":0},{"$f":"IF($AA404>1.5,1.5,IF($AA404<0.5,0,$AA404))","v":0},{"$f":"((($J398-$AC$432)/($AC$431-$AC$432))*0.5+1)","v":0},{"$f":"IF($AC404>1.5,1.5,IF($AC404<0.5,0,$AC404))","v":0},null,{"$f":"IF(AND(B404<>\"\",PRODUCT(N404,T404,Z404)>=1,$J408>=$AG$432),1,0)","v":0},{"$f":"IF(AND(B404<>\"\",PRODUCT(P404,V404,AB404)>=1,$J408>=$AG$431),1,0)","v":0},{"$f":"IF(AND(B404<>\"\",PRODUCT(R404,X404,AD404)>=1,$J408>=$AG$430),1,0)","v":0},null,{"$f":"IF(AND(F397>=M$437,H404>=O$437,J398>=Q$437,AL404>=S$437,J408>=U$437),1,0)","v":0},null,{"$f":"IF(F404=\"\",0,DATEDIF(D404,F404,\"m\")+1)","v":0}]
[null,null,"von ",null,"bis ",{"$nulls":4},{"$f":"IFERROR(ROUND(H405/((F405-D405)/30.4),0),\"\")","v":""},null,null,{"$f":"((($M403-$M$432)/($M$431-$M$432))*0.5+1)","v":-0.25},{"$f":"IF($M405>1.5,1.5,IF($M405<0.5,0,$M405))","v":0},{"$f":"((($M403-$O$432)/($O$431-$O$432))*0.5+1)","v":-0.75},{"$f":"IF($O405>1.5,1.5,IF($O405<0.5,0,$O405))","v":0},{"$f":"((($M403-$Q$432)/($Q$431-$Q$432))*0.5+1)","v":-0.5},{"$f":"IF($Q405>1.5,1.5,IF($Q405<0.5,0,$Q405))","v":0},{"$f":"((($H405-$S$432)/($S$431-$S$432))*0.5+1)","v":-1},{"$f":"IF($S405>1.5,1.5,IF($S405<0.5,0,$S405))","v":0},{"$f":"((($H405-$U$432)/($U$431-$U$432))*0.5+1)","v":-0.75},{"$f":"IF($U405>1.5,1.5,IF($U405<0.5,0,$U405))","v":0},{"$f":"((($H405-$W$432)/($W$431-$W$432))*0.5+1)","v":-1.4},{"$f":"IF($W405>1.5,1.5,IF($W405<0.5,0,$W405))","v":0},{"$f":"((($J398-$Y$432)/($Y$431-$Y$432))*0.5+1)","v":-0.25},{"$f":"IF($Y405>1.5,1.5,IF($Y405<0.5,0,$Y405))","v":0},{"$f":"((($J398-$AA$432)/($AA$431-$AA$432))*0.5+1)","v":0},{"$f":"IF($AA405>1.5,1.5,IF($AA405<0.5,0,$AA405))","v":0},{"$f":"((($J398-$AC$432)/($AC$431-$AC$432))*0.5+1)","v":0},{"$f":"IF($AC405>1.5,1.5,IF($AC405<0.5,0,$AC405))","v":0},null,{"$f":"IF(AND(B405<>\"\",PRODUCT(N405,T405,Z405)>=1,$J408>=$AG$432),1,0)","v":0},{"$f":"IF(AND(B405<>\"\",PRODUCT(P405,V405,AB405)>=1,$J408>=$AG$431),1,0)","v":0},{"$f":"IF(AND(B405<>\"\",PRODUCT(R405,X405,AD405)>=1,$J408>=$AG$430),1,0)","v":0},null,{"$f":"IF(AND(F397>=M$437,H405>=O$437,J398>=Q$437,AL405>=S$437,J408>=U$437),1,0)","v":0},null,{"$f":"IF(F405=\"\",0,DATEDIF(D405,F405,\"m\")+1)","v":0}]
[null,null,"von ",null,"bis ",{"$nulls":4},"",null,null,{"$f":"((($M403-$M$432)/($M$431-$M$432))*0.5+1)","v":-0.25},0,{"$f":"((($M403-$O$432)/($O$431-$O$432))*0.5+1)","v":-0.75},0,{"$f":"((($M403-$Q$432)/($Q$431-$Q$432))*0.5+1)","v":-0.5},0,{"$f":"((($H406-$S$432)/($S$431-$S$432))*0.5+1)","v":-1},0,{"$f":"((($H406-$U$432)/($U$431-$U$432))*0.5+1)","v":-0.75},0,{"$f":"((($H406-$W$432)/($W$431-$W$432))*0.5+1)","v":-1.4},0,{"$f":"((($J398-$Y$432)/($Y$431-$Y$432))*0.5+1)","v":-0.25},0,{"$f":"((($J398-$AA$432)/($AA$431-$AA$432))*0.5+1)","v":0},0,{"$f":"((($J398-$AC$432)/($AC$431-$AC$432))*0.5+1)","v":0},0,null,{"$f":"IF(AND(B406<>\"\",PRODUCT(N406,T406,Z406)>=1,$J408>=$AG$432),1,0)","v":0},{"$f":"IF(AND(B406<>\"\",PRODUCT(P406,V406,AB406)>=1,$J408>=$AG$431),1,0)","v":0},{"$f":"IF(AND(B406<>\"\",PRODUCT(R406,X406,AD406)>=1,$J408>=$AG$430),1,0)","v":0},null,{"$f":"IF(AND(F397>=M$437,H406>=O$437,J398>=Q$437,AL406>=S$437,J408>=U$437),1,0)","v":0},null,{"$f":"IF(F406=\"\",0,DATEDIF(D406,F406,\"m\")+1)","v":0}]
[]
[null,"Komplexitätsbeurteilung des Vorhabens (s. Hinweise im Tabellenblatt 'Tips')",{"$nulls":7},{"$f":"SUM(J409:J418)","v":0}]
[null,"01 Ziele und Ergebnisbeurteilung"]
[null,"02 Prozesse, Methoden, Tools und Techniken"]
[null,"03 Ressourcen und Finanzierung"]
[null,"04 Chancen und Risiken"]
[null,"05 Stakeholder und Integration"]
[null,"06 Beziehungen zur Stammorganisation"]
[null,"07 Kultureller und sozialer Kontext"]
[null,"08 Führung, Teamarbeit und Entscheidungen"]
[null,"09 Innovationsgrad und Rahmenbedingungen"]
[null,"10 Koordinationsbedarf"]
[]
[null,"Referenzperson (üblicherweise Auftraggeber oder Arbeitgeber)"]
[null,"Vorname Name"]
[null,"Rolle im Vorhaben/Unternehmen"]
[null,"Telefon"]
[null,"E-Mail"]
[]
[]
[{"$nulls":12},"Vorgaben für Berechnung der Levelkonformität"]
[]
[{"$nulls":12},"Personentage",{"$nulls":5},"Mitwirkung in Stunden",{"$nulls":5},"Anzahl beteiligte Personen",{"$nulls":6},"Komplexität"]
[{"$nulls":12},"C",null,"B",null,"A",null,"C",null,"B",null,"A",null,"C",null,"B",null,"A",null,null,"A",32]
[{"$nulls":12},350,null,900,null,4000,null,250,null,900,null,2900,null,7,null,15,null,45,null,null,"B",25]
[{"$nulls":12},250,null,700,null,3000,null,200,null,700,null,2400,null,5,null,10,null,30,null,null,"C",16]
[{"$nulls":12},150,null,500,null,2000,null,150,null,500,null,1900,null,3,null,5,null,15]
[{"$nulls":31},"Einsatzdauer"]
[{"$nulls":12},"Minimalanforderungen für Erfahrung",{"$nulls":18},"A",18]
[{"$nulls":12},"PT",null,"Mitwirkung",null,"Personen",null,"Dauer",null,"Komplexität",{"$nulls":10},"B",9]
[{"$nulls":12},100,null,100,null,2,null,2,null,10,{"$nulls":10},"C",6]

{"sheet":"AgilPfM","index":10,"n_rows":263,"n_cols":45,"rows_kept":263,"cut":false,"hidden":false,"merged":[[243,6,243,7],[259,39,259,40],[261,14,261,15],[261,16,261,17],[261,18,261,19],[261,20,261,21],[261,22,261,23],[263,14,263,15],[263,16,263,17],[257,28,257,29],[257,32,257,33],[257,34,257,35],[256,18,256,19],[256,20,256,21],[256,22,256,23],[256,24,256,25],[256,28,256,29],[256,32,256,33],[256,34,256,35],[254,28,254,29],[254,32,254,33],[254,34,254,35],[255,14,255,15],[255,16,255,17],[257,26,257,27],[256,26,256,27],[255,26,255,27],[254,26,254,27],[253,22,253,25],[257,14,257,15],[257,16,257,17],[257,18,257,19],[257,20,257,21],[257,22,257,23],[257,24,257,25],[256,14,256,15],[256,16,256,17],[261,24,261,25],[261,26,261,27],[262,14,262,15],[262,16,262,17],[262,18,262,19],[262,20,262,21],[262,22,262,23],[262,24,262,25],[262,26,262,27],[255,28,255,29],[255,32,255,33],[255,34,255,35],[253,30,253,31],[253,32,253,35],[253,36,253,37],[253,39,253,40],[246,4,246,11],[247,4,247,11],[248,4,248,11],[249,4,249,11],[253,14,253,17],[253,18,253,21],[253,26,253,29],[255,18,255,19],[255,20,255,21],[255,22,255,23],[255,24,255,25],[254,14,254,15],[254,16,254,17],[254,18,254,19],[254,20,254,21],[254,22,254,23],[254,24,254,25],[243,15,243,16],[243,17,243,18],[238,15,238,16],[238,17,238,18],[239,15,239,16],[239,17,239,18],[240,15,240,16],[240,17,240,18],[235,15,235,16],[235,17,235,18],[236,15,236,16],[236,17,236,18],[237,15,237,16],[237,17,237,18],[241,15,241,16],[241,17,241,18],[242,15,242,16],[242,17,242,18],[232,15,232,16],[232,17,232,18],[233,15,233,16],[233,17,233,18],[234,15,234,16],[234,17,234,18],[229,15,229,16],[229,17,229,18],[230,15,230,16],[230,17,230,18],[231,15,231,16],[231,17,231,18],[226,15,226,16],[226,17,226,18],[227,15,227,16],[227,17,227,18],[228,15,228,16],[228,17,228,18],[223,15,223,16],[223,17,223,18],[224,15,224,16],[224,17,224,18],[225,15,225,16],[225,17,225,18],[220,15,220,16],[220,17,220,18],[221,15,221,16],[221,17,221,18],[222,15,222,16],[222,17,222,18],[217,15,217,16],[217,17,217,18],[218,15,218,16],[218,17,218,18],[219,15,219,16],[219,17,219,18],[214,15,214,16],[214,17,214,18],[215,15,215,16],[215,17,215,18],[216,15,216,16],[216,17,216,18],[212,2,212,4],[212,17,212,18],[212,19,212,20],[212,21,212,22],[213,15,213,16],[213,17,213,18],[210,8,210,9],[210,10,210,11],[210,14,211,14],[210,17,210,22],[211,17,211,18],[211,19,211,20],[211,21,211,22],[210,1,211,1],[210,2,211,2],[210,3,211,3],[210,4,211,4],[210,5,211,5],[210,6,210,7],[202,2,202,10],[203,2,203,10],[204,2,204,10],[205,2,205,10],[206,14,206,16],[208,2,208,11],[196,2,196,10],[197,2,197,10],[198,2,198,10],[199,2,199,10],[200,2,200,10],[201,2,201,10],[188,36,188,37],[190,6,190,8],[191,2,191,3],[192,2,192,3],[193,2,193,3],[195,2,195,5],[188,24,188,25],[188,26,188,27],[188,28,188,29],[188,30,188,31],[188,32,188,33],[188,34,188,35],[187,34,187,37],[187,39,187,40],[187,42,188,42],[187,44,188,44],[188,2,188,5],[188,14,188,15],[188,16,188,17],[188,18,188,19],[188,20,188,21],[188,22,188,23],[187,7,187,10],[187,14,187,17],[187,18,187,21],[187,22,187,25],[187,26,187,29],[187,30,187,33],[183,20,183,21],[184,14,184,15],[184,16,184,17],[184,18,184,19],[184,20,184,21],[175,4,175,11],[176,4,176,11],[178,7,178,9],[181,8,181,9],[181,10,181,11],[183,6,183,7],[161,15,161,16],[161,17,161,18],[162,15,162,16],[162,17,162,18],[163,6,163,7],[163,15,163,16],[163,17,163,18],[183,14,183,15],[183,16,183,17],[183,18,183,19],[158,15,158,16],[158,17,158,18],[159,15,159,16],[159,17,159,18],[160,15,160,16],[160,17,160,18],[155,15,155,16],[155,17,155,18],[156,15,156,16],[156,17,156,18],[157,15,157,16],[157,17,157,18],[152,15,152,16],[152,17,152,18],[153,15,153,16],[153,17,153,18],[154,15,154,16],[154,17,154,18],[149,15,149,16],[149,17,149,18],[150,15,150,16],[150,17,150,18],[151,15,151,16],[151,17,151,18],[146,15,146,16],[146,17,146,18],[147,15,147,16],[147,17,147,18],[148,15,148,16],[148,17,148,18],[143,15,143,16],[143,17,143,18],[144,15,144,16],[144,17,144,18],[145,15,145,16],[145,17,145,18],[140,15,140,16],[140,17,140,18],[141,15,141,16],[141,17,141,18],[142,15,142,16],[142,17,142,18],[137,15,137,16],[137,17,137,18],[138,15,138,16],[138,17,138,18],[139,15,139,16],[139,17,139,18],[134,15,134,16],[134,17,134,18],[135,15,135,16],[135,17,135,18],[136,15,136,16],[136,17,136,18],[132,2,132,4],[132,17,132,18],[132,19,132,20],[132,21,132,22],[133,15,133,16],[133,17,133,18],[130,8,130,9],[130,10,130,11],[130,14,131,14],[130,17,130,22],[131,17,131,18],[131,19,131,20],[131,21,131,22],[130,1,131,1],[130,2,131,2],[130,3,131,3],[130,4,131,4],[130,5,131,5],[130,6,130,7],[122,2,122,10],[123,2,123,10],[124,2,124,10],[125,2,125,10],[126,14,126,16],[128,2,128,11],[116,2,116,10],[117,2,117,10],[118,2,118,10],[119,2,119,10],[120,2,120,10],[121,2,121,10],[108,36,108,37],[110,6,110,8],[111,2,111,3],[112,2,112,3],[113,2,113,3],[115,2,115,5],[108,24,108,25],[108,26,108,27],[108,28,108,29],[108,30,108,31],[108,32,108,33],[108,34,108,35],[107,34,107,37],[107,39,107,40],[107,42,108,42],[107,44,108,44],[108,2,108,5],[108,14,108,15],[108,16,108,17],[108,18,108,19],[108,20,108,21],[108,22,108,23],[107,7,107,10],[107,14,107,17],[107,18,107,21],[107,22,107,25],[107,26,107,29],[107,30,107,33],[103,14,103,15],[103,16,103,17],[103,18,103,19],[103,20,103,21],[104,14,104,15],[104,16,104,17],[104,18,104,19],[104,20,104,21],[95,4,95,11],[96,4,96,11],[98,7,98,9],[101,8,101,9],[101,10,101,11],[80,17,80,19],[81,2,81,10],[83,2,83,10],[75,15,75,16],[75,17,75,18],[76,15,76,16],[76,17,76,18],[77,6,77,7],[77,15,77,16],[77,17,77,18],[79,2,79,10],[80,2,80,10],[80,14,80,16],[72,15,72,16],[72,17,72,18],[73,15,73,16],[73,17,73,18],[74,15,74,16],[74,17,74,18],[69,15,69,16],[69,17,69,18],[70,15,70,16],[70,17,70,18],[71,15,71,16],[71,17,71,18],[66,15,66,16],[66,17,66,18],[67,15,67,16],[67,17,67,18],[68,15,68,16],[68,17,68,18],[63,15,63,16],[63,17,63,18],[64,15,64,16],[64,17,64,18],[65,15,65,16],[65,17,65,18],[60,15,60,16],[60,17,60,18],[61,15,61,16],[61,17,61,18],[62,15,62,16],[62,17,62,18],[57,15,57,16],[57,17,57,18],[58,15,58,16],[58,17,58,18],[59,15,59,16],[59,17,59,18],[54,15,54,16],[54,17,54,18],[55,15,55,16],[55,17,55,18],[56,15,56,16],[56,17,56,18],[51,15,51,16],[51,17,51,18],[52,15,52,16],[52,17,52,18],[53,15,53,16],[53,17,53,18],[48,15,48,16],[48,17,48,18],[49,15,49,16],[49,17,49,18],[50,15,50,16],[50,17,50,18],[46,2,46,4],[46,17,46,18],[46,19,46,20],[46,21,46,22],[47,15,47,16],[47,17,47,18],[44,8,44,9],[44,10,44,11],[44,14,45,14],[44,17,44,22],[45,17,45,18],[45,19,45,20],[45,21,45,22],[44,1,45,1],[44,2,45,2],[44,3,45,3],[44,4,45,4],[44,5,45,5],[44,6,44,7],[36,2,36,10],[37,2,37,10],[38,2,38,10],[39,2,39,10],[40,14,40,16],[42,2,42,11],[30,2,30,10],[31,2,31,10],[32,2,32,10],[33,2,33,10],[34,2,34,10],[35,2,35,10],[22,36,22,37],[24,6,24,8],[25,2,25,3],[26,2,26,3],[27,2,27,3],[29,2,29,5],[22,24,22,25],[22,26,22,27],[22,28,22,29],[22,30,22,31],[22,32,22,33],[22,34,22,35],[21,34,21,37],[21,39,21,40],[21,42,22,42],[21,44,22,44],[22,2,22,5],[22,14,22,15],[22,16,22,17],[22,18,22,19],[22,20,22,21],[22,22,22,23],[21,7,21,10],[21,14,21,17],[21,18,21,21],[21,22,21,25],[21,26,21,29],[21,30,21,33],[17,20,17,21],[18,14,18,15],[18,16,18,17],[18,18,18,19],[18,20,18,21],[20,8,20,10],[15,8,15,9],[15,10,15,11],[17,14,17,15],[17,16,17,17],[17,18,17,19],[3,2,3,11],[7,4,7,11],[8,4,8,11],[9,4,9,11],[10,4,10,11],[12,7,12,9],[101,6,102,7],[103,6,103,7],[181,6,182,7],[86,4,86,11],[87,4,87,11],[88,4,88,11],[89,4,89,11],[93,4,93,11],[94,4,94,11],[166,4,166,11],[167,4,167,11],[168,4,168,11],[169,4,169,11],[173,4,173,11],[174,4,174,11],[15,6,16,7],[17,6,17,7]]}
[]
[null,null,"In einem agilen Portfolio nachgewiesene Erfahrung"]
[]
[null,null,"Nur die Rollen Agile(r) Portfoliomanager*in und Mitglied Portfolioteam werden als levelkonforme Rollen angerechnet.\n\nDas Portfolio Nr. 1 wird in der Zertifizierung als Referenzportfolio eingesetzt und muss im Executive Summary Report beschrieben werden. Falls Sie 2 oder 3 Portfolios anführen, sind die Portfolios Nr. 2 und 3 ebenfalls im Executive Summary Report zu beschreiben. Im verkürzten Zertifizierungsverfahren ist im Executive Summary Report nur das Portfolio Nr. 1 zu beschreiben.\n\nDie unten einzugebenden Informationen müssen sich auf denjenigen Bereich beziehen, an welchem Sie beteiligt waren. Geben Sie bitte in den Zahlenfeldern nur Zahlen ein!"]
[]
[]
[]
[null,null,"Portfolio Nr. 1",null,"Referenzportfolio"]
[null,null,"Name des Portfolios"]
[null,null,"Portfoliokunde (Unternehmen)"]
[null,null,"Portfolioscope"]
[]
[null,null,"Informationen zum Portfolio",{"$nulls":4},"Datum eingeben",null,null,null,"Monate"]
[null,null,"Effektive Portfoliodauer",null,null,null,"von ",null,"bis ",null,null,{"$f":"ROUND(((J14-H14)/30.4),0)","v":0}]
[]
[{"$nulls":6},"Anzahl beteiligte Personen",null,"Personentage",null,"Investition in TCHF"]
[{"$nulls":8},"geplant","realisiert","geplant","realisiert"]
[null,null,"Portfolioumfang und Anzahl beteiligte Personen",{"$nulls":5},{"$f":"I78","v":0},{"$f":"J78","v":0},{"$f":"K78","v":0},{"$f":"L78","v":0},null,null,"Start",null,"Ende",null,"Monate",null,"Dauer?"]
[null,null,"Jährliches Investitionsvolumen (berechnet aus untenstehender Liste der Vorhaben)",{"$nulls":7},{"$f":"IF(U19=0,0,(K18/S19)*12)","v":0},{"$f":"IF(U19=0,0,(L18/S19)*12)","v":0},null,null,{"$f":"MIN(G47:G77)","v":"00:00:00"},null,{"$f":"MAX(H47:H77)","v":"00:00:00"},null,{"$f":"DATEDIF(O19,Q19,\"m\")+1","v":1},null,{"$f":"COUNTA(G47:G77)","v":0}]
[]
[null,null,"Anzahl verschiedene Arten der Vorhaben",{"$nulls":8},{"$f":"SUMPRODUCT((E48:E77<>\"\")/COUNTIF(E48:E77,E48:E77&\"\"))","v":0}]
[null,null,"Portfolio mit strategischer Bedeutung",{"$nulls":4},"Anzahl Vorhaben mit strategischer Bedeutung ",null,null,null,{"$f":"F78","v":0},null,null,"Jährl. Investitionsvolumen",null,null,null,"Portfolioleitung in Stunden",{"$nulls":7},"Anzahl beteiligte Personen",null,null,null,"Projektarten",null,null,null,"Anzahl (komplexe) Projekte",{"$nulls":4},"Levelkonformität",null,null,"Minimal-\nanforderung",null,"Dauer\nin Rolle"]
[null,null,"Portfolio ist abgeschlossen (massgebend ist das Datum der Einreichung des Antrags)",{"$nulls":8},"nein",null,null,"B",null,"A",null,"B",null,"A",{"$nulls":5},"B",null,"A",null,"B",null,"A",null,"B",null,"A",null,null,"B","A"]
[]
[null,null,"Ihre Rolle(n) im Portfolio",null,null,null,"Datum eingeben",null,null,null,"Stunden","Std/Monat"]
[{"$nulls":5},"von ",null,"bis ",null,null,null,{"$f":"IFERROR(ROUND(K26/((I26-G26)/30.4),0),\"\")","v":""},null,null,{"$f":"((($L19-$O$257)/($O$256-$O$257))*0.5+1)","v":0.25},{"$f":"IF($O26>1.5,1.5,IF($O26<0.5,0,$O26))","v":0},{"$f":"((($L19-$Q$257)/($Q$256-$Q$257))*0.5+1)","v":0},{"$f":"IF($Q26>1.5,1.5,IF($Q26<0.5,0,$Q26))","v":0},{"$f":"((($K26-$S$257)/($S$256-$S$257))*0.5+1)","v":-0.75},{"$f":"IF($S26>1.5,1.5,IF($S26<0.5,0,$S26))","v":0},{"$f":"((($K26-$U$257)/($U$256-$U$257))*0.5+1)","v":-1.4},{"$f":"IF($U26>1.5,1.5,IF($U26<0.5,0,$U26))","v":0},{"$nulls":4},{"$f":"((($G18-$AA$257)/($AA$256-$AA$257))*0.5+1)","v":0},{"$f":"IF($AA26>1.5,1.5,IF($AA26<0.5,0,$AA26))","v":0},{"$f":"((($G18-$AC$257)/($AC$256-$AC$257))*0.5+1)","v":-0.5},{"$f":"IF($AC26>1.5,1.5,IF($AC26<0.5,0,$AC26))","v":0},{"$f":"((($L21-$AE$257)/($AE$256-$AE$257))*0.5+1)","v":0},{"$f":"IF($AE26>1.5,1.5,IF($AE26<0.5,0,$AE26))","v":0},{"$f":"((($L21-$AF$257)/($AF$256-$AF$257))*0.5+1)","v":-0.5},{"$f":"IF($AG26>1.5,1.5,IF($AG26<0.5,0,$AG26))","v":0},{"$f":"((($T47-$AG$257)/($AG$256-$AG$257))*0.5+1)","v":0.16666666666666663},{"$f":"IF($AI26>1.5,1.5,IF($AI26<0.5,0,$AI26))","v":0},{"$f":"((($V47-$AI$257)/($AI$256-$AI$257))*0.5+1)","v":0},{"$f":"IF($AK26>1.5,1.5,IF($AK26<0.5,0,$AK26))","v":0},null,{"$f":"IF(AND(OR($C26=\"Agile(r) Portfoliomanager*in\",$C26=\"Mitglied Portfolioteam\"),PRODUCT(P26,T26,AB26,AF26,AJ26)>=1,$L$30>=$AO$256),1,0)","v":0},{"$f":"IF(AND(OR($C26=\"Agile(r) Portfoliomanager*in\",$C26=\"Mitglied Portfolioteam\"),PRODUCT(R26,V26,AD26,AH26,AL26)>=1,$L$30>=$AO$255),1,0)","v":0},null,{"$f":"IF(AND(OR(J18>=O$263,L18>=Q$263),K26>=S$263,G18+H18>=U$263,AS26>=W$263,L30>=Y$263,R47>=AA$263),1,0)","v":0},null,{"$f":"IF(I26=\"\",0,DATEDIF(G26,I26,\"m\")+1)","v":0}]
[{"$nulls":5},"von ",null,"bis ",null,null,null,{"$f":"IFERROR(ROUND(K27/((I27-G27)/30.4),0),\"\")","v":""},null,null,{"$f":"((($L19-$O$257)/($O$256-$O$257))*0.5+1)","v":0.25},{"$f":"IF($O27>1.5,1.5,IF($O27<0.5,0,$O27))","v":0},{"$f":"((($L19-$Q$257)/($Q$256-$Q$257))*0.5+1)","v":0},{"$f":"IF($Q27>1.5,1.5,IF($Q27<0.5,0,$Q27))","v":0},{"$f":"((($K27-$S$257)/($S$256-$S$257))*0.5+1)","v":-0.75},{"$f":"IF($S27>1.5,1.5,IF($S27<0.5,0,$S27))","v":0},{"$f":"((($K27-$U$257)/($U$256-$U$257))*0.5+1)","v":-1.4},{"$f":"IF($U27>1.5,1.5,IF($U27<0.5,0,$U27))","v":0},{"$nulls":4},{"$f":"((($G18-$AA$257)/($AA$256-$AA$257))*0.5+1)","v":0},{"$f":"IF($AA27>1.5,1.5,IF($AA27<0.5,0,$AA27))","v":0},{"$f":"((($G18-$AC$257)/($AC$256-$AC$257))*0.5+1)","v":-0.5},{"$f":"IF($AC27>1.5,1.5,IF($AC27<0.5,0,$AC27))","v":0},{"$f":"((($L21-$AE$257)/($AE$256-$AE$257))*0.5+1)","v":0},{"$f":"IF($AE27>1.5,1.5,IF($AE27<0.5,0,$AE27))","v":0},{"$f":"((($L21-$AF$257)/($AF$256-$AF$257))*0.5+1)","v":-0.5},{"$f":"IF($AG27>1.5,1.5,IF($AG27<0.5,0,$AG27))","v":0},{"$f":"((($T47-$AG$257)/($AG$256-$AG$257))*0.5+1)","v":0.16666666666666663},{"$f":"IF($AI27>1.5,1.5,IF($AI27<0.5,0,$AI27))","v":0},{"$f":"((($V47-$AI$257)/($AI$256-$AI$257))*0.5+1)","v":0},{"$f":"IF($AK27>1.5,1.5,IF($AK27<0.5,0,$AK27))","v":0},null,{"$f":"IF(AND(OR($C27=\"Agile(r) Portfoliomanager*in\",$C27=\"Mitglied Portfolioteam\"),PRODUCT(P27,T27,AB27,AF27,AJ27)>=1,$L$30>=$AO$256),1,0)","v":0},{"$f":"IF(AND(OR($C27=\"Agile(r) Portfoliomanager*in\",$C27=\"Mitglied Portfolioteam\"),PRODUCT(R27,V27,AD27,AH27,AL27)>=1,$L$30>=$AO$255),1,0)","v":0},null,{"$f":"IF(AND(OR(J18>=O$263,L18>=Q$263),K27>=S$263,G18+H18>=U$263,AS27>=W$263,L30>=Y$263,R47>=AA$263),1,0)","v":0},null,{"$f":"IF(I27=\"\",0,DATEDIF(G27,I27,\"m\")+1)","v":0}]
[{"$nulls":5},"von ",null,"bis ",null,null,null,"",null,null,{"$f":"((($L19-$O$257)/($O$256-$O$257))*0.5+1)","v":0.25},0,{"$f":"((($L19-$Q$257)/($Q$256-$Q$257))*0.5+1)","v":0},0,{"$f":"((($K28-$S$257)/($S$256-$S$257))*0.5+1)","v":-0.75},0,{"$f":"((($K28-$U$257)/($U$256-$U$257))*0.5+1)","v":-1.4},0,{"$nulls":4},{"$f":"((($G18-$AA$257)/($AA$256-$AA$257))*0.5+1)","v":0},0,{"$f":"((($G18-$AC$257)/($AC$256-$AC$257))*0.5+1)","v":-0.5},0,{"$f":"((($L21-$AE$257)/($AE$256-$AE$257))*0.5+1)","v":0},0,{"$f":"((($L21-$AF$257)/($AF$256-$AF$257))*0.5+1)","v":-0.5},{"$f":"IF($AG28>1.5,1.5,IF($AG28<0.5,0,$AG28))","v":0},{"$f":"((($T47-$AG$257)/($AG$256-$AG$257))*0.5+1)","v":0.16666666666666663},{"$f":"IF($AI28>1.5,1.5,IF($AI28<0.5,0,$AI28))","v":0},{"$f":"((($V47-$AI$257)/($AI$256-$AI$257))*0.5+1)","v":0},{"$f":"IF($AK28>1.5,1.5,IF($AK28<0.5,0,$AK28))","v":0},null,0,0,null,{"$f":"IF(AND(OR(J18>=O$263,L18>=Q$263),K28>=S$263,G18+H18>=U$263,AS28>=W$263,L30>=Y$263,R47>=AA$263),1,0)","v":0},null,0]
[]
[null,null,"Komplexitätsbeurteilung des Portfolios (s. Hinweise im Tabellenblatt 'Tips')",{"$nulls":8},{"$f":"SUM(L31:L40)","v":0}]
[null,null,"01 Ziele und Ergebnisbeurteilung"]
[null,null,"02 Prozesse, Methoden, Tools und Techniken"]
[null,null,"03 Ressourcen"]
[null,null,"04 Chancen und Risiken"]
[null,null,"05 Stakeholder und Integration"]
[null,null,"06 Beziehungen zur Stammorganisation"]
[null,null,"07 Kultureller und sozialer Kontext"]
[null,null,"08 Führung, Teamarbeit und Entscheidungen"]
[null,null,"09 Innovationsgrad und Rahmenbedingungen"]
[null,null,"10 Koordinationsbedarf"]
[]
[null,null,"Liste der Vorhaben"]
[null,null,"Geben Sie unter 'geplant' die bis zum Ende des Portfolios geplanten Umfänge und unter 'realisiert' die bis zur Einreichung des Zertifizierungsantrags geleisteten Umfänge an."]
[]
[null,"Nr","Name des Vorhabens","Scope","Art des Vorhabens","strate-\ngisch","Dauer",null,"Personentage",null,"Investition in TCHF",{"$nulls":6},"Grösse des Vorhabens"]
[{"$nulls":6},"von","bis","geplant","realisiert","geplant","realisiert",{"$nulls":5},"≥ 1 PT",null,"≥ 250 PT",null,"≥ 700 PT"]
[null,null,"Aufwände im Portfolioausserhalb der Vorhaben",{"$nulls":14},{"$f":"COUNTIF($P48:PJ77,\">=1\")","v":0},null,{"$f":"COUNTIF($P48:$P77,\">=250\")","v":0},null,{"$f":"COUNTIF($P48:$P77,\">=700\")","v":0}]
[null,1,{"$nulls":13},{"$f":"IF(I48>=J48,I48,J48)","v":0}]
[null,2,{"$nulls":13},{"$f":"IF(I49>=J49,I49,J49)","v":0}]
[null,3,{"$nulls":13},0]
[null,4,{"$nulls":13},0]
[null,5,{"$nulls":13},0]
[null,6,{"$nulls":13},0]
[null,7,{"$nulls":13},0]
[null,8,{"$nulls":13},0]
[null,9,{"$nulls":13},0]
[null,10,{"$nulls":13},0]
[null,11,{"$nulls":13},0]
[null,12,{"$nulls":13},0]
[null,13,{"$nulls":13},0]
[null,14,{"$nulls":13},0]
[null,15,{"$nulls":13},0]
[null,16,{"$nulls":13},0]
[null,17,{"$nulls":13},0]
[null,18,{"$nulls":13},0]
[null,19,{"$nulls":13},0]
[null,20,{"$nulls":13},0]
[null,21,{"$nulls":13},0]
[null,22,{"$nulls":13},0]
[null,23,{"$nulls":13},0]
[null,24,{"$nulls":13},0]
[null,25,{"$nulls":13},0]
[null,26,{"$nulls":13},0]
[null,27,{"$nulls":13},0]
[null,28,{"$nulls":13},0]
[null,29,{"$nulls":13},0]
[null,30,{"$nulls":13},0]
[{"$nulls":5},{"$f":"COUNTIF(F48:F77,\"ja\")","v":0},"Total ",null,{"$f":"SUM(I47:I77)","v":0},{"$f":"SUM(J47:J77)","v":0},0,0]
[null,null,"Erfüllung der Kriterien als Referenzportfolio",{"$nulls":11},"B","A"]
[null,null,"Entspricht das Portfolio den Anforderungen an den Level?",{"$nulls":8},{"$f":"IF(OR(Pers!D12=\"C\",Pers!D12=\"\"),\"\",IF(Pers!D12=\"A\",P80,IF(Pers!D12=\"B\",O80)))","v":""},null,null,{"$f":"IF(OR(AN$26=1,AN$27=1,AN$28=1),\"ja\",\"nein\")","v":"nein"},{"$f":"IF(OR(AO$26=1,AO$27=1,AO$28=1),\"ja\",\"nein\")","v":"nein"}]
[null,null,"Liegt der letzte Einsatzmonat nicht mehr als 4 Jahre zurück?",{"$nulls":8},{"$f":"IF(O81>=R81,\"ja\",\"nein\")","v":"nein"},null,null,{"$f":"IF(I26>=I27,I26,IF(I27>=I28,I27,I28))","v":"00:00:00"},null,null,{"$f":"DATE(YEAR(Pers!D18)-4,MONTH(Pers!D18),DAY(Pers!D18))","v":"3795-12-31"}]
[null,null,"Entspricht die minimale Einsatzdauer im Portfolio den Anforderungen an den Level?",{"$nulls":8},{"$f":"IF(AND(Pers!D12=\"A\",P82>=AL255),\"ja\",IF(AND(Pers!D12=\"B\",O82>=AL256),\"ja\",\"nein\"))","v":"nein"},null,null,{"$f":"COUNTIF(Exp!$BK$11:$BK$154,\">=50\")","v":0},{"$f":"COUNTIF(Exp!$BK$11:$BK$154,\">=75\")","v":0},"Monate"]
[]
[null,null,"Kann das Portfolio als Referenzportfolio eingereicht werden?",{"$nulls":8},{"$f":"IF(AND(L80=\"ja\",L81=\"ja\",L82=\"ja\"),\"ja\",\"nein\")","v":"nein"}]
[]
[null,null,"Referenzperson (üblicherweise Auftraggeber oder Arbeitgeber)"]
[null,null,"Vorname Name"]
[null,null,"Rolle im Portfolio/Unternehmen"]
[null,null,"Telefon"]
[null,null,"E-Mail"]
[]
[]
[]
[null,null,"Portfolio Nr. 2"]
[null,null,"Name des Portfolios"]
[null,null,"Portfoliokunde (Unternehmen)"]
[null,null,"Portfolioscope"]
[]
[null,null,"Informationen zum Portfolio",{"$nulls":4},"Datum eingeben",null,null,null,"Monate"]
[null,null,"Effektive Portfoliodauer",null,null,null,"von ",null,"bis ",null,null,{"$f":"ROUND(((J100-H100)/30.4),0)","v":0}]
[]
[{"$nulls":6},"Anzahl beteiligte Personen",null,"Personentage",null,"Investition in TCHF"]
[{"$nulls":8},"geplant","realisiert","geplant","realisiert"]
[null,null,"Portfolioumfang und Anzahl beteiligte Personen",{"$nulls":5},{"$f":"I164","v":0},{"$f":"J164","v":0},{"$f":"K164","v":0},{"$f":"L164","v":0},null,null,"Start",null,"Ende",null,"Monate",null,"Dauer?"]
[null,null,"Jährliches Investitionsvolumen (berechnet aus untenstehender Liste der Vorhaben)",{"$nulls":7},{"$f":"IF(U105=0,0,(K104/S105)*12)","v":0},{"$f":"IF(U105=0,0,(L104/S105)*12)","v":0},null,null,{"$f":"MIN(G133:G163)","v":"00:00:00"},null,{"$f":"MAX(H133:H163)","v":"00:00:00"},null,{"$f":"DATEDIF(O105,Q105,\"m\")+1","v":1},null,{"$f":"COUNTA(G133:G163)","v":0}]
[]
[null,null,"Anzahl verschiedene Arten der Vorhaben",{"$nulls":8},{"$f":"SUMPRODUCT((E134:E163<>\"\")/COUNTIF(E134:E163,E134:E163&\"\"))","v":0}]
[null,null,"Portfolio mit strategischer Bedeutung",{"$nulls":4},"Anzahl Vorhaben mit strategischer Bedeutung ",null,null,null,{"$f":"F164","v":0},null,null,"Jährl. Investitionsvolumen",null,null,null,"Portfolioleitung in Stunden",{"$nulls":7},"Anzahl beteiligte Personen",null,null,null,"Projektarten",null,null,null,"Anzahl (komplexe) Projekte",{"$nulls":4},"Levelkonformität",null,null,"Minimal-\nanforderung",null,"Dauer\nin Rolle"]
[null,null,"Portfolio ist abgeschlossen (massgebend ist das Datum der Einreichung des Antrags)",{"$nulls":11},"B",null,"A",null,"B",null,"A",{"$nulls":5},"B",null,"A",null,"B",null,"A",null,"B",null,"A",null,null,"B","A"]
[]
[null,null,"Ihre Rolle(n) im Portfolio",null,null,null,"Datum eingeben",null,null,null,"Stunden","Std/Monat"]
[{"$nulls":5},"von ",null,"bis ",null,null,null,{"$f":"IFERROR(ROUND(K112/((I112-G112)/30.4),0),\"\")","v":""},null,null,{"$f":"((($L105-$O$257)/($O$256-$O$257))*0.5+1)","v":0.25},{"$f":"IF($O112>1.5,1.5,IF($O112<0.5,0,$O112))","v":0},{"$f":"((($L105-$Q$257)/($Q$256-$Q$257))*0.5+1)","v":0},{"$f":"IF($Q112>1.5,1.5,IF($Q112<0.5,0,$Q112))","v":0},{"$f":"((($K112-$S$257)/($S$256-$S$257))*0.5+1)","v":-0.75},{"$f":"IF($S112>1.5,1.5,IF($S112<0.5,0,$S112))","v":0},{"$f":"((($K112-$U$257)/($U$256-$U$257))*0.5+1)","v":-1.4},{"$f":"IF($U112>1.5,1.5,IF($U112<0.5,0,$U112))","v":0},{"$nulls":4},{"$f":"((($G104-$AA$257)/($AA$256-$AA$257))*0.5+1)","v":0},{"$f":"IF($AA112>1.5,1.5,IF($AA112<0.5,0,$AA112))","v":0},{"$f":"((($G104-$AC$257)/($AC$256-$AC$257))*0.5+1)","v":-0.5},{"$f":"IF($AC112>1.5,1.5,IF($AC112<0.5,0,$AC112))","v":0},{"$f":"((($L107-$AE$257)/($AE$256-$AE$257))*0.5+1)","v":0},{"$f":"IF($AE112>1.5,1.5,IF($AE112<0.5,0,$AE112))","v":0},{"$f":"((($L107-$AF$257)/($AF$256-$AF$257))*0.5+1)","v":-0.5},{"$f":"IF($AG112>1.5,1.5,IF($AG112<0.5,0,$AG112))","v":0},{"$f":"((($T133-$AG$257)/($AG$256-$AG$257))*0.5+1)","v":0.16666666666666663},{"$f":"IF($AI112>1.5,1.5,IF($AI112<0.5,0,$AI112))","v":0},{"$f":"((($V133-$AI$257)/($AI$256-$AI$257))*0.5+1)","v":0},{"$f":"IF($AK112>1.5,1.5,IF($AK112<0.5,0,$AK112))","v":0},null,{"$f":"IF(AND(OR($C112=\"Agile(r) Portfoliomanager*in\",$C112=\"Mitglied Portfolioteam\"),PRODUCT(P112,T112,AB112,AF112,AJ112)>=1,$L$116>=$AO$256),1,0)","v":0},{"$f":"IF(AND(OR($C112=\"Agile(r) Portfoliomanager*in\",$C112=\"Mitglied Portfolioteam\"),PRODUCT(R112,V112,AD112,AH112,AL112)>=1,$L$116>=$AO$255),1,0)","v":0},null,{"$f":"IF(AND(OR(J104>=O$263,L104>=Q$263),K112>=S$263,G104+H104>=U$263,AS112>=W$263,L116>=Y$263,R133>=AA$263),1,0)","v":0},null,{"$f":"IF(I112=\"\",0,DATEDIF(G112,I112,\"m\")+1)","v":0}]
[{"$nulls":5},"von ",null,"bis ",null,null,null,{"$f":"IFERROR(ROUND(K113/((I113-G113)/30.4),0),\"\")","v":""},null,null,{"$f":"((($L105-$O$257)/($O$256-$O$257))*0.5+1)","v":0.25},{"$f":"IF($O113>1.5,1.5,IF($O113<0.5,0,$O113))","v":0},{"$f":"((($L105-$Q$257)/($Q$256-$Q$257))*0.5+1)","v":0},{"$f":"IF($Q113>1.5,1.5,IF($Q113<0.5,0,$Q113))","v":0},{"$f":"((($K113-$S$257)/($S$256-$S$257))*0.5+1)","v":-0.75},{"$f":"IF($S113>1.5,1.5,IF($S113<0.5,0,$S113))","v":0},{"$f":"((($K113-$U$257)/($U$256-$U$257))*0.5+1)","v":-1.4},{"$f":"IF($U113>1.5,1.5,IF($U113<0.5,0,$U113))","v":0},{"$nulls":4},{"$f":"((($G104-$AA$257)/($AA$256-$AA$257))*0.5+1)","v":0},{"$f":"IF($AA113>1.5,1.5,IF($AA113<0.5,0,$AA113))","v":0},{"$f":"((($G104-$AC$257)/($AC$256-$AC$257))*0.5+1)","v":-0.5},{"$f":"IF($AC113>1.5,1.5,IF($AC113<0.5,0,$AC113))","v":0},{"$f":"((($L107-$AE$257)/($AE$256-$AE$257))*0.5+1)","v":0},{"$f":"IF($AE113>1.5,1.5,IF($AE113<0.5,0,$AE113))","v":0},{"$f":"((($L107-$AF$257)/($AF$256-$AF$257))*0.5+1)","v":-0.5},{"$f":"IF($AG113>1.5,1.5,IF($AG113<0.5,0,$AG113))","v":0},{"$f":"((($T133-$AG$257)/($AG$256-$AG$257))*0.5+1)","v":0.16666666666666663},{"$f":"IF($AI113>1.5,1.5,IF($AI113<0.5,0,$AI113))","v":0},{"$f":"((($V133-$AI$257)/($AI$256-$AI$257))*0.5+1)","v":0},{"$f":"IF($AK113>1.5,1.5,IF($AK113<0.5,0,$AK113))","v":0},null,{"$f":"IF(AND(OR($C113=\"Agile(r) Portfoliomanager*in\",$C113=\"Mitglied Portfolioteam\"),PRODUCT(P113,T113,AB113,AF113,AJ113)>=1,$L$116>=$AO$256),1,0)","v":0},{"$f":"IF(AND(OR($C113=\"Agile(r) Portfoliomanager*in\",$C113=\"Mitglied Portfolioteam\"),PRODUCT(R113,V113,AD113,AH113,AL113)>=1,$L$116>=$AO$255),1,0)","v":0},null,{"$f":"IF(AND(OR(J104>=O$263,L104>=Q$263),K113>=S$263,G104+H104>=U$263,AS113>=W$263,L116>=Y$263,R133>=AA$263),1,0)","v":0},null,{"$f":"IF(I113=\"\",0,DATEDIF(G113,I113,\"m\")+1)","v":0}]
[{"$nulls":5},"von ",null,"bis ",null,null,null,"",null,null,{"$f":"((($L105-$O$257)/($O$256-$O$257))*0.5+1)","v":0.25},0,{"$f":"((($L105-$Q$257)/($Q$256-$Q$257))*0.5+1)","v":0},0,{"$f":"((($K114-$S$257)/($S$256-$S$257))*0.5+1)","v":-0.75},0,{"$f":"((($K114-$U$257)/($U$256-$U$257))*0.5+1)","v":-1.4},0,{"$nulls":4},{"$f":"((($G104-$AA$257)/($AA$256-$AA$257))*0.5+1)","v":0},0,{"$f":"((($G104-$AC$257)/($AC$256-$AC$257))*0.5+1)","v":-0.5},0,{"$f":"((($L107-$AE$257)/($AE$256-$AE$257))*0.5+1)","v":0},0,{"$f":"((($L107-$AF$257)/($AF$256-$AF$257))*0.5+1)","v":-0.5},{"$f":"IF($AG114>1.5,1.5,IF($AG114<0.5,0,$AG114))","v":0},{"$f":"((($T133-$AG$257)/($AG$256-$AG$257))*0.5+1)","v":0.16666666666666663},{"$f":"IF($AI114>1.5,1.5,IF($AI114<0.5,0,$AI114))","v":0},{"$f":"((($V133-$AI$257)/($AI$256-$AI$257))*0.5+1)","v":0},{"$f":"IF($AK114>1.5,1.5,IF($AK114<0.5,0,$AK114))","v":0},null,0,{"$f":"IF(AND(OR($C114=\"Agile(r) Portfoliomanager*in\",$C114=\"Mitglied Portfolioteam\"),PRODUCT(R114,V114,AD114,AH114,AL114)>=1,$L$116>=$AO$255),1,0)","v":0},null,{"$f":"IF(AND(OR(J104>=O$263,L104>=Q$263),K114>=S$263,G104+H104>=U$263,AS114>=W$263,L116>=Y$263,R133>=AA$263),1,0)","v":0},null,0]
[]
[null,null,"Komplexitätsbeurteilung des Portfolios (s. Hinweise im Tabellenblatt 'Tips')",{"$nulls":8},{"$f":"SUM(L117:L126)","v":0}]
[null,null,"01 Ziele und Ergebnisbeurteilung"]
[null,null,"02 Prozesse, Methoden, Tools und Techniken"]
[null,null,"03 Ressourcen"]
[null,null,"04 Chancen und Risiken"]
[null,null,"05 Stakeholder und Integration"]
[null,null,"06 Beziehungen zur Stammorganisation"]
[null,null,"07 Kultureller und sozialer Kontext"]
[null,null,"08 Führung, Teamarbeit und Entscheidungen"]
[null,null,"09 Innovationsgrad und Rahmenbedingungen"]
[null,null,"10 Koordinationsbedarf"]
[]
[null,null,"Liste der Vorhaben"]
[null,null,"Geben Sie unter 'geplant' die bis zum Ende des Portfolios geplanten Umfänge und unter 'realisiert' die bis zur Einreichung des Zertifizierungsantrags geleisteten Umfänge an."]
[]
[null,"Nr","Name des Vorhabens","Scope","Art des Vorhabens","strate-\ngisch","Dauer",null,"Personentage",null,"Investition in TCHF",{"$nulls":6},"Projektgrösse"]
[{"$nulls":6},"von","bis","geplant","realisiert","geplant","realisiert",{"$nulls":5},"≥ 1 PT",null,"≥ 250 PT",null,"≥ 700 PT"]
[null,null,"Aufwände im Portfolioausserhalb der Vorhaben",{"$nulls":14},{"$f":"COUNTIF($P134:PJ163,\">=1\")","v":0},null,{"$f":"COUNTIF($P134:$P163,\">=250\")","v":0},null,{"$f":"COUNTIF($P134:$P163,\">=700\")","v":0}]
[null,1,{"$nulls":13},{"$f":"IF(I134>=J134,I134,J134)","v":0}]
[null,2,{"$nulls":13},{"$f":"IF(I135>=J135,I135,J135)","v":0}]
[null,3,{"$nulls":13},0]
[null,4,{"$nulls":13},0]
[null,5,{"$nulls":13},0]
[null,6,{"$nulls":13},0]
[null,7,{"$nulls":13},0]
[null,8,{"$nulls":13},0]
[null,9,{"$nulls":13},0]
[null,10,{"$nulls":13},0]
[null,11,{"$nulls":13},0]
[null,12,{"$nulls":13},0]
[null,13,{"$nulls":13},0]
[null,14,{"$nulls":13},0]
[null,15,{"$nulls":13},0]
[null,16,{"$nulls":13},0]
[null,17,{"$nulls":13},0]
[null,18,{"$nulls":13},0]
[null,19,{"$nulls":13},0]
[null,20,{"$nulls":13},0]
[null,21,{"$nulls":13},0]
[null,22,{"$nulls":13},0]
[null,23,{"$nulls":13},0]
[null,24,{"$nulls":13},0]
[null,25,{"$nulls":13},0]
[null,26,{"$nulls":13},0]
[null,27,{"$nulls":13},0]
[null,28,{"$nulls":13},0]
[null,29,{"$nulls":13},0]
[null,30,{"$nulls":13},0]
[{"$nulls":5},{"$f":"COUNTIF(F134:F163,\"ja\")","v":0},"Total ",null,{"$f":"SUM(I133:I163)","v":0},{"$f":"SUM(J133:J163)","v":0},{"$f":"SUM(K133:K163)","v":0},{"$f":"SUM(L133:L163)","v":0}]
[]
[null,null,"Referenzperson (üblicherweise Auftraggeber oder Arbeitgeber)"]
[null,null,"Vorname Name"]
[null,null,"Rolle im Portfolio/Unternehmen"]
[null,null,"Telefon"]
[null,null,"E-Mail"]
[]
[]
[]
[null,null,"Portfolio Nr. 3"]
[null,null,"Name des Portfolios"]
[null,null,"Portfoliokunde (Unternehmen)"]
[null,null,"Portfolioscope"]
[]
[null,null,"Informationen zum Portfolio",{"$nulls":4},"Datum eingeben",null,null,null,"Monate"]
[null,null,"Effektive Portfoliodauer",null,null,null,"von ",null,"bis ",null,null,{"$f":"ROUND(((J180-H180)/30.4),0)","v":0}]
[]
[{"$nulls":6},"Anzahl beteiligte Personen",null,"Personentage",null,"Investition in TCHF"]
[{"$nulls":8},"geplant","realisiert","geplant","realisiert"]
[null,null,"Portfolioumfang und Anzahl beteiligte Personen",{"$nulls":5},{"$f":"I244","v":0},{"$f":"J244","v":0},{"$f":"K244","v":0},{"$f":"L244","v":0},null,null,"Start",null,"Ende",null,"Monate",null,"Dauer?"]
[null,null,"Jährliches Investitionsvolumen (berechnet aus untenstehender Liste der Vorhaben)",{"$nulls":7},{"$f":"IF(U185=0,0,(K184/S185)*12)","v":0},{"$f":"IF(U185=0,0,(L184/S185)*12)","v":0},null,null,{"$f":"MIN(G213:G243)","v":"00:00:00"},null,{"$f":"MAX(H213:H243)","v":"00:00:00"},null,{"$f":"DATEDIF(O185,Q185,\"m\")+1","v":1},null,{"$f":"COUNTA(G213:G243)","v":0}]
[]
[null,null,"Anzahl verschiedene Arten der Vorhaben",{"$nulls":8},{"$f":"SUMPRODUCT((E214:E243<>\"\")/COUNTIF(E214:E243,E214:E243&\"\"))","v":0}]
[null,null,"Portfolio mit strategischer Bedeutung",{"$nulls":4},"Anzahl Vorhaben mit strategischer Bedeutung ",null,null,null,{"$f":"F244","v":0},null,null,"Jährl. Investitionsvolumen",null,null,null,"Portfolioleitung in Stunden",{"$nulls":7},"Anzahl beteiligte Personen",null,null,null,"Projektarten",null,null,null,"Anzahl (komplexe) Projekte",{"$nulls":4},"Levelkonformität",null,null,"Minimal-\nanforderung",null,"Dauer\nin Rolle"]
[null,null,"Portfolio ist abgeschlossen (massgebend ist das Datum der Einreichung des Antrags)",{"$nulls":11},"B",null,"A",null,"B",null,"A",{"$nulls":5},"B",null,"A",null,"B",null,"A",null,"B",null,"A",null,null,"B","A"]
[]
[null,null,"Ihre Rolle(n) im Portfolio",null,null,null,"Datum eingeben",null,null,null,"Stunden","Std/Monat"]
[{"$nulls":5},"von ",null,"bis ",null,null,null,{"$f":"IFERROR(ROUND(K192/((I192-G192)/30.4),0),\"\")","v":""},null,null,{"$f":"((($L185-$O$257)/($O$256-$O$257))*0.5+1)","v":0.25},{"$f":"IF($O192>1.5,1.5,IF($O192<0.5,0,$O192))","v":0},{"$f":"((($L185-$Q$257)/($Q$256-$Q$257))*0.5+1)","v":0},{"$f":"IF($Q192>1.5,1.5,IF($Q192<0.5,0,$Q192))","v":0},{"$f":"((($K192-$S$257)/($S$256-$S$257))*0.5+1)","v":-0.75},{"$f":"IF($S192>1.5,1.5,IF($S192<0.5,0,$S192))","v":0},{"$f":"((($K192-$U$257)/($U$256-$U$257))*0.5+1)","v":-1.4},{"$f":"IF($U192>1.5,1.5,IF($U192<0.5,0,$U192))","v":0},{"$nulls":4},{"$f":"((($G184-$AA$257)/($AA$256-$AA$257))*0.5+1)","v":0},{"$f":"IF($AA192>1.5,1.5,IF($AA192<0.5,0,$AA192))","v":0},{"$f":"((($G184-$AC$257)/($AC$256-$AC$257))*0.5+1)","v":-0.5},{"$f":"IF($AC192>1.5,1.5,IF($AC192<0.5,0,$AC192))","v":0},{"$f":"((($L187-$AE$257)/($AE$256-$AE$257))*0.5+1)","v":0},{"$f":"IF($AE192>1.5,1.5,IF($AE192<0.5,0,$AE192))","v":0},{"$f":"((($L187-$AF$257)/($AF$256-$AF$257))*0.5+1)","v":-0.5},{"$f":"IF($AG192>1.5,1.5,IF($AG192<0.5,0,$AG192))","v":0},{"$f":"((($T213-$AG$257)/($AG$256-$AG$257))*0.5+1)","v":0.16666666666666663},{"$f":"IF($AI192>1.5,1.5,IF($AI192<0.5,0,$AI192))","v":0},{"$f":"((($V213-$AI$257)/($AI$256-$AI$257))*0.5+1)","v":0},{"$f":"IF($AK192>1.5,1.5,IF($AK192<0.5,0,$AK192))","v":0},null,{"$f":"IF(AND(OR($C192=\"Agile(r) Portfoliomanager*in\",$C192=\"Mitglied Portfolioteam\"),PRODUCT(P192,T192,AB192,AF192,AJ192)>=1,$L$196>=$AO$256),1,0)","v":0},{"$f":"IF(AND(OR($C192=\"Agile(r) Portfoliomanager*in\",$C192=\"Mitglied Portfolioteam\"),PRODUCT(R192,V192,AD192,AH192,AL192)>=1,$L$196>=$AO$255),1,0)","v":0},null,{"$f":"IF(AND(OR(J184>=O$263,L184>=Q$263),K192>=S$263,G184+H184>=U$263,AS192>=W$263,L196>=Y$263,R213>=AA$263),1,0)","v":0},null,{"$f":"IF(I192=\"\",0,DATEDIF(G192,I192,\"m\")+1)","v":0}]
[{"$nulls":5},"von ",null,"bis ",null,null,null,{"$f":"IFERROR(ROUND(K193/((I193-G193)/30.4),0),\"\")","v":""},null,null,{"$f":"((($L185-$O$257)/($O$256-$O$257))*0.5+1)","v":0.25},{"$f":"IF($O193>1.5,1.5,IF($O193<0.5,0,$O193))","v":0},{"$f":"((($L185-$Q$257)/($Q$256-$Q$257))*0.5+1)","v":0},{"$f":"IF($Q193>1.5,1.5,IF($Q193<0.5,0,$Q193))","v":0},{"$f":"((($K193-$S$257)/($S$256-$S$257))*0.5+1)","v":-0.75},{"$f":"IF($S193>1.5,1.5,IF($S193<0.5,0,$S193))","v":0},{"$f":"((($K193-$U$257)/($U$256-$U$257))*0.5+1)","v":-1.4},{"$f":"IF($U193>1.5,1.5,IF($U193<0.5,0,$U193))","v":0},{"$nulls":4},{"$f":"((($G184-$AA$257)/($AA$256-$AA$257))*0.5+1)","v":0},{"$f":"IF($AA193>1.5,1.5,IF($AA193<0.5,0,$AA193))","v":0},{"$f":"((($G184-$AC$257)/($AC$256-$AC$257))*0.5+1)","v":-0.5},{"$f":"IF($AC193>1.5,1.5,IF($AC193<0.5,0,$AC193))","v":0},{"$f":"((($L187-$AE$257)/($AE$256-$AE$257))*0.5+1)","v":0},{"$f":"IF($AE193>1.5,1.5,IF($AE193<0.5,0,$AE193))","v":0},{"$f":"((($L187-$AF$257)/($AF$256-$AF$257))*0.5+1)","v":-0.5},{"$f":"IF($AG193>1.5,1.5,IF($AG193<0.5,0,$AG193))","v":0},{"$f":"((($T213-$AG$257)/($AG$256-$AG$257))*0.5+1)","v":0.16666666666666663},{"$f":"IF($AI193>1.5,1.5,IF($AI193<0.5,0,$AI193))","v":0},{"$f":"((($V213-$AI$257)/($AI$256-$AI$257))*0.5+1)","v":0},{"$f":"IF($AK193>1.5,1.5,IF($AK193<0.5,0,$AK193))","v":0},null,{"$f":"IF(AND(OR($C193=\"Agile(r) Portfoliomanager*in\",$C193=\"Mitglied Portfolioteam\"),PRODUCT(P193,T193,AB193,AF193,AJ193)>=1,$L$196>=$AO$256),1,0)","v":0},{"$f":"IF(AND(OR($C193=\"Agile(r) Portfoliomanager*in\",$C193=\"Mitglied Portfolioteam\"),PRODUCT(R193,V193,AD193,AH193,AL193)>=1,$L$196>=$AO$255),1,0)","v":0},null,{"$f":"IF(AND(OR(J184>=O$263,L184>=Q$263),K193>=S$263,G184+H184>=U$263,AS193>=W$263,L196>=Y$263,R213>=AA$263),1,0)","v":0},null,{"$f":"IF(I193=\"\",0,DATEDIF(G193,I193,\"m\")+1)","v":0}]
[{"$nulls":5},"von ",null,"bis ",null,null,null,"",null,null,{"$f":"((($L185-$O$257)/($O$256-$O$257))*0.5+1)","v":0.25},0,{"$f":"((($L185-$Q$257)/($Q$256-$Q$257))*0.5+1)","v":0},0,{"$f":"((($K194-$S$257)/($S$256-$S$257))*0.5+1)","v":-0.75},0,{"$f":"((($K194-$U$257)/($U$256-$U$257))*0.5+1)","v":-1.4},0,{"$nulls":4},{"$f":"((($G184-$AA$257)/($AA$256-$AA$257))*0.5+1)","v":0},0,{"$f":"((($G184-$AC$257)/($AC$256-$AC$257))*0.5+1)","v":-0.5},0,{"$f":"((($L187-$AE$257)/($AE$256-$AE$257))*0.5+1)","v":0},0,{"$f":"((($L187-$AF$257)/($AF$256-$AF$257))*0.5+1)","v":-0.5},{"$f":"IF($AG194>1.5,1.5,IF($AG194<0.5,0,$AG194))","v":0},{"$f":"((($T213-$AG$257)/($AG$256-$AG$257))*0.5+1)","v":0.16666666666666663},{"$f":"IF($AI194>1.5,1.5,IF($AI194<0.5,0,$AI194))","v":0},{"$f":"((($V213-$AI$257)/($AI$256-$AI$257))*0.5+1)","v":0},{"$f":"IF($AK194>1.5,1.5,IF($AK194<0.5,0,$AK194))","v":0},null,0,0,null,{"$f":"IF(AND(OR(J184>=O$263,L184>=Q$263),K194>=S$263,G184+H184>=U$263,AS194>=W$263,L196>=Y$263,R213>=AA$263),1,0)","v":0},null,0]
[]
[null,null,"Komplexitätsbeurteilung des Portfolios (s. Hinweise im Tabellenblatt 'Tips')",{"$nulls":8},{"$f":"SUM(L197:L206)","v":0}]
[null,null,"01 Ziele und Ergebnisbeurteilung"]
[null,null,"02 Prozesse, Methoden, Tools und Techniken"]
[null,null,"03 Ressourcen"]
[null,null,"04 Chancen und Risiken"]
[null,null,"05 Stakeholder und Integration"]
[null,null,"06 Beziehungen zur Stammorganisation"]
[null,null,"07 Kultureller und sozialer Kontext"]
[null,null,"08 Führung, Teamarbeit und Entscheidungen"]
[null,null,"09 Innovationsgrad und Rahmenbedingungen"]
[null,null,"10 Koordinationsbedarf"]
[]
[null,null,"Liste der Vorhaben"]
[null,null,"Geben Sie unter 'geplant' die bis zum Ende des Portfolios geplanten Umfänge und unter 'realisiert' die bis zur Einreichung des Zertifizierungsantrags geleisteten Umfänge an."]
[]
[null,"Nr","Name des Vorhabens","Scope","Art des Vorhabens","strate-\ngisch","Dauer",null,"Personentage",null,"Investition in TCHF",{"$nulls":6},"Projektgrösse"]
[{"$nulls":6},"von","bis","geplant","realisiert","geplant","realisiert",{"$nulls":5},"≥ 1 PT",null,"≥ 250 PT",null,"≥ 700 PT"]
[null,null,"Aufwände im Portfolioausserhalb der Vorhaben",{"$nulls":14},{"$f":"COUNTIF($P214:PJ243,\">=1\")","v":0},null,{"$f":"COUNTIF($P214:$P243,\">=250\")","v":0},null,{"$f":"COUNTIF($P214:$P243,\">=700\")","v":0}]
[null,1,{"$nulls":13},{"$f":"IF(I214>=J214,I214,J214)","v":0}]
[null,2,{"$nulls":13},{"$f":"IF(I215>=J215,I215,J215)","v":0}]
[null,3,{"$nulls":13},0]
[null,4,{"$nulls":13},0]
[null,5,{"$nulls":13},0]
[null,6,{"$nulls":13},0]
[null,7,{"$nulls":13},0]
[null,8,{"$nulls":13},0]
[null,9,{"$nulls":13},0]
[null,10,{"$nulls":13},0]
[null,11,{"$nulls":13},0]
[null,12,{"$nulls":13},0]
[null,13,{"$nulls":13},0]
[null,14,{"$nulls":13},0]
[null,15,{"$nulls":13},0]
[null,16,{"$nulls":13},0]
[null,17,{"$nulls":13},0]
[null,18,{"$nulls":13},0]
[null,19,{"$nulls":13},0]
[null,20,{"$nulls":13},0]
[null,21,{"$nulls":13},0]
[null,22,{"$nulls":13},0]
[null,23,{"$nulls":13},0]
[null,24,{"$nulls":13},0]
[null,25,{"$nulls":13},0]
[null,26,{"$nulls":13},0]
[null,27,{"$nulls":13},0]
[null,28,{"$nulls":13},0]
[null,29,{"$nulls":13},0]
[null,30,{"$nulls":13},0]
[{"$nulls":5},{"$f":"COUNTIF(F214:F243,\"ja\")","v":0},"Total ",null,{"$f":"SUM(I213:I243)","v":0},{"$f":"SUM(J213:J243)","v":0},0,0]
[]
[null,null,"Referenzperson (üblicherweise Auftraggeber oder Arbeitgeber)"]
[null,null,"Vorname Name"]
[null,null,"Rolle im Portfolio/Unternehmen"]
[null,null,"Telefon"]
[null,null,"E-Mail"]
[]
[{"$nulls":14},"Vorgaben für Berechnung der Levelkonformität"]
[]
[{"$nulls":14},"Jährl. Investitionsvolumen",null,null,null,"Portfolioleitung in Stunden",{"$nulls":7},"Anzahl beteiligte Personen",null,null,null,"Projektarten",null,"Anzahl (komplexe) Projekte",null,null,null,"Einsatzdauer",null,null,"Komplexität"]
[{"$nulls":14},"B",null,"A",null,"B",null,"A",{"$nulls":5},"B",null,"A",null,"B","A","B",null,"A",null,"A",24,null,"A",32]
[{"$nulls":14},5000,null,30000,null,900,null,2900,{"$nulls":5},45,null,200,null,3,4,8,null,15,null,"B",18,null,"B",25]
[{"$nulls":14},3000,null,20000,null,700,null,2400,{"$nulls":5},30,null,150,null,2,3,5,null,10]
[{"$nulls":14},1000,null,10000,null,500,null,1900,{"$nulls":5},15,null,100,null,1,2,2,null,5]
[]
[{"$nulls":14},"Minimalanforderungen für Portfolioerfahrung"]
[]
[{"$nulls":14},"Summe PT",null,"Investition",null,"PfL",null,"Personen",null,"Dauer",null,"Komplexität",null,"# Projekte"]
[{"$nulls":14},200,null,250,null,200,null,5,null,3,null,10,null,2]

{"sheet":"SAPM","index":11,"n_rows":231,"n_cols":9,"rows_kept":231,"cut":false,"hidden":false,"merged":[[3,1,3,5],[5,3,5,5]]}
[]
[null,"Selbstbeurteilung Projektmanagement"]
[]
[null,"Füllen Sie bitte die Selbstbeurteilung für diejenige Domäne - Projekt-, Programm- oder Portfoliomanagement - vollständig aus, für welche Sie den Zertifizierungsantrag einreichen."]
[]
[null,"Kap. in swiss.ICB4",null,"Beurteilen Sie für jeden Kompetenzindikator Ihren Stand mit den folgenden Werten:\n3 = Fähigkeiten vorhanden      2 = Fertigkeiten vorhanden      1 = Wissen vorhanden      0 = nicht vorhanden"]
[]
[null,"4.3",null,"Kontext (perspective)"]
[null,"4.3.1",null,"Strategie",null,{"$f":"IFERROR(ROUND(AVERAGE(F11:F15),0),\"\")","v":""},null,null,{"$f":"F9","v":""}]
[]
[null,"4.3.1.1",null,"Das Projekt mit der Mission und der Vision der Organisation in Einklang bringen"]
[null,"4.3.1.2",null,"Chancen identifizieren und ausschöpfen, die die Strategie der Organisation beeinflussen"]
[null,"4.3.1.3",null,"Rechtfertigung für das Projekt entwickeln und sicherstellen, dass die betriebswirtschaftlichen und/oder organisationalen Gründe, die zum Projekt geführt haben, weiterhin bestehen"]
[null,"4.3.1.4",null,"Kritische Erfolgsfaktoren bestimmen, beurteilen und überprüfen"]
[null,"4.3.1.5",null,"Key Performance Indicators (KPI) bestimmen, beurteilen und überprüfen"]
[]
[null,"4.3.2",null,"Governance, Strukturen und Prozesse",null,{"$f":"IFERROR(ROUND(AVERAGE(F19:F25),0),\"\")","v":""},null,null,{"$f":"F17","v":""}]
[]
[null,"4.3.2.1",null,"Die Grundlagen des Projektmanagements und deren Einführung kennen"]
[null,"4.3.2.2",null,"Die Grundlagen des Programmmanagements und deren Einführung kennen"]
[null,"4.3.2.3",null,"Die Grundlagen des Portfoliomanagements und deren Einführung kennen"]
[null,"4.3.2.4",null,"Das Projekt mit den Supportfunktionen in Einklang bringen"]
[null,"4.3.2.5",null,"Das Projekt mit den Entscheidungs- und Berichterstattungsstrukturen sowie den Qualitätsanforderungen der Organisation in Einklang bringen"]
[null,"4.3.2.6",null,"Das Projekt mit den Prozessen und Funktionen des HR in Einklang bringen"]
[null,"4.3.2.7",null,"Das Projekt mit den Finanz- und Controlling-Prozessen in Einklang bringen"]
[]
[null,"4.3.3",null,"Compliance, Standards und Regulationen",null,{"$f":"IFERROR(ROUND(AVERAGE(F29:F34),0),\"\")","v":""},null,null,{"$f":"F27","v":""}]
[]
[null,"4.3.3.1",null,"Die für das Projekt gültigen Rechtsvorschriften identifizieren und einhalten"]
[null,"4.3.3.2",null,"Alle für das Projekt relevanten Vorschriften für Sicherheit, Gesundheit und Umweltschutz (SGU) identifizieren und einhalten"]
[null,"4.3.3.3",null,"Alle für das Projekt relevanten Verhaltensregeln und Berufsvorschriften identifizieren und einhalten"]
[null,"4.3.3.4",null,"Für das Projekt relevante Prinzipien und Ziele der Nachhaltigkeit identifizieren und einhalten"]
[null,"4.3.3.5",null,"Für das Projekt relevante professionelle Standards und Tools bewerten, nutzen und weiterentwickeln"]
[null,"4.3.3.6",null,"Die Projektmanagementkompetenz der Organisation beurteilen, vergleichen und verbessern"]
[]
[null,"4.3.4",null,"Macht und Interessen",null,{"$f":"IFERROR(ROUND(AVERAGE(F38:F40),0),\"\")","v":""},null,null,{"$f":"F36","v":""}]
[]
[null,"4.3.4.1",null,"Persönliche Ambitionen und Interessen Dritter und deren potenzielle Auswirkungen auf das Projekt beurteilen sowie diese Kenntnisse zum Nutzen des Projekts verwenden"]
[null,"4.3.4.2",null,"Informellen Einfluss von Einzelpersonen und Personengruppen und deren potenzielle Auswirkungen auf das Projekt beurteilen sowie diese Kenntnisse zum Nutzen des Projekts verwenden"]
[null,"4.3.4.3",null,"Persönlichkeiten und Arbeitsstile Dritter beurteilen und zum Nutzen des Projekts einsetzen"]
[]
[null,"4.3.5",null,"Kultur und Werte",null,{"$f":"IFERROR(ROUND(AVERAGE(F44:F46),0),\"\")","v":""},null,null,{"$f":"F42","v":""}]
[]
[null,"4.3.5.1",null,"Kultur und Werte der Gesellschaft und deren Auswirkungen auf das Projekt beurteilen"]
[null,"4.3.5.2",null,"Das Projekt mit der formellen Kultur und den Werten der Organisation in Einklang bringen"]
[null,"4.3.5.3",null,"Die Informelle Kultur und Werte der Organisation und deren Auswirkungen auf das Projekt beurteilen"]
[]
[null,"4.4",null,"Menschen (people)"]
[null,"4.4.1",null,"Selbstreflexion und Selbstmanagement",null,{"$f":"IFERROR(ROUND(AVERAGE(F51:F55),0),\"\")","v":""},null,null,{"$f":"F49","v":""}]
[]
[null,"4.4.1.1",null,"Einfluss der eigenen Werte und persönlichen Erfahrungen auf die Arbeit identifizieren und reflektieren"]
[null,"4.4.1.2",null,"Selbstvertrauen auf der Basis von persönlichen Stärken und Schwächen aufbauen"]
[null,"4.4.1.3",null,"Persönliche Motivationen identifizieren und reflektieren, um persönliche Ziele zu setzen und darauf zu fokussieren"]
[null,"4.4.1.4",null,"Eigene Arbeit abhängig von der Situation und den eigenen Ressourcen organisieren"]
[null,"4.4.1.5",null,"Verantwortung für das persönliche Lernen und die persönliche Weiterentwicklung übernehmen"]
[]
[null,"4.4.2",null,"Persönliche Integrität und Verlässlichkeit",null,{"$f":"IFERROR(ROUND(AVERAGE(F59:F63),0),\"\")","v":""},null,null,{"$f":"F57","v":""}]
[]
[null,"4.4.2.1",null,"Ethische Werte bei allen Entscheidungen und Handlungen anerkennen und anwenden"]
[null,"4.4.2.2",null,"Die Nachhaltigkeit von Leistungen und Ergebnissen fördern"]
[null,"4.4.2.3",null,"Verantwortung für die eigenen Entscheidungen und Handlungen übernehmen"]
[null,"4.4.2.4",null,"Widerspruchsfrei handeln, Entscheidungen treffen und kommunizieren"]
[null,"4.4.2.5",null,"Aufgaben sorgfältig erfüllen, um Vertrauen bei anderen zu schaffen"]
[]
[null,"4.4.3",null,"Persönliche Kommunikation",null,{"$f":"IFERROR(ROUND(AVERAGE(F67:F71),0),\"\")","v":""},null,null,{"$f":"F65","v":""}]
[]
[null,"4.4.3.1",null,"Eindeutige und strukturierte Informationen an andere weitergeben und deren gleiches Verständnis sicherstellen"]
[null,"4.4.3.2",null,"Offene Kommunikation ermöglichen und fördern"]
[null,"4.4.3.3",null,"Kommunikationsarten und -kanäle auswählen, um die Bedürfnisse der Zielgruppe, der Situation und der Führungsebene zu erfüllen"]
[null,"4.4.3.4",null,"Mit virtuellen Teams effektiv kommunizieren"]
[null,"4.4.3.5",null,"Humor und Perspektivenwechsel angemessen anwenden "]
[]
[null,"4.4.4",null,"Beziehungen und Engagement",null,{"$f":"IFERROR(ROUND(AVERAGE(F75:F79),0),\"\")","v":""},null,null,{"$f":"F73","v":""}]
[]
[null,"4.4.4.1",null,"Persönliche und berufliche Beziehungen aufbauen und pflegen"]
[null,"4.4.4.2",null,"Soziale Netzwerke aufbauen, moderieren und an ihnen teilnehmen"]
[null,"4.4.4.3",null,"Durch Zuhören, Verständnis und Unterstützung Empathie zeigen"]
[null,"4.4.4.4",null,"Vertrauen und Respekt zeigen, indem andere ermutigt werden ihre Meinungen und Bedenken zu äussern"]
[null,"4.4.4.5",null,"Eigene Visionen und Ziele kommunizieren, um Engagement und Commitment Dritter zu erreichen"]
[]
[null,"4.4.5",null,"Führung",null,{"$f":"IFERROR(ROUND(AVERAGE(F83:F87),0),\"\")","v":""},null,null,{"$f":"F81","v":""}]
[]
[null,"4.4.5.1",null,"Initiative ergreifen und proaktiv mit Rat und Tat zur Seite stehen"]
[null,"4.4.5.2",null,"Ownership übernehmen und Committment zeigen"]
[null,"4.4.5.3",null,"Durch Vorgeben der Richtung, durch Coaching und Mentoring die Arbeit von Einzelpersonen und Teams leiten und verbessern"]
[null,"4.4.5.4",null,"Macht und Einfluss angemessen auf Dritte ausüben, um die Ziele zu erreichen"]
[null,"4.4.5.5",null,"Entscheidungen treffen, durchsetzen und überprüfen"]
[]
[null,"4.4.6",null,"Teamarbeit",null,{"$f":"IFERROR(ROUND(AVERAGE(F91:F95),0),\"\")","v":""},null,null,{"$f":"F89","v":""}]
[]
[null,"4.4.6.1",null,"Das Team zusammenstellen und entwickeln"]
[null,"4.4.6.2",null,"Zusammenarbeit und Netzwerken zwischen Teammitgliedern fördern"]
[null,"4.4.6.3",null,"Die Entwicklung des Teams und der Teammitglieder ermöglichen, unterstützen und überprüfen"]
[null,"4.4.6.4",null,"Teams durch das Delegieren von Aufgaben und Verantwortlichkeiten stärken"]
[null,"4.4.6.5",null,"Fehler erkennen, um das Lernen aus Fehlern zu ermöglichen"]
[]
[null,"4.4.7",null,"Konflikte und Krisen",null,{"$f":"IFERROR(ROUND(AVERAGE(F99:F102),0),\"\")","v":""},null,null,{"$f":"F97","v":""}]
[]
[null,"4.4.7.1",null,"Konflikte und Krisen antizipieren und wenn möglich verhindern"]
[null,"4.4.7.2",null,"Ursachen und Auswirkungen von Konflikten und Krisen analysieren und angemessene Reaktionen auswählen"]
[null,"4.4.7.3",null,"Konflikte und Krisen und/oder deren Auswirkungen lösen bzw. in ihnen vermitteln"]
[null,"4.4.7.4",null,"Lernergebnisse aus Konflikten und Krisen identifizieren und weitergeben, um die zukünftige Arbeit zu verbessern"]
[]
[null,"4.4.8",null,"Vielseitigkeit",null,{"$f":"IFERROR(ROUND(AVERAGE(F106:F110),0),\"\")","v":""},null,null,{"$f":"F104","v":""}]
[]
[null,"4.4.8.1",null,"Ein offenes und kreatives Umfeld schaffen und unterstützen"]
[null,"4.4.8.2",null,"Konzeptionelles Denken anwenden, um Situationen zu analysieren und Lösungsstrategien zu definieren"]
[null,"4.4.8.3",null,"Analytische Techniken anwenden, um Situationen, Informationen und Trends zu analysieren"]
[null,"4.4.8.4",null,"Kreative Techniken fördern und anwenden, um Alternativen und Lösungen zu finden"]
[null,"4.4.8.5",null,"Ganzheitliche Sicht auf das Projekt und seinen Kontext fördern, um den Entscheidungsprozess zu verbessern"]
[]
[null,"4.4.9",null,"Verhandlungen",null,{"$f":"IFERROR(ROUND(AVERAGE(F114:F118),0),\"\")","v":""},null,null,{"$f":"F112","v":""}]
[]
[null,"4.4.9.1",null,"Interessen aller Parteien, die an den Verhandlungen beteiligt sind, identifizieren und analysieren"]
[null,"4.4.9.2",null,"Optionen und Alternativen entwickeln und evaluieren, die das Potenzial haben, die Bedürfnisse aller Beteiligten zu erfüllen"]
[null,"4.4.9.3",null,"Verhandlungsstrategie definieren, die mit den eigenen Zielen übereinstimmt und für alle beteiligten Parteien akzeptabel ist"]
[null,"4.4.9.4",null,"Einigungen mit anderen Parteien erzielen, die mit den eigenen Zielen übereinstimmen"]
[null,"4.4.9.5",null,"Zusätzliche Verkaufs- und Akquisitionsmöglichkeiten entdecken und ausschöpfen"]
[]
[null,"4.4.10",null,"Ergebnisorientierung",null,{"$f":"IFERROR(ROUND(AVERAGE(F122:F126),0),\"\")","v":""},null,null,{"$f":"F120","v":""}]
[]
[null,"4.4.10.1",null,"Alle Entscheidungen und Handlungen hinsichtlich ihrer Auswirkung auf den Projekterfolg und die Ziele der Organisation evaluieren"]
[null,"4.4.10.2",null,"Bedürfnisse und Mittel aufeinander abstimmen, um Ergebnisse und Erfolge zu optimieren"]
[null,"4.4.10.3",null,"Gesunde, sichere und produktive Arbeitsumgebung schaffen und aufrecht zu erhalten"]
[null,"4.4.10.4",null,"Das Projekt, seine Prozesse und Ergebnisse promoten und 'verkaufen'"]
[null,"4.4.10.5",null,"Ergebnisse liefern und Akzeptanz erhalten"]
[]
[null,"4.5",null,"Praktiken (practice)"]
[null,"4.5.1",null,"Projektdesign",null,{"$f":"IFERROR(ROUND(AVERAGE(F131:F135),0),\"\")","v":""},null,null,{"$f":"F129","v":""}]
[]
[null,"4.5.1.1",null,"Erfolgskriterien anerkennen, priorisieren und überprüfen"]
[null,"4.5.1.2",null,"Lessons Learned aus und mit anderen Projekten überprüfen, anwenden und austauschen"]
[null,"4.5.1.3",null,"Projektkomplexität und ihre Konsequenzen für den Projektmanagementansatz bestimmen"]
[null,"4.5.1.4",null,"Generellen Projektmanagement-Ansatz auswählen und anpassen"]
[null,"4.5.1.5",null,"Konzept für die Projektdurchführung entwerfen, überwachen und anpassen"]
[]
[null,"4.5.2",null,"Anforderungen und Ziele",null,{"$f":"IFERROR(ROUND(AVERAGE(F139:F141),0),\"\")","v":""},null,null,{"$f":"F137","v":""}]
[]
[null,"4.5.2.1",null,"Hierarchie der Projektziele definieren und entwickeln"]
[null,"4.5.2.2",null,"Bedürfnisse und Anforderungen der Projekt-Stakeholder identifizieren und analysieren"]
[null,"4.5.2.3",null,"Anforderungen und Abnahmekriterien priorisieren und entscheiden"]
[]
[null,"4.5.3",null,"Leistungsumfang und Lieferobjekte",null,{"$f":"IFERROR(ROUND(AVERAGE(F145:F148),0),\"\")","v":""},null,null,{"$f":"F143","v":""}]
[]
[null,"4.5.3.1",null,"Lieferobjekte definieren"]
[null,"4.5.3.2",null,"Leistungsumfang strukturieren"]
[null,"4.5.3.3",null,"Arbeitspakete definieren"]
[null,"4.5.3.4",null,"Konfiguration des Leistungsumfangs erstellen und aufrechterhalten "]
[]
[null,"4.5.4",null,"Ablauf und Termine",null,{"$f":"IFERROR(ROUND(AVERAGE(F152:F156),0),\"\")","v":""},null,null,{"$f":"F150","v":""}]
[]
[null,"4.5.4.1",null,"Aktivitäten definieren, die nötig sind, um das Projekt (ab)liefern zu können "]
[null,"4.5.4.2",null,"Arbeitsaufwand und Dauer von Aktivitäten festlegen"]
[null,"4.5.4.3",null,"Vorgehensweise für Termine und Phasen respektive Sprints festlegen"]
[null,"4.5.4.4",null,"Abfolge der Projektaktivitäten bestimmen und einen Ablauf- und Terminplan erstellen"]
[null,"4.5.4.5",null,"Fortschritt anhand des Terminplans überwachen und notwendige Anpassungen vornehmen"]
[]
[null,"4.5.5",null,"Organisation, Information und Dokumentation",null,{"$f":"IFERROR(ROUND(AVERAGE(F160:F163),0),\"\")","v":""},null,null,{"$f":"F158","v":""}]
[]
[null,"4.5.5.1",null,"Bedürfnisse der Stakeholder bezüglich Information und Dokumentation beurteilen und bestimmen"]
[null,"4.5.5.2",null,"Struktur, Rollen und Verantwortlichkeiten im Projekt definieren"]
[null,"4.5.5.3",null,"Infrastruktur, Prozesse und Informationssysteme aufbauen"]
[null,"4.5.5.4",null,"Organisation des Projekts implementieren, überwachen und gegebenenfalls anpassen"]
[]
[null,"4.5.6",null,"Qualität",null,{"$f":"IFERROR(ROUND(AVERAGE(F167:F171),0),\"\")","v":""},null,null,{"$f":"F165","v":""}]
[]
[null,"4.5.6.1",null,"Qualitätsmanagementplan für das Projekt entwickeln, die Implementierung überwachen und gegebenenfalls überarbeiten"]
[null,"4.5.6.2",null,"Projekt mit seinen Lieferobjekten überprüfen um sicherzustellen, dass sie die Anforderungen des Qualitätsmanagementplans weiterhin erfüllen"]
[null,"4.5.6.3",null,"Erreichung der Qualitätsziele des Projekts verifizieren und erforderliche korrektive und/oder präventive Massnahmen empfehlen"]
[null,"4.5.6.4",null,"Validierung von Projektergebnissen planen und organisieren"]
[null,"4.5.6.5",null,"Qualität im Verlauf des Projekts sicherstellen"]
[]
[null,"4.5.7",null,"Kosten und Finanzierung",null,{"$f":"IFERROR(ROUND(AVERAGE(F175:F179),0),\"\")","v":""},null,null,{"$f":"F173","v":""}]
[]
[null,"4.5.7.1",null,"Projektkosten abschätzen"]
[null,"4.5.7.2",null,"Projektbudget erstellen"]
[null,"4.5.7.3",null,"Projektfinanzierung sichern"]
[null,"4.5.7.4",null,"Finanzmanagement- und Berichtssystem für das Projekt entwickeln, einrichten und aufrechterhalten"]
[null,"4.5.7.5",null,"Finanzen überwachen, um Abweichungen vom Projektplan zu  identifizieren und zu korrigieren"]
[]
[null,"4.5.8",null,"Ressourcen",null,{"$f":"IFERROR(ROUND(AVERAGE(F183:F187),0),\"\")","v":""},null,null,{"$f":"F181","v":""}]
[]
[null,"4.5.8.1",null,"Strategische Ressourcenplanung entwickeln, um die Projektergebnisse liefern zu können"]
[null,"4.5.8.2",null,"Qualität und Menge der benötigten Ressourcen definieren"]
[null,"4.5.8.3",null,"Potenzielle  Ressourcenquellen identifizieren und ihre Beschaffung verhandeln"]
[null,"4.5.8.4",null,"Ressourcen gemäss dem festgelegten Bedarf zuweisen und verteilen"]
[null,"4.5.8.5",null,"Ressourcenverbrauch evaluieren und erforderliche Korrekturmassnahmen ergreifen"]
[]
[null,"4.5.9",null,"Beschaffung",null,{"$f":"IFERROR(ROUND(AVERAGE(F191:F194),0),\"\")","v":""},null,null,{"$f":"F189","v":""}]
[]
[null,"4.5.9.1",null,"Beschaffungsbedarf, Optionen und Prozesse vereinbaren"]
[null,"4.5.9.2",null,"Zu Evaluation und Auswahl von Lieferanten und Partnern beitragen"]
[null,"4.5.9.3",null,"Zu Verhandlungen und Vereinbarungen von Vertragsbestimmungen beitragen, um diese in Einklang mit den Projektzielen zu bringen"]
[null,"4.5.9.4",null,"Vertragsausführung überwachen, Probleme ansprechen und falls notwendig Entschädigungen verlangen"]
[]
[null,"4.5.10",null,"Planung und Steuerung",null,{"$f":"IFERROR(ROUND(AVERAGE(F198:F203),0),\"\")","v":""},null,null,{"$f":"F196","v":""}]
[]
[null,"4.5.10.1",null,"Projekt starten, Projektmanagement-Plan entwickeln und Zustimmung einholen"]
[null,"4.5.10.2",null,"Übergang in eine neue Projektphase einleiten und managen"]
[null,"4.5.10.3",null,"Projektleistung mit dem Projektplan abgleichen und gegebenenfalls Korrekturmassnahmen treffen"]
[null,"4.5.10.4",null,"Bericht über den Projektfortschritt erstatten"]
[null,"4.5.10.5",null,"Projektänderungen beurteilen, Zustimmung für diese einholen und implementieren"]
[null,"4.5.10.6",null,"Eine Phase oder das Projekt abschliessen und evaluieren"]
[]
[null,"4.5.11",null,"Chancen und Risiken",null,{"$f":"IFERROR(ROUND(AVERAGE(F207:F211),0),\"\")","v":""},null,null,{"$f":"F205","v":""}]
[]
[null,"4.5.11.1",null,"Chancen- und Risikomanagementstruktur entwickeln und implementieren"]
[null,"4.5.11.2",null,"Chancen und Risiken identifizieren"]
[null,"4.5.11.3",null,"Wahrscheinlichkeit und Auswirkungen von Chancen und Risiken analysieren"]
[null,"4.5.11.4",null,"Strategien auswählen und Massnahmen implementieren, um Chancen und Risiken zu adressieren"]
[null,"4.5.11.5",null,"Chancen, Risiken und implementierte Massnahmen evaluieren und überwachen"]
[]
[null,"4.5.12",null,"Stakeholder",null,{"$f":"IFERROR(ROUND(AVERAGE(F215:F219),0),\"\")","v":""},null,null,{"$f":"F213","v":""}]
[]
[null,"4.5.12.1",null,"Stakeholder identifizieren und ihre Interessen und ihren Einfluss analysieren"]
[null,"4.5.12.2",null,"Stakeholderstrategie und Kommunikationsplan entwickeln und aufrechterhalten"]
[null,"4.5.12.3",null,"Geschäftsleitung, Auftraggeber und höheres Management einbinden, um Commitment zu erreichen und um Interessen und Erwartungen zu managen"]
[null,"4.5.12.4",null,"Benutzer, Partner und  Lieferanten einbinden, um Kooperation und Commitment zu erreichen"]
[null,"4.5.12.5",null,"Netzwerke und Allianzen aufbauen, aufrechterhalten und beenden"]
[]
[null,"4.5.13",null,"Change und Transformation",null,{"$f":"IFERROR(ROUND(AVERAGE(F223:F226),0),\"\")","v":""},null,null,{"$f":"F221","v":""}]
[]
[null,"4.5.13.1",null,"Adaptationsfähigkeit der Organisation(en) zu Veränderung beurteilen"]
[null,"4.5.13.2",null,"Veränderungsanforderungen und Transformationschancen identifizieren"]
[null,"4.5.13.3",null,"Veränderungs- oder Transformationsstrategie entwickeln"]
[null,"4.5.13.4",null,"Veränderungs- oder Transformationsmanagement implementieren"]
[]
[null,null,null,"Anzahl Kompetenzen mit Fähigkeiten",null,{"$f":"I228","v":0},null,null,{"$f":"COUNTIF(I$9:I$221,3)","v":0}]
[null,null,null,"Anzahl Kompetenzen mit Fertigkeiten",null,{"$f":"I229","v":0},null,null,{"$f":"COUNTIF(I$9:I$221,2)","v":0}]
[null,null,null,"Anzahl Kompetenzen mit Wissen",null,{"$f":"I230","v":0},null,null,{"$f":"COUNTIF(I$9:I$221,1)","v":0}]
[null,null,null,"Anzahl Kompetenzen ohne Fähigkeiten, Fertigkeiten oder Wissen",null,{"$f":"I231","v":0},null,null,{"$f":"COUNTIF(I$9:I$221,0)","v":0}]

{"sheet":"SAPgM","index":12,"n_rows":236,"n_cols":9,"rows_kept":236,"cut":false,"hidden":false,"merged":[[3,1,3,5],[5,3,5,5]]}
[]
[null,"Selbstbeurteilung Programmmanagement"]
[]
[null,"Füllen Sie bitte die Selbstbeurteilung für diejenige Domäne - Projekt-, Programm- oder Portfoliomanagement - vollständig aus, für welche Sie den Zertifizierungsantrag einreichen."]
[]
[null,"Kap. in swiss.ICB4",null,"Beurteilen Sie für jeden Kompetenzindikator Ihren Stand mit den folgenden Werten:\n3 = Fähigkeiten vorhanden      2 = Fertigkeiten vorhanden      1 = Wissen vorhanden      0 = nicht vorhanden"]
[]
[null,"4.3",null,"Kontext (perspective)"]
[null,"4.3.1",null,"Strategie",null,{"$f":"IFERROR(ROUND(AVERAGE(F11:F15),0),\"\")","v":""},null,null,{"$f":"F9","v":""}]
[]
[null,"4.3.1.1",null,"Das Programm mit der Mission und der Vision der Organisation in Einklang bringen"]
[null,"4.3.1.2",null,"Chancen identifizieren und ausschöpfen, die die Strategie der Organisation beeinflussen"]
[null,"4.3.1.3",null,"Rechtfertigung für das Programm entwickeln und sicherstellen, dass die betriebswirtschaftlichen und/oder organisationalen Gründe, die zum Programm geführt haben, weiterhin bestehen"]
[null,"4.3.1.4",null,"Kritische Erfolgsfaktoren bestimmen, beurteilen und überprüfen"]
[null,"4.3.1.5",null,"Key Performance Indicators (KPI) bestimmen, beurteilen und überprüfen"]
[]
[null,"4.3.2",null,"Governance, Strukturen und Prozesse",null,{"$f":"IFERROR(ROUND(AVERAGE(F19:F25),0),\"\")","v":""},null,null,{"$f":"F17","v":""}]
[]
[null,"4.3.2.1",null,"Die Grundlagen des Programmmanagements und deren Einführung kennen"]
[null,"4.3.2.2",null,"Die Grundlagen des Projektmanagements und deren Einführung kennen"]
[null,"4.3.2.3",null,"Die Grundlagen des Portfoliomanagements, deren Bedeutung für das Programmmanagement sowie deren Einführung kennen"]
[null,"4.3.2.4",null,"Das Programm mit den Supportfunktionen in Einklang bringen"]
[null,"4.3.2.5",null,"Das Programm mit den Entscheidungs- und Berichterstattungsstrukturen sowie den Qualitätsanforderungen der Organisation in Einklang bringen"]
[null,"4.3.2.6",null,"Das Programm mit den Prozessen und Funktionen des HR in Einklang bringen"]
[null,"4.3.2.7",null,"Das Programm mit den Finanz- und Controlling-Prozessen in Einklang bringen"]
[]
[null,"4.3.3",null,"Compliance, Standards und Regulationen",null,{"$f":"IFERROR(ROUND(AVERAGE(F29:F34),0),\"\")","v":""},null,null,{"$f":"F27","v":""}]
[]
[null,"4.3.3.1",null,"Die für das Programm und dessen Komponenten gültigen Rechtsvorschriften identifizieren und einhalten"]
[null,"4.3.3.2",null,"Alle für das Programm und dessen Komponenten relevanten Vorschriften für Sicherheit, Gesundheit und Umweltschutz (SGU) identifizieren und einhalten"]
[null,"4.3.3.3",null,"Alle für das Programm und dessen Komponenten relevanten Verhaltensregeln und Berufsvorschriften identifizieren und einhalten"]
[null,"4.3.3.4",null,"Für das Programm relevante Prinzipien und Ziele der Nachhaltigkeit identifizieren und einhalten"]
[null,"4.3.3.5",null,"Für das Programm und dessen Komponenten relevante professionelle Standards und Tools beurteilen, nutzen und weiterentwickeln"]
[null,"4.3.3.6",null,"Die Programmmanagementkompetenz der Organisation beurteilen, vergleichen und verbessern"]
[]
[null,"4.3.4",null,"Macht und Interessen",null,{"$f":"IFERROR(ROUND(AVERAGE(F38:F40),0),\"\")","v":""},null,null,{"$f":"F36","v":""}]
[]
[null,"4.3.4.1",null,"Persönliche Ambitionen und Interessen Dritter und deren potenzielle Auswirkungen auf das Programm und dessen Komponenten beurteilen sowie diese Kenntnisse zum Nutzen des Programms verwenden"]
[null,"4.3.4.2",null,"Informellen Einfluss von Einzelpersonen und Personengruppen und deren potenzielle Auswirkungen auf das Programm und dessen Komponenten beurteilen sowie diese Kenntnisse zum Nutzen des Programms verwenden"]
[null,"4.3.4.3",null,"Persönlichkeiten und Arbeitsstile Dritter beurteilen und zum Nutzen des Programms einsetzen"]
[]
[null,"4.3.5",null,"Kultur und Werte",null,{"$f":"IFERROR(ROUND(AVERAGE(F44:F46),0),\"\")","v":""},null,null,{"$f":"F42","v":""}]
[]
[null,"4.3.5.1",null,"Kultur und Werte der Gesellschaft und deren Auswirkungen auf das Programm und dessen Komponenten beurteilen"]
[null,"4.3.5.2",null,"Das Programm und dessen Komponenten mit der formellen Kultur und den Werten der Organisation(en) in Einklang bringen"]
[null,"4.3.5.3",null,"Die informelle Kultur und Werte der Organisation(en) und deren Auswirkungen auf das Programm und dessen Komponenten bewerten"]
[]
[null,"4.4",null,"Menschen (people)"]
[null,"4.4.1",null,"Selbstreflexion und Selbstmanagement",null,{"$f":"IFERROR(ROUND(AVERAGE(F51:F55),0),\"\")","v":""},null,null,{"$f":"F49","v":""}]
[]
[null,"4.4.1.1",null,"Einfluss der eigenen Werte und persönlichen Erfahrungen auf die Arbeit identifizieren und reflektieren"]
[null,"4.4.1.2",null,"Selbstvertrauen auf der Basis von persönlichen Stärken und Schwächen aufbauen"]
[null,"4.4.1.3",null,"Persönliche Motivationen identifizieren und reflektieren, um persönliche Ziele zu setzen und darauf zu fokussieren"]
[null,"4.4.1.4",null,"Eigene Arbeit abhängig von der Situation und den eigenen Ressourcen organisieren"]
[null,"4.4.1.5",null,"Verantwortung für das persönliche Lernen und die persönliche Weiterentwicklung übernehmen"]
[]
[null,"4.4.2",null,"Persönliche Integrität und Verlässlichkeit",null,{"$f":"IFERROR(ROUND(AVERAGE(F59:F63),0),\"\")","v":""},null,null,{"$f":"F57","v":""}]
[]
[null,"4.4.2.1",null,"Ethische Werte bei allen Entscheidungen und Handlungen anerkennen und anwenden"]
[null,"4.4.2.2",null,"Die Nachhaltigkeit von Leistungen und Ergebnissen fördern"]
[null,"4.4.2.3",null,"Verantwortung für die eigenen Entscheidungen und Handlungen übernehmen"]
[null,"4.4.2.4",null,"Widerspruchsfrei handeln, Entscheidungen treffen und kommunizieren"]
[null,"4.4.2.5",null,"Aufgaben sorgfältig erfüllen, um Vertrauen bei anderen zu schaffen"]
[]
[null,"4.4.3",null,"Persönliche Kommunikation",null,{"$f":"IFERROR(ROUND(AVERAGE(F67:F71),0),\"\")","v":""},null,null,{"$f":"F65","v":""}]
[]
[null,"4.4.3.1",null,"Eindeutige und strukturierte Informationen an andere weitergeben und deren gleiches Verständnis sicherstellen"]
[null,"4.4.3.2",null,"Offene Kommunikation ermöglichen und fördern"]
[null,"4.4.3.3",null,"Kommunikationsarten und -kanäle auswählen, um die Bedürfnisse der Zielgruppe, der Situation und der Führungsebene zu erfüllen"]
[null,"4.4.3.4",null,"Mit virtuellen Teams effektiv kommunizieren"]
[null,"4.4.3.5",null,"Humor und Perspektivenwechsel angemessen anwenden "]
[]
[null,"4.4.4",null,"Beziehungen und Engagement",null,{"$f":"IFERROR(ROUND(AVERAGE(F75:F79),0),\"\")","v":""},null,null,{"$f":"F73","v":""}]
[]
[null,"4.4.4.1",null,"Persönliche und berufliche Beziehungen aufbauen und pflegen"]
[null,"4.4.4.2",null,"Soziale Netzwerke aufbauen, moderieren und an ihnen teilnehmen"]
[null,"4.4.4.3",null,"Durch Zuhören, Verständnis und Unterstützung Empathie zeigen"]
[null,"4.4.4.4",null,"Vertrauen und Respekt zeigen, indem andere ermutigt werden ihre Meinungen und Bedenken zu äussern"]
[null,"4.4.4.5",null,"Eigene Visionen und Ziele kommunizieren, um Engagement und Commitment Dritter zu erreichen"]
[]
[null,"4.4.5",null,"Führung",null,{"$f":"IFERROR(ROUND(AVERAGE(F83:F87),0),\"\")","v":""},null,null,{"$f":"F81","v":""}]
[]
[null,"4.4.5.1",null,"Initiative ergreifen und proaktiv mit Rat und Tat zur Seite stehen"]
[null,"4.4.5.2",null,"Ownership übernehmen und Committment zeigen"]
[null,"4.4.5.3",null,"Durch Vorgeben der Richtung, durch Coaching und Mentoring die Arbeit von Einzelpersonen und Teams leiten und verbessern"]
[null,"4.4.5.4",null,"Macht und Einfluss angemessen auf Dritte ausüben, um die Ziele zu erreichen"]
[null,"4.4.5.5",null,"Entscheidungen treffen, durchsetzen und überprüfen"]
[]
[null,"4.4.6",null,"Teamarbeit",null,{"$f":"IFERROR(ROUND(AVERAGE(F91:F95),0),\"\")","v":""},null,null,{"$f":"F89","v":""}]
[]
[null,"4.4.6.1",null,"Das Team zusammenstellen und entwickeln"]
[null,"4.4.6.2",null,"Zusammenarbeit und Netzwerken zwischen Teammitgliedern fördern"]
[null,"4.4.6.3",null,"Die Entwicklung des Teams und der Teammitglieder ermöglichen, unterstützen und überprüfen"]
[null,"4.4.6.4",null,"Teams durch das Delegieren von Aufgaben und Verantwortlichkeiten stärken"]
[null,"4.4.6.5",null,"Fehler erkennen, um das Lernen aus Fehlern zu ermöglichen"]
[]
[null,"4.4.7",null,"Konflikte und Krisen",null,{"$f":"IFERROR(ROUND(AVERAGE(F99:F102),0),\"\")","v":""},null,null,{"$f":"F97","v":""}]
[]
[null,"4.4.7.1",null,"Konflikte und Krisen antizipieren und wenn möglich verhindern"]
[null,"4.4.7.2",null,"Ursachen und Auswirkungen von Konflikten und Krisen analysieren und angemessene Reaktionen auswählen"]
[null,"4.4.7.3",null,"Konflikte und Krisen und/oder deren Auswirkungen lösen bzw. in ihnen vermitteln"]
[null,"4.4.7.4",null,"Lernergebnisse aus Konflikten und Krisen identifizieren und weitergeben, um die zukünftige Arbeit zu verbessern"]
[]
[null,"4.4.8",null,"Vielseitigkeit",null,{"$f":"IFERROR(ROUND(AVERAGE(F106:F110),0),\"\")","v":""},null,null,{"$f":"F104","v":""}]
[]
[null,"4.4.8.1",null,"Ein offenes und kreatives Umfeld schaffen und unterstützen"]
[null,"4.4.8.2",null,"Konzeptionelles Denken anwenden, um Situationen zu analysieren und Lösungsstrategien zu definieren"]
[null,"4.4.8.3",null,"Analytische Techniken anwenden, um Situationen, Daten und Trends zu analysieren"]
[null,"4.4.8.4",null,"Kreative Techniken fördern und anwenden, um Alternativen und Lösungen zu finden"]
[null,"4.4.8.5",null,"Ganzheitliche Sicht auf das Programm und dessen Kontext fördern, um den Entscheidungsprozess zu verbessern"]
[]
[null,"4.4.9",null,"Verhandlungen",null,{"$f":"IFERROR(ROUND(AVERAGE(F114:F118),0),\"\")","v":""},null,null,{"$f":"F112","v":""}]
[]
[null,"4.4.9.1",null,"Interessen aller Parteien, die an den Verhandlungen beteiligt sind, identifizieren und analysieren"]
[null,"4.4.9.2",null,"Optionen und Alternativen entwickeln und evaluieren, die das Potenzial haben, die Bedürfnisse aller Beteiligten zu erfüllen"]
[null,"4.4.9.3",null,"Verhandlungsstrategie definieren, die mit den eigenen Zielen übereinstimmt und für alle beteiligten Parteien akzeptabel ist"]
[null,"4.4.9.4",null,"Einigungen mit anderen Parteien erzielen, die mit den eigenen Zielen übereinstimmen"]
[null,"4.4.9.5",null,"Zusätzliche Verkaufs- und Akquisitionsmöglichkeiten entdecken und ausschöpfen"]
[]
[null,"4.4.10",null,"Ergebnisorientierung",null,{"$f":"IFERROR(ROUND(AVERAGE(F122:F126),0),\"\")","v":""},null,null,{"$f":"F120","v":""}]
[]
[null,"4.4.10.1",null,"Alle Entscheidungen und Handlungen hinsichtlich ihrer Auswirkung auf den Programmerfolg und die Ziele der Organisation evaluieren"]
[null,"4.4.10.2",null,"Bedürfnisse und Mittel aufeinander abstimmen, um Ergebnisse und Erfolge zu optimieren"]
[null,"4.4.10.3",null,"Gesunde, sichere und produktive Arbeitsumgebung schaffen und aufrecht zu erhalten"]
[null,"4.4.10.4",null,"Das Programm, dessen Prozesse und Ergebnisse promoten und 'verkaufen'"]
[null,"4.4.10.5",null,"Ergebnisse liefern und Akzeptanz erhalten"]
[]
[null,"4.5",null,"Praktiken (practice)"]
[null,"4.5.1",null,"Programmdesign",null,{"$f":"IFERROR(ROUND(AVERAGE(F131:F138),0),\"\")","v":""},null,null,{"$f":"F129","v":""}]
[]
[null,"4.5.1.1",null,"Erfolgskriterien anerkennen, priorisieren und überprüfen"]
[null,"4.5.1.2",null,"Lessons Learned aus und mit anderen Programmen und deren Komponenten überprüfen, anwenden und austauschen"]
[null,"4.5.1.3",null,"Programmkomplexität und ihre Konsequenzen für den Programmmanagementansatz bestimmen"]
[null,"4.5.1.4",null,"Programmvision erstellen"]
[null,"4.5.1.5",null,"Veränderungsstrategie entwickeln und anpassen"]
[null,"4.5.1.6",null,"Generellen Programmmanagement-Ansatz auswählen und anpassen"]
[null,"4.5.1.7",null,"Konzept für die Programmdurchführung entwerfen, überwachen und gegebenenfalls anpassen"]
[null,"4.5.1.8",null,"Lieferstrategie für das Programm entwerfen"]
[]
[null,"4.5.2",null,"Nutzen und Ziele",null,{"$f":"IFERROR(ROUND(AVERAGE(F142:F146),0),\"\")","v":""},null,null,{"$f":"F140","v":""}]
[]
[null,"4.5.2.1",null,"Hierarchie der Programmziele definieren und entwickeln"]
[null,"4.5.2.2",null,"Programmnutzen identifizieren und wenn möglich quantifizieren"]
[null,"4.5.2.3",null,"Strategie der Nutzenrealisierung entwickeln"]
[null,"4.5.2.4",null,"Programmkomponenten mit ihren Ergebnissen und Schnittstellen definieren"]
[null,"4.5.2.5",null,"Nutzenrealisierung sicherstellen"]
[]
[null,"4.5.3",null,"Leistungsumfang",null,{"$f":"IFERROR(ROUND(AVERAGE(F150:F153),0),\"\")","v":""},null,null,{"$f":"F148","v":""}]
[]
[null,"4.5.3.1",null,"Leistungsumfang definieren"]
[null,"4.5.3.2",null,"Leistungsumfang des Programms strukturieren"]
[null,"4.5.3.3",null,"Leistungsumfang der Komponenten managen"]
[null,"4.5.3.4",null,"Konfiguration des Leistungsumfangs herstellen und aufrechterhalten "]
[]
[null,"4.5.4",null,"Ablauf und Termine",null,{"$f":"IFERROR(ROUND(AVERAGE(F157:F159),0),\"\")","v":""},null,null,{"$f":"F155","v":""}]
[]
[null,"4.5.4.1",null,"Abfolge der Programmkomponenten erstellen und einen Masterplan entwickeln"]
[null,"4.5.4.2",null,"Konsistenz der Tranchen sicherstellen"]
[null,"4.5.4.3",null,"Übergang zwischen Tranchen managen"]
[]
[null,"4.5.5",null,"Organisation, Information und Dokumentation",null,{"$f":"IFERROR(ROUND(AVERAGE(F163:F166),0),\"\")","v":""},null,null,{"$f":"F161","v":""}]
[]
[null,"4.5.5.1",null,"Governance-Rahmen und Regeln für das Programm entwerfen und einführen"]
[null,"4.5.5.2",null,"Struktur, Rollen und Verantwortlichkeiten im Programm definieren"]
[null,"4.5.5.3",null,"Infrastruktur, Prozesse und Informationssysteme aufbauen"]
[null,"4.5.5.4",null,"Organisation des Programms implementieren, überwachen und ggf. anpassen"]
[]
[null,"4.5.6",null,"Qualität",null,{"$f":"IFERROR(ROUND(AVERAGE(F170:F171),0),\"\")","v":""},null,null,{"$f":"F168","v":""}]
[]
[null,"4.5.6.1",null,"Qualität im Verlauf des Programms sicherstellen"]
[null,"4.5.6.2",null,"Qualitätssicherung im Programm organisieren"]
[]
[null,"4.5.7",null,"Kosten und Finanzierung",null,{"$f":"IFERROR(ROUND(AVERAGE(F175:F179),0),\"\")","v":""},null,null,{"$f":"F173","v":""}]
[]
[null,"4.5.7.1",null,"Finanzierungsmöglichkeiten analysieren und Finanzierungsstrategie festlegen"]
[null,"4.5.7.2",null,"Programmbudget festlegen und erstellen"]
[null,"4.5.7.3",null,"Rahmenbedingungen für das Finanzierungs- und Kostenmanagement etablieren und lenken"]
[null,"4.5.7.4",null,"Finanzen auf der Basis der Bedürfnisse der Komponenten und unter Berücksichtigung der vertraglichen Bedingungen mit den Finanzgebern verteilen"]
[null,"4.5.7.5",null,"Berichte für Finanzierungsorganisationen bereitstellen"]
[]
[null,"4.5.8",null,"Ressourcen",null,{"$f":"IFERROR(ROUND(AVERAGE(F183:F187),0),\"\")","v":""},null,null,{"$f":"F181","v":""}]
[]
[null,"4.5.8.1",null,"Strategische Ressourcenplanung entwickeln, um die Programmergebnisse liefern zu können"]
[null,"4.5.8.2",null,"Qualität und Menge der benötigten Ressourcen definieren"]
[null,"4.5.8.3",null,"Potenzielle  Ressourcenquellen identifizieren und ihre Beschaffung verhandeln"]
[null,"4.5.8.4",null,"Ressourcen gemäss dem festgelegten Bedarf zuweisen und verteilen"]
[null,"4.5.8.5",null,"Ressourcenverbrauch evaluieren und erforderliche Korrekturmassnahmen ergreifen"]
[]
[null,"4.5.9",null,"Beschaffung und Partnerschaft",null,{"$f":"IFERROR(ROUND(AVERAGE(F191:F193),0),\"\")","v":""},null,null,{"$f":"F189","v":""}]
[]
[null,"4.5.9.1",null,"Beschaffungssystem für das Programm aufrecht erhalten und lenken"]
[null,"4.5.9.2",null,"Partnerschaften entwickeln"]
[null,"4.5.9.3",null,"Partnerschaften beenden"]
[]
[null,"4.5.10",null,"Planung und Steuerung",null,{"$f":"IFERROR(ROUND(AVERAGE(F197:F201),0),\"\")","v":""},null,null,{"$f":"F195","v":""}]
[]
[null,"4.5.10.1",null,"Das Programm etablieren"]
[null,"4.5.10.2",null,"Schnittstellen und Synergien zwischen Komponenten managen"]
[null,"4.5.10.3",null,"Status der Komponenten messen und evaluieren sowie deren Fortschritt beeinflussen"]
[null,"4.5.10.4",null,"Den Komponentenmanagern die Richtung vorgeben"]
[null,"4.5.10.5",null,"Das Programm abschliessen"]
[]
[null,"4.5.11",null,"Chancen und Risiken",null,{"$f":"IFERROR(ROUND(AVERAGE(F205:F209),0),\"\")","v":""},null,null,{"$f":"F203","v":""}]
[]
[null,"4.5.11.1",null,"Chancen- und Risikomanagementstruktur entwickeln und implementieren"]
[null,"4.5.11.2",null,"Chancen und Risiken identifizieren"]
[null,"4.5.11.3",null,"Wahrscheinlichkeit und Auswirkungen von Chancen und Risiken analysieren"]
[null,"4.5.11.4",null,"Strategien auswählen und Massnahmen implementieren, um Chancen und Risiken zu adressieren"]
[null,"4.5.11.5",null,"Chancen, Risiken und implementierte Massnahmen evaluieren und überwachen"]
[]
[null,"4.5.12",null,"Stakeholder",null,{"$f":"IFERROR(ROUND(AVERAGE(F213:F217),0),\"\")","v":""},null,null,{"$f":"F211","v":""}]
[]
[null,"4.5.12.1",null,"Stakeholder identifizieren und ihre Interessen sowie ihren Einfluss analysieren"]
[null,"4.5.12.2",null,"Stakeholdern involvieren, um deren Kooperation und Verpflichtung zu gewinnen"]
[null,"4.5.12.3",null,"Stakeholderstrategie und Kommunikationsplan entwickeln und aufrechterhalten"]
[null,"4.5.12.4",null,"Geschäftsleitung, Auftraggeber und höheres Management einbinden, um Commitment zu erreichen und um Interessen und Erwartungen zu managen"]
[null,"4.5.12.5",null,"Netzwerke und Allianzen organisieren, aufrechterhalten und beenden"]
[]
[null,"4.5.13",null,"Change und Transformation",null,{"$f":"IFERROR(ROUND(AVERAGE(F221:F224),0),\"\")","v":""},null,null,{"$f":"F219","v":""}]
[]
[null,"4.5.13.1",null,"Adaptationsfähigkeit der Organisation(en) zu Veränderung (Change) bewerten"]
[null,"4.5.13.2",null,"Veränderungsanforderungen und Transformationschancen identifizieren"]
[null,"4.5.13.3",null,"Veränderungs- oder Transformationsstrategie entwickeln"]
[null,"4.5.13.4",null,"Veränderungs- oder Transformationsmanagement implementieren"]
[]
[null,"4.5.14",null,"Projektselektion und Portfoliobalance",null,{"$f":"IFERROR(ROUND(AVERAGE(F228:F231),0),\"\")","v":""},null,null,{"$f":"F226","v":""}]
[]
[null,"4.5.14.1",null,"Komponentenmerkmale analysieren"]
[null,"4.5.14.2",null,"Komponenten anhand der Programmprioritäten priorisieren"]
[null,"4.5.14.3",null,"Zukünftige Programmleistung analysieren und prognostizieren"]
[null,"4.5.14.4",null,"Programmentscheidungen vorbereiten und moderieren"]
[]
[null,null,null,"Anzahl Kompetenzen mit Fähigkeiten",null,{"$f":"I233","v":0},null,null,{"$f":"COUNTIF(I$9:I$226,3)","v":0}]
[null,null,null,"Anzahl Kompetenzen mit Fertigkeiten",null,{"$f":"I234","v":0},null,null,{"$f":"COUNTIF(I$9:I$226,2)","v":0}]
[null,null,null,"Anzahl Kompetenzen mit Wissen",null,{"$f":"I235","v":0},null,null,{"$f":"COUNTIF(I$9:I$226,1)","v":0}]
[null,null,null,"Anzahl Kompetenzen ohne Fähigkeiten, Fertigkeiten oder Wissen",null,{"$f":"I236","v":0},null,null,{"$f":"COUNTIF(I$9:I$226,0)","v":0}]

{"sheet":"SAPfM","index":13,"n_rows":211,"n_cols":9,"rows_kept":211,"cut":false,"hidden":false,"merged":[[3,1,3,5],[5,3,5,5]]}
[]
[null,"Selbstbeurteilung Portfoliomanagement"]
[]
[null,"Füllen Sie bitte die Selbstbeurteilung für diejenige Domäne - Projekt-, Programm- oder Portfoliomanagement - vollständig aus, für welche Sie den Zertifizierungsantrag einreichen."]
[]
[null,"Kap. in swiss.ICB4",null,"Beurteilen Sie für jeden Kompetenzindikator Ihren Stand mit den folgenden Werten:\n3 = Fähigkeiten vorhanden      2 = Fertigkeiten vorhanden      1 = Wissen vorhanden      0 = nicht vorhanden"]
[]
[null,"4.3",null,"Kontext (perspective)"]
[null,"4.3.1",null,"Strategie",null,{"$f":"IFERROR(ROUND(AVERAGE(F11:F15),0),\"\")","v":""},null,null,{"$f":"F9","v":""}]
[]
[null,"4.3.1.1",null,"Das Portfolio mit der Mission und der Vision der Organisation in Einklang bringen"]
[null,"4.3.1.2",null,"Chancen identifizieren und ausschöpfen, die die Strategie der Organisation beeinflussen"]
[null,"4.3.1.3",null,"Rechtfertigung für das Portfolio entwickeln und sicherstellen, dass die betriebswirtschaftlichen und/oder organisationalen Gründe, die zum Portfolio geführt haben, weiterhin bestehen"]
[null,"4.3.1.4",null,"Kritische Erfolgsfaktoren bestimmen, beurteilen und überprüfen"]
[null,"4.3.1.5",null,"Key Performance Indicators (KPI) bestimmen, beurteilen und überprüfen"]
[]
[null,"4.3.2",null,"Governance, Strukturen und Prozesse",null,{"$f":"IFERROR(ROUND(AVERAGE(F19:F23),0),\"\")","v":""},null,null,{"$f":"F17","v":""}]
[]
[null,"4.3.2.1",null,"Die Grundlagen des Portfoliomanagements und deren Einführung kennen"]
[null,"4.3.2.2",null,"Die Grundlagen des Projekt- und Programmmanagements und deren Einführung kennen und anwenden"]
[null,"4.3.2.3",null,"Das Portfolio mit den Entscheidungs- und Berichterstattungsstrukturen sowie den Qualitätsanforderungen der Organisation in Einklang bringen"]
[null,"4.3.2.4",null,"Das Portfolio mit den Prozessen und Funktionen des HR in Einklang bringen"]
[null,"4.3.2.5",null,"Das Portfolio mit den Finanz- und Controlling-Prozessen in Einklang bringen"]
[]
[null,"4.3.3",null,"Compliance, Standards und Regulationen",null,{"$f":"IFERROR(ROUND(AVERAGE(F27:F32),0),\"\")","v":""},null,null,{"$f":"F25","v":""}]
[]
[null,"4.3.3.1",null,"Die für das Portfolio und dessen Komponenten gültigen Rechtsvorschriften identifizieren und einhalten"]
[null,"4.3.3.2",null,"Alle für das Portfolio und dessen Komponenten relevanten Vorschriften für Sicherheit, Gesundheit und Umweltschutz (SGU) identifizieren und einhalten"]
[null,"4.3.3.3",null,"Alle für das Portfolio und dessen Komponenten relevanten Verhaltensregeln und Berufsvorschriften identifizieren und einhalten"]
[null,"4.3.3.4",null,"Für das Portfolio relevante Prinzipien und Ziele der Nachhaltigkeit identifizieren und einhalten"]
[null,"4.3.3.5",null,"Für das Portfolio und dessen Komponenten relevante professionelle Standards und Tools beurteilen, nutzen und weiterentwickeln"]
[null,"4.3.3.6",null,"Die Portfoliomanagementkompetenz der Organisation beurteilen, vergleichen und verbessern"]
[]
[null,"4.3.4",null,"Macht und Interessen",null,{"$f":"IFERROR(ROUND(AVERAGE(F36:F38),0),\"\")","v":""},null,null,{"$f":"F34","v":""}]
[]
[null,"4.3.4.1",null,"Persönliche Ambitionen und Interessen Dritter und deren potenzielle Auswirkungen auf das Portfolio und dessen Komponenten beurteilen sowie diese Kenntnisse zum Nutzen des Portfolios verwenden"]
[null,"4.3.4.2",null,"Informellen Einfluss von Einzelpersonen und Personengruppen und deren potenzielle Auswirkungen auf das Portfolio und dessen Komponenten bewerten"]
[null,"4.3.4.3",null,"Persönlichkeiten und Arbeitsstile Dritter beurteilen und zum Nutzen des Portfolios einsetzen"]
[]
[null,"4.3.5",null,"Kultur und Werte",null,{"$f":"IFERROR(ROUND(AVERAGE(F42:F44),0),\"\")","v":""},null,null,{"$f":"F40","v":""}]
[]
[null,"4.3.5.1",null,"Kultur und Werte der Gesellschaft und deren Auswirkungen auf das Portfolio und dessen Komponenten beurteilen"]
[null,"4.3.5.2",null,"Das Portfolio und dessen Komponenten mit der formellen Kultur und den Werten der Organisation in Einklang bringen"]
[null,"4.3.5.3",null,"Die informelle Kultur und Werte der Organisation und deren Auswirkungen auf das Portfolio und dessen Komponenten beurteilen"]
[]
[null,"4.4",null,"Menschen (people)"]
[null,"4.4.1",null,"Selbstreflexion und Selbstmanagement",null,{"$f":"IFERROR(ROUND(AVERAGE(F49:F53),0),\"\")","v":""},null,null,{"$f":"F47","v":""}]
[]
[null,"4.4.1.1",null,"Einfluss der eigenen Werte und persönlichen Erfahrungen auf die Arbeit identifizieren und reflektieren"]
[null,"4.4.1.2",null,"Selbstvertrauen auf der Basis von persönlichen Stärken und Schwächen aufbauen"]
[null,"4.4.1.3",null,"Persönliche Motivationen identifizieren und reflektieren, um persönliche Ziele zu setzen und darauf zu fokussieren"]
[null,"4.4.1.4",null,"Eigene Arbeit abhängig von der Situation und den eigenen Ressourcen organisieren"]
[null,"4.4.1.5",null,"Verantwortung für das persönliche Lernen und die persönliche Weiterentwicklung übernehmen"]
[]
[null,"4.4.2",null,"Persönliche Integrität und Verlässlichkeit",null,{"$f":"IFERROR(ROUND(AVERAGE(F57:F61),0),\"\")","v":""},null,null,{"$f":"F55","v":""}]
[]
[null,"4.4.2.1",null,"Ethische Werte bei allen Entscheidungen und Handlungen anerkennen und anwenden"]
[null,"4.4.2.2",null,"Die Nachhaltigkeit von Leistungen und Ergebnissen fördern"]
[null,"4.4.2.3",null,"Verantwortung für die eigenen Entscheidungen und Handlungen übernehmen"]
[null,"4.4.2.4",null,"Widerspruchsfrei handeln, Entscheidungen treffen und kommunizieren"]
[null,"4.4.2.5",null,"Aufgaben sorgfältig erfüllen, um Vertrauen bei anderen zu schaffen"]
[]
[null,"4.4.3",null,"Persönliche Kommunikation",null,{"$f":"IFERROR(ROUND(AVERAGE(F65:F69),0),\"\")","v":""},null,null,{"$f":"F63","v":""}]
[]
[null,"4.4.3.1",null,"Eindeutige und strukturierte Informationen an andere weitergeben und deren gleiches Verständnis sicherstellen"]
[null,"4.4.3.2",null,"Offene Kommunikation ermöglichen und fördern"]
[null,"4.4.3.3",null,"Kommunikationsarten und -kanäle auswählen, um die Bedürfnisse der Zielgruppe, der Situation und der Führungsebene zu erfüllen"]
[null,"4.4.3.4",null,"Mit virtuellen Teams effektiv kommunizieren"]
[null,"4.4.3.5",null,"Humor und Perspektivenwechsel angemessen anwenden "]
[]
[null,"4.4.4",null,"Beziehungen und Engagement",null,{"$f":"IFERROR(ROUND(AVERAGE(F73:F77),0),\"\")","v":""},null,null,{"$f":"F71","v":""}]
[]
[null,"4.4.4.1",null,"Persönliche und berufliche Beziehungen aufbauen und pflegen"]
[null,"4.4.4.2",null,"Soziale Netzwerke aufbauen, moderieren und an ihnen teilnehmen"]
[null,"4.4.4.3",null,"Durch Zuhören, Verständnis und Unterstützung Empathie zeigen"]
[null,"4.4.4.4",null,"Vertrauen und Respekt zeigen, indem andere ermutigt werden ihre Meinungen und Bedenken zu äussern"]
[null,"4.4.4.5",null,"Eigene Visionen und Ziele kommunizieren, um Engagement und Commitment Dritter zu erreichen"]
[]
[null,"4.4.5",null,"Führung",null,{"$f":"IFERROR(ROUND(AVERAGE(F81:F85),0),\"\")","v":""},null,null,{"$f":"F79","v":""}]
[]
[null,"4.4.5.1",null,"Initiative ergreifen und proaktiv mit Rat und Tat zur Seite stehen"]
[null,"4.4.5.2",null,"Ownership übernehmen und Committment zeigen"]
[null,"4.4.5.3",null,"Durch Vorgeben der Richtung, durch Coaching und Mentoring die Arbeit von Einzelpersonen und Teams leiten und verbessern"]
[null,"4.4.5.4",null,"Macht und Einfluss angemessen auf Dritte ausüben, um die Ziele zu erreichen"]
[null,"4.4.5.5",null,"Entscheidungen treffen, durchsetzen und überprüfen"]
[]
[null,"4.4.6",null,"Teamarbeit",null,{"$f":"IFERROR(ROUND(AVERAGE(F89:F93),0),\"\")","v":""},null,null,{"$f":"F87","v":""}]
[]
[null,"4.4.6.1",null,"Das Team zusammenstellen und entwickeln"]
[null,"4.4.6.2",null,"Zusammenarbeit und Netzwerken zwischen Teammitgliedern fördern"]
[null,"4.4.6.3",null,"Die Entwicklung des Teams und der Teammitglieder ermöglichen, unterstützen und überprüfen"]
[null,"4.4.6.4",null,"Teams durch das Delegieren von Aufgaben und Verantwortlichkeiten stärken"]
[null,"4.4.6.5",null,"Fehler erkennen, um das Lernen aus Fehlern zu ermöglichen"]
[]
[null,"4.4.7",null,"Konflikte und Krisen",null,{"$f":"IFERROR(ROUND(AVERAGE(F97:F100),0),\"\")","v":""},null,null,{"$f":"F95","v":""}]
[]
[null,"4.4.7.1",null,"Konflikte und Krisen antizipieren und wenn möglich verhindern"]
[null,"4.4.7.2",null,"Ursachen und Auswirkungen von Konflikten und Krisen analysieren und angemessene Reaktionen auswählen"]
[null,"4.4.7.3",null,"Konflikte und Krisen und/oder deren Auswirkungen lösen bzw. in ihnen vermitteln"]
[null,"4.4.7.4",null,"Lernergebnisse aus Konflikten und Krisen identifizieren und weitergeben, um die zukünftige Arbeit zu verbessern"]
[]
[null,"4.4.8",null,"Vielseitigkeit",null,{"$f":"IFERROR(ROUND(AVERAGE(F104:F108),0),\"\")","v":""},null,null,{"$f":"F102","v":""}]
[]
[null,"4.4.8.1",null,"Ein offenes und kreatives Umfeld schaffen und unterstützen"]
[null,"4.4.8.2",null,"Konzeptionelles Denken anwenden, um Situationen zu analysieren und Lösungsstrategien zu definieren"]
[null,"4.4.8.3",null,"Analytische Techniken anwenden, um Situationen, Informationen und Trends zu analysieren"]
[null,"4.4.8.4",null,"Kreative Techniken fördern und anwenden, um Alternativen und Lösungen zu finden"]
[null,"4.4.8.5",null,"Ganzheitliche Sicht auf das Portfolio und seinen Kontext fördern, um den Entscheidungsprozess zu verbessern"]
[]
[null,"4.4.9",null,"Verhandlungen",null,{"$f":"IFERROR(ROUND(AVERAGE(F112:F116),0),\"\")","v":""},null,null,{"$f":"F110","v":""}]
[]
[null,"4.4.9.1",null,"Interessen aller Parteien, die an den Verhandlungen beteiligt sind, identifizieren und analysieren"]
[null,"4.4.9.2",null,"Optionen und Alternativen entwickeln und evaluieren, die das Potenzial haben, die Bedürfnisse aller Beteiligten zu erfüllen"]
[null,"4.4.9.3",null,"Verhandlungsstrategie definieren, die mit den eigenen Zielen übereinstimmt und für alle beteiligten Parteien akzeptabel ist"]
[null,"4.4.9.4",null,"Einigungen mit anderen Parteien erzielen, die mit den eigenen Zielen übereinstimmen"]
[null,"4.4.9.5",null,"Zusätzliche Verkaufs- und Akquisitionsmöglichkeiten entdecken und ausschöpfen"]
[]
[null,"4.4.10",null,"Ergebnisorientierung",null,{"$f":"IFERROR(ROUND(AVERAGE(F120:F124),0),\"\")","v":""},null,null,{"$f":"F118","v":""}]
[]
[null,"4.4.10.1",null,"Alle Entscheidungen und Handlungen hinsichtlich ihrer Auswirkung auf den Portfolioerfolg und die Ziele der Organisation evaluieren"]
[null,"4.4.10.2",null,"Bedürfnisse und Mittel aufeinander abstimmen, um Ergebnisse und Erfolge zu optimieren"]
[null,"4.4.10.3",null,"Gesunde, sichere und produktive Arbeitsumgebung schaffen und aufrecht zu erhalten"]
[null,"4.4.10.4",null,"Das Portfolio, seine Prozesse und Ergebnisse promoten und 'verkaufen'"]
[null,"4.4.10.5",null,"Ergebnisse liefern und Akzeptanz erhalten"]
[]
[null,"4.5",null,"Praktiken (practice)"]
[null,"4.5.1",null,"Portfoliodesign",null,{"$f":"IFERROR(ROUND(AVERAGE(F129:F130),0),\"\")","v":""},null,null,{"$f":"F127","v":""}]
[]
[null,"4.5.1.1",null,"Erfolgskriterien anerkennen, priorisieren und überprüfen"]
[null,"4.5.1.2",null,"Lessons Learned aus und mit anderen Portfolios und deren Komponenten überprüfen, anwenden und austauschen"]
[]
[null,"4.5.2",null,"Nutzen",null,{"$f":"IFERROR(ROUND(AVERAGE(F134:F134),0),\"\")","v":""},null,null,{"$f":"F132","v":""}]
[]
[null,"4.5.2.1",null,"Hierarchie der Ziele der Organisation definieren und entwickeln"]
[]
[null,"4.5.3",null,"Leistungsumfang",null,{"$f":"IFERROR(ROUND(AVERAGE(F138:F139),0),\"\")","v":""},null,null,{"$f":"F136","v":""}]
[]
[null,"4.5.3.1",null,"Leistungsumfang des Portfolios etablieren und unterhalten"]
[null,"4.5.3.2",null,"Konfiguration des Leistungsumfangs der Komponenten überwachen und steuern"]
[]
[null,"4.5.4",null,"Termine",null,{"$f":"IFERROR(ROUND(AVERAGE(F143:F143),0),\"\")","v":""},null,null,{"$f":"F141","v":""}]
[]
[null,"4.5.4.1",null,"Entscheidungszyklus für das Portfolio aufbauen und weiterentwickeln"]
[]
[null,"4.5.5",null,"Organisation, Information und Dokumentation",null,{"$f":"IFERROR(ROUND(AVERAGE(F147:F150),0),\"\")","v":""},null,null,{"$f":"F145","v":""}]
[]
[null,"4.5.5.1",null,"Bedürfnisse der Stakeholder bezüglich Information und Dokumentation beurteilen und bestimmen"]
[null,"4.5.5.2",null,"Struktur, Rollen und Verantwortlichkeiten im Portfolio und dessen Komponenten definieren"]
[null,"4.5.5.3",null,"Infrastruktur, Prozesse und Informationssysteme aufbauen"]
[null,"4.5.5.4",null,"Organisation des Portfolios implementieren, überwachen und anpassen"]
[]
[null,"4.5.6",null,"Qualität",null,{"$f":"IFERROR(ROUND(AVERAGE(F154:F154),0),\"\")","v":""},null,null,{"$f":"F152","v":""}]
[]
[null,"4.5.6.1",null,"Qualität im Portfolio und dessen Komponenten sicherstellen"]
[]
[null,"4.5.7",null,"Kosten und Finanzierung",null,{"$f":"IFERROR(ROUND(AVERAGE(F158:F159),0),\"\")","v":""},null,null,{"$f":"F156","v":""}]
[]
[null,"4.5.7.1",null,"Portfoliobudget festlegen und erstellen"]
[null,"4.5.7.2",null,"Finanzmanagement- und Berichtssystem für das Portfolio und dessen Komponente entwickeln, einrichten und aufrechterhalten"]
[]
[null,"4.5.8",null,"Ressourcen",null,{"$f":"IFERROR(ROUND(AVERAGE(F163:F165),0),\"\")","v":""},null,null,{"$f":"F161","v":""}]
[]
[null,"4.5.8.1",null,"Strategische Ressourcenplanung um sicherzustellen, dass die Komponenten (Programme und Projekte) liefern können"]
[null,"4.5.8.2",null,"Qualität und Menge der benötigten Ressourcen definieren"]
[null,"4.5.8.3",null,"Kompetenzen der für die Komponenten des Portfolios benötigten Ressourcen ermitteln"]
[]
[null,"4.5.9",null,"Beschaffung und Partnerschaft",null,{"$f":"IFERROR(ROUND(AVERAGE(F169:F169),0),\"\")","v":""},null,null,{"$f":"F167","v":""}]
[]
[null,"4.5.9.1",null,"Beschaffungssystem für das Portfolio aufrecht erhalten und lenken"]
[]
[null,"4.5.10",null,"Planung und Steuerung",null,{"$f":"IFERROR(ROUND(AVERAGE(F173:F175),0),\"\")","v":""},null,null,{"$f":"F171","v":""}]
[]
[null,"4.5.10.1",null,"Das Portfoliosystem einrichten"]
[null,"4.5.10.2",null,"Portfoliozyklus einrichten und aufrechterhalten"]
[null,"4.5.10.3",null,"Über das Portfolio Bericht erstatten"]
[]
[null,"4.5.11",null,"Chancen und Risiken",null,{"$f":"IFERROR(ROUND(AVERAGE(F179:F183),0),\"\")","v":""},null,null,{"$f":"F177","v":""}]
[]
[null,"4.5.11.1",null,"Chancen- und Risikomanagementstruktur entwickeln und implementieren"]
[null,"4.5.11.2",null,"Chancen und Risiken identifizieren"]
[null,"4.5.11.3",null,"Wahrscheinlichkeit und Auswirkungen von Chancen und Risiken analysieren"]
[null,"4.5.11.4",null,"Strategien auswählen und Massnahmen implementieren, um Chancen und Risiken zu adressieren"]
[null,"4.5.11.5",null,"Chancen, Risiken und implementierte Massnahmen evaluieren und überwachen"]
[]
[null,"4.5.12",null,"Stakeholder",null,{"$f":"IFERROR(ROUND(AVERAGE(F187:F191),0),\"\")","v":""},null,null,{"$f":"F185","v":""}]
[]
[null,"4.5.12.1",null,"Stakeholder identifizieren und ihre Interessen sowie ihren Einfluss analysieren"]
[null,"4.5.12.2",null,"Stakeholderstrategie und Kommunikationsplan entwickeln und aufrechterhalten"]
[null,"4.5.12.3",null,"Geschäftsleitung, Auftraggeber und höheres Management einbinden, um Commitment zu erreichen und um Interessen und Erwartungen zu managen"]
[null,"4.5.12.4",null,"Benutzer, Partner und Lieferanten einbinden, um Kooperation und Commitment zu erreichen"]
[null,"4.5.12.5",null,"Netzwerke und Allianzen aufbauen, aufrechterhalten und beenden"]
[]
[null,"4.5.13",null,"Change und Transformation",null,{"$f":"IFERROR(ROUND(AVERAGE(F195:F197),0),\"\")","v":""},null,null,{"$f":"F193","v":""}]
[]
[null,"4.5.13.1",null,"Adaptationsfähigkeit der Organisation(en) zu Veränderung (Change) beurteilen"]
[null,"4.5.13.2",null,"Veränderungs- oder Transformationsstrategie für das Portfolio entwickeln"]
[null,"4.5.13.3",null,"Den Veränderungsprozess aufrechterhalten"]
[]
[null,"4.5.14",null,"Projektselektion und Portfoliobalance",null,{"$f":"IFERROR(ROUND(AVERAGE(F201:F206),0),\"\")","v":""},null,null,{"$f":"F199","v":""}]
[]
[null,"4.5.14.1",null,"Komponenten (Programme, Projekte oder Ideen) identifizieren, die in das Portfolio aufgenommen werden könnten"]
[null,"4.5.14.2",null,"Komponentenmerkmale analysieren"]
[null,"4.5.14.3",null,"Komponenten anhand der Portfolioprioritäten priorisieren"]
[null,"4.5.14.4",null,"Überblick über die Leistungen der Komponenten sicherstellen"]
[null,"4.5.14.5",null,"Zukünftige Portfolioleistung analysieren und prognostizieren"]
[null,"4.5.14.6",null,"Portfolioentscheidungen vorbereiten und moderieren"]
[]
[null,null,null,"Anzahl Kompetenzen mit Fähigkeiten",null,{"$f":"I208","v":0},null,null,{"$f":"COUNTIF(I$9:I$199,3)","v":0}]
[null,null,null,"Anzahl Kompetenzen mit Fertigkeiten",null,{"$f":"I209","v":0},null,null,{"$f":"COUNTIF(I$9:I$199,2)","v":0}]
[null,null,null,"Anzahl Kompetenzen mit Wissen",null,{"$f":"I210","v":0},null,null,{"$f":"COUNTIF(I$9:I$199,1)","v":0}]
[null,null,null,"Anzahl Kompetenzen ohne Fähigkeiten, Fertigkeiten oder Wissen",null,{"$f":"I211","v":0},null,null,{"$f":"COUNTIF(I$9:I$199,0)","v":0}]

{"sheet":"SAagil","index":14,"n_rows":240,"n_cols":9,"rows_kept":240,"cut":false,"hidden":false,"merged":[[3,1,3,5],[5,3,5,5]]}
[]
[null,"Selbstbeurteilung Agile Leadership"]
[]
[null,"Füllen Sie bitte die Selbstbeurteilung für diejenige Domäne - Projekt-, Programm- oder Portfoliomanagement bzw. Agile Leadership - vollständig aus, für welche Sie den Zertifizierungsantrag einreichen."]
[]
[null,"Kap. in swiss.ICB4",null,"Beurteilen Sie für jeden Kompetenzindikator Ihren Stand mit den folgenden Werten:\n3 = Fähigkeiten vorhanden      2 = Fertigkeiten vorhanden      1 = Wissen vorhanden      0 = nicht vorhanden"]
[]
[null,"4.K",null,"Kontext (perspective)"]
[null,"4.K1",null,"Strategie",null,{"$f":"IFERROR(ROUND(AVERAGE(F11:F15),0),\"\")","v":""},null,null,{"$f":"F9","v":""}]
[]
[null,"4.K1.1",null,"Agile Teams mit der Mission und der Vision der Organisation in Einklang bringen"]
[null,"4.K1.2",null,"Chancen identifizieren und ausschöpfen, die die Strategie der Organisation beeinflussen"]
[null,"4.K1.3",null,"Rechtfertigung für die Veränderung entwickeln und sicherstellen, dass die betriebswirtschaftlichen und/oder organisationalen Gründe, die dazu geführt haben, weiterhin bestehen"]
[null,"4.K1.4",null,"Kritische Erfolgsfaktoren bestimmen, beurteilen und überprüfen"]
[null,"4.K1.5",null,"Key Performance Indicators (KPI) bestimmen, beurteilen und überprüfen"]
[]
[null,"4.K2",null,"Governance, Strukturen und Prozesse",null,{"$f":"IFERROR(ROUND(AVERAGE(F19:F26),0),\"\")","v":""},null,null,{"$f":"F17","v":""}]
[]
[null,"4.K2.1",null,"Prinzipien der agilen Arbeit und deren Einführung kennen"]
[null,"4.K2.2",null,"Prinzipien des agilen Programmmanagements und deren Einführung kennen"]
[null,"4.K2.3",null,"Prinzipien des agilen Portfoliomanagements und deren Einführung kennen"]
[null,"4.K2.4",null,"Agile Arbeit mit den Supportfunktionen in Einklang bringen"]
[null,"4.K2.5",null,"Agile Arbeit mit den Entscheidungs- und Berichterstattungsstrukturen sowie den Qualitätsanforderungen der Organisation in Einklang bringen"]
[null,"4.K2.6",null,"Agile Arbeit mit den Prozessen und Funktionen des HR in Einklang bringen"]
[null,"4.K2.7",null,"Agile Arbeit mit den Finanz- und Controlling-Prozessen in Einklang bringen"]
[null,"4.K2.8",null,"Prinzipien des klassischen Managements und der agilen Arbeit verbinden"]
[]
[null,"4.K3",null,"Compliance, Standards und Regulationen",null,{"$f":"IFERROR(ROUND(AVERAGE(F30:F35),0),\"\")","v":""},null,null,{"$f":"F28","v":""}]
[]
[null,"4.K3.1",null,"Die für die agile Arbeit gültigen Rechtsvorschriften identifizieren und einhalten"]
[null,"4.K3.2",null,"Alle für die agile Arbeit relevanten Vorschriften für Sicherheit, Gesundheit und Umweltschutz (SGU) identifizieren und einhalten"]
[null,"4.K3.3",null,"Alle für die agile Arbeit relevanten Verhaltensregeln und Berufsvorschriften identifizieren und einhalten"]
[null,"4.K3.4",null,"Für die agile Arbeit relevante Prinzipien und Ziele der Nachhaltigkeit identifizieren und einhalten"]
[null,"4.K3.5",null,"Für die agile Arbeit relevante professionelle Standards und Tools beurteilen, nutzen und weiterentwickeln"]
[null,"4.K3.6",null,"Agilität der Organisation beurteilen, vergleichen und verbessern"]
[]
[null,"4.K4",null,"Macht und Interessen",null,{"$f":"IFERROR(ROUND(AVERAGE(F39:F41),0),\"\")","v":""},null,null,{"$f":"F37","v":""}]
[]
[null,"4.K4.1",null,"Persönliche Ambitionen und Interessen Dritter und deren potenzielle Auswirkungen auf die agile Arbeit beurteilen sowie diese Kenntnisse zum Nutzen der agilen Arbeit verwenden"]
[null,"4.K4.2",null,"Informellen Einfluss von Einzelpersonen und Personengruppen und deren potenzielle Auswirkungen auf die agile Arbeit beurteilen sowie diese Kenntnisse zum Nutzen der agilen Arbeit verwenden"]
[null,"4.K4.3",null,"Persönlichkeiten und Arbeitsstile Dritter beurteilen und zum Nutzen der agilen Arbeit einsetzen"]
[]
[null,"4.K5",null,"Kultur und Werte",null,{"$f":"IFERROR(ROUND(AVERAGE(F45:F47),0),\"\")","v":""},null,null,{"$f":"F43","v":""}]
[]
[null,"4.K5.1",null,"Kultur und Werte der Gesellschaft und deren Auswirkungen auf die agile Arbeit beurteilen"]
[null,"4.K5.2",null,"Organisationskultur zur besseren Abstimmung mit agilen Werten fördern"]
[null,"4.K5.3",null,"Informelle Kultur und Werte der Organisation und deren Auswirkungen auf das agile Arbeiten beurteilen"]
[]
[null,"4.M",null,"Menschen (people)"]
[null,"4.M1",null,"Selbstreflexion und Selbstmanagement",null,{"$f":"IFERROR(ROUND(AVERAGE(F52:F56),0),\"\")","v":""},null,null,{"$f":"F50","v":""}]
[]
[null,"4.M1.1",null,"Einfluss der eigenen Werte und persönlichen Erfahrungen auf die Arbeit identifizieren und reflektieren"]
[null,"4.M1.2",null,"Selbstvertrauen auf der Basis von persönlichen Stärken und Schwächen aufbauen"]
[null,"4.M1.3",null,"Persönliche Motivationen identifizieren und reflektieren, um persönliche Ziele zu setzen und darauf zu fokussieren"]
[null,"4.M1.4",null,"Eigene Arbeit abhängig von der Situation, den eigenen Ressourcen und der Gesamtsituation des Teams organisieren"]
[null,"4.M1.5",null,"Verantwortung für das persönliche Lernen und die persönliche Weiterentwicklung übernehmen"]
[]
[null,"4.M2",null,"Persönliche Integrität und Verlässlichkeit",null,{"$f":"IFERROR(ROUND(AVERAGE(F60:F64),0),\"\")","v":""},null,null,{"$f":"F58","v":""}]
[]
[null,"4.M2.1",null,"Ethische Werte bei allen Entscheidungen und Handlungen anerkennen und anwenden"]
[null,"4.M2.2",null,"Nachhaltigkeit von Leistungen und Ergebnissen fördern"]
[null,"4.M2.3",null,"Verantwortung für die eigenen Entscheidungen und Handlungen übernehmen"]
[null,"4.M2.4",null,"Widerspruchsfrei handeln, Entscheidungen treffen und kommunizieren"]
[null,"4.M2.5",null,"Aufgaben sorgfältig erfüllen, um Vertrauen bei anderen zu schaffen"]
[]
[null,"4.M3",null,"Persönliche Kommunikation",null,{"$f":"IFERROR(ROUND(AVERAGE(F68:F72),0),\"\")","v":""},null,null,{"$f":"F66","v":""}]
[]
[null,"4.M3.1",null,"Eindeutige und strukturierte Informationen an andere weitergeben und deren gleiches Verständnis sicherstellen"]
[null,"4.M3.2",null,"Offene Kommunikation ermöglichen und fördern"]
[null,"4.M3.3",null,"Kommunikationsarten und -kanäle auswählen, um die Bedürfnisse der Zielgruppe, der Situation und der Führungsebene zu erfüllen"]
[null,"4.M3.4",null,"Mit virtuellen Teams effektiv kommunizieren"]
[null,"4.M3.5",null,"Humor und Perspektivenwechsel angemessen anwenden "]
[]
[null,"4.M4",null,"Beziehungen und Engagement",null,{"$f":"IFERROR(ROUND(AVERAGE(F76:F81),0),\"\")","v":""},null,null,{"$f":"F74","v":""}]
[]
[null,"4.M4.1",null,"Persönliche und berufliche Beziehungen aufbauen und pflegen"]
[null,"4.M4.2",null,"Soziale Netzwerke aufbauen, moderieren und an ihnen teilnehmen"]
[null,"4.M4.3",null,"Durch Zuhören, Verständnis und Unterstützung Empathie zeigen"]
[null,"4.M4.4",null,"Vertrauen und Respekt zeigen, indem andere ermutigt werden ihre Meinungen und Bedenken zu äussern"]
[null,"4.M4.5",null,"Eigene Visionen und Ziele kommunizieren, um Engagement und Commitment Dritter zu erreichen"]
[null,"4.M4.6",null,"Im Netzwerk vorhandenes Sozialkapital nutzen und zu seiner Vergrösserung beitragen"]
[]
[null,"4.M5",null,"Führung",null,{"$f":"IFERROR(ROUND(AVERAGE(F85:F89),0),\"\")","v":""},null,null,{"$f":"F83","v":""}]
[]
[null,"4.M5.1",null,"Initiative ergreifen und proaktiv mit Rat und Tat zur Seite stehen"]
[null,"4.M5.2",null,"Verantwortung übernehmen und Engagement zeigen"]
[null,"4.M5.3",null,"Durch Vorgeben der Richtung, durch Coaching und Mentoring die Arbeit von Einzelpersonen und Teams leiten und verbessern"]
[null,"4.M5.4",null,"Macht und Einfluss angemessen auf Dritte ausüben, um die Ziele zu erreichen"]
[null,"4.M5.5",null,"Entscheidungen treffen, durchsetzen und überprüfen"]
[]
[null,"4.M6",null,"Teamarbeit",null,{"$f":"IFERROR(ROUND(AVERAGE(F93:F97),0),\"\")","v":""},null,null,{"$f":"F91","v":""}]
[]
[null,"4.M6.1",null,"Zusammenstellung und Entwicklung des Teams unterstützen"]
[null,"4.M6.2",null,"Zusammenarbeit und Netzwerken zwischen Teammitgliedern fördern"]
[null,"4.M6.3",null,"Entwicklung des Teams und der Teammitglieder ermöglichen, unterstützen und überprüfen"]
[null,"4.M6.4",null,"Teams durch das Delegieren von Aufgaben und Verantwortlichkeiten stärken"]
[null,"4.M6.5",null,"Fehler erkennen und das kontinuierliche Lernen aus Fehlern zu ermöglichen"]
[]
[null,"4.M7",null,"Konflikte und Krisen",null,{"$f":"IFERROR(ROUND(AVERAGE(F101:F104),0),\"\")","v":""},null,null,{"$f":"F99","v":""}]
[]
[null,"4.M7.1",null,"Konflikte und Krisen antizipieren und wenn möglich verhindern"]
[null,"4.M7.2",null,"Ursachen und Auswirkungen von Konflikten und Krisen analysieren und mit dem Team angemessene Reaktionen auswählen"]
[null,"4.M7.3",null,"Konflikte und Krisen und/oder deren Auswirkungen mit dem Team lösen bzw. in ihnen vermitteln"]
[null,"4.M7.4",null,"Lernergebnisse aus Konflikten und Krisen identifizieren und weitergeben, um die zukünftige Arbeit zu verbessern"]
[]
[null,"4.M8",null,"Vielseitigkeit",null,{"$f":"IFERROR(ROUND(AVERAGE(F108:F112),0),\"\")","v":""},null,null,{"$f":"F106","v":""}]
[]
[null,"4.M8.1",null,"Einen offenen und kreativen Kontext schaffen und unterstützen"]
[null,"4.M8.2",null,"Konzeptionelles Denken anwenden, um Situationen zu analysieren und Lösungsstrategien zu definieren"]
[null,"4.M8.3",null,"Analytische Techniken anwenden, um Situationen, Informationen und Trends zu analysieren"]
[null,"4.M8.4",null,"Kreative Techniken fördern und anwenden, um Alternativen und Lösungen zu finden"]
[null,"4.M8.5",null,"Ganzheitliche Sicht auf die Situation und den Kontext fördern, um den Entscheidungsprozess zu verbessern"]
[]
[null,"4.M9",null,"Verhandlungen",null,{"$f":"IFERROR(ROUND(AVERAGE(F116:F120),0),\"\")","v":""},null,null,{"$f":"F114","v":""}]
[]
[null,"4.M9.1",null,"Interessen aller Parteien, die an den Verhandlungen beteiligt sind, identifizieren und analysieren"]
[null,"4.M9.2",null,"Optionen und Alternativen entwickeln und evaluieren, die das Potenzial haben, die Bedürfnisse aller Beteiligten zu erfüllen"]
[null,"4.M9.3",null,"Verhandlungsstrategie definieren, die mit den eigenen Zielen übereinstimmt und für alle beteiligten Parteien akzeptabel ist"]
[null,"4.M9.4",null,"Einigungen mit anderen Parteien erzielen, die mit den eigenen Zielen übereinstimmen"]
[null,"4.M9.5",null,"Zusätzliche Verkaufs- und Akquisitionsmöglichkeiten entdecken und ausschöpfen"]
[]
[null,"4.M10",null,"Ergebnisorientierung",null,{"$f":"IFERROR(ROUND(AVERAGE(F124:F128),0),\"\")","v":""},null,null,{"$f":"F122","v":""}]
[]
[null,"4.M10.1",null,"Alle Entscheidungen und Handlungen hinsichtlich ihrer Auswirkung auf den Kundennutzen und die Ziele der Organisation evaluieren"]
[null,"4.M10.2",null,"Bedürfnisse und Mittel aufeinander abstimmen, um Ergebnisse und Erfolge zu optimieren"]
[null,"4.M10.3",null,"Gesunde, sichere und produktive Arbeitsumgebung schaffen und aufrecht erhalten"]
[null,"4.M10.4",null,"Agile Arbeit und ihre Ergebnisse fördern und «verkaufen»"]
[null,"4.M10.5",null,"Ergebnisse liefern und Akzeptanz erhalten"]
[]
[null,"4.P",null,"Praktiken (practice)"]
[null,"4.P1",null,"Design",null,{"$f":"IFERROR(ROUND(AVERAGE(F133:F137),0),\"\")","v":""},null,null,{"$f":"F131","v":""}]
[]
[null,"4.P1.1",null,"Gemeinsames Verständnis der Erfolgskriterien ermöglichen und sicherstellen, dass diese in der Vision dokumentiert sind"]
[null,"4.P1.2",null,"Lessons learned aus der eigenen agilen Arbeit sowie diejenigen anderer Teams und relevanter Communities überprüfen, anwenden und austauschen"]
[null,"4.P1.3",null,"Komplexität und ihre Auswirkungen auf die Arbeitsweise des Teams bestimmen"]
[null,"4.P1.4",null,"Agile Arbeitsweise im Dialog mit den Teams wählen und prüfen"]
[null,"4.P1.5",null,"Initiale Arbeitsweise gestalten sowie anschliessend überwachen und aktualisieren"]
[]
[null,"4.P2",null,"Anforderungen und Ziele",null,{"$f":"IFERROR(ROUND(AVERAGE(F141:F143),0),\"\")","v":""},null,null,{"$f":"F139","v":""}]
[]
[null,"4.P2.1",null,"Vision definieren, Geschäftsziele priorisieren und agile Arbeit entsprechend ausrichten"]
[null,"4.P2.2",null,"Bedürfnisse und Anforderungen der Stakeholder identifizieren und analysieren"]
[null,"4.P2.3",null,"Lieferobjekte (Backlog Items) kontinuierlich priorisieren zwecks Maximierung des gelieferten Wertes"]
[]
[null,"4.P3",null,"Leistungsumfang und Lieferobjekte",null,{"$f":"IFERROR(ROUND(AVERAGE(F147:F150),0),\"\")","v":""},null,null,{"$f":"F145","v":""}]
[]
[null,"4.P3.1",null,"Lösung oder Ergebnis definieren, beginnend mit einem MVP oder MMP"]
[null,"4.P3.2",null,"Praxis- bzw. Markttauglichkeit der Lieferobjekte sicherstellen"]
[null,"4.P3.3",null,"Lieferstruktur für die aufeinanderfolgenden iterativen Lieferungen definieren"]
[null,"4.P3.4",null,"Konfiguration der Lieferungen und Lieferobjekte erstellen und pflegen"]
[]
[null,"4.P4",null,"Ablauf und Termine",null,{"$f":"IFERROR(ROUND(AVERAGE(F154:F158),0),\"\")","v":""},null,null,{"$f":"F152","v":""}]
[]
[null,"4.P4.1",null,"Lieferobjekte für die nächste Lieferung festlegen"]
[null,"4.P4.2",null,"Aufwand und Anzahl der Iterationen (oder Sprints) schätzen"]
[null,"4.P4.3",null,"Roadmap festlegen (einschliesslich Inkremente, Ergebnisse, etc.)"]
[null,"4.P4.4",null,"Abfolge von Lieferobjekten erstellen und inkrementelle Lieferungen planen"]
[null,"4.P4.5",null,"Ergebnisse anhand des Release-Zeitplans überwachen und auf Änderungen reagieren"]
[]
[null,"4.P5",null,"Organisation, Information und Dokumentation",null,{"$f":"IFERROR(ROUND(AVERAGE(F162:F165),0),\"\")","v":""},null,null,{"$f":"F160","v":""}]
[]
[null,"4.P5.1",null,"Bedürfnisse der Stakeholder bezüglich Information und Dokumentation beurteilen und bestimmen"]
[null,"4.P5.2",null,"Struktur, Rollen und Verantwortlichkeiten innerhalb der agilen Arbeit definieren"]
[null,"4.P5.3",null,"Infrastruktur, Prozesse und Informationssysteme aufbauen"]
[null,"4.P5.4",null,"Agile Teams moderieren, validieren und coachen"]
[]
[null,"4.P6",null,"Qualität",null,{"$f":"IFERROR(ROUND(AVERAGE(F169:F173),0),\"\")","v":""},null,null,{"$f":"F167","v":""}]
[]
[null,"4.P6.1",null,"Qualitätsregeln für die agile Arbeit entwickeln, umsetzen, überwachen und überarbeiten, so dass die Qualität keines Inkrements beeinträchtigt wird"]
[null,"4.P6.2",null,"Agile Arbeit und ihre Ergebnisse überprüfen um sicherzustellen, dass sie weiterhin den Qualitätsanforderungen für jedes Inkrement entsprechen"]
[null,"4.P6.3",null,"Erreichung der Qualitätsziele überprüfen und notwendige Verbesserungen empfehlen"]
[null,"4.P6.4",null,"Validierung der Lieferobjekte planen und organisieren"]
[null,"4.P6.5",null,"Qualität während der agilen Arbeit sicherstellen"]
[]
[null,"4.P7",null,"Kosten und Finanzierung",null,{"$f":"IFERROR(ROUND(AVERAGE(F177:F181),0),\"\")","v":""},null,null,{"$f":"F175","v":""}]
[]
[null,"4.P7.1",null,"Lösungs- oder Ergebniskosten schätzen"]
[null,"4.P7.2",null,"Budget für die agile Arbeit erstellen"]
[null,"4.P7.3",null,"Finanzierung der agilen Arbeit sicherstellen"]
[null,"4.P7.4",null,"Finanzmanagement und Berichtssystem für die agile Arbeit entwickeln, einrichten und aufrechterhalten"]
[null,"4.P7.5",null,"Kosten und Finanzen überwachen, um Abweichungen zu identifizieren und zu korrigieren"]
[]
[null,"4.P8",null,"Ressourcen",null,{"$f":"IFERROR(ROUND(AVERAGE(F185:F189),0),\"\")","v":""},null,null,{"$f":"F183","v":""}]
[]
[null,"4.P8.1",null,"Strategischen Ressourcenplan entwickeln, um den Kundennutzen zu steigern"]
[null,"4.P8.2",null,"Qualität und Menge der benötigten Ressourcen definieren"]
[null,"4.P8.3",null,"Potenzielle Ressourcenquellen identifizieren und ihre Beschaffung verhandeln"]
[null,"4.P8.4",null,"Ressourcen gemäss dem festgelegten Bedarf zuweisen und verteilen"]
[null,"4.P8.5",null,"Ressourcenverbrauch evaluieren und erforderliche Korrekturmassnahmen ergreifen"]
[]
[null,"4.P9",null,"Beschaffung",null,{"$f":"IFERROR(ROUND(AVERAGE(F193:F196),0),\"\")","v":""},null,null,{"$f":"F191","v":""}]
[]
[null,"4.P9.1",null,"Beschaffungsbedarf, Optionen und Prozesse vereinbaren"]
[null,"4.P9.2",null,"Zu Evaluation und Auswahl von Lieferanten und Partnern beitragen"]
[null,"4.P9.3",null,"Zu Verhandlungen und Vereinbarungen von Vertragsbestimmungen beitragen, die alle beteiligten Parteien zufrieden stellen"]
[null,"4.P9.4",null,"Vertragsausführung überwachen, Probleme ansprechen und falls notwendig Entschädigungen verlangen"]
[]
[null,"4.P10",null,"Planung und Steuerung",null,{"$f":"IFERROR(ROUND(AVERAGE(F200:F204),0),\"\")","v":""},null,null,{"$f":"F198","v":""}]
[]
[null,"4.P10.1",null,"Agile Arbeit starten, Gesamtplan entwickeln und Zustimmung einholen"]
[null,"4.P10.2",null,"Übergang zu einem neuen Release einleiten und managen"]
[null,"4.P10.3",null,"Agile Arbeitsleistung anhand des Kundennutzens steuern und bei Bedarf anpassen"]
[null,"4.P10.4",null,"Fortschritte transparent machen"]
[null,"4.P10.5",null,"Sich ändernde Anforderungen begrüssen und verwerten, wenn sie dem Wettbewerbsvorteil des Kunden zugutekommen"]
[]
[null,"4.P11",null,"Chancen und Risiken",null,{"$f":"IFERROR(ROUND(AVERAGE(F208:F212),0),\"\")","v":""},null,null,{"$f":"F206","v":""}]
[]
[null,"4.P11.1",null,"Chancen- und Risikomanagement für agiles Arbeiten entwickeln und umsetzen"]
[null,"4.P11.2",null,"Chancen und Risiken identifizieren"]
[null,"4.P11.3",null,"Wahrscheinlichkeit und Auswirkungen von Chancen und Risiken analysieren"]
[null,"4.P11.4",null,"Strategien auswählen und Massnahmen implementieren, um Chancen und Risiken zu adressieren"]
[null,"4.P11.5",null,"Chancen, Risiken und implementierte Massnahmen evaluieren und überwachen"]
[]
[null,"4.P12",null,"Stakeholder",null,{"$f":"IFERROR(ROUND(AVERAGE(F216:F220),0),\"\")","v":""},null,null,{"$f":"F214","v":""}]
[]
[null,"4.P12.1",null,"Stakeholder identifizieren und ihre Interessen und ihren Einfluss analysieren"]
[null,"4.P12.2",null,"Stakeholderstrategie und Kommunikationsplan entwickeln und aufrechterhalten"]
[null,"4.P12.3",null,"Kunden, Geschäftsleitungen und Kapitalgeber einbinden"]
[null,"4.P12.4",null,"Anwender, Partner, Lieferanten und andere Stakeholder einbinden, um sie für Zusammenarbeit und Commitment zu gewinnen"]
[null,"4.P12.5",null,"Netzwerke und Allianzen aufbauen, aufrechterhalten und beenden"]
[]
[null,"4.P13",null,"Change und Transformation",null,{"$f":"IFERROR(ROUND(AVERAGE(F224:F227),0),\"\")","v":""},null,null,{"$f":"F222","v":""}]
[]
[null,"4.5.13.1",null,"Adaptationsfähigkeit der Organisation(en) zu Veränderung beurteilen"]
[null,"4.5.13.2",null,"Veränderungsanforderungen und Transformationschancen identifizieren"]
[null,"4.5.13.3",null,"Veränderungs- oder Transformationsstrategie für die agile Arbeit entwickeln"]
[null,"4.5.13.4",null,"Veränderungs- oder Transformationsmanagement implementieren"]
[]
[null,"4.P14",null,"Selektion und Balance",null,{"$f":"IFERROR(ROUND(AVERAGE(F231:F235),0),\"\")","v":""},null,null,{"$f":"F229","v":""}]
[]
[null,"4.P14.1",null,"Kundennutzen von Lieferobjekten, Iterationen und Releases identifizieren und analysieren"]
[null,"4.P14.2",null,"Lieferobjekte, Iterationen und Releases im Portfolio priorisieren"]
[null,"4.P14.3",null,"Beurteilung und Lieferung der Lieferobjekte, Iterationen und Releases an strategischen Zielen ausrichten"]
[null,"4.P14.4",null,"Entscheidungen zur Priorisierung wichtiger Lieferobjekte vorbereiten und unterstützen"]
[null,"4.P14.5",null,"Verbesserungen in der gesamten Organisation ermöglichen"]
[]
[null,null,null,"Anzahl Kompetenzen mit Fähigkeiten",null,{"$f":"I237","v":0},null,null,{"$f":"COUNTIF(I$9:I$229,3)","v":0}]
[null,null,null,"Anzahl Kompetenzen mit Fertigkeiten",null,{"$f":"I238","v":0},null,null,{"$f":"COUNTIF(I$9:I$229,2)","v":0}]
[null,null,null,"Anzahl Kompetenzen mit Wissen",null,{"$f":"I239","v":0},null,null,{"$f":"COUNTIF(I$9:I$229,1)","v":0}]
[null,null,null,"Anzahl Kompetenzen ohne Fähigkeiten, Fertigkeiten oder Wissen",null,{"$f":"I240","v":0},null,null,{"$f":"COUNTIF(I$9:I$229,0)","v":0}]

{"sheet":"CXPM","index":15,"n_rows":48,"n_cols":9,"rows_kept":48,"cut":false,"hidden":false,"merged":[[1,1,1,5],[22,12,22,18],[23,12,23,18],[26,12,26,18],[27,12,27,18],[5,2,8,2],[5,1,8,1],[10,2,11,2],[10,1,11,1],[13,2,17,2],[13,1,17,1],[19,2,21,2],[19,1,21,1],[2,5,2,8],[23,2,25,2],[23,1,25,1],[30,12,30,18],[19,12,19,18],[10,12,10,18],[12,12,12,18],[13,12,13,18],[18,12,18,18],[40,2,42,2],[40,1,42,1],[44,2,47,2],[44,1,47,1],[27,2,29,2],[27,1,29,1],[31,2,33,2],[31,1,33,1],[35,2,38,2],[35,1,38,1]]}
[]
[null,"Beschreibung der Komplexitätsindikatoren des Projektmanagements"]
[{"$nulls":5},"Bewertungsstufen"]
[null,null,"Indikator","Kriterium",null,1,2,3,4]
[]
[null,1,"Ziele und Ergebnisbeurteilung","Auftragsklärung und -abgrenzung",null,"Auftrag und dessen Abgrenzung sowie Projektziele sind von Beginn an eindeutig und vollständig durch Dritte vorgegeben.","Auftrag und dessen Abgrenzung sowie Projektziele sind von Beginn an im Wesentlichen klar und mehrheitlich durch Dritte vorgegeben.","Auftrag ist zu Beginn teilweise unklar, dessen Abgrenzung und einige bedeutende Ziele wurden im Verlauf des Projekts unter Leitung/Moderation des Kandidaten definiert/erarbeitet.","Auftrag und dessen Abgrenzung ist zu Beginn sehr vage, fast alle wesentlichen Ziele wurden im Verlauf des Projekts unter Leitung/\nModeration des Kandidaten definiert/erarbeitet."]
[null,null,null,"Zielkonflikte und -abhängigkeiten",null,"Keine Konflikte und Abhängigkeiten zwischen Projektzielen","Konflikte und Abhänggikeiten zwischen Projektzielen sind in normalem Rahmen, Prioritäten relativ leicht bestimmbar.","Beachtliche Konflikte oder Abhängigkeiten zwischen Projektzielen, situative Priorisierung teilweise nötig.","Ausserordentlich grosse Konflikte und Abhängigkeiten zwischen Projektzeilen, situative Priorisierung oft notwendig."]
[null,null,null,"Wirkungs- und Nutzenpotenzial",null,"Projekt bezweckt im Bereich bzw. für Produkt beschränkten Nutzen und führt zu eindimensionaler Wirkung.","Projekt bezweckt überschaubaren Nutzen und führt kaum zu mehrdimensionaler Wirkung.","Projekt bezweckt bedeutenden Nutzen und führt zu teilweise mehrdimensionaler Wirkung.","Projekt bezweckt strategischen Nutzen und führt zu ausgeprägt mehrdimensionaler Wirkung."]
[null,null,null,"Änderungen",null,"Projekt weist keine Änderungen auf.","Projekt weist wenige Änderungen mit geringen Auswirkungen auf Projektinhalt, Kosten und Termine auf.","Projekt weist einige Änderungen auf, welche sich auf mindestens eine der drei Grössen 'Projektinhalt', 'Kosten' oder 'Termine' bedeutend auswirken.","Projekt weist eine Vielzahl von Änderungen mit bedeutenden Auswirkungen auf Projektinhalt, Kosten und Termine auf."]
[]
[null,2,"Prozesse, Methoden, Tools\nund Techniken des PP&PM","Verfügbarkeit und Freiheitsgrad",null,"Projektteam verfügt über standardisierte Prozesse, Methoden, Tools und Techniken und muss sich strikt an die Vorgaben halten.","Projektteam verfügt über standardisierte Prozesse, Methoden, Tools und Techniken und kann diese in einem gewissen Ausmass an die situativen Bedingungen anpassen.","Projektteam verfügt über wesentliche Freiheiten in der Auswahl der Prozesse, Methoden, Tools und Techniken. Standardisierte Vorgaben sind nur bedingt anwendbar.","Projektteam verfügt über vollständige Freiheiten in der Auswahl der Prozesse, Methoden, Tools und Techniken. Standards und Erfahrungswerte sind praktisch nicht verfügbar."]
[null,null,null,"Support",null,"Weitgehende Erledigung administrativer und koordinativer Tätigkeiten durch PMO","Kandidat wird wiederholt durch PMO oder Administrations- bzw. Koordinationspersonal unterstützt.","Kandidat kann Administrations- bzw. Koordinationsaufgaben nur vereinzelt an Dritte delegieren.","Keine Unterstützung durch PMO bzw. Kandidat unterstützt eigene und/oder fremde Teams bei der Ausübung administrativer und koordinativer Tätigkeiten."]
[]
[null,3,"Ressourcen und Finanzierung","Personelle Mittel",null,"Anzahl Personentage: < 250","Anzahl Personentage: 250 - 699","Anzahl Personentage: 700 - 2'999","Anzahl Personentage: ≥ 3'000"]
[null,null,null,"Cash-out",null,"Cash-out: < 0.1 Mio CHF","Cash-out: 0.1 - 0.5 Mio CHF","Cash-out: 0.5 - 2.0 Mio CHF","Cash-out: ≥ 2.0 Mio CHF"]
[null,null,null,"Verfügbarkeit und Qualifikation der personellen Ressourcen",null,"Personelle Mittel stehen mit grosser Sicherheit ausreichend und mit der benötigten Qualifikation zur Verfügung.","Volumen der personellen Mittel ist eher knapp, jedoch mit relativ grosser Sicherheit und mit der benötigten Qualifikation verfügbar bzw. planbar; Kandidat muss zur Sicherung der Personalressourcen Aufwand bertreiben.","Volumen der personellen Mittel ist entweder knapp oder nur sehr bedingt mit der benötigten Qualifikation verfügbar; Kandidat muss zur Sicherung der Personalressourcen hohen Aufwand betreiben.","Volumen der personellen Mittel ist äusserst knapp sowie mit grosser Unsicherheit behaftet und es fehlen oftmals die benötigten Qualifikationen; Kandidat muss zur Sicherung der Personalressourcen ausserordentlich hohen Aufwand betreiben."]
[null,null,null,"Beitrag zur Finanzierung",null,"Finanzierung ist ohne Einwirkung des Kandidaten gesichert.","Finanzierung muss durch Kandidaten budgetiert und beantragt werden.","Finanzierung durch externe Zahlungen. Zahlungsmeilensteine und Liquidität müssen durch Kandidaten gemanagt/optimiert werden.","Zusätzlich zu Wert 3: Absicherung des Zahlungseingangs durch Kandidaten nötig (z.B. Bankgarantien, ERG, Letter of Credit)."]
[null,null,null,"Auftragserteilung und Ausschreibungsverfahren",null,"Aufträge werden ohne Angebotseinholung und Ausschreibung oder vollumfänglich intern vergeben.","Einzelne Aufträge werden extern vergeben; dazu werden Angebote eingeholt.","Die Mehrheit der Aufträge wird extern vergeben; dazu werden jeweils mehrere Angebote eingeholt.","Ein Grossteil der Aufträge wird extern vergeben und muss öffentlich ausgeschrieben werden."]
[]
[null,4,"Chancen und Risiken","Chancen",null,"Wahrnehmung von Chancen sowie die daraus resultierende Nutzenrealisierung ist für \nden Auftraggeber eher unbedeutend.","Wahrnehmung von Chancen sowie die daraus resultierende Nutzenrealisierung ist für \nden Auftraggeber relativ bedeutend.","Wahrnehmung von Chancen sowie die daraus resultierende Nutzenrealisierung ist für \nden Auftraggeber von grosser Bedeutung (Schlüsselprojekt).","Wahrnehmung von Chancen sowie die daraus resultierende Nutzenrealisierung ist sowohl für den Auftraggeber als auch für andere Stakeholder von grössster Bedeutung (strategisches Projekt)."]
[null,null,null,"Risiken",null,"Risikolage mit wenigen Risiken mit grossem Schadensausmass oder mit hoher Eintrittswahrscheinlichkeit.","Risikolage mit mehreren abschätzbaren Risiken mit grossem Schadensausmass oder mit hoher Eintrittswahrscheinlichkeit.","Risikolage mit mehreren abschätzbaren Risiken mit grossem Schadensausmass und mit hoher Eintrittswahrscheinlichkeit.","Risikolage mit zahlreichen nur sehr bedingt abschätzbaren Risiken mit potenziell grossem Schadensausmass und mit hoher Eintrittswahrscheinlichkeit."]
[null,null,null,"Massnahmen des Risikomanagements",null,"Keine oder nur sehr wenige Massnahmen des Risikomanagements mussten umgesetzt werden.","Den Risiken konnte mit standardardisierten Massnahmen des Risikomanagements begegnet werden.","Zur Reduktion oder Vermeidung der Risiken mussten sowohl standardardisierte als auch situativ entwickelte Massnahmen des Risikomanagements umgesetzt werden.","Zur Reduktion oder Vermeidung der Risiken mussten mehrheitlich situativ entwickelte Massnahmen des Risikomanagements umgesetzt werden."]
[]
[null,5,"Stakeholder und Integration","Anzahl Stakeholderkategorien",null,"< 4","4 - 5","6 - 8","> 8"]
[null,null,null,"Interessen der Stakeholder",null,"Interessen der Stakeholder decken sich weitgehend mit den Projektzielen.","Einige wichtige Stakeholder haben nur schwer vereinbare Interessen.","Mehrere wichtige Stakeholder haben stark divergierende Interessen.","Projektziele bedrohen existenzielle Interessen bedeutender Stakeholder.\n"]
[null,null,null,"Öffentliches Interesse und Umgang mit Regulierungsbehörden",null,null,null,"Projekt ist grossem öffentlichen Interesse ausgesetzt oder muss den Anforderungen von Regulierungsbehörden genügen.","Projekt ist grossem öffentlichen Interesse ausgesetzt und muss den Anforderungen von Regulierungsbehörden genügen."]
[]
[null,6,"Beziehungen zur Stammorganisation","Beeinflussung von Projekt und Stammorganisation",null,"Projektergebnisse und Stammorganisation beeinflussen sich gegenseitig gar nicht oder nur sehr gering.","Projektergebnisse beeinflussen die Stammorganisation und sind von deren Engagement abhängig; Interessen von Projekt und Linie decken sich mehrheitlich.","Projektergebnisse beeinflussen die Stammorganisation und sind von deren Engagement abhängig; bedeutende gegenläufige Interessen von Projekt und Linie.","Ausgeprägte wechselseitige Beeinflussung von Projektergebnissen und Stammorganisation; vielschichtige starke Interessenskonflikte."]
[null,null,null,"Erfahrung der Stammorganisation in ähnlichen Projekten",null,"Projektergebnisse sind nicht von der Erfahrung der Stammorganisation in ähnlichen Projekten abhängig.","Erfahrung der Stammorganisation in ähnlichen Projekten ist für das Projekt von Nutzen, nicht aber essenziell.","Projektergebnisse sind entweder nur mit entsprechender Erfahrung der Stammorganisation in ähnlichen Projekten zu erbringen oder die Wirtschaftlichkeit hängt von der Erfahrung ab.","Projektergebnisse sind nur mit entsprechend grosser Erfahrung der Stammorganisation in ähnlichen Projekten zu erbringen und die Wirtschaftlichkeit hängt von der Erfahrung ab."]
[null,null,null,"Reporting und Kommunikation",null,"Fachliche Problemlösung steht im Zentrum. Aufwand bzgl. Reporting und Kommunikation spielt eine eher untergeordnete Rolle.","Reporting und Kommunikation der Projektergebnisse spielen eine nennenswerte Rolle bzgl. des Anteils am Projektaufwand und liefern einen wichtigen Beitrag zum Projekterfolg.","Reporting und Kommunikation sind vergleichbar aufwendig wie die fachliche Problemlösung und bilden eine notwendige Voraussetzung für den Projekterfolg.","Reporting und Kommunikation sind wichtigster, kritischer Erfolgsfaktor für den Projekterfolg und generieren mehr Aufwand als die fachliche Problemlösung."]
[]
[null,7,"Kultureller und sozialer Kontext","Kulturelle, soziale und sprachliche Vielfalt",null,"Keine zu bewältigenden Probleme bzgl. herkunftsbedingter Werte, Sprache oder sozialem Gefälle.","Relativ geringe zu bewältigende Probleme bzgl. herkunftsbedingter Werte, Sprache oder sozialem Gefälle.","Probleme bzgl. herkunftsbedingter Werte, Sprache und/oder sozialem Gefälle sind für den Kandidaten eine Herausforderung.","Substanzielle Probleme bzgl. herkunftsbedingter Werte, Sprache und/oder sozialem Gefälle sind für den Kandidaten eine grosse Herausforderung und Mehrbelastung."]
[null,null,null,"Geografische Verteilung der Beteiligten",null,"Alle Projektbeteiligten befinden sich am selben Ort (Gebäude, Stadt).","Die Mehrheit der Projektbeteiligten befindet sich am selben Ort (Gebäude, Stadt).","Die Projektbeteiligten befinden sich an zahlreichen Orten (national, evtl. Teile davon auch international).","Die Projektbeteiligten sind international breit gestreut; hoher Reise- und Planungsaufwand, tiefe Meetingflexibilität."]
[null,null,null,"Interdisziplinarität",null,"Alle Projektbeteiligten stammen aus derselben Fachdisziplin.","Die Mehrheit der Projektbeteiligten stammt aus derselben Fachdisziplin.","Die Projektbeteiligten stammen aus mehreren Fachdisziplinen, deren Koordination für den Projektleiter herausfordernd ist.","Die Projektbeteiligten stammen aus vielen Fachdisziplinen, deren Koordination für den Projektleiter äusserst schwierig ist."]
[]
[null,8,"Führung, Teamarbeit und Entscheidungen","Führungsspanne",null,"< 3","3 - 4","5 - 6","> 6"]
[null,null,null,"Anzahl beteiligte Personen in der Projektorganisation",null,"< 6","6 - 20","21 - 50","> 50"]
[null,null,null,"Teambildung und Personalintegration",null,"Teamzusammensetzung ist während des gesamten Projektverlaufs statisch; neues Personal kann ohne Aufwand integriert werden.","Veränderungen der Teamzusammensetzung sind planbar; neues Personal kann mit geringem Aufwand und vorbereitet integriert werden.","Mehrere, teils kurzfristige und unerwartete Veränderungen der Teamzusammensetzung; neues Personal muss kurzfristig integriert werden.","Häufige und bedeutende Wechsel in der Teamzusammensetzung mit entsprechend grossem Integrationsaufwand."]
[null,null,null,"Entscheidkompetenz und\n-herbeiführung",null,"Stark eingeschränkte Entscheidkompetenz, fast alles läuft über die Linie und muss herbeigeführt werden.","Eingeschränkte Entscheidkompetenz, wichtige Entscheide laufen über die Linie und müssen herbeigeführt werden.","Fachliche Führungskompetenz: Leistungen, Kosten und Termine werden innerhalb des Projekts entschieden und verantwortet.","Fachliche und disziplinarische Führungskompetenz: analog Wert 3, zusätzlich volle Personenführungskompetenz."]
[]
[null,9,"Innovationsgrad und Rahmenbedingungen","Innovationsgrad",null,"Projekt bewirkt höchstens geringe Produkt- oder Prozessinnovationen.","Projekt bewirkt innerhalb des Unternehmens bzw. der Organisation Produkt- oder Prozessinnovationen.","Projekt bewirkt innerhalb des Unternehmens bzw. der Organisation Produkt- und Prozessinnovationen","Projekt bewirkt bedeutende branchenweite Produkt- und/oder Prozessinnovationen."]
[null,null,null,"Bekanntheitsgrad der verwendeten Technologien",null,"Verwendete Technologie ist sowohl unternehmensintern als auch auf dem Markt weitgehend bekannt.","Verwendete Technologie ist unternehmensintern relativ neu, aber auf dem Markt weitgehend bekannt.","Verwendete Technologie ist sowohl unternehmensintern als auch auf dem Markt relativ unbekannt.","Wesentliche Teile der verwendeten Technologie wurden für das Projekt neu entwickelt."]
[null,null,null,"Gestaltungsspielraum",null,"Rahmenbedingungen geben den Problemlösungsansatz eindeutig vor (kein Gestaltungsspielraum).","Rahmenbedingungen lassen Raum für mehrere, im Kern ähnliche Problemlösungsvarianten (beschränkter Gestaltungsspielraum).","Rahmenbedingungen lassen Raum für mehrere Problemlösungsvarianten, die sich in wesentlichen Punkten unterscheiden (hoher Gestaltungsspielraum).","Keine nennenswerten Rahmenbedingungen; denkbar sind unzählige Problemlösungsvarianten (ausserordentlich hoher Gestaltungsspielraum)."]
[]
[null,10,"Koordinationsbedarf","Abhängigkeit von anderen Projekten/Programmen",null,"Keine bzw. nur unbedeutende Abhängigkeit von anderen Projekten","Abhängigkeit von anderen Projekten in gewissen Punkten","Starke Abhängigkeit von anderen Projekten, die im selben Programm geführt werden.","Starke Abhängigkeit von Projekten ausserhalb des Programms; keine Einflussmöglichkeit über eine gemeinsame Führung."]
[null,null,null,"Anzahl Leistungserbringer",null,"< 4","5 - 8","9 - 14","> 14"]
[null,null,null,"Vertragswerk",null,"Innenauftrag in der eigenen Organisation bzw. Linie","Innenauftrag innerhalb des Unternehmens bzw. Konzerns","Mehrschichtiger Vertrag über das eigene Unternehmen bzw. den Konzern hinaus (Inland)","Mehrschichtiger Vertrag über das eigene Unternehmen bzw. den Konzern und über Landesgrenzen/Jurisdiktionen hinaus (international)"]
[null,null,null,"Vertraulichkeit",null,null,null,"Projekt wurde intern als vertraulich eingestuft; Informationen können nur selektiv beschafft werden.","Projekt wurde intern als streng geheim eingestuft; Informationsbeschaffung ist äusserst schwierig."]

{"sheet":"CXPgM","index":16,"n_rows":45,"n_cols":9,"rows_kept":45,"cut":false,"hidden":false,"merged":[[17,12,17,18],[1,1,1,5],[2,5,2,8],[5,1,8,1],[5,2,8,2],[10,1,11,1],[10,2,11,2],[2,1,2,3],[10,12,10,18],[12,12,12,18],[13,1,16,1],[13,2,16,2],[13,12,13,18],[30,1,31,1],[30,2,31,2],[18,1,20,1],[18,2,20,2],[18,12,18,18],[21,12,21,18],[22,1,24,1],[22,2,24,2],[22,12,22,18],[25,12,25,18],[26,1,28,1],[26,2,28,2],[26,12,26,18],[29,12,29,18],[33,1,35,1],[33,2,35,2],[37,1,39,1],[37,2,39,2],[41,1,44,1],[41,2,44,2]]}
[]
[null,"Beschreibung der Komplexitätsindikatoren des Programmmanagements"]
[{"$nulls":5},"Bewertungsstufen"]
[null,null,"Indikator","Kriterium",null,1,2,3,4]
[]
[null,1,"Ziele und Ergebnisbeurteilung","Auftragsklärung und -abgrenzung der Projekte innerhalb des Programms ",null,"Auftrag und dessen Abgrenzung sowie Vorgehens- und Systemziele sind von Beginn an eindeutig und vollständig durch Dritte vorgegeben.\n\n","Auftrag und dessen Abgrenzung sowie Vorgehens- und Systemziele sind von Beginn an im Wesentlichen klar und mehrheitlich durch Dritte vorgegeben.\n\n","Auftrag ist zu Beginn teilweise unklar, dessen Abgrenzung und einige bedeutende Ziele wurden im Verlauf des Programms unter Leitung/Moderation des Kandidaten definiert/erarbeitet.\n\n","Auftrag und dessen Abgrenzung ist zu Beginn sehr vage, fast alle wesentlichen Ziele wurden im Verlauf des Programms unter Leitung/Moderation des Kandidaten definiert/erarbeitet.\n\n"]
[null,null,null,"Konflikte und Abhängigkeiten zwischen den einzelnen Projekten im Programm ",null,"Kein Potenzial für Konflikte (Ziel, Inhalt, Zeit, Ressourcen) und Abhängigkeiten vorhanden ","Potenzial für Konflikte (Ziel, Inhalt, Zeit, Ressourcen) und Abhängigkeiten ist in normalem Rahmen vorhanden","Potenzial für beachtliche Konflikte (Ziel, Inhalt, Zeit, Ressourcen) oder Abhängigkeiten ist vorhanden","Potenzial für ausserordentlich grosse Konflikte (Ziel, Inhalt, Zeit, Ressourcen) und Abhängigkeiten ist vorhanden"]
[null,null,null,"Wirkungs- und Nutzenpotenzial des Programms, strategische Bedeutung und Ausrichtung des Programms, Einfluss und Wirkung auf die Stammorganisation\n",null,"Eines von vielen: hat keinen oder einen sehr geringen Einfluss auf die Hauptprozesse und die Ergebnisse des Unternehmens","Strategisch relevant: optimiert Teile eines oder mehrerer Hauptprozesse eines Geschäftsprozesses (entweder/oder Management-, Kern- und Supportprozesse) und verbessert dadurch die Leistung zu Gunsten der Kunden und das Resultat nachweisbar","Strategisch sehr wichtig (enthält komplexe Schlüsselprojekte): optimiert Teile der Hauptprozesse des Gesamtsystems (Management-, Kern- und Supportprozesse) und verbessert dadurch die Kundenbeziehung und das Resultat","Überlebenswichtig: beeinflusst die Geschäftsprozesse und damit das Resultat des Gesamtsystems (Management-, Kern- und Supportprozesse) und somit das Kundenverhalten dergestalt, dass ein Redesign der Prozesse notwendig wird"]
[null,null,null,"Stabilität der Voraussetzungen und Rahmenbedingungen; Änderungen im Programm (strategische Neuausrichtung); Einfluss auf Aufnahme, (Re)priorisierung, Weiterführung; Unterbrechung und Abschluss der einzelnen Projekte im Programm\n",null,"Programm bewirkt wenige Änderungen und Veränderungen.","Programm weist wenige Änderungen mit geringen Auswirkungen auf Inhalt, Kosten und Termine auf. Kandidat arbeitet aktiv an der Projektentwicklung und an Entscheidungsgrundlagen mit; für ganzheitliche Programmbetrachtungen sind jedoch andere im Lead.","Programm weist einige Änderungen auf, welche sich auf mindestens eine der drei Grössen 'Inhalt', 'Kosten' oder 'Termine' bedeutend auswirken. Kandidat plant das Programm ganzheitlich; initiert Projektentwicklungen und führt Entscheidungen herbei.","Programm weist eine Vielzahl von Änderungen mit bedeutenden Auswirkungen auf Inhalt, Kosten und Termine auf. Kandidat hat die oberste Entscheidkompetenz und volle Profit&Loss-Verantwortung."]
[]
[null,2,"Prozesse, Methoden, Tools\nund Techniken des PP&PM","Verfügbarkeit und Freiheitsgrad; Auswahl und Entwicklung der PM-Vorgaben, Prozesse, Standards & Methoden (Programmstrukturplan, Berichtswesen, usw.), Tools & Techniken; Richtlinien \n",null,"Wendet existierendes PM-System an; initiert punktuelle Verbesserungen.","Ist Prozesseigner für das PM-System. Entwickelt dieses unter Federführung übergeordneter Stellen weiter.","Ist Prozesseigner für das PM-System. Agiert in dieser Rolle selbständig. Steuert Spezialisten, die in seinem Auftrag das PM-System (weiter-)entwickeln.","Ist im Unternehmen Drehscheibe für die Weiterentwicklung aller mit PM direkt und indirekt zusammenhängenden Prozessen und Systemen. Wirkt unternehmensweit. Hat volle Entscheid- und Anordungsbefugnis."]
[null,null,null,"Support im Programm (PMO), Aufbau & Erbringung Support für die einzelnen Projekte",null,"Weitgehende Erledigung administrativer und koordinativer Tätigkeiten in den Projekten ohne PMO bzw. PPMO\n","Kandidat unterstützt bei Bedarf die Projektleiter in Aufgaben des PMO oder PPMO.","Kandidat hat ein PMO/PPMO zur Unterstützung der Projektleitenden etabliert/delegiert.","Kandidat unterstützt eigene und/oder fremde Teams bei der Ausübung administrativer und koordinativer Tätigkeiten durch das von ihm geführte PMO/PPMO.\n"]
[]
[null,3,"Ressourcen und Finanzierung","Jährliches Investitionsvolumen, interner und externer Aufwand (finanzwirksam)",null,"≤ CHF 1 Mio.","> CHF 1 Mio.","> CHF 5 Mio.","> CHF 30 Mio"]
[null,null,null,"Verfügbarkeit und Qualifikation der personellen Ressourcen, Einflussnahme des Programmleiters auf die Zuweisung der einzelnen Projektleiter, Einfluss auf Aus- & Weiterbildung der Projektleiter",null,"Projektpersonal ist nicht unterstellt. Agiert in einer Matrix. Agiert empfehlend. Machtverhältnisse für Personalbelange sind mehrheitlich in der Linie.","Projektpersonal ist nicht unterstellt. Agiert in einer Matrix. Agiert primär weisend. Gibt Rahmen vor. Machtverhältnisse für Personalbelange ca. 50:50","Projektleitungspersonal (PL, Project Engineers, Project Office MA, etc.) sind linienmässig unterstellt (Pool). Verantwortet alle HR-Belange in Kooperation mit HR-Management.","Zusätzlich zu 3 ist auch ein Grossteil des Projektpersonals (tiefere Hierarchiestufen; z.B. Ingenieure, Projektierer, Inbetriebsetzer, SW-Programmierer) linienmässig unterstellt."]
[null,null,null,"Budgetierung und Finanzierung des Programms, Mittelsteuerung\n",null,"Finanzierung ist ohne Einwirkung des Kandidaten gesichert.","Finanzierung muss durch Kandidaten budgetiert und beantragt werden.","Finanzierung durch externe Zahlungen. Zahlungsmeilensteine und Liquidität müssen durch Kandidaten gemanagt/optimiert werden.","Zusätzlich zu Wert 3: Absicherung des Zahlungseingangs durch Kandidaten nötig (z.B. Bankgarantien, ERG, Letter of Credit)\noder\nProgramm generiert seine eigenen Einnahmen, bspw. durch Umsatz oder Kostenreduktion."]
[null,null,null,"Einfluss auf Vertrags- und Beschaffungswesen, Nachforderungsmanagement (Claim)",null,"Beschaffungs- und Vertragswesen obliegt der Stammorganisation. ","Einzelne Aufträge werden durch den Kandidaten extern vergeben. Dazu werden Angebote eingeholt. Im Vertragswesen wird er unterstützt.","Mehrheit der Aufträge wird extern vergeben. Dazu werden durch den Kandidaten jeweils mehrere Angebote eingeholt. Auch das Vertragswesen wird von ihm geregelt.","Beschaffungs- und Vertragswesen ist im Programm zentralisiert und durch den Kandidaten verantwortet."]
[]
[null,4,"Chancen und Risiken","Langfristige Relevanz & Chancenpotenzial des Programms, Einflussmöglichkeiten des Programmleiters",null,"Wahrnehmung von Chancen sowie die daraus resultierende Nutzenrealisierung ist für den Auftraggeber eher unbedeutend.","Wahrnehmung von Chancen sowie die daraus resultierende Nutzenrealisierung ist für den Auftraggeber relativ bedeutend.","Wahrnehmung von Chancen sowie die daraus resultierende Nutzenrealisierung ist für den Auftraggeber von grosser Bedeutung.\nChancen (bspw. nicht für Risiken benötigte Reserven) werden Effizenz fördernd in den Projekten verwendet.","Wahrnehmung von Chancen sowie die daraus resultierende Nutzenrealisierung ist sowohl für den Auftraggeber als auch für andere Stakeholder von grösster Bedeutung. Reserven aus der Risikoprävention (bspw. Ressourcen, Puffer) werden umgehend durch den Kandidaten freigegeben und im Programm eingesetzt."]
[null,null,null,"Risiken auf Programmebene, Anzahl der risikobehafteten Projekte im Programm, Gefährdung der Umsetzung der Strategie",null,"Risikolage mit wenigen Risiken mit grossem Schadensausmass oder mit hoher Eintrittswahrscheinlichkeit.","Risikolage mit mehreren abschätzbaren Risiken mit grossem Schadensausmass oder mit hoher Eintrittswahrscheinlichkeit.","Risikolage mit mehreren abschätzbaren Risiken mit grossem Schadensausmass und mit hoher Eintrittswahrscheinlichkeit. Projekte erfahren hohe Beachtung in Bezug auf einen Abbruch.\n\n","Risikolage mit zahlreichen nur sehr bedingt abschätzbaren Risiken mit potenziell grossem und latentem Schadensausmass und mit hoher Eintrittswahrscheinlichkeit. Projekte erfahren hohe Beachtung in Bezug auf einen Abbruch.\n"]
[null,null,null,"Definition der Risikokategorien der Projekte, präventive und korrektive Vorgaben/Massnahmen für die einzelnen Projekte",null,"Standardmässige Massnahmen des Risikomanagements werden umgesetzt.\nRisiken werden von den Projektleitern selbständig und unabhängig gesteuert.","Den üblichen Risiken wird mit standardardisierten Massnahmen in Absprache mit dem Programmmanager begegnet. ","Zur Reduktion oder Vermeidung der Risiken mussten sowohl standardardisierte als auch situativ durch den Programmmanager entwickelte Massnahmen des Risikomanagements umgesetzt werden.","Zur Reduktion oder Vermeidung der Risiken mussten mehrheitlich durch den Programmmanager situativ entwickelte Massnahmen des Risikomanagements umgesetzt werden. Risiken werden im Programm zentral und projektübergreifend gesteuert."]
[]
[null,5,"Stakeholder und Integration","Anzahl Stakeholderkategorien (fördernde und hemmende Interessengruppen) auf Programmebene",null,"< 5","5 - 7","8 - 10","> 10"]
[null,null,null,"Analyse der Interessen der Stakeholder auf Programmebene",null,"Interessen der Stakeholder decken sich weitgehend mit den Projekt- und Programmzielen.","Einige wichtige Stakeholder haben nur schwer vereinbare Interessen.","Mehrere wichtige Stakeholder haben stark divergierende Interessen.","Projekt- oder Programmziele bedrohen existenzielle Interessen bedeutender Stakeholder."]
[null,null,null,"Öffentliches Interesse und Umgang mit Regulierungsbehörden, interne und externe Visibilität\n",null,"Programm ist in der Organisation abgebildet und wird wahrgenommen.","Programm ist in der Organisation eine feste Grösse und etabliert/akzeptiert.","Projekte sind über die Organisation hinaus einem öffentlichen Interesse ausgesetzt oder müssen den Anforderungen von Regulierungsbehörden in der Regel genügen.\nKandidat pflegt gelegentlich Kunden- bzw. Lieferantenbeziehungen und/oder andere wichtige Partnerschaften, tritt manchmal in Fachgruppen, Verbänden oder ähnlichen Gremien auf.\n\n","Projekte sind über die Organisation hinaus einem grossen öffentlichen Interesse ausgesetzt oder müssen den Anforderungen von Regulierungsbehörden absolut genügen.\nKandidat pflegt aktiv und regelmässig Kunden- bzw. Lieferantenbeziehungen und/oder andere wichtige Partnerschaften, tritt häufig in Fachgruppen, Verbänden oder ähnlichen Gremien auf, ist in Medien präsent."]
[]
[null,6,"Beziehungen zur Stammorganisation","Beeinflussung von Programm und Stammorganisation; Ausmass der kulturellen, örtlichen und organisatorischen Änderungen in der Stammorganisation, die das Programm bewirkt",null,"Projekte bewirken keine kulturellen oder organisatorischen Änderungen in der Organisation.","Projektergebnisse beeinflussen die Stammorganisation und sind von deren Engagement abhängig. Interessen von Projekt und Linie decken sich mehrheitlich.","Projektergebnisse beeinflussen die Stammorganisation und sind von deren Engagement abhängig. Bedeutende gegenläufige Interessen von Projekt und Linie.","Ausgeprägte wechselseitige Beeinflussung von Projektergebnissen und Stammorganisation. Vielschichtige starke Interessenkonflikte. Projekte bewirken eine umfassende Reorganisation inkl. bedeutenden Personalab- und umbau."]
[null,null,null,"Erfahrung der Stammorganisation in ähnlichen Programmen\n",null,"Projekt- und Programmergebnisse sind nicht von der Erfahrung der Stammorganisation in ähnlichen Projekten und Programmen abhängig.","Erfahrung der Stammorganisation in ähnlichen Projekten und Programmen ist für das Programm von Nutzen, nicht aber essenziell.","Projekt- und Programmergebnisse sind entweder nur mit entsprechender Erfahrung der Stammorganisation in ähnlichen Projekten und Programmen zu erbringen oder die Wirtschaftlichkeit hängt von der Erfahrung (Lessons learned) ab.","Projekt- und Programmergebnisse sind nur mit entsprechend grosser Erfahrung der Stammorganisation in ähnlichen Programmen zu erbringen und die Wirtschaftlichkeit hängt von der Erfahrung (Lessons learned) ab."]
[null,null,null,"Konsolidierte Reportings und antizipative Kommunikation der relevanten Berichtspunkte (harte und weiche Faktoren) an die vorgesetzte Stufe, Management der Eskalation",null,"Fachliche Problemlösung steht im Zentrum. Aufwand bzgl. Reporting und Kommunikation spielt eine eher untergeordnete Rolle.\nInhaltliche Wechselwirkungen (vorwiegend harte Faktoren) zwischen weniger als 10% der Projekte im Programm.","Reporting und Kommunikation der Projektergebnisse spielen eine nennenswerte Rolle bzgl. des Anteils am Projektaufwand und liefern einen wichtigen Beitrag zum Projekterfolg.\nInhaltliche Wechselwirkungen (vorwiegend harte Faktoren, teilweise weiche Faktoren) zwischen 10-30% der Projekte im Programm.","Reporting und Kommunikation sind vergleichbar aufwendig wie die fachliche Problemlösung und bilden eine notwendige Voraussetzung für den Projekterfolg.\nInhaltliche Wechselwirkungen (harte und weiche Faktoren zu gleichen Teilen) zwischen  30-60% der Projekte im Programm.","Reporting und Kommunikation sind wichtigste, kritische Erfolgsfaktoren für den Projekterfolg und generieren mehr Aufwand als die fachliche Problemlösung.\nInhaltliche Wechselwirkungen (vorwiegend weiche Faktoren) zwischen über 60% der Projekte im Programm."]
[]
[null,7,"Kultureller und sozialer Kontext","Kulturelle, soziale, geografische und sprachliche Vielfalt\n",null,"Keine zu bewältigenden Probleme bzgl. herkunftsbedingter Werte, Sprache oder sozialem Gefälle am gleichen Standort.\nNur 1 Sprache & kulturelle/soziale Gruppe","Relativ geringe zu bewältigende Probleme bzgl. herkunftsbedingter Werte, Sprache oder sozialem Gefälle an mindestens drei auseinanderliegenden Standorten.\n2-3 Sprachen und/oder Gruppen","Probleme bzgl. herkunftsbedingter Werte, Sprache und/oder sozialem Gefälle sind für den Kandidaten eine Herausforderung. Projekt- und Programmumsetzung betrifft diverse, landesweite Standorte.\n4-5 Sprachen und Gruppen","Substanzielle Probleme bzgl. herkunftsbedingter Werte, Sprache und/oder sozialem Gefälle sind für den Kandidaten eine grosse Herausforderung und Mehrbelastung. Projekt- und Programmumsetzung betrifft diverse, landesweite und internationale Standorte.\n6 oder mehr Sprachen & Gruppen"]
[null,null,null,"Anzahl der involvierten Querschnittsbereiche und Abteilungen (IT, Infrastruktur/Immobilien, HR, Marketing/Sales, Sicherheit, Unternehmensentwicklung, usw.) in der Stammorganisation",null,"Alle Projekt- oder Programmbeteiligten stammen aus derselben Fachdisziplin.\n\n\n","Mehrheit der Projekt- oder Programmbeteiligten stammt aus derselben Fachdisziplin.\n≥ 3 Fachdisziplinen in Querschnittsbereichen und/oder Abteilungen","Projekt- oder Programmbeteiligte stammen aus mehreren Fachdisziplinen, deren Koordination für den Kandidaten herausfordernd ist.\n≥ 6 Fachdisziplinen in Querschnittsbereichen und/oder Abteilungen","Projekt- oder Programmbeteiligte stammen aus allen Fachdisziplinen, deren Koordination für den Kandidaten äusserst schwierig ist.\n≥ 10 Fachdisziplinen in Querschnittsbereichen und Ableitungen "]
[]
[null,8,"Führung, Teamarbeit und Entscheidungen","Direkte Führungsspanne (Anzahl unterstellte Projektleiter im Programm)",null,"< 3","3 - 5","6 - 9","> 10"]
[null,null,null,"Einfluss auf Auswahl, Ausbildung und Einsatz der Projektleiter; informelle und arbeitsfähige Vernetzung der Schlüsselpersonen im Programm\n",null,"Teamzusammensetzung ist während des gesamten Projekt- und Programmverlaufs statisch; neues Personal kann ohne Aufwand integriert werden.","Veränderungen der Teamzusammensetzung sind planbar; neues Personal kann mit geringem Aufwand und vorbereitet integriert werden.","Mehrere, teils kurzfristige und unerwartete Veränderungen der Teamzusammensetzung; neues Personal muss kurzfristig integriert werden.","Häufige und bedeutende Wechsel in der Teamzusammensetzung mit entsprechend grossem Integrationsaufwand."]
[null,null,null,"Entscheidkompetenz und\n-herbeiführung, Autonomie des Programmleiters, Vorgehens- und Ergebnisverantwortung, Koordination und Controlling der Projekte ",null,"Hat keine Ergebnisverantwortung. Konsolidiert Projekt- und Programmdaten als Entscheidgrundlagen für Andere.","Hat eine indirekte Ergebnisverantwortung. Konsolidiert Projekt-und Programmdaten und erarbeitet proaktiv Handlungsempfehlungen als Entscheidgrundlage für Andere. Betreibt Controlling und Frühwarnsysteme.","Hat volle Profit&Loss-Verantwortung über eine limitierte Wertschöpfungsphase seiner Projekte und Programme (z.B. Leiter Projektabwicklung in Anlagebauunternehmen).","Hat volle Profit&Loss-Verantwortung von der Projektidee über Realisation bis End of Lifetime."]
[]
[null,9,"Innovationsgrad und Rahmenbedingungen","Anteil der Projekte im Programm, welche Produkt- und/oder Prozessinnovationen bewirken, persönlicher Beitrag zum Ideenmanagement\n",null,"Programm bewirkt höchstens geringe Produkt- oder Prozessinnovationen.\nProgramm besteht zu 100% aus Lifecycle-Projekten (z.B. SW-Wartung).","Programm bewirkt innerhalb des Unternehmens bzw. der Organisation Produkt- oder Prozessinnovationen.","Programm bewirkt innerhalb des Unternehmens bzw. der Organisation Produkt- und Prozessinnovationen.","Programm bewirkt bedeutende branchenweite Produkt- und/oder Prozessinnovationen.\nProgramm besteht zu 100% aus Innovation, Business Development, Forschung & Entwicklung."]
[null,null,null,"Bekanntheitsgrad der verwendeten Technologien, Einflussnahme auf Technologiewahl der einzelnen Projekte, Neuartigkeit für die Stammorganisation",null,"Verwendete Technologie ist sowohl unternehmensintern als auch auf dem Markt weitgehend bekannt. Projekte sind komplett autonom bezüglich Technologie.","Verwendete Technologie ist unternehmensintern relativ neu, aber auf dem Markt weitgehend bekannt.","Verwendete Technologie ist sowohl unternehmensintern als auch auf dem Markt relativ unbekannt. Stammorganisation wird zu Teilen technisch verändert.","Wesentliche Teile der verwendeten Technologie wurden für das Programm neu entwickelt. Technologie wird im Programm entwickelt und den übrigen Projekten und der Stammorganisation zur massiven Veränderung vorgegeben."]
[null,null,null,"Klärung der Programmabgrenzung (Restriktionen, Rahmenbedingungen, Handlungsrahmen) mit dem Auftraggeber, Akzeptanz der Lösungsvarianten, Delegation gemäss dem Kongruenzprinzip ",null,"Rahmenbedingungen geben den Problemlösungsansatz eindeutig vor (kein Gestaltungsspielraum). Reine Verwaltung/Koordination des Programms durch den Kandidaten.","Rahmenbedingungen lassen Raum für mehrere, im Kern ähnliche Problemlösungsvarianten (beschränkter Gestaltungsspielraum). Kandidat holt Entscheide ab.","Rahmenbedingungen lassen Raum für mehrere Problemlösungsvarianten, die sich in wesentlichen Punkten unterscheiden (hoher Gestaltungsspielraum). Kandidat verfügt über die Kompetenz umfassende Varianten und Szenarien zu erarbeiten und zu realisieren.","Keine nennenswerten Rahmenbedingungen. Denkbar sind unzählige Problemlösungsvarianten (ausserordentlich hoher Gestaltungsspielraum). Kandidat verfügt über die Kongruenz von Aufgaben, Verantwortung und Kompetenz und nimmt somit aktiv Einfluss auf die Strategie."]
[]
[null,10,"Koordinationsbedarf","Anzahl, Relevanz, Unterschiedlichkeit und Komplexität der während der Programmdauer aktiven Projekte",null,"< 6 aktive Projekte\nKaum oder keine komplexen Projekte, nur eine Projektart (bspw. alles IT-Projekte)","≥ 6 aktive Projekte,\ndavon mindestens 2 komplexe Projekte und mindestens 2 Projektarten (bspw. Infrastruktur- und Beschaffungsprojekt)","≥ 15 aktive Projekte,\ndavon mindestens 5 komplexe Projekte und mindestens 3 Projektarten (bspw. IT-, Reorganisations-, Immobilenprojekt)","≥ 30 aktive Projekte,\ndavon mindestens 8 komplexe Projekte und mindestens 5 Projektarten (bspw. Infrastruktur-, Ausbildungs-, Reorganisations-, Kultur-, IT-Projekt)"]
[null,null,null,"Keine redundanten Systemziele zwischen den Projekten im Programm, Grad der Beeinflussung von und zu anderen Projekten und Programmen, aktiver Austausch und Abgleich mit anderen Projekten und Programmen",null,"Projekte beeinflussen kaum die übrigen Aktivitäten in den Vorhaben. Die Systemziele wirken sich nur fallweise aus. Die Betroffenheit innerhalb der Stammorganisation ist gering.","Abhängigkeit von anderen Projekten bzw. Programmen besteht nachweislich in gewissen Punkten und machen gelegentliche Aussprachen und Abgleiche erforderlich..","Starke Abhängigkeit von anderen Projekten bzw. Programmen, die in der selben Business Unit geführt werden. Rahmenbedingungen und Restriktionen müssen durch den Kandidaten konsensuel abgeglichen werden.","Starke Abhängigkeit von Projekten bzw. Programmen ausserhalb der Business Unit, keine Einflussmöglichkeit über eine gemeinsame Führung. Vermeintlich redundante Systemziele erfordern spezifische Abklärungen oder gar Eskalationen."]
[null,null,null,"Wahrung der Bekanntmachung; Veröffentlichung von Informationen und Daten im Rahmen der festgelegten Klassifizierungen; Einhaltung der vereinbarten Kommunikationsmethoden und -kanäle; uneingeschränkter, proaktiver Miteinbezug des Auftraggebers ",null,null,null,"Programm oder einzelne Projekte wurden intern als vertraulich eingestuft. Informationen können nur selektiv beschafft oder veräussert werden. Entsprechende Massnahmen müssen durch den Kandidaten sichergestellt und durchgesetzt werden.","Programm oder einzelne Projekte wurden intern als streng geheim eingestuft. Informationsbeschaffung und -fluss sind äusserst schwierig. Der integralen Sicherheit kommt grösste Bedeutung zu und muss durch den Kandidaten unter allen Umständen bei den Projektleitenden durchgesetzt werden. Die Vorhaben beinhalten grosse Reputationsrisiken. Compliance kommt vor Offenheit. Die Interaktion mit dem Auftraggeber und der Aufsicht erfolgt ausschliesslich durch den Kandidaten."]
[null,null,null,"Erweiterter Ressourcenbedarf in Absprache mit der Stammorganisation, kontinuierlicher Abgleich mit der Strategie und der Investitionsplanung, Life-Cycle-Analyse",null,null,null,"Langfristige (überjährige) Projekte werden durch den Kandidaten kontinuierlich mit der geltenden Strategie der Stammorganisation auf Relevanz validiert. Abweichungen werden kommuniziert und allfällige Massnahmen vorgeschlagen.","Langfristige (überjährige) Projekte werden durch den Kandidaten kontinuierlich entlang der geltenden Strategie der Stammorganisation angepasst. Der Kandidat antizipiert und beeinflusst die Strategieentwicklung und leitet die Massnahmen aus den Entscheiden der Unternehmensleitung selbständig in seinem Verantwortungsbereich ein. "]

{"sheet":"CXPfM","index":17,"n_rows":43,"n_cols":9,"rows_kept":43,"cut":false,"hidden":false,"merged":[[17,12,17,18],[1,1,1,5],[2,5,2,8],[5,1,8,1],[5,2,8,2],[10,1,11,1],[10,2,11,2],[2,1,2,3],[10,12,10,18],[12,12,12,18],[13,1,16,1],[13,2,16,2],[13,12,13,18],[18,1,20,1],[18,2,20,2],[18,12,18,18],[21,12,21,18],[22,1,23,1],[22,2,23,2],[22,12,22,18],[24,12,24,18],[25,1,27,1],[25,2,27,2],[25,12,25,18],[28,12,28,18],[31,1,33,1],[31,2,33,2],[35,1,37,1],[35,2,37,2],[39,1,42,1],[39,2,42,2]]}
[]
[null,"Beschreibung der Komplexitätsindikatoren des Portfoliomanagements"]
[{"$nulls":5},"Bewertungsstufen"]
[null,null,"Indikator","Kriterium",null,1,2,3,4]
[]
[null,1,"Ziele und Ergebnisbeurteilung","Auftragsklärung und -abgrenzung der Projekte und Programme innerhalb des Projektportfolios",null,"Projekte und Programme sind von Beginn an eindeutig und vollständig durch Dritte zugeteilt.","Projekte und Programme sind von Beginn an eindeutig und vollständig durch Dritte beauftragt.","Projekte und Programme werden nachweislich durch Einflussnahme des Portfoliomanagers auf die Stammorganisation initialisiert.","Projekte und Programme werden nachweislich durch Beauftragung des Portfoliomanagers an die Stammorgansiation initialisiert."]
[null,null,null,"Konflikte und Abhängigkeiten zwischen den einzelnen Projekten/Programmen im Projektportfolio ",null,"Kein Potenzial für Konflikte (Ziel, Inhalt, Zeit, Ressourcen) und Abhängigkeiten vorhanden ","Potenzial für Konflikte (Ziel, Inhalt, Zeit, Ressourcen) und Abhängigkeiten ist in normalem Rahmen vorhanden","Potenzial für beachtliche Konflikte (Ziel, Inhalt, Zeit, Ressourcen) oder Abhängigkeiten ist vorhanden","Potenzial für ausserordentlich grosse Konflikte (Ziel, Inhalt, Zeit, Ressourcen) und Abhängigkeiten ist vorhanden"]
[null,null,null,"Wirkungs- und Nutzenpotenzial der Projekte, Einfluss und Wirkung des Portfolios auf die Stammorganisation bzw. deren Strategie",null,"Eines von vielen: hat keinen oder einen sehr geringen Einfluss auf die Hauptprozesse und die Ergebnisse des Unternehmens","Strategisch relevant: optimiert Teile eines oder mehrerer Hauptprozesse eines Geschäftsprozesses (entweder/oder Management-, Kern- und Supportprozesse) und verbessert dadurch die Leistung zu Gunsten der Kunden und das Resultat nachweisbar","Strategisch sehr wichtig (enthält komplexe Schlüsselprojekte und/oder -programme): optimiert Teile der Hauptprozesse des Gesamtsystems (Management-, Kern- und Supportprozesse) und verbessert dadurch die Kundenbeziehung und das Resultat","Überlebenswichtig: beeinflusst die Geschäftsprozesse und damit das Resultat des Gesamtsystems (Management-, Kern- und Supportprozesse) und somit das Kundenverhalten dergestalt, dass ein Redesign der Prozesse notwendig wird"]
[null,null,null,"Einfluss auf Aufnahme, (Re)priorisierung, Klassifizierung, Weiterführung, Unterbrechung bzw. Sistierung und Abschluss der einzelnen Projekte/Programme im Portfolio, Erweiterungen auf mehrere Portfolios und daraus Neuzuweisungen von Projekten \n",null,"Portfolio bewirkt wenige Änderungen und Veränderungen.","Portfolio weist wenige Änderungen mit geringen Auswirkungen auf Inhalt, Kosten und Termine auf. Kandidat arbeitet aktiv an der Projektentwicklung und an Entscheidgrundlagen mit; für ganzheitliche Portfoliobetrachtungen sind jedoch andere im Lead.","Portfolio weist einige Änderungen auf, welche sich auf mindestens eine der drei Grössen 'Inhalt', 'Kosten' oder 'Termine' bedeutend auswirken. Kandidat plant das Portfolio ganzheitlich; initiert Projektentwicklungen und führt Entscheide herbei.","Portfolio weist eine Vielzahl von Änderungen mit bedeutenden Auswirkungen auf Inhalt, Kosten und Termine auf. Kandidat hat die oberste Entscheidkompetenz und volle Profit&Loss-Verantwortung."]
[]
[null,2,"Prozesse, Methoden, Tools\nund Techniken des PP&PM","Verfügbarkeit und Freiheitsgrad; Auswahl und Entwicklung der PM-Vorgaben, Prozesse, Standards & Methoden (Relevanzbeurteilung von Projekten und Programmen, Portfolio-Reporting, usw.), Tools & Techniken; Richtlinien \n",null,"Wendet existierendes PM-System an; initiert punktuelle Verbesserungen.","Ist Prozesseigner für das PM-System. Entwickelt dieses unter Federführung übergeordneter Stellen weiter.","Ist Prozesseigner für das PM-System. Agiert in dieser Rolle selbständig. Steuert Spezialisten, die in seinem Auftrag das PM-System (weiter-)entwickeln.","Ist im Unternehmen Drehscheibe für die Weiterentwicklung aller mit PM direkt und indirekt zusammenhängenden Prozessen und Systemen. Wirkt unternehmensweit. Hat volle Entscheid- und Anordungsbefugnis."]
[null,null,null,"Support im Portfolio (PPMO), Aufbau & Erbringung Support für die einzelnen Programme und Projekte\n(Record Management, PM-Cockpit, Templates, usw.)",null,"Weitgehende Erledigung administrativer und koordinativer Tätigkeiten in den Projekten ohne PMO bzw. PPMO\n","Kandidat unterstützt bei Bedarf die Projektleiter in Aufgaben des PMO oder PPMO.","Kandidat hat ein PMO/PPMO zur Unterstützung der Projektleitenden etabliert/delegiert.","Kandidat unterstützt eigene und/oder fremde Teams bei der Ausübung administrativer und koordinativer Tätigkeiten durch das von ihm geführte PMO/PPMO.\n"]
[]
[null,3,"Ressourcen und Finanzierung","Jährliches Investitionsvolumen, interner und externer Aufwand (finanzwirksam)",null,"≤ CHF 1 Mio.","> CHF 1 Mio.","> CHF 5 Mio.","> CHF 30 Mio"]
[null,null,null,"Einflussnahme des Portfoliomanagers auf die Zuweisung, Umverteilung der personellen Ressourcen, Skillsplanung und Förderung der Projekt- bzw. Programmleiter, Ressourcenplanung mit der Stammorganisation",null,"Projektpersonal ist nicht unterstellt. Agiert in einer Matrix. Agiert empfehlend. Machtverhältnisse für Personalbelange sind mehrheitlich in der Linie.","Projektpersonal ist nicht unterstellt. Agiert in einer Matrix. Agiert primär weisend. Gibt Rahmen vor. Machtverhältnisse für Personalbelange ca. 50:50","Projektleitungspersonal (PL, Project Engineers, Project Office MA, etc.) sind linienmässig unterstellt (Pool). Verantwortet alle HR-Belange in Kooperation mit HR-Management.","Zusätzlich zu 3 ist auch ein Grossteil des Projektpersonals (tiefere Hierarchiestufen; z.B. Ingenieure, Projektierer, Inbetriebsetzer, SW-Programmierer) linienmässig unterstellt."]
[null,null,null,"Einflussnahme des Portfoliomanagers auf die Zuweisung bzw. Umverteilung der Budgets",null,"Finanzierung ist ohne Einwirkung des Kandidaten gesichert.","Finanzierung muss durch Kandidaten budgetiert und beantragt werden.","Finanzierung durch externe Zahlungen. Zahlungsmeilensteine und Liquidität müssen durch Kandidaten gemanagt/optimiert werden.","Zusätzlich zu Wert 3: Absicherung des Zahlungseingangs durch Kandidaten nötig (z.B. Bankgarantien, ERG, Letter of Credit)"]
[null,null,null,"Einfluss auf Vertrags- und Beschaffungswesen, Nachforderungsmanagement (Claim)",{"$nulls":4},"Grossteil der Aufträge wird extern vergeben und müssen öffentlich ausgeschrieben werden."]
[]
[null,4,"Chancen und Risiken","Einflussmöglichkeiten des Portfolio-Managers",null,"Wahrnehmung von Chancen sowie die daraus resultierende Nutzenrealisierung ist für den Auftraggeber eher unbedeutend.","Wahrnehmung von Chancen sowie die daraus resultierende Nutzenrealisierung ist für den Auftraggeber relativ bedeutend.","Wahrnehmung von Chancen sowie die daraus resultierende Nutzenrealisierung ist für den Auftraggeber von grosser Bedeutung.\nChancen (bspw. nicht für Risiken benötigte Reserven) werden Effizenz fördernd in den Projekten verwendet.","Wahrnehmung von Chancen sowie die daraus resultierende Nutzenrealisierung ist sowohl für den Auftraggeber als auch für andere Stakeholder von grösster Bedeutung. Reserven aus der Risikoprävention (bspw. Ressourcen, Puffer) werden umgehend durch den Kandidaten freigegeben und im Portfolio eingesetzt."]
[null,null,null,"Risiken auf Portfolioebene, Anzahl der risikobehafteten Projekte und Programme, Durchsetzen von Abschluss und Übergabe der Projekte und Programme an die Stammorganisation",null,"Risikolage mit wenigen Risiken mit grossem Schadensausmass oder mit hoher Eintrittswahrscheinlichkeit.","Risikolage mit mehreren abschätzbaren Risiken mit grossem Schadensausmass oder mit hoher Eintrittswahrscheinlichkeit.","Risikolage mit mehreren abschätzbaren Risiken mit grossem Schadensausmass und mit hoher Eintrittswahrscheinlichkeit. Projekte erfahren hohe Beachtung in Bezug auf einen Abbruch.\n\n","Risikolage mit zahlreichen nur sehr bedingt abschätzbaren Risiken mit potenziell grossem und latentem Schadensausmass und mit hoher Eintrittswahrscheinlichkeit. Projekte erfahren hohe Beachtung in Bezug auf einen Abbruch.\n"]
[null,null,null,"Definition der Risikokategorien der Projekte und Programme, präventive und korrektive Vorgaben/Massnahmen für die einzelnen Projekte und Programme",null,"Standardmässige Massnahmen des Risikomanagements werden umgesetzt.\nRisiken werden von den Projektleitern selbständig und unabhängig gesteuert.","Den üblichen Risiken wird mit standardardisierten Massnahmen in Absprache mit dem Portfoliomanager begegnet. ","Zur Reduktion oder Vermeidung der Risiken mussten sowohl standardardisierte als auch situativ durch den Portfoliomanager entwickelte Massnahmen des Risikomanagements umgesetzt werden.","Zur Reduktion oder Vermeidung der Risiken mussten mehrheitlich durch den Portfoliomanager situativ entwickelte Massnahmen des Risikomanagements umgesetzt werden. Risiken werden im Portfolio zentral und projektübergreifend gesteuert."]
[]
[null,5,"Stakeholder und Integration","Unterstützung der Projekt- und Programmleiter in Aufsichten (Steering Committee)",null,"Interessen der Stakeholder decken sich weitgehend mit den Projekt- und Programmzielen.","Einige wichtige Stakeholder haben nur schwer vereinbare Interessen.","Kandidat unterstützt methodisch die Projektleiter in ihren Anträgen gegenüber den Aufsichten.","Kandidat bewirkt proaktiv die Konsensfindung innerhalb der Aufsichten im Vorfeld von Entscheiden.\n"]
[null,null,null,"Öffentliches Interesse und Umgang mit Regulierungsbehörden, interne und externe Visibilität\n",null,"Portfolio ist in der Organisation abgebildet und wird wahrgenommen.","Portfolio ist in der Organisation eine feste Grösse und etabliert/akzeptiert.","Projekte und Programme sind über die Organisation hinaus einem öffentlichen Interesse ausgesetzt oder müssen den Anforderungen von Regulierungsbehörden in der Regel genügen.\nKandidat pflegt gelegentlich Kunden- bzw. Lieferantenbeziehungen und/oder andere wichtige Partnerschaften, tritt manchmal in Fachgruppen, Verbänden oder ähnlichen Gremien auf.\n\n","Projekte und Programme sind über die Organisation hinaus einem grossen öffentlichen Interesse ausgesetzt oder müssen den Anforderungen von Regulierungsbehörden absolut genügen.\nKandidat pflegt aktiv und regelmässig Kunden- bzw. Lieferantenbeziehungen und/oder andere wichtige Partnerschaften, tritt häufig in Fachgruppen, Verbänden oder ähnlichen Gremien auf, ist in Medien präsent."]
[]
[null,6,"Beziehungen zur Stammorganisation","Beeinflussung von Projekten, Programmen und Stammorganisation; Ausmass der kulturellen, örtlichen und organisatorischen Änderungen in der Stammorganisation, die die Projekte und Programme bewirken",null,"Projekte und Programme bewirken keine kulturellen oder organisatorischen Änderungen in der Organisation.","Projekt- und Programmergebnisse beeinflussen die Stammorganisation und sind von deren Engagement abhängig. Interessen von Projekten, Programmen und Linie decken sich mehrheitlich.","Projekt- und Programmergebnisse beeinflussen die Stammorganisation und sind von deren Engagement abhängig. Bedeutende gegenläufige Interessen von Projekten, Programmen und Linie.","Ausgeprägte wechselseitige Beeinflussung von Projekt-, Programmergebnissen und Stammorganisation. Vielschichtige starke Interessenkonflikte. Projekte und Programme bewirken eine umfassende Reorganisation inkl. bedeutenden Personalab- und umbau."]
[null,null,null,"Erfahrung der Stammorganisation mit Portfolios",null,"Projekt- und Programmergebnisse sind nicht von der Erfahrung der Stammorganisation in ähnlichen Projekten und Programmen abhängig.","Erfahrung der Stammorganisation in ähnlichen Projekten und Programmen ist für das Portfolio von Nutzen, nicht aber essenziell.","Projekt- und Programmergebnisse sind entweder nur mit entsprechender Erfahrung der Stammorganisation in ähnlichen Projekten und Programmen zu erbringen oder die Wirtschaftlichkeit hängt von der Erfahrung (Lessons learned) ab.","Projekt- und Programmergebnisse sind nur mit entsprechend grosser Erfahrung der Stammorganisation in ähnlichen Portfolios zu erbringen und die Wirtschaftlichkeit hängt von der Erfahrung (Lessons learned) ab."]
[null,null,null,"Konsolidierte Reportings und antizipative Kommunikation der relevanten Berichtspunkte (harte und weiche Faktoren) an die vorgesetzte Stufe, Management der Eskalation",null,"Fachliche Problemlösung steht im Zentrum. Aufwand bzgl. Reporting und Kommunikation spielt eine eher untergeordnete Rolle.\nInhaltliche Wechselwirkungen (vorwiegend harte Faktoren) zwischen weniger als 10% der Projekte im Portfolio.","Reporting und Kommunikation der Projektergebnisse spielen eine nennenswerte Rolle bzgl. des Anteils am Projektaufwand und liefern einen wichtigen Beitrag zum Projekterfolg.\nInhaltliche Wechselwirkungen (vorwiegend harte Faktoren, teilweise weiche Faktoren) zwischen 10-30% der Projekte im Portfolio.","Reporting und Kommunikation sind vergleichbar aufwendig wie die fachliche Problemlösung und bilden eine notwendige Voraussetzung für den Projekterfolg.\nInhaltliche Wechselwirkungen (harte und weiche Faktoren zu gleichen Teilen) zwischen  30-60% der Projekte im Portfolio.","Reporting und Kommunikation sind wichtigste, kritische Erfolgsfaktoren für den Projekterfolg und generieren mehr Aufwand als die fachliche Problemlösung.\nInhaltliche Wechselwirkungen (vorwiegend weiche Faktoren) zwischen über 60% der Projekte im Portfolio."]
[]
[null,7,"Kultureller und sozialer Kontext","Kulturelle, soziale, geografische und sprachliche Vielfalt\n",null,"Keine zu bewältigenden Probleme bzgl. herkunftsbedingter Werte, Sprache oder sozialem Gefälle am gleichen Standort.\nNur 1 Sprache & kulturelle/soziale Gruppe","Relativ geringe zu bewältigende Probleme bzgl. herkunftsbedingter Werte, Sprache oder sozialem Gefälle an mindestens drei auseinanderliegenden Standorten.\n2-3 Sprachen und/oder Gruppen","Probleme bzgl. herkunftsbedingter Werte, Sprache und/oder sozialem Gefälle sind für den Kandidaten eine Herausforderung. Projekt- und Programmumsetzung betrifft diverse, landesweite Standorte.\n4-5 Sprachen und Gruppen","Substanzielle Probleme bzgl. herkunftsbedingter Werte, Sprache und/oder sozialem Gefälle sind für den Kandidaten eine grosse Herausforderung und Mehrbelastung. Projekt- und Programmumsetzung betrifft diverse, landesweite und internationale Standorte.\n6 oder mehr Sprachen & Gruppen"]
[]
[null,8,"Führung, Teamarbeit und Entscheidungen","Fachliche und weisungsbefugte Führungsspanne (Anzahl Projekt- und Programmleiter im Portfolio)",null,"< 3","3 - 5","6 - 9","> 10"]
[null,null,null,"Integration und Adjourning von Projektteams nach Projektabschluss bzw. Projektstopp oder bei Ressourcenausgleich",null,"Teamzusammensetzung ist während des gesamten Projekt- und Programmverlaufs statisch; neues Personal kann ohne Aufwand integriert werden.","Veränderungen der Teamzusammensetzung sind planbar; neues Personal kann mit geringem Aufwand und vorbereitet integriert werden.","Mehrere, teils kurzfristige und unerwartete Veränderungen der Teamzusammensetzung; neues Personal muss kurzfristig integriert werden.","Häufige und bedeutende Wechsel in der Teamzusammensetzung mit entsprechend grossem Integrationsaufwand."]
[null,null,null,"Entscheidkompetenz und\n-herbeiführung, Vorgehens- und Ergebnisverantwortung, Koordination und Controlling der Projekte und Programme",null,"Hat keine Ergebnisverantwortung. Konsolidiert Projekt-, Programm- und Portfoliodaten als Entscheidgrundlagen für Andere.","Hat eine indirekte Ergebnisverantwortung. Konsolidiert Projekt-, Programm- und Portfoliodaten und erarbeitet proaktiv Handlungsempfehlungen als Entscheidgrundlage für Andere. Betreibt Controlling und Frühwarnsysteme.","Hat volle Profit&Loss-Verantwortung über eine limitierte Wertschöpfungsphase seiner Projekte, Programme und Portfolios (z.B. Leiter Projektabwicklung in Anlagebauunternehmen).","Hat volle Profit&Loss-Verantwortung von der Projektidee über Realisation bis End of Lifetime."]
[]
[null,9,"Innovationsgrad und Rahmenbedingungen","Anteil der Projekte und Programme im Portfolio, die einzigartig oder erstmalig abgewickelt werden ",null,"Portfolio bewirkt höchstens geringe Produkt- oder Prozessinnovationen.\nPortfolio besteht zu 100% aus Lifecycle-Projekten (z.B. SW-Wartung).","Portfolio bewirkt innerhalb des Unternehmens bzw. der Organisation Produkt- oder Prozessinnovationen.","Portfolio bewirkt innerhalb des Unternehmens bzw. der Organisation Produkt- und Prozessinnovationen.","Portfolio bewirkt bedeutende branchenweite Produkt- und/oder Prozessinnovationen.\nPortfolio besteht zu 100% aus Innovation, Business Development, Forschung & Entwicklung."]
[null,null,null,"Anteil von Entwicklungs- und Forschungsprojekten und -programmen im Portfolio, Neueinführung oder Wechsel von Technologien",null,"Verwendete Technologie ist sowohl unternehmensintern als auch auf dem Markt weitgehend bekannt. Projekte sind komplett autonom bezüglich Technologie.","Verwendete Technologie ist unternehmensintern relativ neu, aber auf dem Markt weitgehend bekannt.","Verwendete Technologie ist sowohl unternehmensintern als auch auf dem Markt relativ unbekannt. Stammorganisation wird zu Teilen technisch verändert.","Wesentliche Teile der verwendeten Technologie wurden für das Portfolio neu entwickelt. Technologie wird in Projekten des Portfolios entwickelt und den übrigen Projekten und der Stammorganisation zur massiven Veränderung vorgegeben."]
[null,null,null,"Limitierende Faktoren (Anzahl Projekte und Programme, Ressourcen, Rahmenbedingungen, Restriktionen), Klärung der Ziele/Nichtziele der Projekte und Programme, Wahrung von 'Freiheiten' der Projekt- und Programmleiter, Standards und Methoden schränken Lösungsfindungen nicht ein",null,"Rahmenbedingungen geben den Problemlösungsansatz eindeutig vor (kein Gestaltungsspielraum). Reine Verwaltung/Koordination des Portfolios durch den Kandidaten.","Rahmenbedingungen lassen Raum für mehrere, im Kern ähnliche Problemlösungsvarianten (beschränkter Gestaltungsspielraum). Kandidat holt Entscheide ab.","Rahmenbedingungen lassen Raum für mehrere Problemlösungsvarianten, die sich in wesentlichen Punkten unterscheiden (hoher Gestaltungsspielraum). Kandidat verfügt über die Kompetenz umfassende Varianten und Szenarien zu erarbeiten und zu realisieren.","Keine nennenswerten Rahmenbedingungen. Denkbar sind unzählige Problemlösungsvarianten (ausserordentlich hoher Gestaltungsspielraum). Kandidat verfügt über die Kongruenz von Aufgaben, Verantwortung und Kompetenz und nimmt somit aktiv Einfluss auf die Strategie."]
[]
[null,10,"Koordinationsbedarf","Anzahl, Relevanz, Unterschiedlichkeit und Komplexität der aktiven (innerhalb von 12 Monaten) Projekte und Programme",null,"< 6 aktive Projekte\nKaum oder keine komplexen Projekte, nur eine Projektart (bspw. alles IT-Projekte)","≥ 6 aktive Projekte,\ndavon mindestens 2 komplexe Projekte und mindestens 2 Projektarten (bspw. Infrastruktur- und Beschaffungsprojekt)","≥ 15 aktive Projekte,\ndavon mindestens 5 komplexe Projekte und mindestens 3 Projektarten (bspw. IT-, Reorganisations-, Immobilenprojekt)","≥ 30 aktive Projekte,\ndavon mindestens 8 komplexe Projekte und mindestens 5 Projektarten (bspw. Infrastruktur-, Ausbildungs-, Reorganisations-, Kultur-, IT-Projekt)"]
[null,null,null,"Keine redundanten Systemziele zwischen den Projekten und Programmen im Portfolio, Grad der Beeinflussung von und zu anderen Projekten und Programmen, aktiver Austausch und Abgleich mit anderen Portfolios",null,"Projekte oder Programme beeinflussen kaum die übrigen Aktivitäten in den Vorhaben. Die Systemziele wirken sich nur fallweise aus. Die Betroffenheit innerhalb der Stammorganisation ist gering.","Abhängigkeit von anderen Projekten bzw. Programmen besteht nachweislich in gewissen Punkten und machen gelegentliche Aussprachen und Abgleiche erforderlich..","Starke Abhängigkeit von anderen Projekten bzw. Programmen, die in der selben Business Unit geführt werden. Rahmenbedingungen und Restriktionen müssen durch den Kandidaten konsensuel abgeglichen werden.","Starke Abhängigkeit von Projekten bzw. Programmen ausserhalb der Business Unit, keine Einflussmöglichkeit über eine gemeinsame Führung. Vermeintlich redundante Systemziele erfordern spezifische Abklärungen oder gar Eskalationen."]
[null,null,null,"Wahrung der Bekanntmachung; Veröffentlichung von Informationen und Daten im Rahmen der festgelegten Klassifizierungen; Einhaltung der vereinbarten Kommunikationsmethoden und -kanäle; wahrheitsgetreue, unverfälschte Reportings; Sicherstellung und Auswertung der Lieferergebnisse (Lessons learned für künftige Vorhaben)",null,null,null,"Einzelne Programme oder Projekte wurden intern als vertraulich eingestuft. Informationen können nur selektiv beschafft oder veräussert werden. Entsprechende Massnahmen müssen durch den Kandidaten sichergestellt und durchgesetzt werden.","Einzelne Programme oder Projekte wurden intern als streng geheim eingestuft. Informationsbeschaffung und -fluss sind äusserst schwierig. Der integralen Sicherheit kommt grösste Bedeutung zu und muss durch den Kandidaten unter allen Umständen bei den Projekt- oder Programmleitenden durchgesetzt werden. Die Vorhaben beinhalten grosse Reputationsrisiken. Compliance kommt vor Offenheit. Die Interaktion mit dem Auftraggeber und der Aufsicht erfolgt ausschliesslich durch den Kandidaten."]
[null,null,null,"Beurteilung der langfristigen, aktiven Projekte und Programme in Bezug auf Mehrwert, Bedarf und Notwendigkeit (rechtlich und/oder wirtschaftlich); Empfehlungen über die Priorisierung und Rückstellung von aktiven Projekten und Programmen",null,null,null,"Langfristige (überjährige) Projekte und Programme werden durch den Kandidaten kontinuierlich mit der geltenden Strategie der Stammorganisation auf Relevanz validiert. Abweichungen werden kommuniziert und allfällige Massnahmen vorgeschlagen.","Langfristige (überjährige) Projekte und Programme werden durch den Kandidaten kontinuierlich entlang der geltenden Strategie der Stammorganisation angepasst. Der Kandidat antizipiert und beeinflusst die Strategieentwicklung und leitet die Massnahmen aus den Entscheiden der Unternehmensleitung selbständig in seinem Verantwortungsbereich ein. "]

{"sheet":"CXagil","index":18,"n_rows":48,"n_cols":9,"rows_kept":48,"cut":false,"hidden":false,"merged":[[35,1,37,1],[35,2,37,2],[39,1,41,1],[39,2,41,2],[43,1,47,1],[43,2,47,2],[31,1,33,1],[31,2,33,2],[18,1,20,1],[18,2,20,2],[18,12,18,18],[21,12,21,18],[22,1,24,1],[22,2,24,2],[22,12,22,18],[25,12,25,18],[26,1,29,1],[26,2,29,2],[26,12,26,18],[30,12,30,18],[17,12,17,18],[1,1,1,5],[2,5,2,8],[5,1,8,1],[5,2,8,2],[10,1,11,1],[10,2,11,2],[10,12,10,18],[12,12,12,18],[13,1,16,1],[13,2,16,2],[13,12,13,18]]}
[]
[null,"Beschreibung der Komplexitätsindikatoren von agilen Vorhaben"]
[{"$nulls":5},"Bewertungsstufen"]
[null,null,"Indikator","Kriterium",null,1,2,3,4]
[]
[null,1,"Ziele und Ergebnisbeurteilung","Auftragsklärung und -abgrenzung",null,"Auftrag und dessen Abgrenzung sowie Ziele des agilen Vorhabens sind von Beginn an eindeutig und vollständig durch Dritte vorgegeben.","Auftrag und dessen Abgrenzung sowie Ziele des agilen Vorhabens sind von Beginn an im Wesentlichen klar und mehrheitlich durch Dritte vorgegeben.","Auftrag ist zu Beginn teilweise unklar, dessen Abgrenzung und einige bedeutende Ziele wurden im Verlauf des agilen Vorhabens unter Leitung/Moderation des Kandidaten definiert/erarbeitet.","Auftrag und dessen Abgrenzung ist zu Beginn sehr vage, fast alle wesentlichen Ziele wurden im Verlauf des agilen Vorhabens unter Leitung/Moderation des Kandidaten definiert/erarbeitet."]
[null,null,null,"Zielkonflikte und -abhängigkeiten",null,"Keine Konflikte und Abhängigkeiten zwischen den unterschiedlichen Zielen","Konflikte und Abhänggikeiten zwischen den unterschiedlichen Zielen sind in normalem Rahmen, Prioritäten relativ leicht bestimmbar.","Beachtliche Konflikte oder Abhängigkeiten zwischen den unterschiedlichen Zielen, situative Priorisierung teilweise nötig.","Ausserordentlich grosse Konflikte und Abhängigkeiten zwischen den unterschiedlichen Zielen, situative Priorisierung oft notwendig."]
[null,null,null,"Wirkungs- und Nutzenpotenzial",null,"Agiles Vorhaben bezweckt beschränkten Nutzen und wirkt sich nur gering auf das Produkt aus.","Agiles Vorhaben bezweckt überschaubaren Nutzen und wirkt sich in einem normalen Rahmen auf das Produkt aus.","Agiles Vorhaben bezweckt bedeutenden Nutzen und wirkt sich wesentlich auf das Produkt aus.","Agiles Vorhaben bezweckt strategischen Nutzen und wirkt sich sehr stark auf das Produkt aus."]
[null,null,null,"Priorisierungen",null,"Priorisierung im agilen Vorhaben ist klar gegeben.","Priorisierung im agilen Vorhaben ist mehrheitlich gegeben.","Priorisierung im agilen Vorhaben ist herausfordernd.","Priorisierung im agilen Vorhaben ist unklar."]
[]
[null,2,"Prozesse, Methoden, Tools\nund Techniken","Verfügbarkeit und Freiheitsgrad",null,"Team verfügt über standardisierte Prozesse, Methoden, Tools und Techniken und muss sich strikt an die Vorgaben halten.","Teams verfügen über standardisierte Prozesse, Methoden, Tools und Techniken und können diese in einem gewissen Ausmass an die situativen Bedingungen anpassen.","Teams verfügen über wesentliche Freiheiten in der Auswahl der Prozesse, Methoden, Tools und Techniken. Standardisierte Vorgaben sind nur bedingt anwendbar.","Teams verfügen über vollständige Freiheiten in der Auswahl der Prozesse, Methoden, Tools und Techniken. Standards und Erfahrungswerte sind praktisch nicht verfügbar."]
[null,null,null,"Agile Arbeit mit Supportfunktionen",null,"Weitgehende Erledigung administrativer und koordinativer Tätigkeiten durch Supportfunktionen.","Wiederholte Erledigung administrativer und koordinativer Tätigkeiten durch Supportfunktionen.","Vereinzelte Erledigung administrativer und koordinativer Tätigkeiten durch Supportfunktionen.","Keine Erledigung administrativer und koordinativer Tätigkeiten durch Supportfunktionen."]
[]
[null,3,"Ressourcen","Personelle Mittel",null,"Anzahl Personentage: < 250","Anzahl Personentage: 250 - 699","Anzahl Personentage: 700 - 2'999","Anzahl Personentage: ≥ 3'000"]
[null,null,null,"Cash-out",null,"Cash-out: < 0.1 Mio CHF","Cash-out: 0.1 - 0.5 Mio CHF","Cash-out: 0.5 - 2.0 Mio CHF","Cash-out: ≥ 2.0 Mio CHF"]
[null,null,null,"Verfügbarkeit und Qualifikation der personellen Ressourcen",null,"Personelle Mittel stehen mit grosser Sicherheit ausreichend und mit der benötigten Qualifikation zur Verfügung.","Volumen der personellen Mittel ist eher knapp, jedoch mit relativ grosser Sicherheit und mit der benötigten Qualifikation verfügbar bzw. planbar; Kandidat muss zur Sicherung der Personalressourcen Aufwand bertreiben.","Volumen der personellen Mittel ist entweder knapp oder nur sehr bedingt mit der benötigten Qualifikation verfügbar; Kandidat muss zur Sicherung der Personalressourcen hohen Aufwand betreiben.","Volumen der personellen Mittel ist äusserst knapp sowie mit grosser Unsicherheit behaftet und es fehlen oftmals die benötigten Qualifikationen; Kandidat muss zur Sicherung der Personalressourcen ausserordentlich hohen Aufwand betreiben."]
[null,null,null,"Auftragserteilung und Ausschreibungsverfahren",null,"Aufträge werden ohne Angebotseinholung und Ausschreibung oder vollumfänglich intern vergeben.","Einzelne Aufträge werden extern vergeben; dazu werden Angebote eingeholt.","Die Mehrheit der Aufträge wird extern vergeben; dazu werden jeweils mehrere Angebote eingeholt.","Ein Grossteil der Aufträge wird extern vergeben und muss öffentlich ausgeschrieben werden."]
[]
[null,4,"Chancen und Risiken","Chancen",null,"Wahrnehmung von Chancen sowie die daraus resultierende Nutzenrealisierung ist für \nden Auftraggeber und den Kunden eher unbedeutend.","Wahrnehmung von Chancen sowie die daraus resultierende Nutzenrealisierung ist für \nden Auftraggeber und den Kunden relativ bedeutend.","Wahrnehmung von Chancen sowie die daraus resultierende Nutzenrealisierung ist für \nden Auftraggeber und den Kunden von grosser Bedeutung.","Wahrnehmung von Chancen sowie die daraus resultierende Nutzenrealisierung ist sowohl für den Auftraggeber als auch für den Kunden sowie für andere Stakeholder von strategischer Bedeutung."]
[null,null,null,"Risiken, insbesondere auch aus dem Umfeld des agilen Vorhabens",null,"Risikolage mit wenigen Risiken mit grossem Schadensausmass oder mit hoher Eintrittswahrscheinlichkeit.","Risikolage mit mehreren abschätzbaren Risiken mit grossem Schadensausmass oder mit hoher Eintrittswahrscheinlichkeit.","Risikolage mit mehreren abschätzbaren Risiken mit grossem Schadensausmass und mit hoher Eintrittswahrscheinlichkeit.","Risikolage mit zahlreichen nur sehr bedingt abschätzbaren Risiken mit potenziell grossem Schadensausmass und mit hoher Eintrittswahrscheinlichkeit."]
[null,null,null,"Massnahmen des Risikomanagements",null,"Keine oder nur sehr wenige Massnahmen des Risikomanagements mussten umgesetzt werden.","Den Risiken konnte mit standardardisierten Massnahmen des Risikomanagements begegnet werden.","Zur Reduktion oder Vermeidung der Risiken mussten sowohl standardardisierte als auch situativ entwickelte Massnahmen des Risikomanagements umgesetzt werden.","Zur Reduktion oder Vermeidung der Risiken mussten mehrheitlich situativ entwickelte Massnahmen des Risikomanagements umgesetzt werden."]
[]
[null,5,"Stakeholder und Integration","Anzahl Stakeholderkategorien, die aufeinander ausgerichtet und/oder integriert werden müssen",null,"< 4","4 - 5","6 - 8","> 8"]
[null,null,null,"Integration der Stakeholder",null,"Die zu integrierenden Stakeholder stehen zeitnah zur Verfügung und der Aufwand zu deren Integration ist eher gering.","Die zu integrierenden Stakeholder stehen zeitnah zur Verfügung und der Aufwand zu deren Integration ist eher gross.","Die zu integrierenden Stakeholder stehen nicht zeitnah zur Verfügung und der Aufwand zu deren Integration ist eher gering.","Die zu integrierenden Stakeholder stehen nicht zeitnah zur Verfügung und der Aufwand zu deren Integration ist eher gross."]
[null,null,null,"Öffentliches Interesse und Umgang mit Regulierungsbehörden",null,null,null,"Vorhaben ist grossem öffentlichen Interesse ausgesetzt oder muss den Anforderungen von Regulierungsbehörden genügen.","Vorhaben ist grossem öffentlichen Interesse ausgesetzt und muss den Anforderungen von Regulierungsbehörden genügen."]
[]
[null,6,"Beziehungen zur Stammorganisation","Beeinflussung von agilem Vorhaben und Stammorganisation",null,"Ergebnisse der agilen Arbeit und Stammorganisation beeinflussen sich gegenseitig gar nicht oder nur sehr gering.","Ergebnisse der agilen Arbeit beeinflussen die Stammorganisation und sind von deren Engagement abhängig; Interessen von Vorhaben und Linie decken sich mehrheitlich.","Ergebnisse der agilen Arbeit beeinflussen die Stammorganisation und sind von deren Engagement abhängig; bedeutende gegenläufige Interessen von Vorhaben und Linie.","Ausgeprägte wechselseitige Beeinflussung von Ergebnissen der agilen Arbeit und Stammorganisation; vielschichtige starke Interessenskonflikte."]
[null,null,null,"Ressourcenbedarf von ausserhalb der im agilen Vorhaben arbeitenden Teams",null,"Es werden keine Ressourcen von ausserhalb der Teams benötigt.","Nicht in den Teams vorhandene Ressourcen stehen zeitnah zur Verfügung und können mit geringem Aufwand integriert werden.","Nicht in den Teams vorhandene Ressourcen stehen entweder zeitnah zur Verfügung oder können mit geringem Aufwand integriert werden.","Nicht in den Teams vorhandene Ressourcen stehen weder zeitnah zur Verfügung, noch können sie mit geringem Aufwand integriert werden."]
[null,null,null,"Beitrag zur Konfliktbewältigung sowie zur Verbesserung der Zusammenarbeit",null,"Kaum Konfliktsituationen, konnten mit geringem Aufwand bewältigt werden.","Für Erfolg des Vorhabens bedingt relevante Konfliktsituationen, die entweder vermieden werden konnten oder in denen mit geringem Aufwand die Zusammenrabeit verbessert werden konnte.","Für Erfolg des Vorhabens relevante Konfliktsituationen, die entweder mit grossem Aufwand vermieden werden konnten oder in denen nur mit grossem Aufwand die Zusammenrabeit verbessert werden konnte.","Für Erfolg des Vorhabens sehr relevante Konfliktsituationen, die nicht vermieden werden konnten und in denen nur mit sehr grossem Aufwand die Zusammenrabeit verbessert werden konnte."]
[null,null,null,"Reporting und Kommunikation",null,"Fachliche Problemlösung steht im Zentrum. Aufwand bzgl. Reporting und Kommunikation spielt eine eher untergeordnete Rolle.","Reporting und Kommunikation der Ergebnisse der agilen Arbeit spielen eine nennenswerte Rolle bzgl. des Anteils am Arbeitsaufwand und liefern einen wichtigen Beitrag zum Erfolg.","Reporting und Kommunikation sind vergleichbar aufwendig wie die fachliche Problemlösung und bilden eine notwendige Voraussetzung für den Erfolg.","Reporting und Kommunikation sind wichtigster, kritischer Erfolgsfaktor für den Erfolg und generieren mehr Aufwand als die fachliche Problemlösung."]
[]
[null,7,"Kultureller und sozialer Kontext","Kulturelle, soziale und sprachliche Vielfalt",null,"Keine zu bewältigenden Probleme bzgl. herkunftsbedingter Werte, Sprache oder sozialem Gefälle, bzw. zur Vermeidung potenzieller Probleme ist kein Aufwand nötig.","Relativ geringe zu bewältigende Probleme bzgl. herkunftsbedingter Werte, Sprache oder sozialem Gefälle und/oder die Vermeidung von potenziellen Problemen ist nur mit geringem Aufwand verbunden.","Probleme bzgl. herkunftsbedingter Werte, Sprache und/oder sozialem Gefälle sind für den Kandidaten eine Herausforderung und/oder die Vermeidung von potenziellen Problemen ist mit grossem Aufwand verbunden.","Substanzielle Probleme bzgl. herkunftsbedingter Werte, Sprache und/oder sozialem Gefälle sowie die Vermeidung potenzieller Probleme sind für den Kandidaten eine grosse Herausforderung und Mehrbelastung."]
[null,null,null,"Geografische Verteilung der Beteiligten",null,"Alle am Vorhaben beteiligten Personen befinden sich am selben Ort (Gebäude, Stadt).","Die Mehrheit der am Vorhaben beteiligten Personen befindet sich am selben Ort (Gebäude, Stadt).","Die am Vorhaben beteiligten Personen befinden sich an zahlreichen Orten (national, evtl. Teile davon auch international).","Die am Vorhaben beteiligten Personen sind international breit gestreut; hoher Reise- und Planungsaufwand, tiefe Meetingflexibilität."]
[null,null,null,"Interdisziplinarität",null,"Alle am Vorhaben beteiligten Personen stammen aus derselben Fachdisziplin.","Die Mehrheit der am Vorhaben beteiligten Personen stammt aus derselben Fachdisziplin.","Die am Vorhaben beteiligten Personen stammen aus mehreren Fachdisziplinen, deren Koordination ist für den agilen Leader herausfordernd.","Die am Vorhaben beteiligten Personen stammen aus vielen Fachdisziplinen, deren Koordination ist für den agilen Leader äusserst schwierig."]
[]
[null,8,"Führung, Teamarbeit und Entscheidungen","Anzahl beteiligte Teams",null,1,"2 - 5","6 - 9","≥ 10"]
[null,null,null,"Teambildung und agiles Coaching",null,"Teamzusammensetzung ist während des gesamten Verlaufs des Vorhabens statisch; neues Personal kann ohne Aufwand integriert werden.","Veränderungen der Teamzusammensetzung sind planbar; neues Personal kann mit geringem Aufwand und vorbereitet integriert werden.","Mehrere, teils kurzfristige und unerwartete Veränderungen der Teamzusammensetzung; neues Personal muss kurzfristig integriert werden.","Häufige und bedeutende Wechsel in der Teamzusammensetzung mit entsprechend grossem Integrationsaufwand."]
[null,null,null,"Dezentrale Entscheidfindung",null,"Alle dezentral zu fällende Entscheide können ohne spezielles Verständnis für die Teamgestaltung und ohne zusätzlichen Aufwand gefällt werden.","Für die Gestaltung der Teams, so dass möglichst viele Entscheide dezentral gefällt werden können, ist entweder viel Verständnis gefragt oder die Gestaltung ist mit grossem Aufwand verbunden.","Für die Gestaltung der Teams, so dass möglichst viele Entscheide dezentral gefällt werden können, ist viel Verständnis gefragt und die Gestaltung ist mit grossem Aufwand verbunden.","Für den Kandidaten ist es eine grosse Herausforderung, die Teams so zu gestalten, dass möglichst viele Entscheide dezentral gefällt werden können."]
[]
[null,9,"Innovationsgrad und Rahmenbedingungen","Innovationsgrad",null,"Agiles Vorhaben bewirkt höchstens geringe Produkt- oder Prozessinnovationen.","Agiles Vorhaben bewirkt innerhalb des Unternehmens bzw. der Organisation Produkt- oder Prozessinnovationen.","Agiles Vorhaben bewirkt innerhalb des Unternehmens bzw. der Organisation Produkt- und Prozessinnovationen","Agiles Vorhaben bewirkt bedeutende branchenweite Produkt- und/oder Prozessinnovationen."]
[null,null,null,"Bekanntheitsgrad der verwendeten Technologien",null,"Verwendete Technologie ist sowohl unternehmensintern als auch auf dem Markt weitgehend bekannt.","Verwendete Technologie ist unternehmensintern relativ neu, aber auf dem Markt weitgehend bekannt.","Verwendete Technologie ist sowohl unternehmensintern als auch auf dem Markt relativ unbekannt.","Wesentliche Teile der verwendeten Technologie wurden für das Projekt neu entwickelt."]
[null,null,null,"Gestaltungsspielraum",null,"Rahmenbedingungen geben den Problemlösungsansatz eindeutig vor (kein Gestaltungsspielraum).","Rahmenbedingungen lassen Raum für mehrere, im Kern ähnliche Problemlösungsvarianten (beschränkter Gestaltungsspielraum).","Rahmenbedingungen lassen Raum für mehrere Problemlösungsvarianten, die sich in wesentlichen Punkten unterscheiden (hoher Gestaltungsspielraum).","Keine nennenswerten Rahmenbedingungen; denkbar sind unzählige Problemlösungsvarianten (ausserordentlich hoher Gestaltungsspielraum)."]
[]
[null,10,"Koordinationsbedarf","Abhängigkeit von anderen Produkten, Teams, Vorhaben",null,"Keine bzw. nur unbedeutende Abhängigkeit von anderen Produkten, Teams oder Vorhaben","Abhängigkeit von anderen Produkten, Teams oder Vorhaben in gewissen Punkten","Starke Abhängigkeit von anderen Produkten, Teams oder Vorhaben","Starke Abhängigkeit von mehreren Produkten, Teams oder Vorhaben ohne Einflussmöglichkeit über eine gemeinsame Führung"]
[null,null,null,"Anzahl Leistungserbringer",null,"< 4","5 - 8","9 - 14","> 14"]
[null,null,null,"Vertragswerk",null,"Innenauftrag in der eigenen Organisation bzw. Linie","Innenauftrag innerhalb des Unternehmens bzw. Konzerns","Mehrschichtiger Vertrag über das eigene Unternehmen bzw. den Konzern hinaus (Inland)","Mehrschichtiger Vertrag über das eigene Unternehmen bzw. den Konzern und über Landesgrenzen/Jurisdiktionen hinaus (international)"]
[null,null,null,"Verträge mit externen Leistungserbringern",null,"Keine Verträge mit externen Leistungserbringern","Kandidat muss einzelne Verträge mit externen Leistungserbringern überwachen und steuern.","Kandidat muss die Einhaltung einiger Verträge mit externen Leistungserbringern sicherstellen.","Kandidat ist in den Abschluss von Verträgen involviert, welche zu einer Neugestaltung der Beziehung zu den Leistungserbringern führt, und deren Überwachung und Steuerung für den Kandidaten aufwändig sind."]
[null,null,null,"Vertraulichkeit",null,null,null,"Vorhaben wurde als vertraulich eingestuft; Informationen können nur selektiv beschafft werden.","Vorhaben wurde als streng geheim eingestuft; Informationsbeschaffung ist äusserst schwierig."]

{"sheet":"Admin","index":19,"n_rows":36,"n_cols":5,"rows_kept":36,"cut":false,"hidden":false,"merged":[[35,3,35,4],[1,1,1,4],[2,1,2,4],[3,1,3,4],[4,1,4,4],[5,1,5,4],[6,1,6,4],[23,3,23,4],[34,3,34,4],[33,3,33,4],[32,3,32,4],[31,3,31,4],[30,3,30,4],[26,3,26,4],[29,3,29,4],[28,3,28,4],[17,3,17,4],[27,3,27,4],[16,3,16,4],[25,3,25,4],[24,3,24,4],[22,3,22,4],[21,3,21,4],[20,3,20,4],[19,3,19,4],[18,3,18,4]]}
[]
["Autor des Dokuments","Jean-Pierre Widmann"]
["Klassifikation","VZPM, öffentlich"]
["Ausgabe und Gültigkeit","August 2021"]
["Version",9.1999999999999993]
["Ersetzt Dokument","VZPM_PMLA-C_Zertifizierungsantrag_V8.5_DE"]
["Dateiname",{"$f":"MID(CELL(\"DATEINAME\"),FIND(\"[\",CELL(\"DATEINAME\"))+1,FIND(\"]\",CELL(\"DATEINAME\"))-FIND(\"[\",CELL(\"DATEINAME\"))-6)","v":{"$error":"#N/A"}}]
[]
["Prüfung und Freigabe"]
[]
["Funktion","Datum","Rolle","Name","Bemerkungen"]
["geprüft","2018-11-29","Q-Leiter","Dr. Laurens de Bever"]
["freigegeben","2021-08-12","Geschäftsführer","Jean-Pierre Widmann"]
[]
["Änderungsübersicht"]
[]
["Datum","Version","Autor","Vorgenommene Änderungen"]
["2021-08-12",9.1999999999999993,"Jean-Pierre Widmann","Empfehlung Domäne angepasst"]
["2021-07-17",9.1,"Jean-Pierre Widmann","Einbau Portfolio Agile Leadership"]
["2021-07-05",9,"Jean-Pierre Widmann","Einbau Agile Leadership"]
["2021-03-24",8.5,"Jean-Pierre Widmann","Fehler \"Dauer Unterbruch\" korrigiert"]
["2021-01-28",8.4,"Jean-Pierre Widmann","Texte präzisiert, Ländertabellen eingefügt"]
["2019-05-10",8.3000000000000007,"Gwendolin Anna Rotach","Anpassung an Applikation 'Zert'"]
["2019-04-15",8.1999999999999993,"Jean-Pierre Widmann","Anrechnung Personentage"]
["2018-12-30",8.1,"Jean-Pierre Widmann","Private Mailadresse und Erweiterung 'Edu'"]
["2018-10-04",8,"Jean-Pierre Widmann","Anzahl Spalten in Selbstbeurteilung reduziert"]
["2018-06-29",7.9,"Jean-Pierre Widmann","Kleinere Verbesserungen vorgenommen"]
["2018-02-23",7.8,"Jean-Pierre Widmann","Antrag bei nicht abgeschlossenem Projekt"]
["2017-11-08",7.7,"Jean-Pierre Widmann","Formeln in PfM angepasst"]
["2017-10-31",7.6,"Jean-Pierre Widmann","Formeln in Exp angepasst"]
["2017-09-15",7.5,"Jean-Pierre Widmann","Vergleichszahl in PgM und PfM angepasst"]
["2017-09-04",7.4,"Jean-Pierre Widmann","Formelfehler in PM, PgM und PfM korrigiert"]
["2017-08-30",7.3,"Jean-Pierre Widmann","Bewertung in Selbstbeurteilung optimiert"]
["2017-08-17",7.2,"Jean-Pierre Widmann","Fehler in Summary Level C korrigiert"]
["2017-08-07",7.1,"Jean-Pierre Widmann","Erfahrungsstunden pro Monat für Referenzvorhaben angepasst"]
["2017-07-20",7,"Jean-Pierre Widmann","Anpassung an ICR4 und ICB4"]

{"sheet":"Exp","index":20,"n_rows":156,"n_cols":123,"rows_kept":156,"cut":false,"hidden":true,"merged":[[1,3,7,5],[7,43,7,47],[2,43,2,47],[2,7,2,11],[1,58,1,62],[2,58,2,62],[3,58,3,62],[4,58,4,62],[5,58,5,62],[6,58,6,62],[7,58,7,62],[7,7,7,11],[1,12,1,14],[1,15,1,17],[1,18,1,20],[1,21,1,23],[1,24,1,26],[1,27,1,29],[1,69,1,71],[1,30,1,32],[1,33,1,35],[1,36,1,38],[1,39,1,41],[1,54,1,56],[1,43,1,47],[1,63,1,65],[1,66,1,68],[1,48,1,50],[1,51,1,53],[1,7,1,11],[3,7,3,11],[4,7,4,11],[5,7,5,11],[6,7,6,11],[3,43,3,47],[4,43,4,47],[5,43,5,47],[6,43,6,47],[6,73,6,77],[7,73,7,77],[1,105,1,107],[2,73,2,77],[3,73,3,77],[4,73,4,77],[5,73,5,77],[1,90,1,92],[1,93,1,95],[1,96,1,98],[1,99,1,101],[1,102,1,104],[1,73,1,77],[1,78,1,80],[1,81,1,83],[1,84,1,86],[1,87,1,89],[1,109,1,113],[1,114,1,116],[1,117,1,119],[1,120,1,122],[2,109,2,113],[3,109,3,113],[4,109,4,113],[5,109,5,113],[6,109,6,113],[7,109,7,113]]}
[]
[null,null,null,"Erfahrung insgesamt in\n\nProjektmanagement\nProgrammmanagement\nPortfoliomanagement\nAgile Leadership\n\nin Stunden pro Monat",null,null,null,"Projektmanagement",{"$nulls":4},"Projekt Nr. 1",null,null,"Projekt Nr. 2",null,null,"Projekt Nr. 3",null,null,"Projekt Nr. 4",null,null,"Projekt Nr. 5",null,null,"Projekt Nr. 6",null,null,"Projekt Nr. 7",null,null,"Projekt Nr. 8",null,null,"Projekt Nr. 9",null,null,"Projekt Nr. 10",null,null,null,"Programmmanagement",{"$nulls":4},"Programm Nr. 1",null,null,"Programm Nr. 2",null,null,"Programm Nr. 3",null,null,null,"Portfoliomanagement",{"$nulls":4},"Portfolio Nr. 1",null,null,"Portfolio Nr. 2",null,null,"Portfolio Nr. 3",null,null,null,"Agile Leadership",{"$nulls":4},"Vorhaben Nr. 1",null,null,"Vorhaben Nr. 2",null,null,"Vorhaben Nr. 3",null,null,"Vorhaben Nr. 4",null,null,"Vorhaben Nr. 5",null,null,"Vorhaben Nr. 6",null,null,"Vorhaben Nr. 7",null,null,"Vorhaben Nr. 8",null,null,"Vorhaben Nr. 9",null,null,"Vorhaben Nr. 10",null,null,null,"Agiles Portfoliomanagement",{"$nulls":4},"Portfolio Nr. 1",null,null,"Portfolio Nr. 2",null,null,"Portfolio Nr. 3"]
[{"$nulls":12},"Rolle 1","Rolle 2","Rolle 3","Rolle 1","Rolle 2","Rolle 3","Rolle 1","Rolle 2","Rolle 3","Rolle 1","Rolle 2","Rolle 3","Rolle 1","Rolle 2","Rolle 3","Rolle 1","Rolle 2","Rolle 3","Rolle 1","Rolle 2","Rolle 3","Rolle 1","Rolle 2","Rolle 3","Rolle 1","Rolle 2","Rolle 3","Rolle 1","Rolle 2","Rolle 3",{"$nulls":6},"Rolle 1","Rolle 2","Rolle 3","Rolle 1","Rolle 2","Rolle 3","Rolle 1","Rolle 2","Rolle 3",{"$nulls":6},"Rolle 1","Rolle 2","Rolle 3","Rolle 1","Rolle 2","Rolle 3","Rolle 1","Rolle 2","Rolle 3",{"$nulls":6},"Rolle 1","Rolle 2","Rolle 3","Rolle 1","Rolle 2","Rolle 3","Rolle 1","Rolle 2","Rolle 3","Rolle 1","Rolle 2","Rolle 3","Rolle 1","Rolle 2","Rolle 3","Rolle 1","Rolle 2","Rolle 3","Rolle 1","Rolle 2","Rolle 3","Rolle 1","Rolle 2","Rolle 3","Rolle 1","Rolle 2","Rolle 3","Rolle 1","Rolle 2","Rolle 3",{"$nulls":6},"Rolle 1","Rolle 2","Rolle 3","Rolle 1","Rolle 2","Rolle 3","Rolle 1","Rolle 2","Rolle 3"]
[{"$nulls":7},"von",{"$nulls":4},{"$f":"IF(PM!$D25<>\"\",PM!$D25,\"\")","v":""},{"$f":"IF(PM!$D26<>\"\",PM!$D26,\"\")","v":""},{"$f":"IF(PM!$D27<>\"\",PM!$D27,\"\")","v":""},{"$f":"IF(PM!$D76<>\"\",PM!$D76,\"\")","v":""},{"$f":"IF(PM!$D77<>\"\",PM!$D77,\"\")","v":""},{"$f":"IF(PM!$D78<>\"\",PM!$D78,\"\")","v":""},{"$f":"IF(PM!$D117<>\"\",PM!$D117,\"\")","v":""},{"$f":"IF(PM!$D118<>\"\",PM!$D118,\"\")","v":""},{"$f":"IF(PM!$D119<>\"\",PM!$D119,\"\")","v":""},{"$f":"IF(PM!$D158<>\"\",PM!$D158,\"\")","v":""},{"$f":"IF(PM!$D159<>\"\",PM!$D159,\"\")","v":""},{"$f":"IF(PM!$D160<>\"\",PM!$D160,\"\")","v":""},{"$f":"IF(PM!$D199<>\"\",PM!$D199,\"\")","v":""},{"$f":"IF(PM!$D200<>\"\",PM!$D200,\"\")","v":""},{"$f":"IF(PM!$D201<>\"\",PM!$D201,\"\")","v":""},{"$f":"IF(PM!$D240<>\"\",PM!$D240,\"\")","v":""},{"$f":"IF(PM!$D241<>\"\",PM!$D241,\"\")","v":""},{"$f":"IF(PM!$D242<>\"\",PM!$D242,\"\")","v":""},{"$f":"IF(PM!$D281<>\"\",PM!$D281,\"\")","v":""},{"$f":"IF(PM!$D282<>\"\",PM!$D282,\"\")","v":""},{"$f":"IF(PM!$D283<>\"\",PM!$D283,\"\")","v":""},{"$f":"IF(PM!$D322<>\"\",PM!$D322,\"\")","v":""},{"$f":"IF(PM!$D323<>\"\",PM!$D323,\"\")","v":""},{"$f":"IF(PM!$D324<>\"\",PM!$D324,\"\")","v":""},{"$f":"IF(PM!$D363<>\"\",PM!$D363,\"\")","v":""},{"$f":"IF(PM!$D364<>\"\",PM!$D364,\"\")","v":""},{"$f":"IF(PM!$D365<>\"\",PM!$D365,\"\")","v":""},{"$f":"IF(PM!$D404<>\"\",PM!$D404,\"\")","v":""},{"$f":"IF(PM!$D405<>\"\",PM!$D405,\"\")","v":""},{"$f":"IF(PM!$D406<>\"\",PM!$D406,\"\")","v":""},null,"von",{"$nulls":4},{"$f":"IF(PgM!$G26<>\"\",PgM!$G26,\"\")","v":""},{"$f":"IF(PgM!$G27<>\"\",PgM!$G27,\"\")","v":""},{"$f":"IF(PgM!$G28<>\"\",PgM!$G28,\"\")","v":""},{"$f":"IF(PgM!$G112<>\"\",PgM!$G112,\"\")","v":""},{"$f":"IF(PgM!$G113<>\"\",PgM!$G113,\"\")","v":""},{"$f":"IF(PgM!$G114<>\"\",PgM!$G114,\"\")","v":""},{"$f":"IF(PgM!$G192<>\"\",PgM!$G192,\"\")","v":""},{"$f":"IF(PgM!$G193<>\"\",PgM!$G193,\"\")","v":""},{"$f":"IF(PgM!$G194<>\"\",PgM!$G194,\"\")","v":""},null,"von",{"$nulls":4},{"$f":"IF(PfM!$G26<>\"\",PfM!$G26,\"\")","v":""},{"$f":"IF(PfM!$G27<>\"\",PfM!$G27,\"\")","v":""},{"$f":"IF(PfM!$G28<>\"\",PfM!$G28,\"\")","v":""},{"$f":"IF(PfM!$G112<>\"\",PfM!$G112,\"\")","v":""},{"$f":"IF(PfM!$G113<>\"\",PfM!$G113,\"\")","v":""},{"$f":"IF(PfM!$G114<>\"\",PfM!$G114,\"\")","v":""},{"$f":"IF(PfM!$G192<>\"\",PfM!$G192,\"\")","v":""},{"$f":"IF(PfM!$G193<>\"\",PfM!$G193,\"\")","v":""},{"$f":"IF(PfM!$G194<>\"\",PfM!$G194,\"\")","v":""},null,"von",{"$nulls":4},{"$f":"IF(Agil!$D25<>\"\",Agil!$D25,\"\")","v":""},{"$f":"IF(Agil!$D26<>\"\",Agil!$D26,\"\")","v":""},{"$f":"IF(Agil!$D27<>\"\",Agil!$D27,\"\")","v":""},{"$f":"IF(Agil!$D76<>\"\",Agil!$D76,\"\")","v":""},{"$f":"IF(Agil!$D77<>\"\",Agil!$D77,\"\")","v":""},{"$f":"IF(Agil!$D78<>\"\",Agil!$D78,\"\")","v":""},{"$f":"IF(Agil!$D117<>\"\",Agil!$D117,\"\")","v":""},{"$f":"IF(Agil!$D118<>\"\",Agil!$D118,\"\")","v":""},{"$f":"IF(Agil!$D119<>\"\",Agil!$D119,\"\")","v":""},{"$f":"IF(Agil!$D158<>\"\",Agil!$D158,\"\")","v":""},{"$f":"IF(Agil!$D159<>\"\",Agil!$D159,\"\")","v":""},{"$f":"IF(Agil!$D160<>\"\",Agil!$D160,\"\")","v":""},{"$f":"IF(Agil!$D199<>\"\",Agil!$D199,\"\")","v":""},{"$f":"IF(Agil!$D200<>\"\",Agil!$D200,\"\")","v":""},{"$f":"IF(Agil!$D201<>\"\",Agil!$D201,\"\")","v":""},{"$f":"IF(Agil!$D240<>\"\",Agil!$D240,\"\")","v":""},{"$f":"IF(Agil!$D241<>\"\",Agil!$D241,\"\")","v":""},{"$f":"IF(Agil!$D242<>\"\",Agil!$D242,\"\")","v":""},{"$f":"IF(Agil!$D281<>\"\",Agil!$D281,\"\")","v":""},{"$f":"IF(Agil!$D282<>\"\",Agil!$D282,\"\")","v":""},{"$f":"IF(Agil!$D283<>\"\",Agil!$D283,\"\")","v":""},{"$f":"IF(Agil!$D322<>\"\",Agil!$D322,\"\")","v":""},{"$f":"IF(Agil!$D323<>\"\",Agil!$D323,\"\")","v":""},{"$f":"IF(Agil!$D324<>\"\",Agil!$D324,\"\")","v":""},{"$f":"IF(Agil!$D363<>\"\",Agil!$D363,\"\")","v":""},{"$f":"IF(Agil!$D364<>\"\",Agil!$D364,\"\")","v":""},{"$f":"IF(Agil!$D365<>\"\",Agil!$D365,\"\")","v":""},{"$f":"IF(Agil!$D404<>\"\",Agil!$D404,\"\")","v":""},{"$f":"IF(Agil!$D405<>\"\",Agil!$D405,\"\")","v":""},{"$f":"IF(Agil!$D406<>\"\",Agil!$D406,\"\")","v":""},null,"von",{"$nulls":4},{"$f":"IF(AgilPfM!$G26<>\"\",AgilPfM!$G26,\"\")","v":""},{"$f":"IF(AgilPfM!$G27<>\"\",AgilPfM!$G27,\"\")","v":""},{"$f":"IF(AgilPfM!$G28<>\"\",AgilPfM!$G28,\"\")","v":""},{"$f":"IF(AgilPfM!$G112<>\"\",AgilPfM!$G112,\"\")","v":""},{"$f":"IF(AgilPfM!$G113<>\"\",AgilPfM!$G113,\"\")","v":""},{"$f":"IF(AgilPfM!$G114<>\"\",AgilPfM!$G114,\"\")","v":""},{"$f":"IF(AgilPfM!$G192<>\"\",AgilPfM!$G192,\"\")","v":""},{"$f":"IF(AgilPfM!$G193<>\"\",AgilPfM!$G193,\"\")","v":""},{"$f":"IF(AgilPfM!$G194<>\"\",AgilPfM!$G194,\"\")","v":""}]
[{"$nulls":7},"bis",{"$nulls":4},{"$f":"IF(PM!$F25<>\"\",PM!$F25,\"\")","v":""},{"$f":"IF(PM!$F26<>\"\",PM!$F26,\"\")","v":""},{"$f":"IF(PM!$F27<>\"\",PM!$F27,\"\")","v":""},{"$f":"IF(PM!$F76<>\"\",PM!$F76,\"\")","v":""},{"$f":"IF(PM!$F77<>\"\",PM!$F77,\"\")","v":""},{"$f":"IF(PM!$F78<>\"\",PM!$F78,\"\")","v":""},{"$f":"IF(PM!$F117<>\"\",PM!$F117,\"\")","v":""},{"$f":"IF(PM!$F118<>\"\",PM!$F118,\"\")","v":""},{"$f":"IF(PM!$F119<>\"\",PM!$F119,\"\")","v":""},{"$f":"IF(PM!$F158<>\"\",PM!$F158,\"\")","v":""},{"$f":"IF(PM!$F159<>\"\",PM!$F159,\"\")","v":""},{"$f":"IF(PM!$F160<>\"\",PM!$F160,\"\")","v":""},{"$f":"IF(PM!$F199<>\"\",PM!$F199,\"\")","v":""},{"$f":"IF(PM!$F200<>\"\",PM!$F200,\"\")","v":""},{"$f":"IF(PM!$F201<>\"\",PM!$F201,\"\")","v":""},{"$f":"IF(PM!$F240<>\"\",PM!$F240,\"\")","v":""},{"$f":"IF(PM!$F241<>\"\",PM!$F241,\"\")","v":""},{"$f":"IF(PM!$F242<>\"\",PM!$F242,\"\")","v":""},{"$f":"IF(PM!$F281<>\"\",PM!$F281,\"\")","v":""},{"$f":"IF(PM!$F282<>\"\",PM!$F282,\"\")","v":""},{"$f":"IF(PM!$F283<>\"\",PM!$F283,\"\")","v":""},{"$f":"IF(PM!$F322<>\"\",PM!$F322,\"\")","v":""},{"$f":"IF(PM!$F323<>\"\",PM!$F323,\"\")","v":""},{"$f":"IF(PM!$F324<>\"\",PM!$F324,\"\")","v":""},{"$f":"IF(PM!$F363<>\"\",PM!$F363,\"\")","v":""},{"$f":"IF(PM!$F364<>\"\",PM!$F364,\"\")","v":""},{"$f":"IF(PM!$F365<>\"\",PM!$F365,\"\")","v":""},{"$f":"IF(PM!$F404<>\"\",PM!$F404,\"\")","v":""},{"$f":"IF(PM!$F405<>\"\",PM!$F405,\"\")","v":""},{"$f":"IF(PM!$F406<>\"\",PM!$F406,\"\")","v":""},null,"bis",{"$nulls":4},{"$f":"IF(PgM!$I26<>\"\",PgM!$I26,\"\")","v":""},{"$f":"IF(PgM!$I27<>\"\",PgM!$I27,\"\")","v":""},{"$f":"IF(PgM!$I28<>\"\",PgM!$I28,\"\")","v":""},{"$f":"IF(PgM!$I112<>\"\",PgM!$I112,\"\")","v":""},{"$f":"IF(PgM!$I113<>\"\",PgM!$I113,\"\")","v":""},{"$f":"IF(PgM!$I114<>\"\",PgM!$I114,\"\")","v":""},{"$f":"IF(PgM!$I192<>\"\",PgM!$I192,\"\")","v":""},{"$f":"IF(PgM!$I193<>\"\",PgM!$I193,\"\")","v":""},{"$f":"IF(PgM!$I194<>\"\",PgM!$I194,\"\")","v":""},null,"bis",{"$nulls":4},{"$f":"IF(PfM!$I26<>\"\",PfM!$I26,\"\")","v":""},{"$f":"IF(PfM!$I27<>\"\",PfM!$I27,\"\")","v":""},{"$f":"IF(PfM!$I28<>\"\",PfM!$I28,\"\")","v":""},{"$f":"IF(PfM!$I112<>\"\",PfM!$I112,\"\")","v":""},{"$f":"IF(PfM!$I113<>\"\",PfM!$I113,\"\")","v":""},{"$f":"IF(PfM!$I114<>\"\",PfM!$I114,\"\")","v":""},{"$f":"IF(PfM!$I192<>\"\",PfM!$I192,\"\")","v":""},{"$f":"IF(PfM!$I193<>\"\",PfM!$I193,\"\")","v":""},{"$f":"IF(PfM!$I194<>\"\",PfM!$I194,\"\")","v":""},null,"bis",{"$nulls":4},{"$f":"IF(Agil!$F25<>\"\",Agil!$F25,\"\")","v":""},{"$f":"IF(Agil!$F26<>\"\",Agil!$F26,\"\")","v":""},{"$f":"IF(Agil!$F27<>\"\",Agil!$F27,\"\")","v":""},{"$f":"IF(Agil!$F76<>\"\",Agil!$F76,\"\")","v":""},{"$f":"IF(Agil!$F77<>\"\",Agil!$F77,\"\")","v":""},{"$f":"IF(Agil!$F78<>\"\",Agil!$F78,\"\")","v":""},{"$f":"IF(Agil!$F117<>\"\",Agil!$F117,\"\")","v":""},{"$f":"IF(Agil!$F118<>\"\",Agil!$F118,\"\")","v":""},{"$f":"IF(Agil!$F119<>\"\",Agil!$F119,\"\")","v":""},{"$f":"IF(Agil!$F158<>\"\",Agil!$F158,\"\")","v":""},{"$f":"IF(Agil!$F159<>\"\",Agil!$F159,\"\")","v":""},{"$f":"IF(Agil!$F160<>\"\",Agil!$F160,\"\")","v":""},{"$f":"IF(Agil!$F199<>\"\",Agil!$F199,\"\")","v":""},{"$f":"IF(Agil!$F200<>\"\",Agil!$F200,\"\")","v":""},{"$f":"IF(Agil!$F201<>\"\",Agil!$F201,\"\")","v":""},{"$f":"IF(Agil!$F240<>\"\",Agil!$F240,\"\")","v":""},{"$f":"IF(Agil!$F241<>\"\",Agil!$F241,\"\")","v":""},{"$f":"IF(Agil!$F242<>\"\",Agil!$F242,\"\")","v":""},{"$f":"IF(Agil!$F281<>\"\",Agil!$F281,\"\")","v":""},{"$f":"IF(Agil!$F282<>\"\",Agil!$F282,\"\")","v":""},{"$f":"IF(Agil!$F283<>\"\",Agil!$F283,\"\")","v":""},{"$f":"IF(Agil!$F322<>\"\",Agil!$F322,\"\")","v":""},{"$f":"IF(Agil!$F323<>\"\",Agil!$F323,\"\")","v":""},{"$f":"IF(Agil!$F324<>\"\",Agil!$F324,\"\")","v":""},{"$f":"IF(Agil!$F363<>\"\",Agil!$F363,\"\")","v":""},{"$f":"IF(Agil!$F364<>\"\",Agil!$F364,\"\")","v":""},{"$f":"IF(Agil!$F365<>\"\",Agil!$F365,\"\")","v":""},{"$f":"IF(Agil!$F404<>\"\",Agil!$F404,\"\")","v":""},{"$f":"IF(Agil!$F405<>\"\",Agil!$F405,\"\")","v":""},{"$f":"IF(Agil!$F406<>\"\",Agil!$F406,\"\")","v":""},null,"bis",{"$nulls":4},{"$f":"IF(AgilPfM!$I26<>\"\",AgilPfM!$I26,\"\")","v":""},{"$f":"IF(AgilPfM!$I27<>\"\",AgilPfM!$I27,\"\")","v":""},{"$f":"IF(AgilPfM!$I28<>\"\",AgilPfM!$I28,\"\")","v":""},{"$f":"IF(AgilPfM!$I112<>\"\",AgilPfM!$I112,\"\")","v":""},{"$f":"IF(AgilPfM!$I113<>\"\",AgilPfM!$I113,\"\")","v":""},{"$f":"IF(AgilPfM!$I114<>\"\",AgilPfM!$I114,\"\")","v":""},{"$f":"IF(AgilPfM!$I192<>\"\",AgilPfM!$I192,\"\")","v":""},{"$f":"IF(AgilPfM!$I193<>\"\",AgilPfM!$I193,\"\")","v":""},{"$f":"IF(AgilPfM!$I194<>\"\",AgilPfM!$I194,\"\")","v":""}]
[{"$nulls":7},"Stunden/Monat",{"$nulls":4},{"$f":"IF(PM!$AM25=1,PM!$J25,0)","v":0},{"$f":"IF(PM!$AM26=1,PM!$J26,0)","v":0},{"$f":"IF(PM!$AM27=1,PM!$J27,0)","v":0},{"$f":"IF(PM!$AM76=1,PM!$J76,0)","v":0},{"$f":"IF(PM!$AM77=1,PM!$J77,0)","v":0},{"$f":"IF(PM!$AM78=1,PM!$J78,0)","v":0},{"$f":"IF(PM!$AM117=1,PM!$J117,0)","v":0},{"$f":"IF(PM!$AM118=1,PM!$J118,0)","v":0},{"$f":"IF(PM!$AM119=1,PM!$J119,0)","v":0},{"$f":"IF(PM!$AM158=1,PM!$J158,0)","v":0},{"$f":"IF(PM!$AM159=1,PM!$J159,0)","v":0},{"$f":"IF(PM!$AM160=1,PM!$J160,0)","v":0},{"$f":"IF(PM!$AM199=1,PM!$J199,0)","v":0},{"$f":"IF(PM!$AM200=1,PM!$J200,0)","v":0},{"$f":"IF(PM!$AM201=1,PM!$J201,0)","v":0},{"$f":"IF(PM!$AM240=1,PM!$J240,0)","v":0},{"$f":"IF(PM!$AM241=1,PM!$J241,0)","v":0},{"$f":"IF(PM!$AM242=1,PM!$J242,0)","v":0},{"$f":"IF(PM!$AM281=1,PM!$J281,0)","v":0},{"$f":"IF(PM!$AM282=1,PM!$J282,0)","v":0},{"$f":"IF(PM!$AM283=1,PM!$J283,0)","v":0},{"$f":"IF(PM!$AM322=1,PM!$J322,0)","v":0},{"$f":"IF(PM!$AM323=1,PM!$J323,0)","v":0},{"$f":"IF(PM!$AM324=1,PM!$J324,0)","v":0},{"$f":"IF(PM!$AM363=1,PM!$J363,0)","v":0},{"$f":"IF(PM!$AM364=1,PM!$J364,0)","v":0},{"$f":"IF(PM!$AM365=1,PM!$J365,0)","v":0},{"$f":"IF(PM!$AM404=1,PM!$J404,0)","v":0},{"$f":"IF(PM!$AM405=1,PM!$J405,0)","v":0},{"$f":"IF(PM!$AM406=1,PM!$J406,0)","v":0},null,"Stunden/Monat",{"$nulls":4},{"$f":"IF(PgM!$AQ26=1,PgM!$L26,0)","v":0},{"$f":"IF(PgM!$AQ27=1,PgM!$L27,0)","v":0},{"$f":"IF(PgM!$AQ28=1,PgM!$L28,0)","v":0},{"$f":"IF(PgM!$AQ112=1,PgM!$L112,0)","v":0},{"$f":"IF(PgM!$AQ113=1,PgM!$L113,0)","v":0},{"$f":"IF(PgM!$AQ114=1,PgM!$L114,0)","v":0},{"$f":"IF(PgM!$AQ192=1,PgM!$L192,0)","v":0},{"$f":"IF(PgM!$AQ193=1,PgM!$L193,0)","v":0},{"$f":"IF(PgM!$AQ194=1,PgM!$L194,0)","v":0},null,"Stunden/Monat",{"$nulls":4},{"$f":"IF(PfM!$AQ26=1,PfM!$L26,0)","v":0},{"$f":"IF(PfM!$AQ27=1,PfM!$L27,0)","v":0},{"$f":"IF(PfM!$AQ28=1,PfM!$L28,0)","v":0},{"$f":"IF(PfM!$AQ112=1,PfM!$L112,0)","v":0},{"$f":"IF(PfM!$AQ113=1,PfM!$L113,0)","v":0},{"$f":"IF(PfM!$AQ114=1,PfM!$L114,0)","v":0},{"$f":"IF(PfM!$AQ192=1,PfM!$L192,0)","v":0},{"$f":"IF(PfM!$AQ193=1,PfM!$L193,0)","v":0},{"$f":"IF(PfM!$AQ194=1,PfM!$L194,0)","v":0},null,"Stunden/Monat",{"$nulls":4},{"$f":"IF(Agil!$AJ25=1,Agil!$J25,0)","v":0},{"$f":"IF(Agil!$AJ26=1,Agil!$J26,0)","v":0},{"$f":"IF(Agil!$AJ27=1,Agil!$J27,0)","v":0},{"$f":"IF(Agil!$AJ76=1,Agil!$J76,0)","v":0},{"$f":"IF(Agil!$AJ77=1,Agil!$J77,0)","v":0},{"$f":"IF(Agil!$AJ78=1,Agil!$J78,0)","v":0},{"$f":"IF(Agil!$AJ117=1,Agil!$J117,0)","v":0},{"$f":"IF(Agil!$AJ118=1,Agil!$J118,0)","v":0},{"$f":"IF(Agil!$AJ119=1,Agil!$J119,0)","v":0},{"$f":"IF(Agil!$AJ158=1,Agil!$J158,0)","v":0},{"$f":"IF(Agil!$AJ159=1,Agil!$J159,0)","v":0},{"$f":"IF(Agil!$AJ160=1,Agil!$J160,0)","v":0},{"$f":"IF(Agil!$AJ199=1,Agil!$J199,0)","v":0},{"$f":"IF(Agil!$AJ200=1,Agil!$J200,0)","v":0},{"$f":"IF(Agil!$AJ201=1,Agil!$J201,0)","v":0},{"$f":"IF(Agil!$AJ240=1,Agil!$J240,0)","v":0},{"$f":"IF(Agil!$AJ241=1,Agil!$J241,0)","v":0},{"$f":"IF(Agil!$AJ242=1,Agil!$J242,0)","v":0},{"$f":"IF(Agil!$AJ281=1,Agil!$J281,0)","v":0},{"$f":"IF(Agil!$AJ282=1,Agil!$J282,0)","v":0},{"$f":"IF(Agil!$AJ283=1,Agil!$J283,0)","v":0},{"$f":"IF(Agil!$AJ322=1,Agil!$J322,0)","v":0},{"$f":"IF(Agil!$AJ323=1,Agil!$J323,0)","v":0},{"$f":"IF(Agil!$AJ324=1,Agil!$J324,0)","v":0},{"$f":"IF(Agil!$AJ363=1,Agil!$J363,0)","v":0},{"$f":"IF(Agil!$AJ364=1,Agil!$J364,0)","v":0},{"$f":"IF(Agil!$AJ365=1,Agil!$J365,0)","v":0},{"$f":"IF(Agil!$AJ404=1,Agil!$J404,0)","v":0},{"$f":"IF(Agil!$AJ405=1,Agil!$J405,0)","v":0},{"$f":"IF(Agil!$AJ406=1,Agil!$J406,0)","v":0},null,"Stunden/Monat",{"$nulls":4},{"$f":"IF(AgilPfM!$AQ26=1,AgilPfM!$L26,0)","v":0},{"$f":"IF(AgilPfM!$AQ27=1,AgilPfM!$L27,0)","v":0},{"$f":"IF(AgilPfM!$AQ28=1,AgilPfM!$L28,0)","v":0},{"$f":"IF(AgilPfM!$AQ112=1,AgilPfM!$L112,0)","v":0},{"$f":"IF(AgilPfM!$AQ113=1,AgilPfM!$L113,0)","v":0},{"$f":"IF(AgilPfM!$AQ114=1,AgilPfM!$L114,0)","v":0},{"$f":"IF(AgilPfM!$AQ192=1,AgilPfM!$L192,0)","v":0},{"$f":"IF(AgilPfM!$AQ193=1,AgilPfM!$L193,0)","v":0},{"$f":"IF(AgilPfM!$AQ194=1,AgilPfM!$L194,0)","v":0}]
[{"$nulls":7},"levelkonform",{"$nulls":4},{"$f":"IF(Pers!$D$12=\"A\",PM!$AH25,IF(Pers!$D$12=\"B\",PM!$AG25,IF(Pers!$D$12=\"C\",PM!$AF25)))","v":false},{"$f":"IF(Pers!$D$12=\"A\",PM!$AH26,IF(Pers!$D$12=\"B\",PM!$AG26,IF(Pers!$D$12=\"C\",PM!$AF26)))","v":false},{"$f":"IF(Pers!$D$12=\"A\",PM!$AH27,IF(Pers!$D$12=\"B\",PM!$AG27,IF(Pers!$D$12=\"C\",PM!$AF27)))","v":false},{"$f":"IF(Pers!$D$12=\"A\",PM!$AH76,IF(Pers!$D$12=\"B\",PM!$AG76,IF(Pers!$D$12=\"C\",PM!$AF76)))","v":false},{"$f":"IF(Pers!$D$12=\"A\",PM!$AH77,IF(Pers!$D$12=\"B\",PM!$AG77,IF(Pers!$D$12=\"C\",PM!$AF77)))","v":false},{"$f":"IF(Pers!$D$12=\"A\",PM!$AH78,IF(Pers!$D$12=\"B\",PM!$AG78,IF(Pers!$D$12=\"C\",PM!$AF78)))","v":false},{"$f":"IF(Pers!$D$12=\"A\",PM!$AH117,IF(Pers!$D$12=\"B\",PM!$AG117,IF(Pers!$D$12=\"C\",PM!$AF117)))","v":false},{"$f":"IF(Pers!$D$12=\"A\",PM!$AH118,IF(Pers!$D$12=\"B\",PM!$AG118,IF(Pers!$D$12=\"C\",PM!$AF118)))","v":false},{"$f":"IF(Pers!$D$12=\"A\",PM!$AH119,IF(Pers!$D$12=\"B\",PM!$AG119,IF(Pers!$D$12=\"C\",PM!$AF119)))","v":false},{"$f":"IF(Pers!$D$12=\"A\",PM!$AH158,IF(Pers!$D$12=\"B\",PM!$AG158,IF(Pers!$D$12=\"C\",PM!$AF158)))","v":false},{"$f":"IF(Pers!$D$12=\"A\",PM!$AH159,IF(Pers!$D$12=\"B\",PM!$AG159,IF(Pers!$D$12=\"C\",PM!$AF159)))","v":false},{"$f":"IF(Pers!$D$12=\"A\",PM!$AH160,IF(Pers!$D$12=\"B\",PM!$AG160,IF(Pers!$D$12=\"C\",PM!$AF160)))","v":false},{"$f":"IF(Pers!$D$12=\"A\",PM!$AH199,IF(Pers!$D$12=\"B\",PM!$AG199,IF(Pers!$D$12=\"C\",PM!$AF199)))","v":false},{"$f":"IF(Pers!$D$12=\"A\",PM!$AH200,IF(Pers!$D$12=\"B\",PM!$AG200,IF(Pers!$D$12=\"C\",PM!$AF200)))","v":false},{"$f":"IF(Pers!$D$12=\"A\",PM!$AH201,IF(Pers!$D$12=\"B\",PM!$AG201,IF(Pers!$D$12=\"C\",PM!$AF201)))","v":false},{"$f":"IF(Pers!$D$12=\"A\",PM!$AH240,IF(Pers!$D$12=\"B\",PM!$AG240,IF(Pers!$D$12=\"C\",PM!$AF240)))","v":false},{"$f":"IF(Pers!$D$12=\"A\",PM!$AH241,IF(Pers!$D$12=\"B\",PM!$AG241,IF(Pers!$D$12=\"C\",PM!$AF241)))","v":false},{"$f":"IF(Pers!$D$12=\"A\",PM!$AH242,IF(Pers!$D$12=\"B\",PM!$AG242,IF(Pers!$D$12=\"C\",PM!$AF242)))","v":false},{"$f":"IF(Pers!$D$12=\"A\",PM!$AH281,IF(Pers!$D$12=\"B\",PM!$AG281,IF(Pers!$D$12=\"C\",PM!$AF281)))","v":false},{"$f":"IF(Pers!$D$12=\"A\",PM!$AH282,IF(Pers!$D$12=\"B\",PM!$AG282,IF(Pers!$D$12=\"C\",PM!$AF282)))","v":false},{"$f":"IF(Pers!$D$12=\"A\",PM!$AH283,IF(Pers!$D$12=\"B\",PM!$AG283,IF(Pers!$D$12=\"C\",PM!$AF283)))","v":false},{"$f":"IF(Pers!$D$12=\"A\",PM!$AH322,IF(Pers!$D$12=\"B\",PM!$AG322,IF(Pers!$D$12=\"C\",PM!$AF322)))","v":false},{"$f":"IF(Pers!$D$12=\"A\",PM!$AH323,IF(Pers!$D$12=\"B\",PM!$AG323,IF(Pers!$D$12=\"C\",PM!$AF323)))","v":false},{"$f":"IF(Pers!$D$12=\"A\",PM!$AH324,IF(Pers!$D$12=\"B\",PM!$AG324,IF(Pers!$D$12=\"C\",PM!$AF324)))","v":false},{"$f":"IF(Pers!$D$12=\"A\",PM!$AH363,IF(Pers!$D$12=\"B\",PM!$AG363,IF(Pers!$D$12=\"C\",PM!$AF363)))","v":false},{"$f":"IF(Pers!$D$12=\"A\",PM!$AH364,IF(Pers!$D$12=\"B\",PM!$AG364,IF(Pers!$D$12=\"C\",PM!$AF364)))","v":false},{"$f":"IF(Pers!$D$12=\"A\",PM!$AH365,IF(Pers!$D$12=\"B\",PM!$AG365,IF(Pers!$D$12=\"C\",PM!$AF365)))","v":false},{"$f":"IF(Pers!$D$12=\"A\",PM!$AH404,IF(Pers!$D$12=\"B\",PM!$AG404,IF(Pers!$D$12=\"C\",PM!$AF404)))","v":false},{"$f":"IF(Pers!$D$12=\"A\",PM!$AH405,IF(Pers!$D$12=\"B\",PM!$AG405,IF(Pers!$D$12=\"C\",PM!$AF405)))","v":false},{"$f":"IF(Pers!$D$12=\"A\",PM!$AH406,IF(Pers!$D$12=\"B\",PM!$AG406,IF(Pers!$D$12=\"C\",PM!$AF406)))","v":false},null,"levelkonform",{"$nulls":4},{"$f":"IF(Pers!$D$12=\"A\",PgM!$AO26,IF(Pers!$D$12=\"B\",PgM!$AN26))","v":false},{"$f":"IF(Pers!$D$12=\"A\",PgM!$AO27,IF(Pers!$D$12=\"B\",PgM!$AN27))","v":false},{"$f":"IF(Pers!$D$12=\"A\",PgM!$AO28,IF(Pers!$D$12=\"B\",PgM!$AN28))","v":false},{"$f":"IF(Pers!$D$12=\"A\",PgM!$AO112,IF(Pers!$D$12=\"B\",PgM!$AN112))","v":false},{"$f":"IF(Pers!$D$12=\"A\",PgM!$AO113,IF(Pers!$D$12=\"B\",PgM!$AN113))","v":false},{"$f":"IF(Pers!$D$12=\"A\",PgM!$AO114,IF(Pers!$D$12=\"B\",PgM!$AN114))","v":false},{"$f":"IF(Pers!$D$12=\"A\",PgM!$AO192,IF(Pers!$D$12=\"B\",PgM!$AN192))","v":false},{"$f":"IF(Pers!$D$12=\"A\",PgM!$AO193,IF(Pers!$D$12=\"B\",PgM!$AN193))","v":false},{"$f":"IF(Pers!$D$12=\"A\",PgM!$AO194,IF(Pers!$D$12=\"B\",PgM!$AN194))","v":false},null,"levelkonform",{"$nulls":4},{"$f":"IF(Pers!$D$12=\"A\",PfM!$AO26,IF(Pers!$D$12=\"B\",PfM!$AN26))","v":false},{"$f":"IF(Pers!$D$12=\"A\",PfM!$AO27,IF(Pers!$D$12=\"B\",PfM!$AN27))","v":false},{"$f":"IF(Pers!$D$12=\"A\",PfM!$AO28,IF(Pers!$D$12=\"B\",PfM!$AN28))","v":false},{"$f":"IF(Pers!$D$12=\"A\",PfM!$AO112,IF(Pers!$D$12=\"B\",PfM!$AN112))","v":false},{"$f":"IF(Pers!$D$12=\"A\",PfM!$AO113,IF(Pers!$D$12=\"B\",PfM!$AN113))","v":false},{"$f":"IF(Pers!$D$12=\"A\",PfM!$AO114,IF(Pers!$D$12=\"B\",PfM!$AN114))","v":false},{"$f":"IF(Pers!$D$12=\"A\",PfM!$AO192,IF(Pers!$D$12=\"B\",PfM!$AN192))","v":false},{"$f":"IF(Pers!$D$12=\"A\",PfM!$AO193,IF(Pers!$D$12=\"B\",PfM!$AN193))","v":false},{"$f":"IF(Pers!$D$12=\"A\",PfM!$AO194,IF(Pers!$D$12=\"B\",PfM!$AN194))","v":false},null,"levelkonform",{"$nulls":4},{"$f":"IF(Pers!$D$12=\"A\",Agil!$AH25,IF(Pers!$D$12=\"B\",Agil!$AG25,IF(Pers!$D$12=\"C\",Agil!$AF25)))","v":false},{"$f":"IF(Pers!$D$12=\"A\",Agil!$AH26,IF(Pers!$D$12=\"B\",Agil!$AG26,IF(Pers!$D$12=\"C\",Agil!$AF26)))","v":false},{"$f":"IF(Pers!$D$12=\"A\",Agil!$AH27,IF(Pers!$D$12=\"B\",Agil!$AG27,IF(Pers!$D$12=\"C\",Agil!$AF27)))","v":false},{"$f":"IF(Pers!$D$12=\"A\",Agil!$AH76,IF(Pers!$D$12=\"B\",Agil!$AG76,IF(Pers!$D$12=\"C\",Agil!$AF76)))","v":false},{"$f":"IF(Pers!$D$12=\"A\",Agil!$AH77,IF(Pers!$D$12=\"B\",Agil!$AG77,IF(Pers!$D$12=\"C\",Agil!$AF77)))","v":false},{"$f":"IF(Pers!$D$12=\"A\",Agil!$AH78,IF(Pers!$D$12=\"B\",Agil!$AG78,IF(Pers!$D$12=\"C\",Agil!$AF78)))","v":false},{"$f":"IF(Pers!$D$12=\"A\",Agil!$AH117,IF(Pers!$D$12=\"B\",Agil!$AG117,IF(Pers!$D$12=\"C\",Agil!$AF117)))","v":false},{"$f":"IF(Pers!$D$12=\"A\",Agil!$AH118,IF(Pers!$D$12=\"B\",Agil!$AG118,IF(Pers!$D$12=\"C\",Agil!$AF118)))","v":false},{"$f":"IF(Pers!$D$12=\"A\",Agil!$AH119,IF(Pers!$D$12=\"B\",Agil!$AG119,IF(Pers!$D$12=\"C\",Agil!$AF119)))","v":false},{"$f":"IF(Pers!$D$12=\"A\",Agil!$AH158,IF(Pers!$D$12=\"B\",Agil!$AG158,IF(Pers!$D$12=\"C\",Agil!$AF158)))","v":false},{"$f":"IF(Pers!$D$12=\"A\",Agil!$AH159,IF(Pers!$D$12=\"B\",Agil!$AG159,IF(Pers!$D$12=\"C\",Agil!$AF159)))","v":false},{"$f":"IF(Pers!$D$12=\"A\",Agil!$AH160,IF(Pers!$D$12=\"B\",Agil!$AG160,IF(Pers!$D$12=\"C\",Agil!$AF160)))","v":false},{"$f":"IF(Pers!$D$12=\"A\",Agil!$AH199,IF(Pers!$D$12=\"B\",Agil!$AG199,IF(Pers!$D$12=\"C\",Agil!$AF199)))","v":false},{"$f":"IF(Pers!$D$12=\"A\",Agil!$AH200,IF(Pers!$D$12=\"B\",Agil!$AG200,IF(Pers!$D$12=\"C\",Agil!$AF200)))","v":false},{"$f":"IF(Pers!$D$12=\"A\",Agil!$AH201,IF(Pers!$D$12=\"B\",Agil!$AG201,IF(Pers!$D$12=\"C\",Agil!$AF201)))","v":false},{"$f":"IF(Pers!$D$12=\"A\",Agil!$AH240,IF(Pers!$D$12=\"B\",Agil!$AG240,IF(Pers!$D$12=\"C\",Agil!$AF240)))","v":false},{"$f":"IF(Pers!$D$12=\"A\",Agil!$AH241,IF(Pers!$D$12=\"B\",Agil!$AG241,IF(Pers!$D$12=\"C\",Agil!$AF241)))","v":false},{"$f":"IF(Pers!$D$12=\"A\",Agil!$AH242,IF(Pers!$D$12=\"B\",Agil!$AG242,IF(Pers!$D$12=\"C\",Agil!$AF242)))","v":false},{"$f":"IF(Pers!$D$12=\"A\",Agil!$AH281,IF(Pers!$D$12=\"B\",Agil!$AG281,IF(Pers!$D$12=\"C\",Agil!$AF281)))","v":false},{"$f":"IF(Pers!$D$12=\"A\",Agil!$AH282,IF(Pers!$D$12=\"B\",Agil!$AG282,IF(Pers!$D$12=\"C\",Agil!$AF282)))","v":false},{"$f":"IF(Pers!$D$12=\"A\",Agil!$AH283,IF(Pers!$D$12=\"B\",Agil!$AG283,IF(Pers!$D$12=\"C\",Agil!$AF283)))","v":false},{"$f":"IF(Pers!$D$12=\"A\",Agil!$AH322,IF(Pers!$D$12=\"B\",Agil!$AG322,IF(Pers!$D$12=\"C\",Agil!$AF322)))","v":false},{"$f":"IF(Pers!$D$12=\"A\",Agil!$AH323,IF(Pers!$D$12=\"B\",Agil!$AG323,IF(Pers!$D$12=\"C\",Agil!$AF323)))","v":false},{"$f":"IF(Pers!$D$12=\"A\",Agil!$AH324,IF(Pers!$D$12=\"B\",Agil!$AG324,IF(Pers!$D$12=\"C\",Agil!$AF324)))","v":false},{"$f":"IF(Pers!$D$12=\"A\",Agil!$AH363,IF(Pers!$D$12=\"B\",Agil!$AG363,IF(Pers!$D$12=\"C\",Agil!$AF363)))","v":false},{"$f":"IF(Pers!$D$12=\"A\",Agil!$AH364,IF(Pers!$D$12=\"B\",Agil!$AG364,IF(Pers!$D$12=\"C\",Agil!$AF364)))","v":false},{"$f":"IF(Pers!$D$12=\"A\",Agil!$AH365,IF(Pers!$D$12=\"B\",Agil!$AG365,IF(Pers!$D$12=\"C\",Agil!$AF365)))","v":false},{"$f":"IF(Pers!$D$12=\"A\",Agil!$AH404,IF(Pers!$D$12=\"B\",Agil!$AG404,IF(Pers!$D$12=\"C\",Agil!$AF404)))","v":false},{"$f":"IF(Pers!$D$12=\"A\",Agil!$AH405,IF(Pers!$D$12=\"B\",Agil!$AG405,IF(Pers!$D$12=\"C\",Agil!$AF405)))","v":false},{"$f":"IF(Pers!$D$12=\"A\",Agil!$AH406,IF(Pers!$D$12=\"B\",Agil!$AG406,IF(Pers!$D$12=\"C\",Agil!$AF406)))","v":false},null,"levelkonform",{"$nulls":4},{"$f":"IF(Pers!$D$12=\"A\",AgilPfM!$AO26,IF(Pers!$D$12=\"B\",AgilPfM!$AN26))","v":false},{"$f":"IF(Pers!$D$12=\"A\",AgilPfM!$AO27,IF(Pers!$D$12=\"B\",AgilPfM!$AN27))","v":false},{"$f":"IF(Pers!$D$12=\"A\",AgilPfM!$AO28,IF(Pers!$D$12=\"B\",AgilPfM!$AN28))","v":false},{"$f":"IF(Pers!$D$12=\"A\",AgilPfM!$AO112,IF(Pers!$D$12=\"B\",AgilPfM!$AN112))","v":false},{"$f":"IF(Pers!$D$12=\"A\",AgilPfM!$AO113,IF(Pers!$D$12=\"B\",AgilPfM!$AN113))","v":false},{"$f":"IF(Pers!$D$12=\"A\",AgilPfM!$AO114,IF(Pers!$D$12=\"B\",AgilPfM!$AN114))","v":false},{"$f":"IF(Pers!$D$12=\"A\",AgilPfM!$AO192,IF(Pers!$D$12=\"B\",AgilPfM!$AN192))","v":false},{"$f":"IF(Pers!$D$12=\"A\",AgilPfM!$AO193,IF(Pers!$D$12=\"B\",AgilPfM!$AN193))","v":false},{"$f":"IF(Pers!$D$12=\"A\",AgilPfM!$AO194,IF(Pers!$D$12=\"B\",AgilPfM!$AN194))","v":false}]
[{"$nulls":7},"strategisch",{"$nulls":4},{"$f":"IF(AND(PM!$J22=\"ja\",M7=1),1,0)","v":0},{"$f":"IF(AND(PM!$J22=\"ja\",N7=1),1,0)","v":0},{"$f":"IF(AND(PM!$J22=\"ja\",O7=1),1,0)","v":0},{"$f":"IF(AND(PM!$J73=\"ja\",P7=1),1,0)","v":0},{"$f":"IF(AND(PM!$J73=\"ja\",Q7=1),1,0)","v":0},{"$f":"IF(AND(PM!$J73=\"ja\",R7=1),1,0)","v":0},{"$f":"IF(AND(PM!$J114=\"ja\",S7=1),1,0)","v":0},{"$f":"IF(AND(PM!$J114=\"ja\",T7=1),1,0)","v":0},{"$f":"IF(AND(PM!$J114=\"ja\",U7=1),1,0)","v":0},{"$f":"IF(AND(PM!$J155=\"ja\",V7=1),1,0)","v":0},{"$f":"IF(AND(PM!$J155=\"ja\",W7=1),1,0)","v":0},{"$f":"IF(AND(PM!$J155=\"ja\",X7=1),1,0)","v":0},{"$f":"IF(AND(PM!$J196=\"ja\",Y7=1),1,0)","v":0},{"$f":"IF(AND(PM!$J196=\"ja\",Z7=1),1,0)","v":0},{"$f":"IF(AND(PM!$J196=\"ja\",AA7=1),1,0)","v":0},{"$f":"IF(AND(PM!$J237=\"ja\",AB7=1),1,0)","v":0},{"$f":"IF(AND(PM!$J237=\"ja\",AC7=1),1,0)","v":0},{"$f":"IF(AND(PM!$J237=\"ja\",AD7=1),1,0)","v":0},{"$f":"IF(AND(PM!$J278=\"ja\",AE7=1),1,0)","v":0},{"$f":"IF(AND(PM!$J278=\"ja\",AF7=1),1,0)","v":0},{"$f":"IF(AND(PM!$J278=\"ja\",AG7=1),1,0)","v":0},{"$f":"IF(AND(PM!$J319=\"ja\",AH7=1),1,0)","v":0},{"$f":"IF(AND(PM!$J319=\"ja\",AI7=1),1,0)","v":0},{"$f":"IF(AND(PM!$J319=\"ja\",AJ7=1),1,0)","v":0},{"$f":"IF(AND(PM!$J360=\"ja\",AK7=1),1,0)","v":0},{"$f":"IF(AND(PM!$J360=\"ja\",AL7=1),1,0)","v":0},{"$f":"IF(AND(PM!$J360=\"ja\",AM7=1),1,0)","v":0},{"$f":"IF(AND(PM!$J401=\"ja\",AN7=1),1,0)","v":0},{"$f":"IF(AND(PM!$J401=\"ja\",AO7=1),1,0)","v":0},{"$f":"IF(AND(PM!$J401=\"ja\",AP7=1),1,0)","v":0},null,"strategisch",{"$nulls":4},{"$f":"IF(AND(PgM!$G$22=\"ja\",PgM!$L$22>=1,AW7=1),1,0)","v":0},{"$f":"IF(AND(PgM!$G$22=\"ja\",PgM!$L$22>=1,AX7=1),1,0)","v":0},{"$f":"IF(AND(PgM!$G$22=\"ja\",PgM!$L$22>=1,AY7=1),1,0)","v":0},{"$f":"IF(AND(PgM!$G$108=\"ja\",PgM!$L$108>=1,AZ7=1),1,0)","v":0},{"$f":"IF(AND(PgM!$G$108=\"ja\",PgM!$L$108>=1,BA7=1),1,0)","v":0},{"$f":"IF(AND(PgM!$G$108=\"ja\",PgM!$L$108>=1,BB7=1),1,0)","v":0},{"$f":"IF(AND(PgM!$G$188=\"ja\",PgM!$L$188>=1,BC7=1),1,0)","v":0},{"$f":"IF(AND(PgM!$G$188=\"ja\",PgM!$L$188>=1,BD7=1),1,0)","v":0},{"$f":"IF(AND(PgM!$G$188=\"ja\",PgM!$L$188>=1,BE7=1),1,0)","v":0},null,"strategisch",{"$nulls":4},{"$f":"IF(AND(PfM!$G$22=\"ja\",PfM!$L$22>=1,BL7=1),1,0)","v":0},{"$f":"IF(AND(PfM!$G$22=\"ja\",PfM!$L$22>=1,BM7=1),1,0)","v":0},{"$f":"IF(AND(PfM!$G$22=\"ja\",PfM!$L$22>=1,BN7=1),1,0)","v":0},{"$f":"IF(AND(PfM!$G$108=\"ja\",PfM!$L$108>=1,BO7=1),1,0)","v":0},{"$f":"IF(AND(PfM!$G$108=\"ja\",PfM!$L$108>=1,BP7=1),1,0)","v":0},{"$f":"IF(AND(PfM!$G$108=\"ja\",PfM!$L$108>=1,BQ7=1),1,0)","v":0},{"$f":"IF(AND(PfM!$G$188=\"ja\",PfM!$L$188>=1,BR7=1),1,0)","v":0},{"$f":"IF(AND(PfM!$G$188=\"ja\",PfM!$L$188>=1,BS7=1),1,0)","v":0},{"$f":"IF(AND(PfM!$G$188=\"ja\",PfM!$L$188>=1,BT7=1),1,0)","v":0},null,"strategisch",{"$nulls":4},{"$f":"IF(AND(Agil!$J22=\"ja\",CA7=1),1,0)","v":0},{"$f":"IF(AND(Agil!$J22=\"ja\",CB7=1),1,0)","v":0},{"$f":"IF(AND(Agil!$J22=\"ja\",CC7=1),1,0)","v":0},{"$f":"IF(AND(Agil!$J73=\"ja\",CD7=1),1,0)","v":0},{"$f":"IF(AND(Agil!$J73=\"ja\",CE7=1),1,0)","v":0},{"$f":"IF(AND(Agil!$J73=\"ja\",CF7=1),1,0)","v":0},{"$f":"IF(AND(Agil!$J114=\"ja\",CG7=1),1,0)","v":0},{"$f":"IF(AND(Agil!$J114=\"ja\",CH7=1),1,0)","v":0},{"$f":"IF(AND(Agil!$J114=\"ja\",CI7=1),1,0)","v":0},{"$f":"IF(AND(Agil!$J155=\"ja\",CJ7=1),1,0)","v":0},{"$f":"IF(AND(Agil!$J155=\"ja\",CK7=1),1,0)","v":0},{"$f":"IF(AND(Agil!$J155=\"ja\",CL7=1),1,0)","v":0},{"$f":"IF(AND(Agil!$J196=\"ja\",CM7=1),1,0)","v":0},{"$f":"IF(AND(Agil!$J196=\"ja\",CN7=1),1,0)","v":0},{"$f":"IF(AND(Agil!$J196=\"ja\",CO7=1),1,0)","v":0},{"$f":"IF(AND(Agil!$J237=\"ja\",CP7=1),1,0)","v":0},{"$f":"IF(AND(Agil!$J237=\"ja\",CQ7=1),1,0)","v":0},{"$f":"IF(AND(Agil!$J237=\"ja\",CR7=1),1,0)","v":0},{"$f":"IF(AND(Agil!$J278=\"ja\",CS7=1),1,0)","v":0},{"$f":"IF(AND(Agil!$J278=\"ja\",CT7=1),1,0)","v":0},{"$f":"IF(AND(Agil!$J278=\"ja\",CU7=1),1,0)","v":0},{"$f":"IF(AND(Agil!$J319=\"ja\",CV7=1),1,0)","v":0},{"$f":"IF(AND(Agil!$J319=\"ja\",CW7=1),1,0)","v":0},{"$f":"IF(AND(Agil!$J319=\"ja\",CX7=1),1,0)","v":0},{"$f":"IF(AND(Agil!$J360=\"ja\",CY7=1),1,0)","v":0},{"$f":"IF(AND(Agil!$J360=\"ja\",CZ7=1),1,0)","v":0},{"$f":"IF(AND(Agil!$J360=\"ja\",DA7=1),1,0)","v":0},{"$f":"IF(AND(Agil!$J401=\"ja\",DB7=1),1,0)","v":0},{"$f":"IF(AND(Agil!$J401=\"ja\",DC7=1),1,0)","v":0},{"$f":"IF(AND(Agil!$J401=\"ja\",DD7=1),1,0)","v":0},null,"strategisch",{"$nulls":4},{"$f":"IF(AND(AgilPfM!$G$22=\"ja\",AgilPfM!$L$22>=1,DK7=1),1,0)","v":0},{"$f":"IF(AND(AgilPfM!$G$22=\"ja\",AgilPfM!$L$22>=1,DL7=1),1,0)","v":0},{"$f":"IF(AND(AgilPfM!$G$22=\"ja\",AgilPfM!$L$22>=1,DM7=1),1,0)","v":0},{"$f":"IF(AND(AgilPfM!$G$108=\"ja\",AgilPfM!$L$108>=1,DN7=1),1,0)","v":0},{"$f":"IF(AND(AgilPfM!$G$108=\"ja\",AgilPfM!$L$108>=1,DO7=1),1,0)","v":0},{"$f":"IF(AND(AgilPfM!$G$108=\"ja\",AgilPfM!$L$108>=1,DP7=1),1,0)","v":0},{"$f":"IF(AND(AgilPfM!$G$188=\"ja\",AgilPfM!$L$188>=1,DQ7=1),1,0)","v":0},{"$f":"IF(AND(AgilPfM!$G$188=\"ja\",AgilPfM!$L$188>=1,DR7=1),1,0)","v":0},{"$f":"IF(AND(AgilPfM!$G$188=\"ja\",AgilPfM!$L$188>=1,DS7=1),1,0)","v":0}]
[]
[null,null,null,"gesamt","level-konform","strate-gisch",null,"gesamt","level-konform","strate-gisch",null,"Einsatz\nReferenz",{"$nulls":31},"gesamt","level-konform","strate-gisch",null,"Einsatz\nReferenz",{"$nulls":10},"gesamt","level-konform","strate-gisch",null,"Einsatz\nReferenz",{"$nulls":10},"gesamt","level-konform","strate-gisch",null,"Einsatz\nReferenz",{"$nulls":31},"gesamt","level-konform","strate-gisch",null,"Einsatz\nReferenz"]
[null,{"$f":"DATE(YEAR(Pers!D23),MONTH(Pers!D23),1)","v":{"$error":"#VALUE!"}},null,{"$f":"H11+AR11+BG11+BV11+DF11","v":{"$error":"#VALUE!"}},{"$f":"I11+AS11+BH11+BW11+DG11","v":{"$error":"#VALUE!"}},{"$f":"J11+AT11+BI11+BX11+DH11","v":{"$error":"#VALUE!"}},null,{"$f":"SUM(M11:AP11)","v":{"$error":"#VALUE!"}},{"$f":"$M$7*$M11+$N$7*$N11+$O$7*$O11+$P$7*$P11+$Q$7*$Q11+$R$7*$R11+$S$7*$S11+$T$7*$T11+$U$7*$U11+$V$7*$V11+$W$7*$W11+$X$7*$X11+$Y$7*$Y11+$Z$7*$Z11+$AA$7*$AA11+$AB$7*$AB11+$AC$7*$AC11+$AD$7*$AD11+$AE$7*$AE11+$AF$7*$AF11+$AG$7*$AG11+$AH$7*$AH11+$AI$7*$AI11+$AJ$7*$AJ11+$AK$7*$AK11+$AL$7*$AL11+$AM$7*$AM11+$AN$7*$AN11+$AO$7*$AO11+$AP$7*$AP11","v":{"$error":"#VALUE!"}},{"$f":"$M$8*$M11+$N$8*$N11+$O$8*$O11+$P$8*$P11+$Q$8*$Q11+$R$8*$R11+$S$8*$S11+$T$8*$T11+$U$8*$U11+$V$8*$V11+$W$8*$W11+$X$8*$X11+$Y$8*$Y11+$Z$8*$Z11+$AA$8*$AA11+$AB$8*$AB11+$AC$8*$AC11+$AD$8*$AD11+$AE$8*$AE11+$AF$8*$AF11+$AG$8*$AG11+$AH$8*$AH11+$AI$8*$AI11+$AJ$8*$AJ11+$AK$8*$AK11+$AL$8*$AL11+$AM$8*$AM11+$AN$8*$AN11+$AO$8*$AO11+$AP$8*$AP11","v":{"$error":"#VALUE!"}},null,{"$f":"SUM(M11:O11)","v":{"$error":"#VALUE!"}},{"$f":"IF(AND($B11>=M$4,$B11<=M$5),M$6,0)","v":{"$error":"#VALUE!"}},{"$f":"IF(AND($B11>=N$4,$B11<=N$5),N$6,0)","v":{"$error":"#VALUE!"}},{"$f":"IF(AND($B11>=O$4,$B11<=O$5),O$6,0)","v":{"$error":"#VALUE!"}},{"$f":"IF(AND($B11>=P$4,$B11<=P$5),P$6,0)","v":{"$error":"#VALUE!"}},{"$error":"#VALUE!"},{"$error":"#VALUE!"},{"$error":"#VALUE!"},{"$error":"#VALUE!"},{"$error":"#VALUE!"},{"$error":"#VALUE!"},{"$error":"#VALUE!"},{"$error":"#VALUE!"},{"$error":"#VALUE!"},{"$error":"#VALUE!"},{"$error":"#VALUE!"},{"$error":"#VALUE!"},{"$error":"#VALUE!"},{"$error":"#VALUE!"},{"$error":"#VALUE!"},{"$f":"IF(AND($B11>=AF$4,$B11<=AF$5),AF$6,0)","v":{"$error":"#VALUE!"}},{"$error":"#VALUE!"},{"$error":"#VALUE!"},{"$error":"#VALUE!"},{"$error":"#VALUE!"},{"$error":"#VALUE!"},{"$error":"#VALUE!"},{"$error":"#VALUE!"},{"$error":"#VALUE!"},{"$error":"#VALUE!"},{"$error":"#VALUE!"},null,{"$f":"SUM(AW11:BE11)","v":{"$error":"#VALUE!"}},{"$f":"$AW$7*$AW11+$AX$7*$AX11+$AY$7*$AY11+$AZ$7*$AZ11+$BA$7*$BA11+$BB$7*$BB11+$BC$7*$BC11+$BD$7*$BD11+$BE$7*$BE11","v":{"$error":"#VALUE!"}},{"$f":"$AW$8*$AW11+$AX$8*$AX11+$AY$8*$AY11+$AZ$8*$AZ11+$BA$8*$BA11+$BB$8*$BB11+$BC$8*$BC11+$BD$8*$BD11+$BE$8*$BE11","v":{"$error":"#VALUE!"}},null,{"$f":"SUM(AW11:AY11)","v":{"$error":"#VALUE!"}},{"$f":"IF(AND($B11>=AW$4,$B11<=AW$5),AW$6,0)","v":{"$error":"#VALUE!"}},{"$f":"IF(AND($B11>=AX$4,$B11<=AX$5),AX$6,0)","v":{"$error":"#VALUE!"}},{"$error":"#VALUE!"},{"$error":"#VALUE!"},{"$error":"#VALUE!"},{"$error":"#VALUE!"},{"$error":"#VALUE!"},{"$error":"#VALUE!"},{"$error":"#VALUE!"},null,{"$f":"SUM(BL11:BT11)","v":{"$error":"#VALUE!"}},{"$f":"$BL$7*$BL11+$BM$7*$BM11+$BN$7*$BN11+$BO$7*$BO11+$BP$7*$BP11+$BQ$7*$BQ11+$BR$7*$BR11+$BS$7*$BS11+$BT$7*$BT11","v":{"$error":"#VALUE!"}},{"$f":"$BL$8*$BL11+$BM$8*$BM11+$BN$8*$BN11+$BO$8*$BO11+$BP$8*$BP11+$BQ$8*$BQ11+$BR$8*$BR11+$BS$8*$BS11+$BT$8*$BT11","v":{"$error":"#VALUE!"}},null,{"$f":"SUM(BL11:BN11)","v":{"$error":"#VALUE!"}},{"$f":"IF(AND($B11>=BL$4,$B11<=BL$5),BL$6,0)","v":{"$error":"#VALUE!"}},{"$error":"#VALUE!"},{"$error":"#VALUE!"},{"$error":"#VALUE!"},{"$error":"#VALUE!"},{"$error":"#VALUE!"},{"$error":"#VALUE!"},{"$error":"#VALUE!"},{"$error":"#VALUE!"},null,{"$f":"SUM(CA11:DD11)","v":{"$error":"#VALUE!"}},{"$f":"$CA$7*CA11+$CB$7*CB11+$CC$7*CC11+$CD$7*CD11+$CE$7*CE11+$CF$7*CF11+$CG$7*CG11+$CH$7*CH11+$CI$7*CI11+$CJ$7*CJ11+$CK$7*CK11+$CL$7*CL11+$CM$7*CM11+$CN$7*CN11+$CO$7*CO11+$CP$7*CP11+$CQ$7*CQ11+$CR$7*CR11+$CS$7*CS11+$CT$7*CT11+$CU$7*CU11+$CV$7*CV11+$CW$7*CW11+$CX$7*CX11+$CY$7*CY11+$CZ$7*CZ11+$DA$7*DA11+$DB$7*DB11+$DC$7*DC11+$DD$7*DD11","v":{"$error":"#VALUE!"}},{"$f":"$CA$8*CA11+$CB$8*CB11+$CC$8*CC11+$CD$8*CD11+$CE$8*CE11+$CF$8*CF11+$CG$8*CG11+$CH$8*CH11+$CI$8*CI11+$CJ$8*CJ11+$CK$8*CK11+$CL$8*CL11+$CM$8*CM11+$CN$8*CN11+$CO$8*CO11+$CP$8*CP11+$CQ$8*CQ11+$CR$8*CR11+$CS$8*CS11+$CT$8*CT11+$CU$8*CU11+$CV$8*CV11+$CW$8*CW11+$CX$8*CX11+$CY$8*CY11+$CZ$8*CZ11+$DA$8*DA11+$DB$8*DB11+$DC$8*DC11+$DD$8*DD11","v":{"$error":"#VALUE!"}},null,{"$f":"SUM(CA11:CC11)","v":{"$error":"#VALUE!"}},{"$f":"IF(AND($B11>=CA$4,$B11<=CA$5),CA$6,0)","v":{"$error":"#VALUE!"}},{"$f":"IF(AND($B11>=CB$4,$B11<=CB$5),CB$6,0)","v":{"$error":"#VALUE!"}},{"$f":"IF(AND($B11>=CC$4,$B11<=CC$5),CC$6,0)","v":{"$error":"#VALUE!"}},{"$f":"IF(AND($B11>=CD$4,$B11<=CD$5),CD$6,0)","v":{"$error":"#VALUE!"}},{"$error":"#VALUE!"},{"$error":"#VALUE!"},{"$error":"#VALUE!"},{"$error":"#VALUE!"},{"$error":"#VALUE!"},{"$error":"#VALUE!"},{"$error":"#VALUE!"},{"$error":"#VALUE!"},{"$error":"#VALUE!"},{"$error":"#VALUE!"},{"$error":"#VALUE!"},{"$error":"#VALUE!"},{"$error":"#VALUE!"},{"$error":"#VALUE!"},{"$error":"#VALUE!"},{"$f":"IF(AND($B11>=CT$4,$B11<=CT$5),CT$6,0)","v":{"$error":"#VALUE!"}},{"$error":"#VALUE!"},{"$error":"#VALUE!"},{"$error":"#VALUE!"},{"$error":"#VALUE!"},{"$error":"#VALUE!"},{"$error":"#VALUE!"},{"$error":"#VALUE!"},{"$error":"#VALUE!"},{"$error":"#VALUE!"},{"$error":"#VALUE!"},null,{"$f":"SUM(DK11:DS11)","v":{"$error":"#VALUE!"}},{"$f":"DK$7*DK11+DL$7*DL11+DM$7*DM11+DN$7*DN11+DO$7*DO11+DP$7*DP11+DQ$7*DQ11+DR$7*DR11+DS$7*DS11","v":{"$error":"#VALUE!"}},{"$f":"DK$8*DK11+DL$8*DL11+DM$8*DM11+DN$8*DN11+DO$8*DO11+DP$8*DP11+DQ$8*DQ11+DR$8*DR11+DS$8*DS11","v":{"$error":"#VALUE!"}},null,{"$f":"SUM(DK11:DM11)","v":{"$error":"#VALUE!"}},{"$f":"IF(AND($B11>=DK$4,$B11<=DK$5),DK$6,0)","v":{"$error":"#VALUE!"}},{"$error":"#VALUE!"},{"$error":"#VALUE!"},{"$error":"#VALUE!"},{"$error":"#VALUE!"},{"$error":"#VALUE!"},{"$error":"#VALUE!"},{"$error":"#VALUE!"},{"$error":"#VALUE!"}]
[null,{"$f":"DATE(YEAR(B11),MONTH(B11)+1,DAY(B11))","v":{"$error":"#VALUE!"}},null,{"$f":"H12+AR12+BG12+BV12+DF12","v":{"$error":"#VALUE!"}},{"$f":"I12+AS12+BH12+BW12+DG12","v":{"$error":"#VALUE!"}},{"$f":"J12+AT12+BI12+BX12+DH12","v":{"$error":"#VALUE!"}},null,{"$f":"SUM(M12:AP12)","v":{"$error":"#VALUE!"}},{"$f":"$M$7*$M12+$N$7*$N12+$O$7*$O12+$P$7*$P12+$Q$7*$Q12+$R$7*$R12+$S$7*$S12+$T$7*$T12+$U$7*$U12+$V$7*$V12+$W$7*$W12+$X$7*$X12+$Y$7*$Y12+$Z$7*$Z12+$AA$7*$AA12+$AB$7*$AB12+$AC$7*$AC12+$AD$7*$AD12+$AE$7*$AE12+$AF$7*$AF12+$AG$7*$AG12+$AH$7*$AH12+$AI$7*$AI12+$AJ$7*$AJ12+$AK$7*$AK12+$AL$7*$AL12+$AM$7*$AM12+$AN$7*$AN12+$AO$7*$AO12+$AP$7*$AP12","v":{"$error":"#VALUE!"}},{"$f":"$M$8*$M12+$N$8*$N12+$O$8*$O12+$P$8*$P12+$Q$8*$Q12+$R$8*$R12+$S$8*$S12+$T$8*$T12+$U$8*$U12+$V$8*$V12+$W$8*$W12+$X$8*$X12+$Y$8*$Y12+$Z$8*$Z12+$AA$8*$AA12+$AB$8*$AB12+$AC$8*$AC12+$AD$8*$AD12+$AE$8*$AE12+$AF$8*$AF12+$AG$8*$AG12+$AH$8*$AH12+$AI$8*$AI12+$AJ$8*$AJ12+$AK$8*$AK12+$AL$8*$AL12+$AM$8*$AM12+$AN$8*$AN12+$AO$8*$AO12+$AP$8*$AP12","v":{"$error":"#VALUE!"}},null,{"$error":"#VALUE!"},{"$f":"IF(AND($B12>=M$4,$B12<=M$5),M$6,0)","v":{"$error":"#VALUE!"}},{"$error":"#VALUE!"},{"$error":"#VALUE!"},{"$error":"#VALUE!"},{"$error":"#VALUE!"},{"$error":"#VALUE!"},{"$error":"#VALUE!"},{"$error":"#VALUE!"},{"$error":"#VALUE!"},{"$error":"#VALUE!"},{"$error":"#VALUE!"},{"$error":"#VALUE!"},{"$error":"#VALUE!"},{"$error":"#VALUE!"},{"$error":"#VALUE!"},{"$error":"#VALUE!"},{"$error":"#VALUE!"},{"$error":"#VALUE!"},{"$error":"#VALUE!"},{"$error":"#VALUE!"},{"$error":"#VALUE!"},{"$error":"#VALUE!"},{"$error":"#VALUE!"},{"$error":"#VALUE!"},{"$error":"#VALUE!"},{"$error":"#VALUE!"},{"$error":"#VALUE!"},{"$error":"#VALUE!"},{"$error":"#VALUE!"},{"$error":"#VALUE!"},null,{"$error":"#VALUE!"},{"$f":"$AW$7*$AW12+$AX$7*$AX12+$AY$7*$AY12+$AZ$7*$AZ12+$BA$7*$BA12+$BB$7*$BB12+$BC$7*$BC12+$BD$7*$BD12+$BE$7*$BE12","v":{"$error":"#VALUE!"}},{"$f":"$AW$8*$AW12+$AX$8*$AX12+$AY$8*$AY12+$AZ$8*$AZ12+$BA$8*$BA12+$BB$8*$BB12+$BC$8*$BC12+$BD$8*$BD12+$BE$8*$BE12","v":{"$error":"#VALUE!"}},null,{"$error":"#VALUE!"},{"$f":"IF(AND($B12>=AW$4,$B12<=AW$5),AW$6,0)","v":{"$error":"#VALUE!"}},{"$error":"#VALUE!"},{"$error":"#VALUE!"},{"$error":"#VALUE!"},{"$error":"#VALUE!"},{"$error":"#VALUE!"},{"$error":"#VALUE!"},{"$error":"#VALUE!"},{"$error":"#VALUE!"},null,{"$error":"#VALUE!"},{"$f":"$BL$7*$BL12+$BM$7*$BM12+$BN$7*$BN12+$BO$7*$BO12+$BP$7*$BP12+$BQ$7*$BQ12+$BR$7*$BR12+$BS$7*$BS12+$BT$7*$BT12","v":{"$error":"#VALUE!"}},{"$f":"$BL$8*$BL12+$BM$8*$BM12+$BN$8*$BN12+$BO$8*$BO12+$BP$8*$BP12+$BQ$8*$BQ12+$BR$8*$BR12+$BS$8*$BS12+$BT$8*$BT12","v":{"$error":"#VALUE!"}},null,{"$error":"#VALUE!"},{"$error":"#VALUE!"},{"$error":"#VALUE!"},{"$error":"#VALUE!"},{"$error":"#VALUE!"},{"$error":"#VALUE!"},{"$error":"#VALUE!"},{"$error":"#VALUE!"},{"$error":"#VALUE!"},{"$error":"#VALUE!"},null,{"$f":"SUM(CA12:DD12)","v":{"$error":"#VALUE!"}},{"$f":"$CA$7*CA12+$CB$7*CB12+$CC$7*CC12+$CD$7*CD12+$CE$7*CE12+$CF$7*CF12+$CG$7*CG12+$CH$7*CH12+$CI$7*CI12+$CJ$7*CJ12+$CK$7*CK12+$CL$7*CL12+$CM$7*CM12+$CN$7*CN12+$CO$7*CO12+$CP$7*CP12+$CQ$7*CQ12+$CR$7*CR12+$CS$7*CS12+$CT$7*CT12+$CU$7*CU12+$CV$7*CV12+$CW$7*CW12+$CX$7*CX12+$CY$7*CY12+$CZ$7*CZ12+$DA$7*DA12+$DB$7*DB12+$DC$7*DC12+$DD$7*DD12","v":{"$error":"#VALUE!"}},{"$f":"$CA$8*CA12+$CB$8*CB12+$CC$8*CC12+$CD$8*CD12+$CE$8*CE12+$CF$8*CF12+$CG$8*CG12+$CH$8*CH12+$CI$8*CI12+$CJ$8*CJ12+$CK$8*CK12+$CL$8*CL12+$CM$8*CM12+$CN$8*CN12+$CO$8*CO12+$CP$8*CP12+$CQ$8*CQ12+$CR$8*CR12+$CS$8*CS12+$CT$8*CT12+$CU$8*CU12+$CV$8*CV12+$CW$8*CW12+$CX$8*CX12+$CY$8*CY12+$CZ$8*CZ12+$DA$8*DA12+$DB$8*DB12+$DC$8*DC12+$DD$8*DD12","v":{"$error":"#VALUE!"}},null,{"$error":"#VALUE!"},{"$f":"IF(AND($B12>=CA$4,$B12<=CA$5),CA$6,0)","v":{"$error":"#VALUE!"}},{"$error":"#VALUE!"},{"$error":"#VALUE!"},{"$error":"#VALUE!"},{"$error":"#VALUE!"},{"$error":"#VALUE!"},{"$error":"#VALUE!"},{"$error":"#VALUE!"},{"$error":"#VALUE!"},{"$error":"#VALUE!"},{"$error":"#VALUE!"},{"$error":"#VALUE!"},{"$error":"#VALUE!"},{"$error":"#VALUE!"},{"$error":"#VALUE!"},{"$error":"#VALUE!"},{"$error":"#VALUE!"},{"$error":"#VALUE!"},{"$error":"#VALUE!"},{"$error":"#VALUE!"},{"$error":"#VALUE!"},{"$error":"#VALUE!"},{"$error":"#VALUE!"},{"$error":"#VALUE!"},{"$error":"#VALUE!"},{"$error":"#VALUE!"},{"$error":"#VALUE!"},{"$error":"#VALUE!"},{"$error":"#VALUE!"},{"$error":"#VALUE!"},null,{"$error":"#VALUE!"},{"$f":"DK$7*DK12+DL$7*DL12+DM$7*DM12+DN$7*DN12+DO$7*DO12+DP$7*DP12+DQ$7*DQ12+DR$7*DR12+DS$7*DS12","v":{"$error":"#VALUE!"}},{"$f":"DK$8*DK12+DL$8*DL12+DM$8*DM12+DN$8*DN12+DO$8*DO12+DP$8*DP12+DQ$8*DQ12+DR$8*DR12+DS$8*DS12","v":{"$error":"#VALUE!"}},null,{"$error":"#VALUE!"},{"$error":"#VALUE!"},{"$error":"#VALUE!"},{"$error":"#VALUE!"},{"$error":"#VALUE!"},{"$error":"#VALUE!"},{"$error":"#VALUE!"},{"$error":"#VALUE!"},{"$error":"#VALUE!"},{"$error":"#VALUE!"}]
[null,{"$f":"DATE(YEAR(B12),MONTH(B12)+1,DAY(B12))","v":{"$error":"#VALUE!"}},null,{"$error":"#VALUE!"},{"$error":"#VALUE!"},{"$error":"#VALUE!"},null,{"$error":"#VALUE!"},{"$error":"#VALUE!"},{"$error":"#VALUE!"},null,{"$error":"#VALUE!"},{"$error":"#VALUE!"},{"$error":"#VALUE!"},{"$error":"#VALUE!"},{"$error":"#VALUE!"},{"$error":"#VALUE!"},{"$error":"#VALUE!"},{"$error":"#VALUE!"},{"$error":"#VALUE!"},{"$error":"#VALUE!"},{"$error":"#VALUE!"},{"$error":"#VALUE!"},{"$error":"#VALUE!"},{"$error":"#VALUE!"},{"$error":"#VALUE!"},{"$error":"#VALUE!"},{"$error":"#VALUE!"},{"$error":"#VALUE!"},{"$error":"#VALUE!"},{"$error":"#VALUE!"},{"$error":"#VALUE!"},{"$error":"#VALUE!"},{"$error":"#VALUE!"},{"$error":"#VALUE!"},{"$error":"#VALUE!"},{"$error":"#VALUE!"},{"$error":"#VALUE!"},{"$error":"#VALUE!"},{"$error":"#VALUE!"},{"$error":"#VALUE!"},{"$error":"#VALUE!"},null,{"$error":"#VALUE!"},{"$error":"#VALUE!"},{"$error":"#VALUE!"},null,{"$error":"#VALUE!"},{"$error":"#VALUE!"},{"$error":"#VALUE!"},{"$error":"#VALUE!"},{"$error":"#VALUE!"},{"$error":"#VALUE!"},{"$error":"#VALUE!"},{"$error":"#VALUE!"},{"$error":"#VALUE!"},{"$error":"#VALUE!"},null,{"$error":"#VALUE!"},{"$error":"#VALUE!"},{"$error":"#VALUE!"},null,{"$error":"#VALUE!"},{"$error":"#VALUE!"},{"$error":"#VALUE!"},{"$error":"#VALUE!"},{"$error":"#VALUE!"},{"$error":"#VALUE!"},{"$error":"#VALUE!"},{"$error":"#VALUE!"},{"$error":"#VALUE!"},{"$error":"#VALUE!"},null,{"$error":"#VALUE!"},{"$error":"#VALUE!"},{"$error":"#VALUE!"},null,{"$error":"#VALUE!"},{"$error":"#VALUE!"},{"$error":"#VALUE!"},{"$error":"#VALUE!"},{"$error":"#VALUE!"},{"$error":"#VALUE!"},{"$error":"#VALUE!"},{"$error":"#VALUE!"},{"$error":"#VALUE!"},{"$error":"#VALUE!"},{"$error":"#VALUE!"},{"$error":"#VALUE!"},{"$error":"#VALUE!"},{"$error":"#VALUE!"},{"$error":"#VALUE!"},{"$error":"#VALUE!"},{"$error":"#VALUE!"},{"$error":"#VALUE!"},{"$error":"#VALUE!"},{"$error":"#VALUE!"},{"$error":"#VALUE!"},{"$error":"#VALUE!"},{"$error":"#VALUE!"},{"$error":"#VALUE!"},{"$error":"#VALUE!"},{"$error":"#VALUE!"},{"$error":"#VALUE!"},{"$error":"#VALUE!"},{"$error":"#VALUE!"},{"$error":"#VALUE!"},{"$error":"#VALUE!"},null,{"$error":"#VALUE!"},{"$error":"#VALUE!"},{"$error":"#VALUE!"},null,{"$error":"#VALUE!"},{"$error":"#VALUE!"},{"$error":"#VALUE!"},{"$error":"#VALUE!"},{"$error":"#VALUE!"},{"$error":"#VALUE!"},{"$error":"#VALUE!"},{"$error":"#VALUE!"},{"$error":"#VALUE!"},{"$error":"#VALUE!"}]
[null,{"$f":"DATE(YEAR(B13),MONTH(B13)+1,DAY(B13))","v":{"$error":"#VALUE!"}},null,{"$error":"#VALUE!"},{"$error":"#VALUE!"},{"$error":"#VALUE!"},null,{"$error":"#VALUE!"},{"$error":"#VALUE!"},{"$error":"#VALUE!"},null,{"$error":"#VALUE!"},{"$error":"#VALUE!"},{"$error":"#VALUE!"},{"$error":"#VALUE!"},{"$error":"#VALUE!"},{"$error":"#VALUE!"},{"$error":"#VALUE!"},{"$error":"#VALUE!"},{"$error":"#VALUE!"},{"$error":"#VALUE!"},{"$error":"#VALUE!"},{"$error":"#VALUE!"},{"$error":"#VALUE!"},{"$error":"#VALUE!"},{"$error":"#VALUE!"},{"$error":"#VALUE!"},{"$error":"#VALUE!"},{"$error":"#VALUE!"},{"$error":"#VALUE!"},{"$error":"#VALUE!"},{"$error":"#VALUE!"},{"$error":"#VALUE!"},{"$error":"#VALUE!"},{"$error":"#VALUE!"},{"$error":"#VALUE!"},{"$error":"#VALUE!"},{"$error":"#VALUE!"},{"$error":"#VALUE!"},{"$error":"#VALUE!"},{"$error":"#VALUE!"},{"$error":"#VALUE!"},null,{"$error":"#VALUE!"},{"$error":"#VALUE!"},{"$error":"#VALUE!"},null,{"$error":"#VALUE!"},{"$error":"#VALUE!"},{"$error":"#VALUE!"},{"$error":"#VALUE!"},{"$error":"#VALUE!"},{"$error":"#VALUE!"},{"$error":"#VALUE!"},{"$error":"#VALUE!"},{"$error":"#VALUE!"},{"$error":"#VALUE!"},null,{"$error":"#VALUE!"},{"$error":"#VALUE!"},{"$error":"#VALUE!"},null,{"$error":"#VALUE!"},{"$error":"#VALUE!"},{"$error":"#VALUE!"},{"$error":"#VALUE!"},{"$error":"#VALUE!"},{"$error":"#VALUE!"},{"$error":"#VALUE!"},{"$error":"#VALUE!"},{"$error":"#VALUE!"},{"$error":"#VALUE!"},null,{"$error":"#VALUE!"},{"$error":"#VALUE!"},{"$error":"#VALUE!"},null,{"$error":"#VALUE!"},{"$error":"#VALUE!"},{"$error":"#VALUE!"},{"$error":"#VALUE!"},{"$error":"#VALUE!"},{"$error":"#VALUE!"},{"$error":"#VALUE!"},{"$error":"#VALUE!"},{"$error":"#VALUE!"},{"$error":"#VALUE!"},{"$error":"#VALUE!"},{"$error":"#VALUE!"},{"$error":"#VALUE!"},{"$error":"#VALUE!"},{"$error":"#VALUE!"},{"$error":"#VALUE!"},{"$error":"#VALUE!"},{"$error":"#VALUE!"},{"$error":"#VALUE!"},{"$error":"#VALUE!"},{"$error":"#VALUE!"},{"$error":"#VALUE!"},{"$error":"#VALUE!"},{"$error":"#VALUE!"},{"$error":"#VALUE!"},{"$error":"#VALUE!"},{"$error":"#VALUE!"},{"$error":"#VALUE!"},{"$error":"#VALUE!"},{"$error":"#VALUE!"},{"$error":"#VALUE!"},null,{"$error":"#VALUE!"},{"$error":"#VALUE!"},{"$error":"#VALUE!"},null,{"$error":"#VALUE!"},{"$error":"#VALUE!"},{"$error":"#VALUE!"},{"$error":"#VALUE!"},{"$error":"#VALUE!"},{"$error":"#VALUE!"},{"$error":"#VALUE!"},{"$error":"#VALUE!"},{"$error":"#VALUE!"},{"$error":"#VALUE!"}]
[null,{"$error":"#VALUE!"},null,{"$error":"#VALUE!"},{"$error":"#VALUE!"},{"$error":"#VALUE!"},null,{"$error":"#VALUE!"},{"$error":"#VALUE!"},{"$error":"#VALUE!"},null,{"$error":"#VALUE!"},{"$error":"#VALUE!"},{"$error":"#VALUE!"},{"$error":"#VALUE!"},{"$error":"#VALUE!"},{"$error":"#VALUE!"},{"$error":"#VALUE!"},{"$error":"#VALUE!"},{"$error":"#VALUE!"},{"$error":"#VALUE!"},{"$error":"#VALUE!"},{"$error":"#VALUE!"},{"$error":"#VALUE!"},{"$error":"#VALUE!"},{"$error":"#VALUE!"},{"$error":"#VALUE!"},{"$error":"#VALUE!"},{"$error":"#VALUE!"},{"$error":"#VALUE!"},{"$error":"#VALUE!"},{"$error":"#VALUE!"},{"$error":"#VALUE!"},{"$error":"#VALUE!"},{"$error":"#VALUE!"},{"$error":"#VALUE!"},{"$error":"#VALUE!"},{"$error":"#VALUE!"},{"$error":"#VALUE!"},{"$error":"#VALUE!"},{"$error":"#VALUE!"},{"$error":"#VALUE!"},null,{"$error":"#VALUE!"},{"$error":"#VALUE!"},{"$error":"#VALUE!"},null,{"$error":"#VALUE!"},{"$error":"#VALUE!"},{"$error":"#VALUE!"},{"$error":"#VALUE!"},{"$error":"#VALUE!"},{"$error":"#VALUE!"},{"$error":"#VALUE!"},{"$error":"#VALUE!"},{"$error":"#VALUE!"},{"$error":"#VALUE!"},null,{"$error":"#VALUE!"},{"$error":"#VALUE!"},{"$error":"#VALUE!"},null,{"$error":"#VALUE!"},{"$error":"#VALUE!"},{"$error":"#VALUE!"},{"$error":"#VALUE!"},{"$error":"#VALUE!"},{"$error":"#VALUE!"},{"$error":"#VALUE!"},{"$error":"#VALUE!"},{"$error":"#VALUE!"},{"$error":"#VALUE!"},null,{"$error":"#VALUE!"},{"$error":"#VALUE!"},{"$error":"#VALUE!"},null,{"$error":"#VALUE!"},{"$error":"#VALUE!"},{"$error":"#VALUE!"},{"$error":"#VALUE!"},{"$error":"#VALUE!"},{"$error":"#VALUE!"},{"$error":"#VALUE!"},{"$error":"#VALUE!"},{"$error":"#VALUE!"},{"$error":"#VALUE!"},{"$error":"#VALUE!"},{"$error":"#VALUE!"},{"$error":"#VALUE!"},{"$error":"#VALUE!"},{"$error":"#VALUE!"},{"$error":"#VALUE!"},{"$error":"#VALUE!"},{"$error":"#VALUE!"},{"$error":"#VALUE!"},{"$error":"#VALUE!"},{"$error":"#VALUE!"},{"$error":"#VALUE!"},{"$error":"#VALUE!"},{"$error":"#VALUE!"},{"$error":"#VALUE!"},{"$error":"#VALUE!"},{"$error":"#VALUE!"},{"$error":"#VALUE!"},{"$error":"#VALUE!"},{"$error":"#VALUE!"},{"$error":"#VALUE!"},null,{"$error":"#VALUE!"},{"$error":"#VALUE!"},{"$error":"#VALUE!"},null,{"$error":"#VALUE!"},{"$error":"#VALUE!"},{"$error":"#VALUE!"},{"$error":"#VALUE!"},{"$error":"#VALUE!"},{"$error":"#VALUE!"},{"$error":"#VALUE!"},{"$error":"#VALUE!"},{"$error":"#VALUE!"},{"$error":"#VALUE!"}]
[null,{"$error":"#VALUE!"},null,{"$error":"#VALUE!"},{"$error":"#VALUE!"},{"$error":"#VALUE!"},null,{"$error":"#VALUE!"},{"$error":"#VALUE!"},{"$error":"#VALUE!"},null,{"$error":"#VALUE!"},{"$error":"#VALUE!"},{"$error":"#VALUE!"},{"$error":"#VALUE!"},{"$error":"#VALUE!"},{"$error":"#VALUE!"},{"$error":"#VALUE!"},{"$error":"#VALUE!"},{"$error":"#VALUE!"},{"$error":"#VALUE!"},{"$error":"#VALUE!"},{"$error":"#VALUE!"},{"$error":"#VALUE!"},{"$error":"#VALUE!"},{"$error":"#VALUE!"},{"$error":"#VALUE!"},{"$error":"#VALUE!"},{"$error":"#VALUE!"},{"$error":"#VALUE!"},{"$error":"#VALUE!"},{"$error":"#VALUE!"},{"$error":"#VALUE!"},{"$error":"#VALUE!"},{"$error":"#VALUE!"},{"$error":"#VALUE!"},{"$error":"#VALUE!"},{"$error":"#VALUE!"},{"$error":"#VALUE!"},{"$error":"#VALUE!"},{"$error":"#VALUE!"},{"$error":"#VALUE!"},null,{"$error":"#VALUE!"},{"$error":"#VALUE!"},{"$error":"#VALUE!"},null,{"$error":"#VALUE!"},{"$error":"#VALUE!"},{"$error":"#VALUE!"},{"$error":"#VALUE!"},{"$error":"#VALUE!"},{"$error":"#VALUE!"},{"$error":"#VALUE!"},{"$error":"#VALUE!"},{"$error":"#VALUE!"},{"$error":"#VALUE!"},null,{"$error":"#VALUE!"},{"$error":"#VALUE!"},{"$error":"#VALUE!"},null,{"$error":"#VALUE!"},{"$error":"#VALUE!"},{"$error":"#VALUE!"},{"$error":"#VALUE!"},{"$error":"#VALUE!"},{"$error":"#VALUE!"},{"$error":"#VALUE!"},{"$error":"#VALUE!"},{"$error":"#VALUE!"},{"$error":"#VALUE!"},null,{"$error":"#VALUE!"},{"$error":"#VALUE!"},{"$error":"#VALUE!"},null,{"$error":"#VALUE!"},{"$error":"#VALUE!"},{"$error":"#VALUE!"},{"$error":"#VALUE!"},{"$error":"#VALUE!"},{"$error":"#VALUE!"},{"$error":"#VALUE!"},{"$error":"#VALUE!"},{"$error":"#VALUE!"},{"$error":"#VALUE!"},{"$error":"#VALUE!"},{"$error":"#VALUE!"},{"$error":"#VALUE!"},{"$error":"#VALUE!"},{"$error":"#VALUE!"},{"$error":"#VALUE!"},{"$error":"#VALUE!"},{"$error":"#VALUE!"},{"$error":"#VALUE!"},{"$error":"#VALUE!"},{"$error":"#VALUE!"},{"$error":"#VALUE!"},{"$error":"#VALUE!"},{"$error":"#VALUE!"},{"$error":"#VALUE!"},{"$error":"#VALUE!"},{"$error":"#VALUE!"},{"$error":"#VALUE!"},{"$error":"#VALUE!"},{"$error":"#VALUE!"},{"$error":"#VALUE!"},null,{"$error":"#VALUE!"},{"$error":"#VALUE!"},{"$error":"#VALUE!"},null,{"$error":"#VALUE!"},{"$error":"#VALUE!"},{"$error":"#VALUE!"},{"$error":"#VALUE!"},{"$error":"#VALUE!"},{"$error":"#VALUE!"},{"$error":"#VALUE!"},{"$error":"#VALUE!"},{"$error":"#VALUE!"},{"$error":"#VALUE!"}]
[null,{"$error":"#VALUE!"},null,{"$error":"#VALUE!"},{"$error":"#VALUE!"},{"$error":"#VALUE!"},null,{"$error":"#VALUE!"},{"$error":"#VALUE!"},{"$error":"#VALUE!"},null,{"$error":"#VALUE!"},{"$error":"#VALUE!"},{"$error":"#VALUE!"},{"$error":"#VALUE!"},{"$error":"#VALUE!"},{"$error":"#VALUE!"},{"$error":"#VALUE!"},{"$error":"#VALUE!"},{"$error":"#VALUE!"},{"$error":"#VALUE!"},{"$error":"#VALUE!"},{"$error":"#VALUE!"},{"$error":"#VALUE!"},{"$error":"#VALUE!"},{"$error":"#VALUE!"},{"$error":"#VALUE!"},{"$error":"#VALUE!"},{"$error":"#VALUE!"},{"$error":"#VALUE!"},{"$error":"#VALUE!"},{"$error":"#VALUE!"},{"$error":"#VALUE!"},{"$error":"#VALUE!"},{"$error":"#VALUE!"},{"$error":"#VALUE!"},{"$error":"#VALUE!"},{"$error":"#VALUE!"},{"$error":"#VALUE!"},{"$error":"#VALUE!"},{"$error":"#VALUE!"},{"$error":"#VALUE!"},null,{"$error":"#VALUE!"},{"$error":"#VALUE!"},{"$error":"#VALUE!"},null,{"$error":"#VALUE!"},{"$error":"#VALUE!"},{"$error":"#VALUE!"},{"$error":"#VALUE!"},{"$error":"#VALUE!"},{"$error":"#VALUE!"},{"$error":"#VALUE!"},{"$error":"#VALUE!"},{"$error":"#VALUE!"},{"$error":"#VALUE!"},null,{"$error":"#VALUE!"},{"$error":"#VALUE!"},{"$error":"#VALUE!"},null,{"$error":"#VALUE!"},{"$error":"#VALUE!"},{"$error":"#VALUE!"},{"$error":"#VALUE!"},{"$error":"#VALUE!"},{"$error":"#VALUE!"},{"$error":"#VALUE!"},{"$error":"#VALUE!"},{"$error":"#VALUE!"},{"$error":"#VALUE!"},null,{"$error":"#VALUE!"},{"$error":"#VALUE!"},{"$error":"#VALUE!"},null,{"$error":"#VALUE!"},{"$error":"#VALUE!"},{"$error":"#VALUE!"},{"$error":"#VALUE!"},{"$error":"#VALUE!"},{"$error":"#VALUE!"},{"$error":"#VALUE!"},{"$error":"#VALUE!"},{"$error":"#VALUE!"},{"$error":"#VALUE!"},{"$error":"#VALUE!"},{"$error":"#VALUE!"},{"$error":"#VALUE!"},{"$error":"#VALUE!"},{"$error":"#VALUE!"},{"$error":"#VALUE!"},{"$error":"#VALUE!"},{"$error":"#VALUE!"},{"$error":"#VALUE!"},{"$error":"#VALUE!"},{"$error":"#VALUE!"},{"$error":"#VALUE!"},{"$error":"#VALUE!"},{"$error":"#VALUE!"},{"$error":"#VALUE!"},{"$error":"#VALUE!"},{"$error":"#VALUE!"},{"$error":"#VALUE!"},{"$error":"#VALUE!"},{"$error":"#VALUE!"},{"$error":"#VALUE!"},null,{"$error":"#VALUE!"},{"$error":"#VALUE!"},{"$error":"#VALUE!"},null,{"$error":"#VALUE!"},{"$error":"#VALUE!"},{"$error":"#VALUE!"},{"$error":"#VALUE!"},{"$error":"#VALUE!"},{"$error":"#VALUE!"},{"$error":"#VALUE!"},{"$error":"#VALUE!"},{"$error":"#VALUE!"},{"$error":"#VALUE!"}]
[null,{"$error":"#VALUE!"},null,{"$error":"#VALUE!"},{"$error":"#VALUE!"},{"$error":"#VALUE!"},null,{"$error":"#VALUE!"},{"$error":"#VALUE!"},{"$error":"#VALUE!"},null,{"$error":"#VALUE!"},{"$error":"#VALUE!"},{"$error":"#VALUE!"},{"$error":"#VALUE!"},{"$error":"#VALUE!"},{"$error":"#VALUE!"},{"$error":"#VALUE!"},{"$error":"#VALUE!"},{"$error":"#VALUE!"},{"$error":"#VALUE!"},{"$error":"#VALUE!"},{"$error":"#VALUE!"},{"$error":"#VALUE!"},{"$error":"#VALUE!"},{"$error":"#VALUE!"},{"$error":"#VALUE!"},{"$error":"#VALUE!"},{"$error":"#VALUE!"},{"$error":"#VALUE!"},{"$error":"#VALUE!"},{"$error":"#VALUE!"},{"$error":"#VALUE!"},{"$error":"#VALUE!"},{"$error":"#VALUE!"},{"$error":"#VALUE!"},{"$error":"#VALUE!"},{"$error":"#VALUE!"},{"$error":"#VALUE!"},{"$error":"#VALUE!"},{"$error":"#VALUE!"},{"$error":"#VALUE!"},null,{"$error":"#VALUE!"},{"$error":"#VALUE!"},{"$error":"#VALUE!"},null,{"$error":"#VALUE!"},{"$error":"#VALUE!"},{"$error":"#VALUE!"},{"$error":"#VALUE!"},{"$error":"#VALUE!"},{"$error":"#VALUE!"},{"$error":"#VALUE!"},{"$error":"#VALUE!"},{"$error":"#VALUE!"},{"$error":"#VALUE!"},null,{"$error":"#VALUE!"},{"$error":"#VALUE!"},{"$error":"#VALUE!"},null,{"$error":"#VALUE!"},{"$error":"#VALUE!"},{"$error":"#VALUE!"},{"$error":"#VALUE!"},{"$error":"#VALUE!"},{"$error":"#VALUE!"},{"$error":"#VALUE!"},{"$error":"#VALUE!"},{"$error":"#VALUE!"},{"$error":"#VALUE!"},null,{"$error":"#VALUE!"},{"$error":"#VALUE!"},{"$error":"#VALUE!"},null,{"$error":"#VALUE!"},{"$error":"#VALUE!"},{"$error":"#VALUE!"},{"$error":"#VALUE!"},{"$error":"#VALUE!"},{"$error":"#VALUE!"},{"$error":"#VALUE!"},{"$error":"#VALUE!"},{"$error":"#VALUE!"},{"$error":"#VALUE!"},{"$error":"#VALUE!"},{"$error":"#VALUE!"},{"$error":"#VALUE!"},{"$error":"#VALUE!"},{"$error":"#VALUE!"},{"$error":"#VALUE!"},{"$error":"#VALUE!"},{"$error":"#VALUE!"},{"$error":"#VALUE!"},{"$error":"#VALUE!"},{"$error":"#VALUE!"},{"$error":"#VALUE!"},{"$error":"#VALUE!"},{"$error":"#VALUE!"},{"$error":"#VALUE!"},{"$error":"#VALUE!"},{"$error":"#VALUE!"},{"$error":"#VALUE!"},{"$error":"#VALUE!"},{"$error":"#VALUE!"},{"$error":"#VALUE!"},null,{"$error":"#VALUE!"},{"$error":"#VALUE!"},{"$error":"#VALUE!"},null,{"$error":"#VALUE!"},{"$error":"#VALUE!"},{"$error":"#VALUE!"},{"$error":"#VALUE!"},{"$error":"#VALUE!"},{"$error":"#VALUE!"},{"$error":"#VALUE!"},{"$error":"#VALUE!"},{"$error":"#VALUE!"},{"$error":"#VALUE!"}]
[null,{"$error":"#VALUE!"},null,{"$error":"#VALUE!"},{"$error":"#VALUE!"},{"$error":"#VALUE!"},null,{"$error":"#VALUE!"},{"$error":"#VALUE!"},{"$error":"#VALUE!"},null,{"$error":"#VALUE!"},{"$error":"#VALUE!"},{"$error":"#VALUE!"},{"$error":"#VALUE!"},{"$error":"#VALUE!"},{"$error":"#VALUE!"},{"$error":"#VALUE!"},{"$error":"#VALUE!"},{"$error":"#VALUE!"},{"$error":"#VALUE!"},{"$error":"#VALUE!"},{"$error":"#VALUE!"},{"$error":"#VALUE!"},{"$error":"#VALUE!"},{"$error":"#VALUE!"},{"$error":"#VALUE!"},{"$error":"#VALUE!"},{"$error":"#VALUE!"},{"$error":"#VALUE!"},{"$error":"#VALUE!"},{"$error":"#VALUE!"},{"$error":"#VALUE!"},{"$error":"#VALUE!"},{"$error":"#VALUE!"},{"$error":"#VALUE!"},{"$error":"#VALUE!"},{"$error":"#VALUE!"},{"$error":"#VALUE!"},{"$error":"#VALUE!"},{"$error":"#VALUE!"},{"$error":"#VALUE!"},null,{"$error":"#VALUE!"},{"$error":"#VALUE!"},{"$error":"#VALUE!"},null,{"$error":"#VALUE!"},{"$error":"#VALUE!"},{"$error":"#VALUE!"},{"$error":"#VALUE!"},{"$error":"#VALUE!"},{"$error":"#VALUE!"},{"$error":"#VALUE!"},{"$error":"#VALUE!"},{"$error":"#VALUE!"},{"$error":"#VALUE!"},null,{"$error":"#VALUE!"},{"$error":"#VALUE!"},{"$error":"#VALUE!"},null,{"$error":"#VALUE!"},{"$error":"#VALUE!"},{"$error":"#VALUE!"},{"$error":"#VALUE!"},{"$error":"#VALUE!"},{"$error":"#VALUE!"},{"$error":"#VALUE!"},{"$error":"#VALUE!"},{"$error":"#VALUE!"},{"$error":"#VALUE!"},null,{"$error":"#VALUE!"},{"$error":"#VALUE!"},{"$error":"#VALUE!"},null,{"$error":"#VALUE!"},{"$error":"#VALUE!"},{"$error":"#VALUE!"},{"$error":"#VALUE!"},{"$error":"#VALUE!"},{"$error":"#VALUE!"},{"$error":"#VALUE!"},{"$error":"#VALUE!"},{"$error":"#VALUE!"},{"$error":"#VALUE!"},{"$error":"#VALUE!"},{"$error":"#VALUE!"},{"$error":"#VALUE!"},{"$error":"#VALUE!"},{"$error":"#VALUE!"},{"$error":"#VALUE!"},{"$error":"#VALUE!"},{"$error":"#VALUE!"},{"$error":"#VALUE!"},{"$error":"#VALUE!"},{"$error":"#VALUE!"},{"$error":"#VALUE!"},{"$error":"#VALUE!"},{"$error":"#VALUE!"},{"$error":"#VALUE!"},{"$error":"#VALUE!"},{"$error":"#VALUE!"},{"$error":"#VALUE!"},{"$error":"#VALUE!"},{"$error":"#VALUE!"},{"$error":"#VALUE!"},null,{"$error":"#VALUE!"},{"$error":"#VALUE!"},{"$error":"#VALUE!"},null,{"$error":"#VALUE!"},{"$error":"#VALUE!"},{"$error":"#VALUE!"},{"$error":"#VALUE!"},{"$error":"#VALUE!"},{"$error":"#VALUE!"},{"$error":"#VALUE!"},{"$error":"#VALUE!"},{"$error":"#VALUE!"},{"$error":"#VALUE!"}]
[null,{"$error":"#VALUE!"},null,{"$error":"#VALUE!"},{"$error":"#VALUE!"},{"$error":"#VALUE!"},null,{"$error":"#VALUE!"},{"$error":"#VALUE!"},{"$error":"#VALUE!"},null,{"$error":"#VALUE!"},{"$error":"#VALUE!"},{"$error":"#VALUE!"},{"$error":"#VALUE!"},{"$error":"#VALUE!"},{"$error":"#VALUE!"},{"$error":"#VALUE!"},{"$error":"#VALUE!"},{"$error":"#VALUE!"},{"$error":"#VALUE!"},{"$error":"#VALUE!"},{"$error":"#VALUE!"},{"$error":"#VALUE!"},{"$error":"#VALUE!"},{"$error":"#VALUE!"},{"$error":"#VALUE!"},{"$error":"#VALUE!"},{"$error":"#VALUE!"},{"$error":"#VALUE!"},{"$error":"#VALUE!"},{"$error":"#VALUE!"},{"$error":"#VALUE!"},{"$error":"#VALUE!"},{"$error":"#VALUE!"},{"$error":"#VALUE!"},{"$error":"#VALUE!"},{"$error":"#VALUE!"},{"$error":"#VALUE!"},{"$error":"#VALUE!"},{"$error":"#VALUE!"},{"$error":"#VALUE!"},null,{"$error":"#VALUE!"},{"$error":"#VALUE!"},{"$error":"#VALUE!"},null,{"$error":"#VALUE!"},{"$error":"#VALUE!"},{"$error":"#VALUE!"},{"$error":"#VALUE!"},{"$error":"#VALUE!"},{"$error":"#VALUE!"},{"$error":"#VALUE!"},{"$error":"#VALUE!"},{"$error":"#VALUE!"},{"$error":"#VALUE!"},null,{"$error":"#VALUE!"},{"$error":"#VALUE!"},{"$error":"#VALUE!"},null,{"$error":"#VALUE!"},{"$error":"#VALUE!"},{"$error":"#VALUE!"},{"$error":"#VALUE!"},{"$error":"#VALUE!"},{"$error":"#VALUE!"},{"$error":"#VALUE!"},{"$error":"#VALUE!"},{"$error":"#VALUE!"},{"$error":"#VALUE!"},null,{"$error":"#VALUE!"},{"$error":"#VALUE!"},{"$error":"#VALUE!"},null,{"$error":"#VALUE!"},{"$error":"#VALUE!"},{"$error":"#VALUE!"},{"$error":"#VALUE!"},{"$error":"#VALUE!"},{"$error":"#VALUE!"},{"$error":"#VALUE!"},{"$error":"#VALUE!"},{"$error":"#VALUE!"},{"$error":"#VALUE!"},{"$error":"#VALUE!"},{"$error":"#VALUE!"},{"$error":"#VALUE!"},{"$error":"#VALUE!"},{"$error":"#VALUE!"},{"$error":"#VALUE!"},{"$error":"#VALUE!"},{"$error":"#VALUE!"},{"$error":"#VALUE!"},{"$error":"#VALUE!"},{"$error":"#VALUE!"},{"$error":"#VALUE!"},{"$error":"#VALUE!"},{"$error":"#VALUE!"},{"$error":"#VALUE!"},{"$error":"#VALUE!"},{"$error":"#VALUE!"},{"$error":"#VALUE!"},{"$error":"#VALUE!"},{"$error":"#VALUE!"},{"$error":"#VALUE!"},null,{"$error":"#VALUE!"},{"$error":"#VALUE!"},{"$error":"#VALUE!"},null,{"$error":"#VALUE!"},{"$error":"#VALUE!"},{"$error":"#VALUE!"},{"$error":"#VALUE!"},{"$error":"#VALUE!"},{"$error":"#VALUE!"},{"$error":"#VALUE!"},{"$error":"#VALUE!"},{"$error":"#VALUE!"},{"$error":"#VALUE!"}]
[null,{"$error":"#VALUE!"},null,{"$error":"#VALUE!"},{"$error":"#VALUE!"},{"$error":"#VALUE!"},null,{"$error":"#VALUE!"},{"$error":"#VALUE!"},{"$error":"#VALUE!"},null,{"$error":"#VALUE!"},{"$error":"#VALUE!"},{"$error":"#VALUE!"},{"$error":"#VALUE!"},{"$error":"#VALUE!"},{"$error":"#VALUE!"},{"$error":"#VALUE!"},{"$error":"#VALUE!"},{"$error":"#VALUE!"},{"$error":"#VALUE!"},{"$error":"#VALUE!"},{"$error":"#VALUE!"},{"$error":"#VALUE!"},{"$error":"#VALUE!"},{"$error":"#VALUE!"},{"$error":"#VALUE!"},{"$error":"#VALUE!"},{"$error":"#VALUE!"},{"$error":"#VALUE!"},{"$error":"#VALUE!"},{"$error":"#VALUE!"},{"$error":"#VALUE!"},{"$error":"#VALUE!"},{"$error":"#VALUE!"},{"$error":"#VALUE!"},{"$error":"#VALUE!"},{"$error":"#VALUE!"},{"$error":"#VALUE!"},{"$error":"#VALUE!"},{"$error":"#VALUE!"},{"$error":"#VALUE!"},null,{"$error":"#VALUE!"},{"$error":"#VALUE!"},{"$error":"#VALUE!"},null,{"$error":"#VALUE!"},{"$error":"#VALUE!"},{"$error":"#VALUE!"},{"$error":"#VALUE!"},{"$error":"#VALUE!"},{"$error":"#VALUE!"},{"$error":"#VALUE!"},{"$error":"#VALUE!"},{"$error":"#VALUE!"},{"$error":"#VALUE!"},null,{"$error":"#VALUE!"},{"$error":"#VALUE!"},{"$error":"#VALUE!"},null,{"$error":"#VALUE!"},{"$error":"#VALUE!"},{"$error":"#VALUE!"},{"$error":"#VALUE!"},{"$error":"#VALUE!"},{"$error":"#VALUE!"},{"$error":"#VALUE!"},{"$error":"#VALUE!"},{"$error":"#VALUE!"},{"$error":"#VALUE!"},null,{"$error":"#VALUE!"},{"$error":"#VALUE!"},{"$error":"#VALUE!"},null,{"$error":"#VALUE!"},{"$error":"#VALUE!"},{"$error":"#VALUE!"},{"$error":"#VALUE!"},{"$error":"#VALUE!"},{"$error":"#VALUE!"},{"$error":"#VALUE!"},{"$error":"#VALUE!"},{"$error":"#VALUE!"},{"$error":"#VALUE!"},{"$error":"#VALUE!"},{"$error":"#VALUE!"},{"$error":"#VALUE!"},{"$error":"#VALUE!"},{"$error":"#VALUE!"},{"$error":"#VALUE!"},{"$error":"#VALUE!"},{"$error":"#VALUE!"},{"$error":"#VALUE!"},{"$error":"#VALUE!"},{"$error":"#VALUE!"},{"$error":"#VALUE!"},{"$error":"#VALUE!"},{"$error":"#VALUE!"},{"$error":"#VALUE!"},{"$error":"#VALUE!"},{"$error":"#VALUE!"},{"$error":"#VALUE!"},{"$error":"#VALUE!"},{"$error":"#VALUE!"},{"$error":"#VALUE!"},null,{"$error":"#VALUE!"},{"$error":"#VALUE!"},{"$error":"#VALUE!"},null,{"$error":"#VALUE!"},{"$error":"#VALUE!"},{"$error":"#VALUE!"},{"$error":"#VALUE!"},{"$error":"#VALUE!"},{"$error":"#VALUE!"},{"$error":"#VALUE!"},{"$error":"#VALUE!"},{"$error":"#VALUE!"},{"$error":"#VALUE!"}]
[null,{"$error":"#VALUE!"},null,{"$error":"#VALUE!"},{"$error":"#VALUE!"},{"$error":"#VALUE!"},null,{"$error":"#VALUE!"},{"$error":"#VALUE!"},{"$error":"#VALUE!"},null,{"$error":"#VALUE!"},{"$error":"#VALUE!"},{"$error":"#VALUE!"},{"$error":"#VALUE!"},{"$error":"#VALUE!"},{"$error":"#VALUE!"},{"$error":"#VALUE!"},{"$error":"#VALUE!"},{"$error":"#VALUE!"},{"$error":"#VALUE!"},{"$error":"#VALUE!"},{"$error":"#VALUE!"},{"$error":"#VALUE!"},{"$error":"#VALUE!"},{"$error":"#VALUE!"},{"$error":"#VALUE!"},{"$error":"#VALUE!"},{"$error":"#VALUE!"},{"$error":"#VALUE!"},{"$error":"#VALUE!"},{"$error":"#VALUE!"},{"$error":"#VALUE!"},{"$error":"#VALUE!"},{"$error":"#VALUE!"},{"$error":"#VALUE!"},{"$error":"#VALUE!"},{"$error":"#VALUE!"},{"$error":"#VALUE!"},{"$error":"#VALUE!"},{"$error":"#VALUE!"},{"$error":"#VALUE!"},null,{"$error":"#VALUE!"},{"$error":"#VALUE!"},{"$error":"#VALUE!"},null,{"$error":"#VALUE!"},{"$error":"#VALUE!"},{"$error":"#VALUE!"},{"$error":"#VALUE!"},{"$error":"#VALUE!"},{"$error":"#VALUE!"},{"$error":"#VALUE!"},{"$error":"#VALUE!"},{"$error":"#VALUE!"},{"$error":"#VALUE!"},null,{"$error":"#VALUE!"},{"$error":"#VALUE!"},{"$error":"#VALUE!"},null,{"$error":"#VALUE!"},{"$error":"#VALUE!"},{"$error":"#VALUE!"},{"$error":"#VALUE!"},{"$error":"#VALUE!"},{"$error":"#VALUE!"},{"$error":"#VALUE!"},{"$error":"#VALUE!"},{"$error":"#VALUE!"},{"$error":"#VALUE!"},null,{"$error":"#VALUE!"},{"$error":"#VALUE!"},{"$error":"#VALUE!"},null,{"$error":"#VALUE!"},{"$error":"#VALUE!"},{"$error":"#VALUE!"},{"$error":"#VALUE!"},{"$error":"#VALUE!"},{"$error":"#VALUE!"},{"$error":"#VALUE!"},{"$error":"#VALUE!"},{"$error":"#VALUE!"},{"$error":"#VALUE!"},{"$error":"#VALUE!"},{"$error":"#VALUE!"},{"$error":"#VALUE!"},{"$error":"#VALUE!"},{"$error":"#VALUE!"},{"$error":"#VALUE!"},{"$error":"#VALUE!"},{"$error":"#VALUE!"},{"$error":"#VALUE!"},{"$error":"#VALUE!"},{"$error":"#VALUE!"},{"$error":"#VALUE!"},{"$error":"#VALUE!"},{"$error":"#VALUE!"},{"$error":"#VALUE!"},{"$error":"#VALUE!"},{"$error":"#VALUE!"},{"$error":"#VALUE!"},{"$error":"#VALUE!"},{"$error":"#VALUE!"},{"$error":"#VALUE!"},null,{"$error":"#VALUE!"},{"$error":"#VALUE!"},{"$error":"#VALUE!"},null,{"$error":"#VALUE!"},{"$error":"#VALUE!"},{"$error":"#VALUE!"},{"$error":"#VALUE!"},{"$error":"#VALUE!"},{"$error":"#VALUE!"},{"$error":"#VALUE!"},{"$error":"#VALUE!"},{"$error":"#VALUE!"},{"$error":"#VALUE!"}]
[null,{"$error":"#VALUE!"},null,{"$error":"#VALUE!"},{"$error":"#VALUE!"},{"$error":"#VALUE!"},null,{"$error":"#VALUE!"},{"$error":"#VALUE!"},{"$error":"#VALUE!"},null,{"$error":"#VALUE!"},{"$error":"#VALUE!"},{"$error":"#VALUE!"},{"$error":"#VALUE!"},{"$error":"#VALUE!"},{"$error":"#VALUE!"},{"$error":"#VALUE!"},{"$error":"#VALUE!"},{"$error":"#VALUE!"},{"$error":"#VALUE!"},{"$error":"#VALUE!"},{"$error":"#VALUE!"},{"$error":"#VALUE!"},{"$error":"#VALUE!"},{"$error":"#VALUE!"},{"$error":"#VALUE!"},{"$error":"#VALUE!"},{"$error":"#VALUE!"},{"$error":"#VALUE!"},{"$error":"#VALUE!"},{"$error":"#VALUE!"},{"$error":"#VALUE!"},{"$error":"#VALUE!"},{"$error":"#VALUE!"},{"$error":"#VALUE!"},{"$error":"#VALUE!"},{"$error":"#VALUE!"},{"$error":"#VALUE!"},{"$error":"#VALUE!"},{"$error":"#VALUE!"},{"$error":"#VALUE!"},null,{"$error":"#VALUE!"},{"$error":"#VALUE!"},{"$error":"#VALUE!"},null,{"$error":"#VALUE!"},{"$error":"#VALUE!"},{"$error":"#VALUE!"},{"$error":"#VALUE!"},{"$error":"#VALUE!"},{"$error":"#VALUE!"},{"$error":"#VALUE!"},{"$error":"#VALUE!"},{"$error":"#VALUE!"},{"$error":"#VALUE!"},null,{"$error":"#VALUE!"},{"$error":"#VALUE!"},{"$error":"#VALUE!"},null,{"$error":"#VALUE!"},{"$error":"#VALUE!"},{"$error":"#VALUE!"},{"$error":"#VALUE!"},{"$error":"#VALUE!"},{"$error":"#VALUE!"},{"$error":"#VALUE!"},{"$error":"#VALUE!"},{"$error":"#VALUE!"},{"$error":"#VALUE!"},null,{"$error":"#VALUE!"},{"$error":"#VALUE!"},{"$error":"#VALUE!"},null,{"$error":"#VALUE!"},{"$error":"#VALUE!"},{"$error":"#VALUE!"},{"$error":"#VALUE!"},{"$error":"#VALUE!"},{"$error":"#VALUE!"},{"$error":"#VALUE!"},{"$error":"#VALUE!"},{"$error":"#VALUE!"},{"$error":"#VALUE!"},{"$error":"#VALUE!"},{"$error":"#VALUE!"},{"$error":"#VALUE!"},{"$error":"#VALUE!"},{"$error":"#VALUE!"},{"$error":"#VALUE!"},{"$error":"#VALUE!"},{"$error":"#VALUE!"},{"$error":"#VALUE!"},{"$error":"#VALUE!"},{"$error":"#VALUE!"},{"$error":"#VALUE!"},{"$error":"#VALUE!"},{"$error":"#VALUE!"},{"$error":"#VALUE!"},{"$error":"#VALUE!"},{"$error":"#VALUE!"},{"$error":"#VALUE!"},{"$error":"#VALUE!"},{"$error":"#VALUE!"},{"$error":"#VALUE!"},null,{"$error":"#VALUE!"},{"$error":"#VALUE!"},{"$error":"#VALUE!"},null,{"$error":"#VALUE!"},{"$error":"#VALUE!"},{"$error":"#VALUE!"},{"$error":"#VALUE!"},{"$error":"#VALUE!"},{"$error":"#VALUE!"},{"$error":"#VALUE!"},{"$error":"#VALUE!"},{"$error":"#VALUE!"},{"$error":"#VALUE!"}]
[null,{"$error":"#VALUE!"},null,{"$error":"#VALUE!"},{"$error":"#VALUE!"},{"$error":"#VALUE!"},null,{"$f":"SUM(M24:AP24)","v":{"$error":"#VALUE!"}},{"$error":"#VALUE!"},{"$error":"#VALUE!"},null,{"$error":"#VALUE!"},{"$error":"#VALUE!"},{"$error":"#VALUE!"},{"$error":"#VALUE!"},{"$error":"#VALUE!"},{"$error":"#VALUE!"},{"$error":"#VALUE!"},{"$error":"#VALUE!"},{"$error":"#VALUE!"},{"$error":"#VALUE!"},{"$error":"#VALUE!"},{"$error":"#VALUE!"},{"$error":"#VALUE!"},{"$error":"#VALUE!"},{"$error":"#VALUE!"},{"$error":"#VALUE!"},{"$error":"#VALUE!"},{"$error":"#VALUE!"},{"$error":"#VALUE!"},{"$error":"#VALUE!"},{"$error":"#VALUE!"},{"$error":"#VALUE!"},{"$error":"#VALUE!"},{"$error":"#VALUE!"},{"$error":"#VALUE!"},{"$error":"#VALUE!"},{"$error":"#VALUE!"},{"$error":"#VALUE!"},{"$error":"#VALUE!"},{"$error":"#VALUE!"},{"$error":"#VALUE!"},null,{"$error":"#VALUE!"},{"$error":"#VALUE!"},{"$error":"#VALUE!"},null,{"$error":"#VALUE!"},{"$error":"#VALUE!"},{"$error":"#VALUE!"},{"$error":"#VALUE!"},{"$error":"#VALUE!"},{"$error":"#VALUE!"},{"$error":"#VALUE!"},{"$error":"#VALUE!"},{"$error":"#VALUE!"},{"$error":"#VALUE!"},null,{"$error":"#VALUE!"},{"$error":"#VALUE!"},{"$error":"#VALUE!"},null,{"$error":"#VALUE!"},{"$error":"#VALUE!"},{"$error":"#VALUE!"},{"$error":"#VALUE!"},{"$error":"#VALUE!"},{"$error":"#VALUE!"},{"$error":"#VALUE!"},{"$error":"#VALUE!"},{"$error":"#VALUE!"},{"$error":"#VALUE!"},null,{"$f":"SUM(CA24:DD24)","v":{"$error":"#VALUE!"}},{"$error":"#VALUE!"},{"$error":"#VALUE!"},null,{"$error":"#VALUE!"},{"$error":"#VALUE!"},{"$error":"#VALUE!"},{"$error":"#VALUE!"},{"$error":"#VALUE!"},{"$error":"#VALUE!"},{"$error":"#VALUE!"},{"$error":"#VALUE!"},{"$error":"#VALUE!"},{"$error":"#VALUE!"},{"$error":"#VALUE!"},{"$error":"#VALUE!"},{"$error":"#VALUE!"},{"$error":"#VALUE!"},{"$error":"#VALUE!"},{"$error":"#VALUE!"},{"$error":"#VALUE!"},{"$error":"#VALUE!"},{"$error":"#VALUE!"},{"$error":"#VALUE!"},{"$error":"#VALUE!"},{"$error":"#VALUE!"},{"$error":"#VALUE!"},{"$error":"#VALUE!"},{"$error":"#VALUE!"},{"$error":"#VALUE!"},{"$error":"#VALUE!"},{"$error":"#VALUE!"},{"$error":"#VALUE!"},{"$error":"#VALUE!"},{"$error":"#VALUE!"},null,{"$error":"#VALUE!"},{"$error":"#VALUE!"},{"$error":"#VALUE!"},null,{"$error":"#VALUE!"},{"$error":"#VALUE!"},{"$error":"#VALUE!"},{"$error":"#VALUE!"},{"$error":"#VALUE!"},{"$error":"#VALUE!"},{"$error":"#VALUE!"},{"$error":"#VALUE!"},{"$error":"#VALUE!"},{"$error":"#VALUE!"}]
[null,{"$error":"#VALUE!"},null,{"$error":"#VALUE!"},{"$error":"#VALUE!"},{"$error":"#VALUE!"},null,{"$error":"#VALUE!"},{"$error":"#VALUE!"},{"$error":"#VALUE!"},null,{"$error":"#VALUE!"},{"$error":"#VALUE!"},{"$error":"#VALUE!"},{"$error":"#VALUE!"},{"$error":"#VALUE!"},{"$error":"#VALUE!"},{"$error":"#VALUE!"},{"$error":"#VALUE!"},{"$error":"#VALUE!"},{"$error":"#VALUE!"},{"$error":"#VALUE!"},{"$error":"#VALUE!"},{"$error":"#VALUE!"},{"$error":"#VALUE!"},{"$error":"#VALUE!"},{"$error":"#VALUE!"},{"$error":"#VALUE!"},{"$error":"#VALUE!"},{"$error":"#VALUE!"},{"$error":"#VALUE!"},{"$error":"#VALUE!"},{"$error":"#VALUE!"},{"$error":"#VALUE!"},{"$error":"#VALUE!"},{"$error":"#VALUE!"},{"$error":"#VALUE!"},{"$error":"#VALUE!"},{"$error":"#VALUE!"},{"$error":"#VALUE!"},{"$error":"#VALUE!"},{"$error":"#VALUE!"},null,{"$error":"#VALUE!"},{"$error":"#VALUE!"},{"$error":"#VALUE!"},null,{"$error":"#VALUE!"},{"$error":"#VALUE!"},{"$error":"#VALUE!"},{"$error":"#VALUE!"},{"$error":"#VALUE!"},{"$error":"#VALUE!"},{"$error":"#VALUE!"},{"$error":"#VALUE!"},{"$error":"#VALUE!"},{"$error":"#VALUE!"},null,{"$error":"#VALUE!"},{"$error":"#VALUE!"},{"$error":"#VALUE!"},null,{"$error":"#VALUE!"},{"$error":"#VALUE!"},{"$error":"#VALUE!"},{"$error":"#VALUE!"},{"$error":"#VALUE!"},{"$error":"#VALUE!"},{"$error":"#VALUE!"},{"$error":"#VALUE!"},{"$error":"#VALUE!"},{"$error":"#VALUE!"},null,{"$error":"#VALUE!"},{"$error":"#VALUE!"},{"$error":"#VALUE!"},null,{"$error":"#VALUE!"},{"$error":"#VALUE!"},{"$error":"#VALUE!"},{"$error":"#VALUE!"},{"$error":"#VALUE!"},{"$error":"#VALUE!"},{"$error":"#VALUE!"},{"$error":"#VALUE!"},{"$error":"#VALUE!"},{"$error":"#VALUE!"},{"$error":"#VALUE!"},{"$error":"#VALUE!"},{"$error":"#VALUE!"},{"$error":"#VALUE!"},{"$error":"#VALUE!"},{"$error":"#VALUE!"},{"$error":"#VALUE!"},{"$error":"#VALUE!"},{"$error":"#VALUE!"},{"$error":"#VALUE!"},{"$error":"#VALUE!"},{"$error":"#VALUE!"},{"$error":"#VALUE!"},{"$error":"#VALUE!"},{"$error":"#VALUE!"},{"$error":"#VALUE!"},{"$error":"#VALUE!"},{"$error":"#VALUE!"},{"$error":"#VALUE!"},{"$error":"#VALUE!"},{"$error":"#VALUE!"},null,{"$error":"#VALUE!"},{"$error":"#VALUE!"},{"$error":"#VALUE!"},null,{"$error":"#VALUE!"},{"$error":"#VALUE!"},{"$error":"#VALUE!"},{"$error":"#VALUE!"},{"$error":"#VALUE!"},{"$error":"#VALUE!"},{"$error":"#VALUE!"},{"$error":"#VALUE!"},{"$error":"#VALUE!"},{"$error":"#VALUE!"}]
[null,{"$error":"#VALUE!"},null,{"$error":"#VALUE!"},{"$error":"#VALUE!"},{"$error":"#VALUE!"},null,{"$error":"#VALUE!"},{"$error":"#VALUE!"},{"$error":"#VALUE!"},null,{"$error":"#VALUE!"},{"$error":"#VALUE!"},{"$error":"#VALUE!"},{"$error":"#VALUE!"},{"$error":"#VALUE!"},{"$error":"#VALUE!"},{"$error":"#VALUE!"},{"$error":"#VALUE!"},{"$error":"#VALUE!"},{"$error":"#VALUE!"},{"$error":"#VALUE!"},{"$error":"#VALUE!"},{"$error":"#VALUE!"},{"$error":"#VALUE!"},{"$error":"#VALUE!"},{"$error":"#VALUE!"},{"$error":"#VALUE!"},{"$error":"#VALUE!"},{"$error":"#VALUE!"},{"$f":"IF(AND($B26>=AE$4,$B26<=AE$5),AE$6,0)","v":{"$error":"#VALUE!"}},{"$error":"#VALUE!"},{"$error":"#VALUE!"},{"$error":"#VALUE!"},{"$error":"#VALUE!"},{"$error":"#VALUE!"},{"$error":"#VALUE!"},{"$error":"#VALUE!"},{"$error":"#VALUE!"},{"$error":"#VALUE!"},{"$error":"#VALUE!"},{"$error":"#VALUE!"},null,{"$error":"#VALUE!"},{"$error":"#VALUE!"},{"$error":"#VALUE!"},null,{"$error":"#VALUE!"},{"$error":"#VALUE!"},{"$error":"#VALUE!"},{"$error":"#VALUE!"},{"$error":"#VALUE!"},{"$error":"#VALUE!"},{"$error":"#VALUE!"},{"$error":"#VALUE!"},{"$error":"#VALUE!"},{"$error":"#VALUE!"},null,{"$error":"#VALUE!"},{"$error":"#VALUE!"},{"$error":"#VALUE!"},null,{"$error":"#VALUE!"},{"$error":"#VALUE!"},{"$error":"#VALUE!"},{"$error":"#VALUE!"},{"$error":"#VALUE!"},{"$error":"#VALUE!"},{"$error":"#VALUE!"},{"$error":"#VALUE!"},{"$error":"#VALUE!"},{"$error":"#VALUE!"},null,{"$error":"#VALUE!"},{"$error":"#VALUE!"},{"$error":"#VALUE!"},null,{"$error":"#VALUE!"},{"$error":"#VALUE!"},{"$error":"#VALUE!"},{"$error":"#VALUE!"},{"$error":"#VALUE!"},{"$error":"#VALUE!"},{"$error":"#VALUE!"},{"$error":"#VALUE!"},{"$error":"#VALUE!"},{"$error":"#VALUE!"},{"$error":"#VALUE!"},{"$error":"#VALUE!"},{"$error":"#VALUE!"},{"$error":"#VALUE!"},{"$error":"#VALUE!"},{"$error":"#VALUE!"},{"$error":"#VALUE!"},{"$error":"#VALUE!"},{"$error":"#VALUE!"},{"$f":"IF(AND($B26>=CS$4,$B26<=CS$5),CS$6,0)","v":{"$error":"#VALUE!"}},{"$error":"#VALUE!"},{"$error":"#VALUE!"},{"$error":"#VALUE!"},{"$error":"#VALUE!"},{"$error":"#VALUE!"},{"$error":"#VALUE!"},{"$error":"#VALUE!"},{"$error":"#VALUE!"},{"$error":"#VALUE!"},{"$error":"#VALUE!"},{"$error":"#VALUE!"},null,{"$error":"#VALUE!"},{"$error":"#VALUE!"},{"$error":"#VALUE!"},null,{"$error":"#VALUE!"},{"$error":"#VALUE!"},{"$error":"#VALUE!"},{"$error":"#VALUE!"},{"$error":"#VALUE!"},{"$error":"#VALUE!"},{"$error":"#VALUE!"},{"$error":"#VALUE!"},{"$error":"#VALUE!"},{"$error":"#VALUE!"}]
[null,{"$error":"#VALUE!"},null,{"$error":"#VALUE!"},{"$error":"#VALUE!"},{"$error":"#VALUE!"},null,{"$error":"#VALUE!"},{"$error":"#VALUE!"},{"$error":"#VALUE!"},null,{"$error":"#VALUE!"},{"$error":"#VALUE!"},{"$error":"#VALUE!"},{"$error":"#VALUE!"},{"$error":"#VALUE!"},{"$error":"#VALUE!"},{"$error":"#VALUE!"},{"$error":"#VALUE!"},{"$error":"#VALUE!"},{"$error":"#VALUE!"},{"$error":"#VALUE!"},{"$error":"#VALUE!"},{"$error":"#VALUE!"},{"$error":"#VALUE!"},{"$error":"#VALUE!"},{"$error":"#VALUE!"},{"$error":"#VALUE!"},{"$f":"IF(AND($B27>=AC$4,$B27<=AC$5),AC$6,0)","v":{"$error":"#VALUE!"}},{"$error":"#VALUE!"},{"$error":"#VALUE!"},{"$error":"#VALUE!"},{"$error":"#VALUE!"},{"$error":"#VALUE!"},{"$error":"#VALUE!"},{"$error":"#VALUE!"},{"$error":"#VALUE!"},{"$error":"#VALUE!"},{"$error":"#VALUE!"},{"$error":"#VALUE!"},{"$error":"#VALUE!"},{"$error":"#VALUE!"},null,{"$error":"#VALUE!"},{"$error":"#VALUE!"},{"$error":"#VALUE!"},null,{"$error":"#VALUE!"},{"$error":"#VALUE!"},{"$error":"#VALUE!"},{"$error":"#VALUE!"},{"$error":"#VALUE!"},{"$error":"#VALUE!"},{"$error":"#VALUE!"},{"$error":"#VALUE!"},{"$error":"#VALUE!"},{"$error":"#VALUE!"},null,{"$error":"#VALUE!"},{"$error":"#VALUE!"},{"$error":"#VALUE!"},null,{"$error":"#VALUE!"},{"$f":"IF(AND($B27>=BL$4,$B27<=BL$5),BL$6,0)","v":{"$error":"#VALUE!"}},{"$error":"#VALUE!"},{"$error":"#VALUE!"},{"$error":"#VALUE!"},{"$error":"#VALUE!"},{"$error":"#VALUE!"},{"$error":"#VALUE!"},{"$error":"#VALUE!"},{"$error":"#VALUE!"},null,{"$error":"#VALUE!"},{"$error":"#VALUE!"},{"$error":"#VALUE!"},null,{"$error":"#VALUE!"},{"$error":"#VALUE!"},{"$error":"#VALUE!"},{"$error":"#VALUE!"},{"$error":"#VALUE!"},{"$error":"#VALUE!"},{"$error":"#VALUE!"},{"$error":"#VALUE!"},{"$error":"#VALUE!"},{"$error":"#VALUE!"},{"$error":"#VALUE!"},{"$error":"#VALUE!"},{"$error":"#VALUE!"},{"$error":"#VALUE!"},{"$error":"#VALUE!"},{"$error":"#VALUE!"},{"$error":"#VALUE!"},{"$f":"IF(AND($B27>=CQ$4,$B27<=CQ$5),CQ$6,0)","v":{"$error":"#VALUE!"}},{"$error":"#VALUE!"},{"$error":"#VALUE!"},{"$error":"#VALUE!"},{"$error":"#VALUE!"},{"$error":"#VALUE!"},{"$error":"#VALUE!"},{"$error":"#VALUE!"},{"$error":"#VALUE!"},{"$error":"#VALUE!"},{"$error":"#VALUE!"},{"$error":"#VALUE!"},{"$error":"#VALUE!"},{"$error":"#VALUE!"},null,{"$error":"#VALUE!"},{"$error":"#VALUE!"},{"$error":"#VALUE!"},null,{"$error":"#VALUE!"},{"$f":"IF(AND($B27>=DK$4,$B27<=DK$5),DK$6,0)","v":{"$error":"#VALUE!"}},{"$error":"#VALUE!"},{"$error":"#VALUE!"},{"$error":"#VALUE!"},{"$error":"#VALUE!"},{"$error":"#VALUE!"},{"$error":"#VALUE!"},{"$error":"#VALUE!"},{"$error":"#VALUE!"}]
[null,{"$error":"#VALUE!"},null,{"$error":"#VALUE!"},{"$error":"#VALUE!"},{"$error":"#VALUE!"},null,{"$error":"#VALUE!"},{"$error":"#VALUE!"},{"$error":"#VALUE!"},null,{"$error":"#VALUE!"},{"$f":"IF(AND($B28>=M$4,$B28<=M$5),M$6,0)","v":{"$error":"#VALUE!"}},{"$error":"#VALUE!"},{"$error":"#VALUE!"},{"$error":"#VALUE!"},{"$error":"#VALUE!"},{"$error":"#VALUE!"},{"$error":"#VALUE!"},{"$error":"#VALUE!"},{"$error":"#VALUE!"},{"$error":"#VALUE!"},{"$error":"#VALUE!"},{"$error":"#VALUE!"},{"$error":"#VALUE!"},{"$error":"#VALUE!"},{"$error":"#VALUE!"},{"$error":"#VALUE!"},{"$error":"#VALUE!"},{"$error":"#VALUE!"},{"$error":"#VALUE!"},{"$error":"#VALUE!"},{"$error":"#VALUE!"},{"$error":"#VALUE!"},{"$error":"#VALUE!"},{"$error":"#VALUE!"},{"$error":"#VALUE!"},{"$error":"#VALUE!"},{"$error":"#VALUE!"},{"$error":"#VALUE!"},{"$error":"#VALUE!"},{"$error":"#VALUE!"},null,{"$error":"#VALUE!"},{"$error":"#VALUE!"},{"$error":"#VALUE!"},null,{"$error":"#VALUE!"},{"$f":"IF(AND($B28>=AW$4,$B28<=AW$5),AW$6,0)","v":{"$error":"#VALUE!"}},{"$error":"#VALUE!"},{"$error":"#VALUE!"},{"$error":"#VALUE!"},{"$error":"#VALUE!"},{"$error":"#VALUE!"},{"$error":"#VALUE!"},{"$error":"#VALUE!"},{"$error":"#VALUE!"},null,{"$error":"#VALUE!"},{"$error":"#VALUE!"},{"$error":"#VALUE!"},null,{"$error":"#VALUE!"},{"$error":"#VALUE!"},{"$error":"#VALUE!"},{"$error":"#VALUE!"},{"$error":"#VALUE!"},{"$error":"#VALUE!"},{"$error":"#VALUE!"},{"$error":"#VALUE!"},{"$error":"#VALUE!"},{"$error":"#VALUE!"},null,{"$error":"#VALUE!"},{"$error":"#VALUE!"},{"$error":"#VALUE!"},null,{"$error":"#VALUE!"},{"$f":"IF(AND($B28>=CA$4,$B28<=CA$5),CA$6,0)","v":{"$error":"#VALUE!"}},{"$error":"#VALUE!"},{"$error":"#VALUE!"},{"$error":"#VALUE!"},{"$error":"#VALUE!"},{"$error":"#VALUE!"},{"$error":"#VALUE!"},{"$error":"#VALUE!"},{"$error":"#VALUE!"},{"$error":"#VALUE!"},{"$error":"#VALUE!"},{"$error":"#VALUE!"},{"$error":"#VALUE!"},{"$error":"#VALUE!"},{"$error":"#VALUE!"},{"$error":"#VALUE!"},{"$error":"#VALUE!"},{"$error":"#VALUE!"},{"$error":"#VALUE!"},{"$error":"#VALUE!"},{"$error":"#VALUE!"},{"$error":"#VALUE!"},{"$error":"#VALUE!"},{"$error":"#VALUE!"},{"$error":"#VALUE!"},{"$error":"#VALUE!"},{"$error":"#VALUE!"},{"$error":"#VALUE!"},{"$error":"#VALUE!"},{"$error":"#VALUE!"},null,{"$error":"#VALUE!"},{"$error":"#VALUE!"},{"$error":"#VALUE!"},null,{"$error":"#VALUE!"},{"$error":"#VALUE!"},{"$error":"#VALUE!"},{"$error":"#VALUE!"},{"$error":"#VALUE!"},{"$error":"#VALUE!"},{"$error":"#VALUE!"},{"$error":"#VALUE!"},{"$error":"#VALUE!"},{"$error":"#VALUE!"}]
[null,{"$error":"#VALUE!"},null,{"$error":"#VALUE!"},{"$error":"#VALUE!"},{"$error":"#VALUE!"},null,{"$error":"#VALUE!"},{"$error":"#VALUE!"},{"$error":"#VALUE!"},null,{"$error":"#VALUE!"},{"$error":"#VALUE!"},{"$error":"#VALUE!"},{"$error":"#VALUE!"},{"$error":"#VALUE!"},{"$error":"#VALUE!"},{"$error":"#VALUE!"},{"$error":"#VALUE!"},{"$error":"#VALUE!"},{"$error":"#VALUE!"},{"$error":"#VALUE!"},{"$error":"#VALUE!"},{"$error":"#VALUE!"},{"$error":"#VALUE!"},{"$error":"#VALUE!"},{"$error":"#VALUE!"},{"$error":"#VALUE!"},{"$error":"#VALUE!"},{"$error":"#VALUE!"},{"$error":"#VALUE!"},{"$error":"#VALUE!"},{"$error":"#VALUE!"},{"$error":"#VALUE!"},{"$error":"#VALUE!"},{"$error":"#VALUE!"},{"$error":"#VALUE!"},{"$error":"#VALUE!"},{"$error":"#VALUE!"},{"$error":"#VALUE!"},{"$error":"#VALUE!"},{"$error":"#VALUE!"},null,{"$error":"#VALUE!"},{"$error":"#VALUE!"},{"$error":"#VALUE!"},null,{"$error":"#VALUE!"},{"$error":"#VALUE!"},{"$error":"#VALUE!"},{"$error":"#VALUE!"},{"$error":"#VALUE!"},{"$error":"#VALUE!"},{"$error":"#VALUE!"},{"$error":"#VALUE!"},{"$error":"#VALUE!"},{"$error":"#VALUE!"},null,{"$error":"#VALUE!"},{"$error":"#VALUE!"},{"$error":"#VALUE!"},null,{"$error":"#VALUE!"},{"$error":"#VALUE!"},{"$error":"#VALUE!"},{"$error":"#VALUE!"},{"$error":"#VALUE!"},{"$error":"#VALUE!"},{"$error":"#VALUE!"},{"$error":"#VALUE!"},{"$error":"#VALUE!"},{"$error":"#VALUE!"},null,{"$error":"#VALUE!"},{"$error":"#VALUE!"},{"$error":"#VALUE!"},null,{"$error":"#VALUE!"},{"$error":"#VALUE!"},{"$error":"#VALUE!"},{"$error":"#VALUE!"},{"$error":"#VALUE!"},{"$error":"#VALUE!"},{"$error":"#VALUE!"},{"$error":"#VALUE!"},{"$error":"#VALUE!"},{"$error":"#VALUE!"},{"$error":"#VALUE!"},{"$error":"#VALUE!"},{"$error":"#VALUE!"},{"$error":"#VALUE!"},{"$error":"#VALUE!"},{"$error":"#VALUE!"},{"$error":"#VALUE!"},{"$error":"#VALUE!"},{"$error":"#VALUE!"},{"$error":"#VALUE!"},{"$error":"#VALUE!"},{"$error":"#VALUE!"},{"$error":"#VALUE!"},{"$error":"#VALUE!"},{"$error":"#VALUE!"},{"$error":"#VALUE!"},{"$error":"#VALUE!"},{"$error":"#VALUE!"},{"$error":"#VALUE!"},{"$error":"#VALUE!"},{"$error":"#VALUE!"},null,{"$error":"#VALUE!"},{"$error":"#VALUE!"},{"$error":"#VALUE!"},null,{"$error":"#VALUE!"},{"$error":"#VALUE!"},{"$error":"#VALUE!"},{"$error":"#VALUE!"},{"$error":"#VALUE!"},{"$error":"#VALUE!"},{"$error":"#VALUE!"},{"$error":"#VALUE!"},{"$error":"#VALUE!"},{"$error":"#VALUE!"}]
[null,{"$error":"#VALUE!"},null,{"$error":"#VALUE!"},{"$error":"#VALUE!"},{"$error":"#VALUE!"},null,{"$error":"#VALUE!"},{"$error":"#VALUE!"},{"$error":"#VALUE!"},null,{"$error":"#VALUE!"},{"$error":"#VALUE!"},{"$error":"#VALUE!"},{"$error":"#VALUE!"},{"$error":"#VALUE!"},{"$error":"#VALUE!"},{"$error":"#VALUE!"},{"$error":"#VALUE!"},{"$error":"#VALUE!"},{"$error":"#VALUE!"},{"$error":"#VALUE!"},{"$error":"#VALUE!"},{"$error":"#VALUE!"},{"$error":"#VALUE!"},{"$error":"#VALUE!"},{"$error":"#VALUE!"},{"$error":"#VALUE!"},{"$error":"#VALUE!"},{"$error":"#VALUE!"},{"$error":"#VALUE!"},{"$error":"#VALUE!"},{"$error":"#VALUE!"},{"$error":"#VALUE!"},{"$error":"#VALUE!"},{"$error":"#VALUE!"},{"$error":"#VALUE!"},{"$error":"#VALUE!"},{"$error":"#VALUE!"},{"$error":"#VALUE!"},{"$error":"#VALUE!"},{"$error":"#VALUE!"},null,{"$error":"#VALUE!"},{"$error":"#VALUE!"},{"$error":"#VALUE!"},null,{"$error":"#VALUE!"},{"$error":"#VALUE!"},{"$error":"#VALUE!"},{"$error":"#VALUE!"},{"$error":"#VALUE!"},{"$error":"#VALUE!"},{"$error":"#VALUE!"},{"$error":"#VALUE!"},{"$error":"#VALUE!"},{"$error":"#VALUE!"},null,{"$error":"#VALUE!"},{"$error":"#VALUE!"},{"$error":"#VALUE!"},null,{"$error":"#VALUE!"},{"$error":"#VALUE!"},{"$error":"#VALUE!"},{"$error":"#VALUE!"},{"$error":"#VALUE!"},{"$error":"#VALUE!"},{"$error":"#VALUE!"},{"$error":"#VALUE!"},{"$error":"#VALUE!"},{"$error":"#VALUE!"},null,{"$error":"#VALUE!"},{"$error":"#VALUE!"},{"$error":"#VALUE!"},null,{"$error":"#VALUE!"},{"$error":"#VALUE!"},{"$error":"#VALUE!"},{"$error":"#VALUE!"},{"$error":"#VALUE!"},{"$error":"#VALUE!"},{"$error":"#VALUE!"},{"$error":"#VALUE!"},{"$error":"#VALUE!"},{"$error":"#VALUE!"},{"$error":"#VALUE!"},{"$error":"#VALUE!"},{"$error":"#VALUE!"},{"$error":"#VALUE!"},{"$error":"#VALUE!"},{"$error":"#VALUE!"},{"$error":"#VALUE!"},{"$error":"#VALUE!"},{"$error":"#VALUE!"},{"$error":"#VALUE!"},{"$error":"#VALUE!"},{"$error":"#VALUE!"},{"$error":"#VALUE!"},{"$error":"#VALUE!"},{"$error":"#VALUE!"},{"$error":"#VALUE!"},{"$error":"#VALUE!"},{"$error":"#VALUE!"},{"$error":"#VALUE!"},{"$error":"#VALUE!"},{"$error":"#VALUE!"},null,{"$error":"#VALUE!"},{"$error":"#VALUE!"},{"$error":"#VALUE!"},null,{"$error":"#VALUE!"},{"$error":"#VALUE!"},{"$error":"#VALUE!"},{"$error":"#VALUE!"},{"$error":"#VALUE!"},{"$error":"#VALUE!"},{"$error":"#VALUE!"},{"$error":"#VALUE!"},{"$error":"#VALUE!"},{"$error":"#VALUE!"}]
[null,{"$error":"#VALUE!"},null,{"$error":"#VALUE!"},{"$error":"#VALUE!"},{"$error":"#VALUE!"},null,{"$error":"#VALUE!"},{"$error":"#VALUE!"},{"$error":"#VALUE!"},null,{"$error":"#VALUE!"},{"$error":"#VALUE!"},{"$error":"#VALUE!"},{"$error":"#VALUE!"},{"$error":"#VALUE!"},{"$error":"#VALUE!"},{"$error":"#VALUE!"},{"$error":"#VALUE!"},{"$error":"#VALUE!"},{"$error":"#VALUE!"},{"$error":"#VALUE!"},{"$error":"#VALUE!"},{"$error":"#VALUE!"},{"$error":"#VALUE!"},{"$error":"#VALUE!"},{"$error":"#VALUE!"},{"$error":"#VALUE!"},{"$error":"#VALUE!"},{"$error":"#VALUE!"},{"$error":"#VALUE!"},{"$error":"#VALUE!"},{"$error":"#VALUE!"},{"$error":"#VALUE!"},{"$error":"#VALUE!"},{"$error":"#VALUE!"},{"$error":"#VALUE!"},{"$error":"#VALUE!"},{"$error":"#VALUE!"},{"$error":"#VALUE!"},{"$error":"#VALUE!"},{"$error":"#VALUE!"},null,{"$error":"#VALUE!"},{"$error":"#VALUE!"},{"$error":"#VALUE!"},null,{"$error":"#VALUE!"},{"$error":"#VALUE!"},{"$error":"#VALUE!"},{"$error":"#VALUE!"},{"$error":"#VALUE!"},{"$error":"#VALUE!"},{"$error":"#VALUE!"},{"$error":"#VALUE!"},{"$error":"#VALUE!"},{"$error":"#VALUE!"},null,{"$error":"#VALUE!"},{"$error":"#VALUE!"},{"$error":"#VALUE!"},null,{"$error":"#VALUE!"},{"$error":"#VALUE!"},{"$error":"#VALUE!"},{"$error":"#VALUE!"},{"$error":"#VALUE!"},{"$error":"#VALUE!"},{"$error":"#VALUE!"},{"$error":"#VALUE!"},{"$error":"#VALUE!"},{"$error":"#VALUE!"},null,{"$error":"#VALUE!"},{"$error":"#VALUE!"},{"$error":"#VALUE!"},null,{"$error":"#VALUE!"},{"$error":"#VALUE!"},{"$error":"#VALUE!"},{"$error":"#VALUE!"},{"$error":"#VALUE!"},{"$error":"#VALUE!"},{"$error":"#VALUE!"},{"$error":"#VALUE!"},{"$error":"#VALUE!"},{"$error":"#VALUE!"},{"$error":"#VALUE!"},{"$error":"#VALUE!"},{"$error":"#VALUE!"},{"$error":"#VALUE!"},{"$error":"#VALUE!"},{"$error":"#VALUE!"},{"$error":"#VALUE!"},{"$error":"#VALUE!"},{"$error":"#VALUE!"},{"$error":"#VALUE!"},{"$error":"#VALUE!"},{"$error":"#VALUE!"},{"$error":"#VALUE!"},{"$error":"#VALUE!"},{"$error":"#VALUE!"},{"$error":"#VALUE!"},{"$error":"#VALUE!"},{"$error":"#VALUE!"},{"$error":"#VALUE!"},{"$error":"#VALUE!"},{"$error":"#VALUE!"},null,{"$error":"#VALUE!"},{"$error":"#VALUE!"},{"$error":"#VALUE!"},null,{"$error":"#VALUE!"},{"$error":"#VALUE!"},{"$error":"#VALUE!"},{"$error":"#VALUE!"},{"$error":"#VALUE!"},{"$error":"#VALUE!"},{"$error":"#VALUE!"},{"$error":"#VALUE!"},{"$error":"#VALUE!"},{"$error":"#VALUE!"}]
[null,{"$error":"#VALUE!"},null,{"$error":"#VALUE!"},{"$error":"#VALUE!"},{"$error":"#VALUE!"},null,{"$error":"#VALUE!"},{"$error":"#VALUE!"},{"$error":"#VALUE!"},null,{"$error":"#VALUE!"},{"$error":"#VALUE!"},{"$error":"#VALUE!"},{"$error":"#VALUE!"},{"$error":"#VALUE!"},{"$error":"#VALUE!"},{"$error":"#VALUE!"},{"$error":"#VALUE!"},{"$error":"#VALUE!"},{"$error":"#VALUE!"},{"$error":"#VALUE!"},{"$error":"#VALUE!"},{"$error":"#VALUE!"},{"$error":"#VALUE!"},{"$error":"#VALUE!"},{"$error":"#VALUE!"},{"$error":"#VALUE!"},{"$error":"#VALUE!"},{"$error":"#VALUE!"},{"$error":"#VALUE!"},{"$error":"#VALUE!"},{"$error":"#VALUE!"},{"$error":"#VALUE!"},{"$error":"#VALUE!"},{"$error":"#VALUE!"},{"$error":"#VALUE!"},{"$error":"#VALUE!"},{"$error":"#VALUE!"},{"$error":"#VALUE!"},{"$error":"#VALUE!"},{"$error":"#VALUE!"},null,{"$error":"#VALUE!"},{"$error":"#VALUE!"},{"$error":"#VALUE!"},null,{"$error":"#VALUE!"},{"$error":"#VALUE!"},{"$error":"#VALUE!"},{"$error":"#VALUE!"},{"$error":"#VALUE!"},{"$error":"#VALUE!"},{"$error":"#VALUE!"},{"$error":"#VALUE!"},{"$error":"#VALUE!"},{"$error":"#VALUE!"},null,{"$error":"#VALUE!"},{"$error":"#VALUE!"},{"$error":"#VALUE!"},null,{"$error":"#VALUE!"},{"$error":"#VALUE!"},{"$error":"#VALUE!"},{"$error":"#VALUE!"},{"$error":"#VALUE!"},{"$error":"#VALUE!"},{"$error":"#VALUE!"},{"$error":"#VALUE!"},{"$error":"#VALUE!"},{"$error":"#VALUE!"},null,{"$error":"#VALUE!"},{"$error":"#VALUE!"},{"$error":"#VALUE!"},null,{"$error":"#VALUE!"},{"$error":"#VALUE!"},{"$error":"#VALUE!"},{"$error":"#VALUE!"},{"$error":"#VALUE!"},{"$error":"#VALUE!"},{"$error":"#VALUE!"},{"$error":"#VALUE!"},{"$error":"#VALUE!"},{"$error":"#VALUE!"},{"$error":"#VALUE!"},{"$error":"#VALUE!"},{"$error":"#VALUE!"},{"$error":"#VALUE!"},{"$error":"#VALUE!"},{"$error":"#VALUE!"},{"$error":"#VALUE!"},{"$error":"#VALUE!"},{"$error":"#VALUE!"},{"$error":"#VALUE!"},{"$error":"#VALUE!"},{"$error":"#VALUE!"},{"$error":"#VALUE!"},{"$error":"#VALUE!"},{"$error":"#VALUE!"},{"$error":"#VALUE!"},{"$error":"#VALUE!"},{"$error":"#VALUE!"},{"$error":"#VALUE!"},{"$error":"#VALUE!"},{"$error":"#VALUE!"},null,{"$error":"#VALUE!"},{"$error":"#VALUE!"},{"$error":"#VALUE!"},null,{"$error":"#VALUE!"},{"$error":"#VALUE!"},{"$error":"#VALUE!"},{"$error":"#VALUE!"},{"$error":"#VALUE!"},{"$error":"#VALUE!"},{"$error":"#VALUE!"},{"$error":"#VALUE!"},{"$error":"#VALUE!"},{"$error":"#VALUE!"}]
[null,{"$error":"#VALUE!"},null,{"$error":"#VALUE!"},{"$error":"#VALUE!"},{"$error":"#VALUE!"},null,{"$error":"#VALUE!"},{"$error":"#VALUE!"},{"$error":"#VALUE!"},null,{"$error":"#VALUE!"},{"$error":"#VALUE!"},{"$error":"#VALUE!"},{"$error":"#VALUE!"},{"$error":"#VALUE!"},{"$error":"#VALUE!"},{"$error":"#VALUE!"},{"$error":"#VALUE!"},{"$error":"#VALUE!"},{"$error":"#VALUE!"},{"$error":"#VALUE!"},{"$error":"#VALUE!"},{"$error":"#VALUE!"},{"$error":"#VALUE!"},{"$error":"#VALUE!"},{"$error":"#VALUE!"},{"$error":"#VALUE!"},{"$error":"#VALUE!"},{"$error":"#VALUE!"},{"$error":"#VALUE!"},{"$error":"#VALUE!"},{"$error":"#VALUE!"},{"$error":"#VALUE!"},{"$error":"#VALUE!"},{"$error":"#VALUE!"},{"$error":"#VALUE!"},{"$error":"#VALUE!"},{"$error":"#VALUE!"},{"$error":"#VALUE!"},{"$error":"#VALUE!"},{"$error":"#VALUE!"},null,{"$error":"#VALUE!"},{"$error":"#VALUE!"},{"$error":"#VALUE!"},null,{"$error":"#VALUE!"},{"$error":"#VALUE!"},{"$error":"#VALUE!"},{"$error":"#VALUE!"},{"$error":"#VALUE!"},{"$error":"#VALUE!"},{"$error":"#VALUE!"},{"$error":"#VALUE!"},{"$error":"#VALUE!"},{"$error":"#VALUE!"},null,{"$error":"#VALUE!"},{"$error":"#VALUE!"},{"$error":"#VALUE!"},null,{"$error":"#VALUE!"},{"$error":"#VALUE!"},{"$error":"#VALUE!"},{"$error":"#VALUE!"},{"$error":"#VALUE!"},{"$error":"#VALUE!"},{"$error":"#VALUE!"},{"$error":"#VALUE!"},{"$error":"#VALUE!"},{"$error":"#VALUE!"},null,{"$error":"#VALUE!"},{"$error":"#VALUE!"},{"$error":"#VALUE!"},null,{"$error":"#VALUE!"},{"$error":"#VALUE!"},{"$error":"#VALUE!"},{"$error":"#VALUE!"},{"$error":"#VALUE!"},{"$error":"#VALUE!"},{"$error":"#VALUE!"},{"$error":"#VALUE!"},{"$error":"#VALUE!"},{"$error":"#VALUE!"},{"$error":"#VALUE!"},{"$error":"#VALUE!"},{"$error":"#VALUE!"},{"$error":"#VALUE!"},{"$error":"#VALUE!"},{"$error":"#VALUE!"},{"$error":"#VALUE!"},{"$error":"#VALUE!"},{"$error":"#VALUE!"},{"$error":"#VALUE!"},{"$error":"#VALUE!"},{"$error":"#VALUE!"},{"$error":"#VALUE!"},{"$error":"#VALUE!"},{"$error":"#VALUE!"},{"$error":"#VALUE!"},{"$error":"#VALUE!"},{"$error":"#VALUE!"},{"$error":"#VALUE!"},{"$error":"#VALUE!"},{"$error":"#VALUE!"},null,{"$error":"#VALUE!"},{"$error":"#VALUE!"},{"$error":"#VALUE!"},null,{"$error":"#VALUE!"},{"$error":"#VALUE!"},{"$error":"#VALUE!"},{"$error":"#VALUE!"},{"$error":"#VALUE!"},{"$error":"#VALUE!"},{"$error":"#VALUE!"},{"$error":"#VALUE!"},{"$error":"#VALUE!"},{"$error":"#VALUE!"}]
[null,{"$error":"#VALUE!"},null,{"$error":"#VALUE!"},{"$error":"#VALUE!"},{"$error":"#VALUE!"},null,{"$error":"#VALUE!"},{"$error":"#VALUE!"},{"$error":"#VALUE!"},null,{"$error":"#VALUE!"},{"$error":"#VALUE!"},{"$error":"#VALUE!"},{"$error":"#VALUE!"},{"$error":"#VALUE!"},{"$error":"#VALUE!"},{"$error":"#VALUE!"},{"$error":"#VALUE!"},{"$error":"#VALUE!"},{"$error":"#VALUE!"},{"$error":"#VALUE!"},{"$error":"#VALUE!"},{"$error":"#VALUE!"},{"$error":"#VALUE!"},{"$error":"#VALUE!"},{"$error":"#VALUE!"},{"$error":"#VALUE!"},{"$error":"#VALUE!"},{"$error":"#VALUE!"},{"$error":"#VALUE!"},{"$error":"#VALUE!"},{"$error":"#VALUE!"},{"$error":"#VALUE!"},{"$error":"#VALUE!"},{"$error":"#VALUE!"},{"$error":"#VALUE!"},{"$error":"#VALUE!"},{"$error":"#VALUE!"},{"$error":"#VALUE!"},{"$error":"#VALUE!"},{"$error":"#VALUE!"},null,{"$error":"#VALUE!"},{"$error":"#VALUE!"},{"$error":"#VALUE!"},null,{"$error":"#VALUE!"},{"$error":"#VALUE!"},{"$error":"#VALUE!"},{"$error":"#VALUE!"},{"$error":"#VALUE!"},{"$error":"#VALUE!"},{"$error":"#VALUE!"},{"$error":"#VALUE!"},{"$error":"#VALUE!"},{"$error":"#VALUE!"},null,{"$error":"#VALUE!"},{"$error":"#VALUE!"},{"$error":"#VALUE!"},null,{"$error":"#VALUE!"},{"$error":"#VALUE!"},{"$error":"#VALUE!"},{"$error":"#VALUE!"},{"$error":"#VALUE!"},{"$error":"#VALUE!"},{"$error":"#VALUE!"},{"$error":"#VALUE!"},{"$error":"#VALUE!"},{"$error":"#VALUE!"},null,{"$error":"#VALUE!"},{"$error":"#VALUE!"},{"$error":"#VALUE!"},null,{"$error":"#VALUE!"},{"$error":"#VALUE!"},{"$error":"#VALUE!"},{"$error":"#VALUE!"},{"$error":"#VALUE!"},{"$error":"#VALUE!"},{"$error":"#VALUE!"},{"$error":"#VALUE!"},{"$error":"#VALUE!"},{"$error":"#VALUE!"},{"$error":"#VALUE!"},{"$error":"#VALUE!"},{"$error":"#VALUE!"},{"$error":"#VALUE!"},{"$error":"#VALUE!"},{"$error":"#VALUE!"},{"$error":"#VALUE!"},{"$error":"#VALUE!"},{"$error":"#VALUE!"},{"$error":"#VALUE!"},{"$error":"#VALUE!"},{"$error":"#VALUE!"},{"$error":"#VALUE!"},{"$error":"#VALUE!"},{"$error":"#VALUE!"},{"$error":"#VALUE!"},{"$error":"#VALUE!"},{"$error":"#VALUE!"},{"$error":"#VALUE!"},{"$error":"#VALUE!"},{"$error":"#VALUE!"},null,{"$error":"#VALUE!"},{"$error":"#VALUE!"},{"$error":"#VALUE!"},null,{"$error":"#VALUE!"},{"$error":"#VALUE!"},{"$error":"#VALUE!"},{"$error":"#VALUE!"},{"$error":"#VALUE!"},{"$error":"#VALUE!"},{"$error":"#VALUE!"},{"$error":"#VALUE!"},{"$error":"#VALUE!"},{"$error":"#VALUE!"}]
[null,{"$error":"#VALUE!"},null,{"$error":"#VALUE!"},{"$error":"#VALUE!"},{"$error":"#VALUE!"},null,{"$error":"#VALUE!"},{"$error":"#VALUE!"},{"$error":"#VALUE!"},null,{"$error":"#VALUE!"},{"$error":"#VALUE!"},{"$error":"#VALUE!"},{"$error":"#VALUE!"},{"$error":"#VALUE!"},{"$error":"#VALUE!"},{"$error":"#VALUE!"},{"$error":"#VALUE!"},{"$error":"#VALUE!"},{"$error":"#VALUE!"},{"$error":"#VALUE!"},{"$error":"#VALUE!"},{"$error":"#VALUE!"},{"$error":"#VALUE!"},{"$error":"#VALUE!"},{"$error":"#VALUE!"},{"$error":"#VALUE!"},{"$error":"#VALUE!"},{"$error":"#VALUE!"},{"$error":"#VALUE!"},{"$error":"#VALUE!"},{"$error":"#VALUE!"},{"$error":"#VALUE!"},{"$error":"#VALUE!"},{"$error":"#VALUE!"},{"$error":"#VALUE!"},{"$error":"#VALUE!"},{"$error":"#VALUE!"},{"$error":"#VALUE!"},{"$error":"#VALUE!"},{"$error":"#VALUE!"},null,{"$error":"#VALUE!"},{"$error":"#VALUE!"},{"$error":"#VALUE!"},null,{"$error":"#VALUE!"},{"$error":"#VALUE!"},{"$error":"#VALUE!"},{"$error":"#VALUE!"},{"$error":"#VALUE!"},{"$error":"#VALUE!"},{"$error":"#VALUE!"},{"$error":"#VALUE!"},{"$error":"#VALUE!"},{"$error":"#VALUE!"},null,{"$error":"#VALUE!"},{"$error":"#VALUE!"},{"$error":"#VALUE!"},null,{"$error":"#VALUE!"},{"$error":"#VALUE!"},{"$error":"#VALUE!"},{"$error":"#VALUE!"},{"$error":"#VALUE!"},{"$error":"#VALUE!"},{"$error":"#VALUE!"},{"$error":"#VALUE!"},{"$error":"#VALUE!"},{"$error":"#VALUE!"},null,{"$error":"#VALUE!"},{"$error":"#VALUE!"},{"$error":"#VALUE!"},null,{"$error":"#VALUE!"},{"$error":"#VALUE!"},{"$error":"#VALUE!"},{"$error":"#VALUE!"},{"$error":"#VALUE!"},{"$error":"#VALUE!"},{"$error":"#VALUE!"},{"$error":"#VALUE!"},{"$error":"#VALUE!"},{"$error":"#VALUE!"},{"$error":"#VALUE!"},{"$error":"#VALUE!"},{"$error":"#VALUE!"},{"$error":"#VALUE!"},{"$error":"#VALUE!"},{"$error":"#VALUE!"},{"$error":"#VALUE!"},{"$error":"#VALUE!"},{"$error":"#VALUE!"},{"$error":"#VALUE!"},{"$error":"#VALUE!"},{"$error":"#VALUE!"},{"$error":"#VALUE!"},{"$error":"#VALUE!"},{"$error":"#VALUE!"},{"$error":"#VALUE!"},{"$error":"#VALUE!"},{"$error":"#VALUE!"},{"$error":"#VALUE!"},{"$error":"#VALUE!"},{"$error":"#VALUE!"},null,{"$error":"#VALUE!"},{"$error":"#VALUE!"},{"$error":"#VALUE!"},null,{"$error":"#VALUE!"},{"$error":"#VALUE!"},{"$error":"#VALUE!"},{"$error":"#VALUE!"},{"$error":"#VALUE!"},{"$error":"#VALUE!"},{"$error":"#VALUE!"},{"$error":"#VALUE!"},{"$error":"#VALUE!"},{"$error":"#VALUE!"}]
[null,{"$error":"#VALUE!"},null,{"$error":"#VALUE!"},{"$error":"#VALUE!"},{"$error":"#VALUE!"},null,{"$error":"#VALUE!"},{"$error":"#VALUE!"},{"$error":"#VALUE!"},null,{"$error":"#VALUE!"},{"$error":"#VALUE!"},{"$error":"#VALUE!"},{"$error":"#VALUE!"},{"$error":"#VALUE!"},{"$error":"#VALUE!"},{"$error":"#VALUE!"},{"$error":"#VALUE!"},{"$error":"#VALUE!"},{"$error":"#VALUE!"},{"$error":"#VALUE!"},{"$error":"#VALUE!"},{"$error":"#VALUE!"},{"$error":"#VALUE!"},{"$error":"#VALUE!"},{"$error":"#VALUE!"},{"$error":"#VALUE!"},{"$error":"#VALUE!"},{"$error":"#VALUE!"},{"$error":"#VALUE!"},{"$error":"#VALUE!"},{"$error":"#VALUE!"},{"$error":"#VALUE!"},{"$error":"#VALUE!"},{"$error":"#VALUE!"},{"$error":"#VALUE!"},{"$error":"#VALUE!"},{"$error":"#VALUE!"},{"$error":"#VALUE!"},{"$error":"#VALUE!"},{"$error":"#VALUE!"},null,{"$error":"#VALUE!"},{"$error":"#VALUE!"},{"$error":"#VALUE!"},null,{"$error":"#VALUE!"},{"$error":"#VALUE!"},{"$error":"#VALUE!"},{"$error":"#VALUE!"},{"$error":"#VALUE!"},{"$error":"#VALUE!"},{"$error":"#VALUE!"},{"$error":"#VALUE!"},{"$error":"#VALUE!"},{"$error":"#VALUE!"},null,{"$error":"#VALUE!"},{"$error":"#VALUE!"},{"$error":"#VALUE!"},null,{"$error":"#VALUE!"},{"$error":"#VALUE!"},{"$error":"#VALUE!"},{"$error":"#VALUE!"},{"$error":"#VALUE!"},{"$error":"#VALUE!"},{"$error":"#VALUE!"},{"$error":"#VALUE!"},{"$error":"#VALUE!"},{"$error":"#VALUE!"},null,{"$error":"#VALUE!"},{"$error":"#VALUE!"},{"$error":"#VALUE!"},null,{"$error":"#VALUE!"},{"$error":"#VALUE!"},{"$error":"#VALUE!"},{"$error":"#VALUE!"},{"$error":"#VALUE!"},{"$error":"#VALUE!"},{"$error":"#VALUE!"},{"$error":"#VALUE!"},{"$error":"#VALUE!"},{"$error":"#VALUE!"},{"$error":"#VALUE!"},{"$error":"#VALUE!"},{"$error":"#VALUE!"},{"$error":"#VALUE!"},{"$error":"#VALUE!"},{"$error":"#VALUE!"},{"$error":"#VALUE!"},{"$error":"#VALUE!"},{"$error":"#VALUE!"},{"$error":"#VALUE!"},{"$error":"#VALUE!"},{"$error":"#VALUE!"},{"$error":"#VALUE!"},{"$error":"#VALUE!"},{"$error":"#VALUE!"},{"$error":"#VALUE!"},{"$error":"#VALUE!"},{"$error":"#VALUE!"},{"$error":"#VALUE!"},{"$error":"#VALUE!"},{"$error":"#VALUE!"},null,{"$error":"#VALUE!"},{"$error":"#VALUE!"},{"$error":"#VALUE!"},null,{"$error":"#VALUE!"},{"$error":"#VALUE!"},{"$error":"#VALUE!"},{"$error":"#VALUE!"},{"$error":"#VALUE!"},{"$error":"#VALUE!"},{"$error":"#VALUE!"},{"$error":"#VALUE!"},{"$error":"#VALUE!"},{"$error":"#VALUE!"}]
[null,{"$error":"#VALUE!"},null,{"$error":"#VALUE!"},{"$error":"#VALUE!"},{"$error":"#VALUE!"},null,{"$error":"#VALUE!"},{"$error":"#VALUE!"},{"$error":"#VALUE!"},null,{"$error":"#VALUE!"},{"$error":"#VALUE!"},{"$error":"#VALUE!"},{"$error":"#VALUE!"},{"$error":"#VALUE!"},{"$error":"#VALUE!"},{"$error":"#VALUE!"},{"$error":"#VALUE!"},{"$error":"#VALUE!"},{"$error":"#VALUE!"},{"$error":"#VALUE!"},{"$error":"#VALUE!"},{"$error":"#VALUE!"},{"$error":"#VALUE!"},{"$error":"#VALUE!"},{"$error":"#VALUE!"},{"$error":"#VALUE!"},{"$error":"#VALUE!"},{"$error":"#VALUE!"},{"$error":"#VALUE!"},{"$error":"#VALUE!"},{"$error":"#VALUE!"},{"$error":"#VALUE!"},{"$error":"#VALUE!"},{"$error":"#VALUE!"},{"$error":"#VALUE!"},{"$error":"#VALUE!"},{"$error":"#VALUE!"},{"$error":"#VALUE!"},{"$error":"#VALUE!"},{"$error":"#VALUE!"},null,{"$error":"#VALUE!"},{"$error":"#VALUE!"},{"$error":"#VALUE!"},null,{"$error":"#VALUE!"},{"$error":"#VALUE!"},{"$error":"#VALUE!"},{"$error":"#VALUE!"},{"$error":"#VALUE!"},{"$error":"#VALUE!"},{"$error":"#VALUE!"},{"$error":"#VALUE!"},{"$error":"#VALUE!"},{"$error":"#VALUE!"},null,{"$error":"#VALUE!"},{"$error":"#VALUE!"},{"$error":"#VALUE!"},null,{"$error":"#VALUE!"},{"$error":"#VALUE!"},{"$error":"#VALUE!"},{"$error":"#VALUE!"},{"$error":"#VALUE!"},{"$error":"#VALUE!"},{"$error":"#VALUE!"},{"$error":"#VALUE!"},{"$error":"#VALUE!"},{"$error":"#VALUE!"},null,{"$error":"#VALUE!"},{"$error":"#VALUE!"},{"$error":"#VALUE!"},null,{"$error":"#VALUE!"},{"$error":"#VALUE!"},{"$error":"#VALUE!"},{"$error":"#VALUE!"},{"$error":"#VALUE!"},{"$error":"#VALUE!"},{"$error":"#VALUE!"},{"$error":"#VALUE!"},{"$error":"#VALUE!"},{"$error":"#VALUE!"},{"$error":"#VALUE!"},{"$error":"#VALUE!"},{"$error":"#VALUE!"},{"$error":"#VALUE!"},{"$error":"#VALUE!"},{"$error":"#VALUE!"},{"$error":"#VALUE!"},{"$error":"#VALUE!"},{"$error":"#VALUE!"},{"$error":"#VALUE!"},{"$error":"#VALUE!"},{"$error":"#VALUE!"},{"$error":"#VALUE!"},{"$error":"#VALUE!"},{"$error":"#VALUE!"},{"$error":"#VALUE!"},{"$error":"#VALUE!"},{"$error":"#VALUE!"},{"$error":"#VALUE!"},{"$error":"#VALUE!"},{"$error":"#VALUE!"},null,{"$error":"#VALUE!"},{"$error":"#VALUE!"},{"$error":"#VALUE!"},null,{"$error":"#VALUE!"},{"$error":"#VALUE!"},{"$error":"#VALUE!"},{"$error":"#VALUE!"},{"$error":"#VALUE!"},{"$error":"#VALUE!"},{"$error":"#VALUE!"},{"$error":"#VALUE!"},{"$error":"#VALUE!"},{"$error":"#VALUE!"}]
[null,{"$error":"#VALUE!"},null,{"$error":"#VALUE!"},{"$error":"#VALUE!"},{"$error":"#VALUE!"},null,{"$error":"#VALUE!"},{"$error":"#VALUE!"},{"$error":"#VALUE!"},null,{"$error":"#VALUE!"},{"$error":"#VALUE!"},{"$error":"#VALUE!"},{"$error":"#VALUE!"},{"$error":"#VALUE!"},{"$error":"#VALUE!"},{"$error":"#VALUE!"},{"$error":"#VALUE!"},{"$error":"#VALUE!"},{"$error":"#VALUE!"},{"$error":"#VALUE!"},{"$error":"#VALUE!"},{"$error":"#VALUE!"},{"$error":"#VALUE!"},{"$error":"#VALUE!"},{"$error":"#VALUE!"},{"$error":"#VALUE!"},{"$error":"#VALUE!"},{"$error":"#VALUE!"},{"$error":"#VALUE!"},{"$error":"#VALUE!"},{"$error":"#VALUE!"},{"$error":"#VALUE!"},{"$error":"#VALUE!"},{"$error":"#VALUE!"},{"$error":"#VALUE!"},{"$error":"#VALUE!"},{"$error":"#VALUE!"},{"$error":"#VALUE!"},{"$error":"#VALUE!"},{"$error":"#VALUE!"},null,{"$error":"#VALUE!"},{"$error":"#VALUE!"},{"$error":"#VALUE!"},null,{"$error":"#VALUE!"},{"$error":"#VALUE!"},{"$error":"#VALUE!"},{"$error":"#VALUE!"},{"$error":"#VALUE!"},{"$error":"#VALUE!"},{"$error":"#VALUE!"},{"$error":"#VALUE!"},{"$error":"#VALUE!"},{"$error":"#VALUE!"},null,{"$error":"#VALUE!"},{"$error":"#VALUE!"},{"$error":"#VALUE!"},null,{"$error":"#VALUE!"},{"$error":"#VALUE!"},{"$error":"#VALUE!"},{"$error":"#VALUE!"},{"$error":"#VALUE!"},{"$error":"#VALUE!"},{"$error":"#VALUE!"},{"$error":"#VALUE!"},{"$error":"#VALUE!"},{"$error":"#VALUE!"},null,{"$error":"#VALUE!"},{"$error":"#VALUE!"},{"$error":"#VALUE!"},null,{"$error":"#VALUE!"},{"$error":"#VALUE!"},{"$error":"#VALUE!"},{"$error":"#VALUE!"},{"$error":"#VALUE!"},{"$error":"#VALUE!"},{"$error":"#VALUE!"},{"$error":"#VALUE!"},{"$error":"#VALUE!"},{"$error":"#VALUE!"},{"$error":"#VALUE!"},{"$error":"#VALUE!"},{"$error":"#VALUE!"},{"$error":"#VALUE!"},{"$error":"#VALUE!"},{"$error":"#VALUE!"},{"$error":"#VALUE!"},{"$error":"#VALUE!"},{"$error":"#VALUE!"},{"$error":"#VALUE!"},{"$error":"#VALUE!"},{"$error":"#VALUE!"},{"$error":"#VALUE!"},{"$error":"#VALUE!"},{"$error":"#VALUE!"},{"$error":"#VALUE!"},{"$error":"#VALUE!"},{"$error":"#VALUE!"},{"$error":"#VALUE!"},{"$error":"#VALUE!"},{"$error":"#VALUE!"},null,{"$error":"#VALUE!"},{"$error":"#VALUE!"},{"$error":"#VALUE!"},null,{"$error":"#VALUE!"},{"$error":"#VALUE!"},{"$error":"#VALUE!"},{"$error":"#VALUE!"},{"$error":"#VALUE!"},{"$error":"#VALUE!"},{"$error":"#VALUE!"},{"$error":"#VALUE!"},{"$error":"#VALUE!"},{"$error":"#VALUE!"}]
[null,{"$error":"#VALUE!"},null,{"$error":"#VALUE!"},{"$error":"#VALUE!"},{"$error":"#VALUE!"},null,{"$error":"#VALUE!"},{"$error":"#VALUE!"},{"$error":"#VALUE!"},null,{"$error":"#VALUE!"},{"$error":"#VALUE!"},{"$error":"#VALUE!"},{"$error":"#VALUE!"},{"$error":"#VALUE!"},{"$error":"#VALUE!"},{"$error":"#VALUE!"},{"$error":"#VALUE!"},{"$error":"#VALUE!"},{"$error":"#VALUE!"},{"$error":"#VALUE!"},{"$error":"#VALUE!"},{"$error":"#VALUE!"},{"$error":"#VALUE!"},{"$error":"#VALUE!"},{"$error":"#VALUE!"},{"$error":"#VALUE!"},{"$error":"#VALUE!"},{"$error":"#VALUE!"},{"$error":"#VALUE!"},{"$error":"#VALUE!"},{"$error":"#VALUE!"},{"$error":"#VALUE!"},{"$error":"#VALUE!"},{"$error":"#VALUE!"},{"$error":"#VALUE!"},{"$error":"#VALUE!"},{"$error":"#VALUE!"},{"$error":"#VALUE!"},{"$error":"#VALUE!"},{"$error":"#VALUE!"},null,{"$error":"#VALUE!"},{"$error":"#VALUE!"},{"$error":"#VALUE!"},null,{"$error":"#VALUE!"},{"$error":"#VALUE!"},{"$error":"#VALUE!"},{"$error":"#VALUE!"},{"$error":"#VALUE!"},{"$error":"#VALUE!"},{"$error":"#VALUE!"},{"$error":"#VALUE!"},{"$error":"#VALUE!"},{"$error":"#VALUE!"},null,{"$error":"#VALUE!"},{"$error":"#VALUE!"},{"$error":"#VALUE!"},null,{"$error":"#VALUE!"},{"$error":"#VALUE!"},{"$error":"#VALUE!"},{"$error":"#VALUE!"},{"$error":"#VALUE!"},{"$error":"#VALUE!"},{"$error":"#VALUE!"},{"$error":"#VALUE!"},{"$error":"#VALUE!"},{"$error":"#VALUE!"},null,{"$error":"#VALUE!"},{"$error":"#VALUE!"},{"$error":"#VALUE!"},null,{"$error":"#VALUE!"},{"$error":"#VALUE!"},{"$error":"#VALUE!"},{"$error":"#VALUE!"},{"$error":"#VALUE!"},{"$error":"#VALUE!"},{"$error":"#VALUE!"},{"$error":"#VALUE!"},{"$error":"#VALUE!"},{"$error":"#VALUE!"},{"$error":"#VALUE!"},{"$error":"#VALUE!"},{"$error":"#VALUE!"},{"$error":"#VALUE!"},{"$error":"#VALUE!"},{"$error":"#VALUE!"},{"$error":"#VALUE!"},{"$error":"#VALUE!"},{"$error":"#VALUE!"},{"$error":"#VALUE!"},{"$error":"#VALUE!"},{"$error":"#VALUE!"},{"$error":"#VALUE!"},{"$error":"#VALUE!"},{"$error":"#VALUE!"},{"$error":"#VALUE!"},{"$error":"#VALUE!"},{"$error":"#VALUE!"},{"$error":"#VALUE!"},{"$error":"#VALUE!"},{"$error":"#VALUE!"},null,{"$error":"#VALUE!"},{"$error":"#VALUE!"},{"$error":"#VALUE!"},null,{"$error":"#VALUE!"},{"$error":"#VALUE!"},{"$error":"#VALUE!"},{"$error":"#VALUE!"},{"$error":"#VALUE!"},{"$error":"#VALUE!"},{"$error":"#VALUE!"},{"$error":"#VALUE!"},{"$error":"#VALUE!"},{"$error":"#VALUE!"}]
[null,{"$error":"#VALUE!"},null,{"$error":"#VALUE!"},{"$error":"#VALUE!"},{"$error":"#VALUE!"},null,{"$error":"#VALUE!"},{"$error":"#VALUE!"},{"$error":"#VALUE!"},null,{"$f":"SUM(M40:O40)","v":{"$error":"#VALUE!"}},{"$error":"#VALUE!"},{"$error":"#VALUE!"},{"$error":"#VALUE!"},{"$error":"#VALUE!"},{"$error":"#VALUE!"},{"$error":"#VALUE!"},{"$error":"#VALUE!"},{"$error":"#VALUE!"},{"$error":"#VALUE!"},{"$error":"#VALUE!"},{"$error":"#VALUE!"},{"$error":"#VALUE!"},{"$error":"#VALUE!"},{"$error":"#VALUE!"},{"$error":"#VALUE!"},{"$error":"#VALUE!"},{"$error":"#VALUE!"},{"$error":"#VALUE!"},{"$error":"#VALUE!"},{"$error":"#VALUE!"},{"$error":"#VALUE!"},{"$error":"#VALUE!"},{"$error":"#VALUE!"},{"$error":"#VALUE!"},{"$error":"#VALUE!"},{"$error":"#VALUE!"},{"$error":"#VALUE!"},{"$error":"#VALUE!"},{"$error":"#VALUE!"},{"$error":"#VALUE!"},null,{"$error":"#VALUE!"},{"$error":"#VALUE!"},{"$error":"#VALUE!"},null,{"$f":"SUM(AW40:AY40)","v":{"$error":"#VALUE!"}},{"$error":"#VALUE!"},{"$error":"#VALUE!"},{"$error":"#VALUE!"},{"$error":"#VALUE!"},{"$error":"#VALUE!"},{"$error":"#VALUE!"},{"$error":"#VALUE!"},{"$error":"#VALUE!"},{"$error":"#VALUE!"},null,{"$error":"#VALUE!"},{"$error":"#VALUE!"},{"$error":"#VALUE!"},null,{"$f":"SUM(BL40:BN40)","v":{"$error":"#VALUE!"}},{"$error":"#VALUE!"},{"$error":"#VALUE!"},{"$error":"#VALUE!"},{"$error":"#VALUE!"},{"$error":"#VALUE!"},{"$error":"#VALUE!"},{"$error":"#VALUE!"},{"$error":"#VALUE!"},{"$error":"#VALUE!"},null,{"$error":"#VALUE!"},{"$error":"#VALUE!"},{"$error":"#VALUE!"},null,{"$f":"SUM(CA40:CC40)","v":{"$error":"#VALUE!"}},{"$error":"#VALUE!"},{"$error":"#VALUE!"},{"$error":"#VALUE!"},{"$error":"#VALUE!"},{"$error":"#VALUE!"},{"$error":"#VALUE!"},{"$error":"#VALUE!"},{"$error":"#VALUE!"},{"$error":"#VALUE!"},{"$error":"#VALUE!"},{"$error":"#VALUE!"},{"$error":"#VALUE!"},{"$error":"#VALUE!"},{"$error":"#VALUE!"},{"$error":"#VALUE!"},{"$error":"#VALUE!"},{"$error":"#VALUE!"},{"$error":"#VALUE!"},{"$error":"#VALUE!"},{"$error":"#VALUE!"},{"$error":"#VALUE!"},{"$error":"#VALUE!"},{"$error":"#VALUE!"},{"$error":"#VALUE!"},{"$error":"#VALUE!"},{"$error":"#VALUE!"},{"$error":"#VALUE!"},{"$error":"#VALUE!"},{"$error":"#VALUE!"},{"$error":"#VALUE!"},null,{"$error":"#VALUE!"},{"$error":"#VALUE!"},{"$error":"#VALUE!"},null,{"$f":"SUM(DK40:DM40)","v":{"$error":"#VALUE!"}},{"$error":"#VALUE!"},{"$error":"#VALUE!"},{"$error":"#VALUE!"},{"$error":"#VALUE!"},{"$error":"#VALUE!"},{"$error":"#VALUE!"},{"$error":"#VALUE!"},{"$error":"#VALUE!"},{"$error":"#VALUE!"}]
[null,{"$error":"#VALUE!"},null,{"$error":"#VALUE!"},{"$error":"#VALUE!"},{"$error":"#VALUE!"},null,{"$error":"#VALUE!"},{"$error":"#VALUE!"},{"$error":"#VALUE!"},null,{"$f":"SUM(M41:O41)","v":{"$error":"#VALUE!"}},{"$error":"#VALUE!"},{"$error":"#VALUE!"},{"$error":"#VALUE!"},{"$error":"#VALUE!"},{"$error":"#VALUE!"},{"$error":"#VALUE!"},{"$error":"#VALUE!"},{"$error":"#VALUE!"},{"$error":"#VALUE!"},{"$error":"#VALUE!"},{"$error":"#VALUE!"},{"$error":"#VALUE!"},{"$error":"#VALUE!"},{"$error":"#VALUE!"},{"$error":"#VALUE!"},{"$error":"#VALUE!"},{"$error":"#VALUE!"},{"$error":"#VALUE!"},{"$error":"#VALUE!"},{"$error":"#VALUE!"},{"$error":"#VALUE!"},{"$error":"#VALUE!"},{"$error":"#VALUE!"},{"$error":"#VALUE!"},{"$error":"#VALUE!"},{"$error":"#VALUE!"},{"$error":"#VALUE!"},{"$error":"#VALUE!"},{"$error":"#VALUE!"},{"$error":"#VALUE!"},null,{"$error":"#VALUE!"},{"$error":"#VALUE!"},{"$error":"#VALUE!"},null,{"$f":"SUM(AW41:AY41)","v":{"$error":"#VALUE!"}},{"$error":"#VALUE!"},{"$error":"#VALUE!"},{"$error":"#VALUE!"},{"$error":"#VALUE!"},{"$error":"#VALUE!"},{"$error":"#VALUE!"},{"$error":"#VALUE!"},{"$error":"#VALUE!"},{"$error":"#VALUE!"},null,{"$error":"#VALUE!"},{"$error":"#VALUE!"},{"$error":"#VALUE!"},null,{"$f":"SUM(BL41:BN41)","v":{"$error":"#VALUE!"}},{"$error":"#VALUE!"},{"$error":"#VALUE!"},{"$error":"#VALUE!"},{"$error":"#VALUE!"},{"$error":"#VALUE!"},{"$error":"#VALUE!"},{"$error":"#VALUE!"},{"$error":"#VALUE!"},{"$error":"#VALUE!"},null,{"$error":"#VALUE!"},{"$error":"#VALUE!"},{"$error":"#VALUE!"},null,{"$f":"SUM(CA41:CC41)","v":{"$error":"#VALUE!"}},{"$error":"#VALUE!"},{"$error":"#VALUE!"},{"$error":"#VALUE!"},{"$error":"#VALUE!"},{"$error":"#VALUE!"},{"$error":"#VALUE!"},{"$error":"#VALUE!"},{"$error":"#VALUE!"},{"$error":"#VALUE!"},{"$error":"#VALUE!"},{"$error":"#VALUE!"},{"$error":"#VALUE!"},{"$error":"#VALUE!"},{"$error":"#VALUE!"},{"$error":"#VALUE!"},{"$error":"#VALUE!"},{"$error":"#VALUE!"},{"$error":"#VALUE!"},{"$error":"#VALUE!"},{"$error":"#VALUE!"},{"$error":"#VALUE!"},{"$error":"#VALUE!"},{"$error":"#VALUE!"},{"$error":"#VALUE!"},{"$error":"#VALUE!"},{"$error":"#VALUE!"},{"$error":"#VALUE!"},{"$error":"#VALUE!"},{"$error":"#VALUE!"},{"$error":"#VALUE!"},null,{"$error":"#VALUE!"},{"$error":"#VALUE!"},{"$error":"#VALUE!"},null,{"$f":"SUM(DK41:DM41)","v":{"$error":"#VALUE!"}},{"$error":"#VALUE!"},{"$error":"#VALUE!"},{"$error":"#VALUE!"},{"$error":"#VALUE!"},{"$error":"#VALUE!"},{"$error":"#VALUE!"},{"$error":"#VALUE!"},{"$error":"#VALUE!"},{"$error":"#VALUE!"}]
[null,{"$error":"#VALUE!"},null,{"$error":"#VALUE!"},{"$error":"#VALUE!"},{"$error":"#VALUE!"},null,{"$error":"#VALUE!"},{"$error":"#VALUE!"},{"$error":"#VALUE!"},null,{"$error":"#VALUE!"},{"$error":"#VALUE!"},{"$error":"#VALUE!"},{"$error":"#VALUE!"},{"$error":"#VALUE!"},{"$error":"#VALUE!"},{"$error":"#VALUE!"},{"$error":"#VALUE!"},{"$error":"#VALUE!"},{"$error":"#VALUE!"},{"$error":"#VALUE!"},{"$error":"#VALUE!"},{"$error":"#VALUE!"},{"$error":"#VALUE!"},{"$error":"#VALUE!"},{"$error":"#VALUE!"},{"$error":"#VALUE!"},{"$error":"#VALUE!"},{"$error":"#VALUE!"},{"$error":"#VALUE!"},{"$error":"#VALUE!"},{"$error":"#VALUE!"},{"$error":"#VALUE!"},{"$error":"#VALUE!"},{"$error":"#VALUE!"},{"$error":"#VALUE!"},{"$error":"#VALUE!"},{"$error":"#VALUE!"},{"$error":"#VALUE!"},{"$error":"#VALUE!"},{"$error":"#VALUE!"},null,{"$error":"#VALUE!"},{"$error":"#VALUE!"},{"$error":"#VALUE!"},null,{"$error":"#VALUE!"},{"$error":"#VALUE!"},{"$error":"#VALUE!"},{"$error":"#VALUE!"},{"$error":"#VALUE!"},{"$error":"#VALUE!"},{"$error":"#VALUE!"},{"$error":"#VALUE!"},{"$error":"#VALUE!"},{"$error":"#VALUE!"},null,{"$error":"#VALUE!"},{"$error":"#VALUE!"},{"$error":"#VALUE!"},null,{"$error":"#VALUE!"},{"$error":"#VALUE!"},{"$error":"#VALUE!"},{"$error":"#VALUE!"},{"$error":"#VALUE!"},{"$error":"#VALUE!"},{"$error":"#VALUE!"},{"$error":"#VALUE!"},{"$error":"#VALUE!"},{"$error":"#VALUE!"},null,{"$error":"#VALUE!"},{"$error":"#VALUE!"},{"$error":"#VALUE!"},null,{"$error":"#VALUE!"},{"$error":"#VALUE!"},{"$error":"#VALUE!"},{"$error":"#VALUE!"},{"$error":"#VALUE!"},{"$error":"#VALUE!"},{"$error":"#VALUE!"},{"$error":"#VALUE!"},{"$error":"#VALUE!"},{"$error":"#VALUE!"},{"$error":"#VALUE!"},{"$error":"#VALUE!"},{"$error":"#VALUE!"},{"$error":"#VALUE!"},{"$error":"#VALUE!"},{"$error":"#VALUE!"},{"$error":"#VALUE!"},{"$error":"#VALUE!"},{"$error":"#VALUE!"},{"$error":"#VALUE!"},{"$error":"#VALUE!"},{"$error":"#VALUE!"},{"$error":"#VALUE!"},{"$error":"#VALUE!"},{"$error":"#VALUE!"},{"$error":"#VALUE!"},{"$error":"#VALUE!"},{"$error":"#VALUE!"},{"$error":"#VALUE!"},{"$error":"#VALUE!"},{"$error":"#VALUE!"},null,{"$error":"#VALUE!"},{"$error":"#VALUE!"},{"$error":"#VALUE!"},null,{"$error":"#VALUE!"},{"$error":"#VALUE!"},{"$error":"#VALUE!"},{"$error":"#VALUE!"},{"$error":"#VALUE!"},{"$error":"#VALUE!"},{"$error":"#VALUE!"},{"$error":"#VALUE!"},{"$error":"#VALUE!"},{"$error":"#VALUE!"}]
[null,{"$error":"#VALUE!"},null,{"$error":"#VALUE!"},{"$error":"#VALUE!"},{"$error":"#VALUE!"},null,{"$error":"#VALUE!"},{"$error":"#VALUE!"},{"$error":"#VALUE!"},null,{"$error":"#VALUE!"},{"$error":"#VALUE!"},{"$error":"#VALUE!"},{"$error":"#VALUE!"},{"$error":"#VALUE!"},{"$error":"#VALUE!"},{"$error":"#VALUE!"},{"$error":"#VALUE!"},{"$error":"#VALUE!"},{"$error":"#VALUE!"},{"$error":"#VALUE!"},{"$error":"#VALUE!"},{"$error":"#VALUE!"},{"$error":"#VALUE!"},{"$error":"#VALUE!"},{"$error":"#VALUE!"},{"$f":"IF(AND($B43>=AB$4,$B43<=AB$5),AB$6,0)","v":{"$error":"#VALUE!"}},{"$error":"#VALUE!"},{"$error":"#VALUE!"},{"$error":"#VALUE!"},{"$error":"#VALUE!"},{"$error":"#VALUE!"},{"$error":"#VALUE!"},{"$error":"#VALUE!"},{"$error":"#VALUE!"},{"$error":"#VALUE!"},{"$error":"#VALUE!"},{"$error":"#VALUE!"},{"$error":"#VALUE!"},{"$error":"#VALUE!"},{"$error":"#VALUE!"},null,{"$f":"SUM(AW43:BE43)","v":{"$error":"#VALUE!"}},{"$error":"#VALUE!"},{"$error":"#VALUE!"},null,{"$error":"#VALUE!"},{"$error":"#VALUE!"},{"$error":"#VALUE!"},{"$error":"#VALUE!"},{"$error":"#VALUE!"},{"$error":"#VALUE!"},{"$error":"#VALUE!"},{"$error":"#VALUE!"},{"$error":"#VALUE!"},{"$error":"#VALUE!"},null,{"$f":"SUM(BL43:BT43)","v":{"$error":"#VALUE!"}},{"$error":"#VALUE!"},{"$error":"#VALUE!"},null,{"$error":"#VALUE!"},{"$f":"IF(AND($B43>=BL$4,$B43<=BL$5),BL$6,0)","v":{"$error":"#VALUE!"}},{"$error":"#VALUE!"},{"$error":"#VALUE!"},{"$error":"#VALUE!"},{"$error":"#VALUE!"},{"$error":"#VALUE!"},{"$error":"#VALUE!"},{"$error":"#VALUE!"},{"$error":"#VALUE!"},null,{"$error":"#VALUE!"},{"$error":"#VALUE!"},{"$error":"#VALUE!"},null,{"$error":"#VALUE!"},{"$error":"#VALUE!"},{"$error":"#VALUE!"},{"$error":"#VALUE!"},{"$error":"#VALUE!"},{"$error":"#VALUE!"},{"$error":"#VALUE!"},{"$error":"#VALUE!"},{"$error":"#VALUE!"},{"$error":"#VALUE!"},{"$error":"#VALUE!"},{"$error":"#VALUE!"},{"$error":"#VALUE!"},{"$error":"#VALUE!"},{"$error":"#VALUE!"},{"$error":"#VALUE!"},{"$f":"IF(AND($B43>=CP$4,$B43<=CP$5),CP$6,0)","v":{"$error":"#VALUE!"}},{"$error":"#VALUE!"},{"$error":"#VALUE!"},{"$error":"#VALUE!"},{"$error":"#VALUE!"},{"$error":"#VALUE!"},{"$error":"#VALUE!"},{"$error":"#VALUE!"},{"$error":"#VALUE!"},{"$error":"#VALUE!"},{"$error":"#VALUE!"},{"$error":"#VALUE!"},{"$error":"#VALUE!"},{"$error":"#VALUE!"},{"$error":"#VALUE!"},null,{"$error":"#VALUE!"},{"$error":"#VALUE!"},{"$error":"#VALUE!"},null,{"$error":"#VALUE!"},{"$f":"IF(AND($B43>=DK$4,$B43<=DK$5),DK$6,0)","v":{"$error":"#VALUE!"}},{"$error":"#VALUE!"},{"$error":"#VALUE!"},{"$error":"#VALUE!"},{"$error":"#VALUE!"},{"$error":"#VALUE!"},{"$error":"#VALUE!"},{"$error":"#VALUE!"},{"$error":"#VALUE!"}]
[null,{"$error":"#VALUE!"},null,{"$error":"#VALUE!"},{"$error":"#VALUE!"},{"$error":"#VALUE!"},null,{"$error":"#VALUE!"},{"$error":"#VALUE!"},{"$error":"#VALUE!"},null,{"$error":"#VALUE!"},{"$f":"IF(AND($B44>=M$4,$B44<=M$5),M$6,0)","v":{"$error":"#VALUE!"}},{"$error":"#VALUE!"},{"$error":"#VALUE!"},{"$error":"#VALUE!"},{"$error":"#VALUE!"},{"$error":"#VALUE!"},{"$error":"#VALUE!"},{"$error":"#VALUE!"},{"$error":"#VALUE!"},{"$error":"#VALUE!"},{"$error":"#VALUE!"},{"$error":"#VALUE!"},{"$error":"#VALUE!"},{"$error":"#VALUE!"},{"$error":"#VALUE!"},{"$error":"#VALUE!"},{"$error":"#VALUE!"},{"$error":"#VALUE!"},{"$error":"#VALUE!"},{"$error":"#VALUE!"},{"$error":"#VALUE!"},{"$error":"#VALUE!"},{"$error":"#VALUE!"},{"$error":"#VALUE!"},{"$error":"#VALUE!"},{"$error":"#VALUE!"},{"$error":"#VALUE!"},{"$error":"#VALUE!"},{"$error":"#VALUE!"},{"$error":"#VALUE!"},null,{"$error":"#VALUE!"},{"$error":"#VALUE!"},{"$error":"#VALUE!"},null,{"$error":"#VALUE!"},{"$f":"IF(AND($B44>=AW$4,$B44<=AW$5),AW$6,0)","v":{"$error":"#VALUE!"}},{"$error":"#VALUE!"},{"$error":"#VALUE!"},{"$error":"#VALUE!"},{"$error":"#VALUE!"},{"$error":"#VALUE!"},{"$error":"#VALUE!"},{"$error":"#VALUE!"},{"$error":"#VALUE!"},null,{"$error":"#VALUE!"},{"$error":"#VALUE!"},{"$error":"#VALUE!"},null,{"$error":"#VALUE!"},{"$error":"#VALUE!"},{"$error":"#VALUE!"},{"$error":"#VALUE!"},{"$error":"#VALUE!"},{"$error":"#VALUE!"},{"$error":"#VALUE!"},{"$error":"#VALUE!"},{"$error":"#VALUE!"},{"$error":"#VALUE!"},null,{"$error":"#VALUE!"},{"$error":"#VALUE!"},{"$error":"#VALUE!"},null,{"$error":"#VALUE!"},{"$f":"IF(AND($B44>=CA$4,$B44<=CA$5),CA$6,0)","v":{"$error":"#VALUE!"}},{"$error":"#VALUE!"},{"$error":"#VALUE!"},{"$error":"#VALUE!"},{"$error":"#VALUE!"},{"$error":"#VALUE!"},{"$error":"#VALUE!"},{"$error":"#VALUE!"},{"$error":"#VALUE!"},{"$error":"#VALUE!"},{"$error":"#VALUE!"},{"$error":"#VALUE!"},{"$error":"#VALUE!"},{"$error":"#VALUE!"},{"$error":"#VALUE!"},{"$error":"#VALUE!"},{"$error":"#VALUE!"},{"$error":"#VALUE!"},{"$error":"#VALUE!"},{"$error":"#VALUE!"},{"$error":"#VALUE!"},{"$error":"#VALUE!"},{"$error":"#VALUE!"},{"$error":"#VALUE!"},{"$error":"#VALUE!"},{"$error":"#VALUE!"},{"$error":"#VALUE!"},{"$error":"#VALUE!"},{"$error":"#VALUE!"},{"$error":"#VALUE!"},null,{"$error":"#VALUE!"},{"$error":"#VALUE!"},{"$error":"#VALUE!"},null,{"$error":"#VALUE!"},{"$error":"#VALUE!"},{"$error":"#VALUE!"},{"$error":"#VALUE!"},{"$error":"#VALUE!"},{"$error":"#VALUE!"},{"$error":"#VALUE!"},{"$error":"#VALUE!"},{"$error":"#VALUE!"},{"$error":"#VALUE!"}]
[null,{"$error":"#VALUE!"},null,{"$error":"#VALUE!"},{"$error":"#VALUE!"},{"$error":"#VALUE!"},null,{"$error":"#VALUE!"},{"$error":"#VALUE!"},{"$error":"#VALUE!"},null,{"$error":"#VALUE!"},{"$error":"#VALUE!"},{"$error":"#VALUE!"},{"$error":"#VALUE!"},{"$error":"#VALUE!"},{"$error":"#VALUE!"},{"$error":"#VALUE!"},{"$error":"#VALUE!"},{"$error":"#VALUE!"},{"$error":"#VALUE!"},{"$error":"#VALUE!"},{"$error":"#VALUE!"},{"$error":"#VALUE!"},{"$error":"#VALUE!"},{"$error":"#VALUE!"},{"$error":"#VALUE!"},{"$error":"#VALUE!"},{"$error":"#VALUE!"},{"$error":"#VALUE!"},{"$error":"#VALUE!"},{"$error":"#VALUE!"},{"$error":"#VALUE!"},{"$error":"#VALUE!"},{"$error":"#VALUE!"},{"$error":"#VALUE!"},{"$error":"#VALUE!"},{"$error":"#VALUE!"},{"$error":"#VALUE!"},{"$error":"#VALUE!"},{"$error":"#VALUE!"},{"$error":"#VALUE!"},null,{"$error":"#VALUE!"},{"$error":"#VALUE!"},{"$error":"#VALUE!"},null,{"$error":"#VALUE!"},{"$error":"#VALUE!"},{"$error":"#VALUE!"},{"$error":"#VALUE!"},{"$error":"#VALUE!"},{"$error":"#VALUE!"},{"$error":"#VALUE!"},{"$error":"#VALUE!"},{"$error":"#VALUE!"},{"$error":"#VALUE!"},null,{"$error":"#VALUE!"},{"$error":"#VALUE!"},{"$error":"#VALUE!"},null,{"$error":"#VALUE!"},{"$error":"#VALUE!"},{"$error":"#VALUE!"},{"$error":"#VALUE!"},{"$error":"#VALUE!"},{"$error":"#VALUE!"},{"$error":"#VALUE!"},{"$error":"#VALUE!"},{"$error":"#VALUE!"},{"$error":"#VALUE!"},null,{"$error":"#VALUE!"},{"$error":"#VALUE!"},{"$error":"#VALUE!"},null,{"$error":"#VALUE!"},{"$error":"#VALUE!"},{"$error":"#VALUE!"},{"$error":"#VALUE!"},{"$error":"#VALUE!"},{"$error":"#VALUE!"},{"$error":"#VALUE!"},{"$error":"#VALUE!"},{"$error":"#VALUE!"},{"$error":"#VALUE!"},{"$error":"#VALUE!"},{"$error":"#VALUE!"},{"$error":"#VALUE!"},{"$error":"#VALUE!"},{"$error":"#VALUE!"},{"$error":"#VALUE!"},{"$error":"#VALUE!"},{"$error":"#VALUE!"},{"$error":"#VALUE!"},{"$error":"#VALUE!"},{"$error":"#VALUE!"},{"$error":"#VALUE!"},{"$error":"#VALUE!"},{"$error":"#VALUE!"},{"$error":"#VALUE!"},{"$error":"#VALUE!"},{"$error":"#VALUE!"},{"$error":"#VALUE!"},{"$error":"#VALUE!"},{"$error":"#VALUE!"},{"$error":"#VALUE!"},null,{"$error":"#VALUE!"},{"$error":"#VALUE!"},{"$error":"#VALUE!"},null,{"$error":"#VALUE!"},{"$error":"#VALUE!"},{"$error":"#VALUE!"},{"$error":"#VALUE!"},{"$error":"#VALUE!"},{"$error":"#VALUE!"},{"$error":"#VALUE!"},{"$error":"#VALUE!"},{"$error":"#VALUE!"},{"$error":"#VALUE!"}]
[null,{"$f":"DATE(YEAR(B45),MONTH(B45)+1,DAY(B45))","v":{"$error":"#VALUE!"}},null,{"$error":"#VALUE!"},{"$error":"#VALUE!"},{"$error":"#VALUE!"},null,{"$error":"#VALUE!"},{"$error":"#VALUE!"},{"$error":"#VALUE!"},null,{"$error":"#VALUE!"},{"$error":"#VALUE!"},{"$error":"#VALUE!"},{"$error":"#VALUE!"},{"$error":"#VALUE!"},{"$error":"#VALUE!"},{"$error":"#VALUE!"},{"$error":"#VALUE!"},{"$error":"#VALUE!"},{"$error":"#VALUE!"},{"$error":"#VALUE!"},{"$error":"#VALUE!"},{"$error":"#VALUE!"},{"$error":"#VALUE!"},{"$error":"#VALUE!"},{"$error":"#VALUE!"},{"$error":"#VALUE!"},{"$error":"#VALUE!"},{"$error":"#VALUE!"},{"$error":"#VALUE!"},{"$error":"#VALUE!"},{"$error":"#VALUE!"},{"$error":"#VALUE!"},{"$error":"#VALUE!"},{"$error":"#VALUE!"},{"$error":"#VALUE!"},{"$error":"#VALUE!"},{"$error":"#VALUE!"},{"$error":"#VALUE!"},{"$error":"#VALUE!"},{"$error":"#VALUE!"},null,{"$error":"#VALUE!"},{"$error":"#VALUE!"},{"$error":"#VALUE!"},null,{"$error":"#VALUE!"},{"$error":"#VALUE!"},{"$error":"#VALUE!"},{"$error":"#VALUE!"},{"$error":"#VALUE!"},{"$error":"#VALUE!"},{"$error":"#VALUE!"},{"$error":"#VALUE!"},{"$error":"#VALUE!"},{"$error":"#VALUE!"},null,{"$error":"#VALUE!"},{"$error":"#VALUE!"},{"$error":"#VALUE!"},null,{"$error":"#VALUE!"},{"$error":"#VALUE!"},{"$error":"#VALUE!"},{"$error":"#VALUE!"},{"$error":"#VALUE!"},{"$error":"#VALUE!"},{"$error":"#VALUE!"},{"$error":"#VALUE!"},{"$error":"#VALUE!"},{"$error":"#VALUE!"},null,{"$error":"#VALUE!"},{"$error":"#VALUE!"},{"$error":"#VALUE!"},null,{"$error":"#VALUE!"},{"$error":"#VALUE!"},{"$error":"#VALUE!"},{"$error":"#VALUE!"},{"$error":"#VALUE!"},{"$error":"#VALUE!"},{"$error":"#VALUE!"},{"$error":"#VALUE!"},{"$error":"#VALUE!"},{"$error":"#VALUE!"},{"$error":"#VALUE!"},{"$error":"#VALUE!"},{"$error":"#VALUE!"},{"$error":"#VALUE!"},{"$error":"#VALUE!"},{"$error":"#VALUE!"},{"$error":"#VALUE!"},{"$error":"#VALUE!"},{"$error":"#VALUE!"},{"$error":"#VALUE!"},{"$error":"#VALUE!"},{"$error":"#VALUE!"},{"$error":"#VALUE!"},{"$error":"#VALUE!"},{"$error":"#VALUE!"},{"$error":"#VALUE!"},{"$error":"#VALUE!"},{"$error":"#VALUE!"},{"$error":"#VALUE!"},{"$error":"#VALUE!"},{"$error":"#VALUE!"},null,{"$error":"#VALUE!"},{"$error":"#VALUE!"},{"$error":"#VALUE!"},null,{"$error":"#VALUE!"},{"$error":"#VALUE!"},{"$error":"#VALUE!"},{"$error":"#VALUE!"},{"$error":"#VALUE!"},{"$error":"#VALUE!"},{"$error":"#VALUE!"},{"$error":"#VALUE!"},{"$error":"#VALUE!"},{"$error":"#VALUE!"}]
[null,{"$f":"DATE(YEAR(B46),MONTH(B46)+1,DAY(B46))","v":{"$error":"#VALUE!"}},null,{"$error":"#VALUE!"},{"$error":"#VALUE!"},{"$error":"#VALUE!"},null,{"$error":"#VALUE!"},{"$error":"#VALUE!"},{"$error":"#VALUE!"},null,{"$error":"#VALUE!"},{"$error":"#VALUE!"},{"$error":"#VALUE!"},{"$error":"#VALUE!"},{"$error":"#VALUE!"},{"$error":"#VALUE!"},{"$error":"#VALUE!"},{"$error":"#VALUE!"},{"$error":"#VALUE!"},{"$error":"#VALUE!"},{"$error":"#VALUE!"},{"$error":"#VALUE!"},{"$error":"#VALUE!"},{"$error":"#VALUE!"},{"$error":"#VALUE!"},{"$error":"#VALUE!"},{"$error":"#VALUE!"},{"$error":"#VALUE!"},{"$error":"#VALUE!"},{"$error":"#VALUE!"},{"$error":"#VALUE!"},{"$error":"#VALUE!"},{"$error":"#VALUE!"},{"$error":"#VALUE!"},{"$error":"#VALUE!"},{"$error":"#VALUE!"},{"$error":"#VALUE!"},{"$error":"#VALUE!"},{"$error":"#VALUE!"},{"$error":"#VALUE!"},{"$error":"#VALUE!"},null,{"$error":"#VALUE!"},{"$error":"#VALUE!"},{"$error":"#VALUE!"},null,{"$error":"#VALUE!"},{"$error":"#VALUE!"},{"$error":"#VALUE!"},{"$error":"#VALUE!"},{"$error":"#VALUE!"},{"$error":"#VALUE!"},{"$error":"#VALUE!"},{"$error":"#VALUE!"},{"$error":"#VALUE!"},{"$error":"#VALUE!"},null,{"$error":"#VALUE!"},{"$error":"#VALUE!"},{"$error":"#VALUE!"},null,{"$error":"#VALUE!"},{"$error":"#VALUE!"},{"$error":"#VALUE!"},{"$error":"#VALUE!"},{"$error":"#VALUE!"},{"$error":"#VALUE!"},{"$error":"#VALUE!"},{"$error":"#VALUE!"},{"$error":"#VALUE!"},{"$error":"#VALUE!"},null,{"$error":"#VALUE!"},{"$error":"#VALUE!"},{"$error":"#VALUE!"},null,{"$error":"#VALUE!"},{"$error":"#VALUE!"},{"$error":"#VALUE!"},{"$error":"#VALUE!"},{"$error":"#VALUE!"},{"$error":"#VALUE!"},{"$error":"#VALUE!"},{"$error":"#VALUE!"},{"$error":"#VALUE!"},{"$error":"#VALUE!"},{"$error":"#VALUE!"},{"$error":"#VALUE!"},{"$error":"#VALUE!"},{"$error":"#VALUE!"},{"$error":"#VALUE!"},{"$error":"#VALUE!"},{"$error":"#VALUE!"},{"$error":"#VALUE!"},{"$error":"#VALUE!"},{"$error":"#VALUE!"},{"$error":"#VALUE!"},{"$error":"#VALUE!"},{"$error":"#VALUE!"},{"$error":"#VALUE!"},{"$error":"#VALUE!"},{"$error":"#VALUE!"},{"$error":"#VALUE!"},{"$error":"#VALUE!"},{"$error":"#VALUE!"},{"$error":"#VALUE!"},{"$error":"#VALUE!"},null,{"$error":"#VALUE!"},{"$error":"#VALUE!"},{"$error":"#VALUE!"},null,{"$error":"#VALUE!"},{"$error":"#VALUE!"},{"$error":"#VALUE!"},{"$error":"#VALUE!"},{"$error":"#VALUE!"},{"$error":"#VALUE!"},{"$error":"#VALUE!"},{"$error":"#VALUE!"},{"$error":"#VALUE!"},{"$error":"#VALUE!"}]
[null,{"$f":"DATE(YEAR(B47),MONTH(B47)+1,DAY(B47))","v":{"$error":"#VALUE!"}},null,{"$error":"#VALUE!"},{"$error":"#VALUE!"},{"$error":"#VALUE!"},null,{"$error":"#VALUE!"},{"$error":"#VALUE!"},{"$error":"#VALUE!"},null,{"$error":"#VALUE!"},{"$error":"#VALUE!"},{"$error":"#VALUE!"},{"$error":"#VALUE!"},{"$error":"#VALUE!"},{"$error":"#VALUE!"},{"$error":"#VALUE!"},{"$error":"#VALUE!"},{"$error":"#VALUE!"},{"$error":"#VALUE!"},{"$error":"#VALUE!"},{"$error":"#VALUE!"},{"$error":"#VALUE!"},{"$error":"#VALUE!"},{"$error":"#VALUE!"},{"$error":"#VALUE!"},{"$error":"#VALUE!"},{"$error":"#VALUE!"},{"$error":"#VALUE!"},{"$error":"#VALUE!"},{"$error":"#VALUE!"},{"$error":"#VALUE!"},{"$error":"#VALUE!"},{"$error":"#VALUE!"},{"$error":"#VALUE!"},{"$error":"#VALUE!"},{"$error":"#VALUE!"},{"$error":"#VALUE!"},{"$error":"#VALUE!"},{"$error":"#VALUE!"},{"$error":"#VALUE!"},null,{"$error":"#VALUE!"},{"$error":"#VALUE!"},{"$error":"#VALUE!"},null,{"$error":"#VALUE!"},{"$error":"#VALUE!"},{"$error":"#VALUE!"},{"$error":"#VALUE!"},{"$error":"#VALUE!"},{"$error":"#VALUE!"},{"$error":"#VALUE!"},{"$error":"#VALUE!"},{"$error":"#VALUE!"},{"$error":"#VALUE!"},null,{"$error":"#VALUE!"},{"$error":"#VALUE!"},{"$error":"#VALUE!"},null,{"$error":"#VALUE!"},{"$error":"#VALUE!"},{"$error":"#VALUE!"},{"$error":"#VALUE!"},{"$error":"#VALUE!"},{"$error":"#VALUE!"},{"$error":"#VALUE!"},{"$error":"#VALUE!"},{"$error":"#VALUE!"},{"$error":"#VALUE!"},null,{"$error":"#VALUE!"},{"$error":"#VALUE!"},{"$error":"#VALUE!"},null,{"$error":"#VALUE!"},{"$error":"#VALUE!"},{"$error":"#VALUE!"},{"$error":"#VALUE!"},{"$error":"#VALUE!"},{"$error":"#VALUE!"},{"$error":"#VALUE!"},{"$error":"#VALUE!"},{"$error":"#VALUE!"},{"$error":"#VALUE!"},{"$error":"#VALUE!"},{"$error":"#VALUE!"},{"$error":"#VALUE!"},{"$error":"#VALUE!"},{"$error":"#VALUE!"},{"$error":"#VALUE!"},{"$error":"#VALUE!"},{"$error":"#VALUE!"},{"$error":"#VALUE!"},{"$error":"#VALUE!"},{"$error":"#VALUE!"},{"$error":"#VALUE!"},{"$error":"#VALUE!"},{"$error":"#VALUE!"},{"$error":"#VALUE!"},{"$error":"#VALUE!"},{"$error":"#VALUE!"},{"$error":"#VALUE!"},{"$error":"#VALUE!"},{"$error":"#VALUE!"},{"$error":"#VALUE!"},null,{"$error":"#VALUE!"},{"$error":"#VALUE!"},{"$error":"#VALUE!"},null,{"$error":"#VALUE!"},{"$error":"#VALUE!"},{"$error":"#VALUE!"},{"$error":"#VALUE!"},{"$error":"#VALUE!"},{"$error":"#VALUE!"},{"$error":"#VALUE!"},{"$error":"#VALUE!"},{"$error":"#VALUE!"},{"$error":"#VALUE!"}]
[null,{"$error":"#VALUE!"},null,{"$error":"#VALUE!"},{"$error":"#VALUE!"},{"$error":"#VALUE!"},null,{"$error":"#VALUE!"},{"$error":"#VALUE!"},{"$error":"#VALUE!"},null,{"$error":"#VALUE!"},{"$error":"#VALUE!"},{"$error":"#VALUE!"},{"$error":"#VALUE!"},{"$error":"#VALUE!"},{"$error":"#VALUE!"},{"$error":"#VALUE!"},{"$error":"#VALUE!"},{"$error":"#VALUE!"},{"$error":"#VALUE!"},{"$error":"#VALUE!"},{"$error":"#VALUE!"},{"$error":"#VALUE!"},{"$error":"#VALUE!"},{"$error":"#VALUE!"},{"$error":"#VALUE!"},{"$error":"#VALUE!"},{"$error":"#VALUE!"},{"$error":"#VALUE!"},{"$error":"#VALUE!"},{"$error":"#VALUE!"},{"$error":"#VALUE!"},{"$error":"#VALUE!"},{"$error":"#VALUE!"},{"$error":"#VALUE!"},{"$error":"#VALUE!"},{"$error":"#VALUE!"},{"$error":"#VALUE!"},{"$error":"#VALUE!"},{"$error":"#VALUE!"},{"$error":"#VALUE!"},null,{"$error":"#VALUE!"},{"$error":"#VALUE!"},{"$error":"#VALUE!"},null,{"$error":"#VALUE!"},{"$error":"#VALUE!"},{"$error":"#VALUE!"},{"$error":"#VALUE!"},{"$error":"#VALUE!"},{"$error":"#VALUE!"},{"$error":"#VALUE!"},{"$error":"#VALUE!"},{"$error":"#VALUE!"},{"$error":"#VALUE!"},null,{"$error":"#VALUE!"},{"$error":"#VALUE!"},{"$error":"#VALUE!"},null,{"$error":"#VALUE!"},{"$error":"#VALUE!"},{"$error":"#VALUE!"},{"$error":"#VALUE!"},{"$error":"#VALUE!"},{"$error":"#VALUE!"},{"$error":"#VALUE!"},{"$error":"#VALUE!"},{"$error":"#VALUE!"},{"$error":"#VALUE!"},null,{"$error":"#VALUE!"},{"$error":"#VALUE!"},{"$error":"#VALUE!"},null,{"$error":"#VALUE!"},{"$error":"#VALUE!"},{"$error":"#VALUE!"},{"$error":"#VALUE!"},{"$error":"#VALUE!"},{"$error":"#VALUE!"},{"$error":"#VALUE!"},{"$error":"#VALUE!"},{"$error":"#VALUE!"},{"$error":"#VALUE!"},{"$error":"#VALUE!"},{"$error":"#VALUE!"},{"$error":"#VALUE!"},{"$error":"#VALUE!"},{"$error":"#VALUE!"},{"$error":"#VALUE!"},{"$error":"#VALUE!"},{"$error":"#VALUE!"},{"$error":"#VALUE!"},{"$error":"#VALUE!"},{"$error":"#VALUE!"},{"$error":"#VALUE!"},{"$error":"#VALUE!"},{"$error":"#VALUE!"},{"$error":"#VALUE!"},{"$error":"#VALUE!"},{"$error":"#VALUE!"},{"$error":"#VALUE!"},{"$error":"#VALUE!"},{"$error":"#VALUE!"},{"$error":"#VALUE!"},null,{"$error":"#VALUE!"},{"$error":"#VALUE!"},{"$error":"#VALUE!"},null,{"$error":"#VALUE!"},{"$error":"#VALUE!"},{"$error":"#VALUE!"},{"$error":"#VALUE!"},{"$error":"#VALUE!"},{"$error":"#VALUE!"},{"$error":"#VALUE!"},{"$error":"#VALUE!"},{"$error":"#VALUE!"},{"$error":"#VALUE!"}]
[null,{"$error":"#VALUE!"},null,{"$error":"#VALUE!"},{"$error":"#VALUE!"},{"$error":"#VALUE!"},null,{"$error":"#VALUE!"},{"$error":"#VALUE!"},{"$error":"#VALUE!"},null,{"$error":"#VALUE!"},{"$error":"#VALUE!"},{"$error":"#VALUE!"},{"$error":"#VALUE!"},{"$error":"#VALUE!"},{"$error":"#VALUE!"},{"$error":"#VALUE!"},{"$error":"#VALUE!"},{"$error":"#VALUE!"},{"$error":"#VALUE!"},{"$error":"#VALUE!"},{"$error":"#VALUE!"},{"$error":"#VALUE!"},{"$error":"#VALUE!"},{"$error":"#VALUE!"},{"$error":"#VALUE!"},{"$error":"#VALUE!"},{"$error":"#VALUE!"},{"$error":"#VALUE!"},{"$error":"#VALUE!"},{"$error":"#VALUE!"},{"$error":"#VALUE!"},{"$error":"#VALUE!"},{"$error":"#VALUE!"},{"$error":"#VALUE!"},{"$error":"#VALUE!"},{"$error":"#VALUE!"},{"$error":"#VALUE!"},{"$error":"#VALUE!"},{"$error":"#VALUE!"},{"$error":"#VALUE!"},null,{"$error":"#VALUE!"},{"$error":"#VALUE!"},{"$error":"#VALUE!"},null,{"$error":"#VALUE!"},{"$error":"#VALUE!"},{"$error":"#VALUE!"},{"$error":"#VALUE!"},{"$error":"#VALUE!"},{"$error":"#VALUE!"},{"$error":"#VALUE!"},{"$error":"#VALUE!"},{"$error":"#VALUE!"},{"$error":"#VALUE!"},null,{"$error":"#VALUE!"},{"$error":"#VALUE!"},{"$error":"#VALUE!"},null,{"$error":"#VALUE!"},{"$error":"#VALUE!"},{"$error":"#VALUE!"},{"$error":"#VALUE!"},{"$error":"#VALUE!"},{"$error":"#VALUE!"},{"$error":"#VALUE!"},{"$error":"#VALUE!"},{"$error":"#VALUE!"},{"$error":"#VALUE!"},null,{"$error":"#VALUE!"},{"$error":"#VALUE!"},{"$error":"#VALUE!"},null,{"$error":"#VALUE!"},{"$error":"#VALUE!"},{"$error":"#VALUE!"},{"$error":"#VALUE!"},{"$error":"#VALUE!"},{"$error":"#VALUE!"},{"$error":"#VALUE!"},{"$error":"#VALUE!"},{"$error":"#VALUE!"},{"$error":"#VALUE!"},{"$error":"#VALUE!"},{"$error":"#VALUE!"},{"$error":"#VALUE!"},{"$error":"#VALUE!"},{"$error":"#VALUE!"},{"$error":"#VALUE!"},{"$error":"#VALUE!"},{"$error":"#VALUE!"},{"$error":"#VALUE!"},{"$error":"#VALUE!"},{"$error":"#VALUE!"},{"$error":"#VALUE!"},{"$error":"#VALUE!"},{"$error":"#VALUE!"},{"$error":"#VALUE!"},{"$error":"#VALUE!"},{"$error":"#VALUE!"},{"$error":"#VALUE!"},{"$error":"#VALUE!"},{"$error":"#VALUE!"},{"$error":"#VALUE!"},null,{"$error":"#VALUE!"},{"$error":"#VALUE!"},{"$error":"#VALUE!"},null,{"$error":"#VALUE!"},{"$error":"#VALUE!"},{"$error":"#VALUE!"},{"$error":"#VALUE!"},{"$error":"#VALUE!"},{"$error":"#VALUE!"},{"$error":"#VALUE!"},{"$error":"#VALUE!"},{"$error":"#VALUE!"},{"$error":"#VALUE!"}]
[null,{"$error":"#VALUE!"},null,{"$error":"#VALUE!"},{"$error":"#VALUE!"},{"$error":"#VALUE!"},null,{"$error":"#VALUE!"},{"$error":"#VALUE!"},{"$error":"#VALUE!"},null,{"$error":"#VALUE!"},{"$error":"#VALUE!"},{"$error":"#VALUE!"},{"$error":"#VALUE!"},{"$error":"#VALUE!"},{"$error":"#VALUE!"},{"$error":"#VALUE!"},{"$error":"#VALUE!"},{"$error":"#VALUE!"},{"$error":"#VALUE!"},{"$error":"#VALUE!"},{"$error":"#VALUE!"},{"$error":"#VALUE!"},{"$error":"#VALUE!"},{"$error":"#VALUE!"},{"$error":"#VALUE!"},{"$error":"#VALUE!"},{"$error":"#VALUE!"},{"$error":"#VALUE!"},{"$error":"#VALUE!"},{"$error":"#VALUE!"},{"$error":"#VALUE!"},{"$error":"#VALUE!"},{"$error":"#VALUE!"},{"$error":"#VALUE!"},{"$error":"#VALUE!"},{"$error":"#VALUE!"},{"$error":"#VALUE!"},{"$error":"#VALUE!"},{"$error":"#VALUE!"},{"$error":"#VALUE!"},null,{"$error":"#VALUE!"},{"$error":"#VALUE!"},{"$error":"#VALUE!"},null,{"$error":"#VALUE!"},{"$error":"#VALUE!"},{"$error":"#VALUE!"},{"$error":"#VALUE!"},{"$error":"#VALUE!"},{"$error":"#VALUE!"},{"$error":"#VALUE!"},{"$error":"#VALUE!"},{"$error":"#VALUE!"},{"$error":"#VALUE!"},null,{"$error":"#VALUE!"},{"$error":"#VALUE!"},{"$error":"#VALUE!"},null,{"$error":"#VALUE!"},{"$error":"#VALUE!"},{"$error":"#VALUE!"},{"$error":"#VALUE!"},{"$error":"#VALUE!"},{"$error":"#VALUE!"},{"$error":"#VALUE!"},{"$error":"#VALUE!"},{"$error":"#VALUE!"},{"$error":"#VALUE!"},null,{"$error":"#VALUE!"},{"$error":"#VALUE!"},{"$error":"#VALUE!"},null,{"$error":"#VALUE!"},{"$error":"#VALUE!"},{"$error":"#VALUE!"},{"$error":"#VALUE!"},{"$error":"#VALUE!"},{"$error":"#VALUE!"},{"$error":"#VALUE!"},{"$error":"#VALUE!"},{"$error":"#VALUE!"},{"$error":"#VALUE!"},{"$error":"#VALUE!"},{"$error":"#VALUE!"},{"$error":"#VALUE!"},{"$error":"#VALUE!"},{"$error":"#VALUE!"},{"$error":"#VALUE!"},{"$error":"#VALUE!"},{"$error":"#VALUE!"},{"$error":"#VALUE!"},{"$error":"#VALUE!"},{"$error":"#VALUE!"},{"$error":"#VALUE!"},{"$error":"#VALUE!"},{"$error":"#VALUE!"},{"$error":"#VALUE!"},{"$error":"#VALUE!"},{"$error":"#VALUE!"},{"$error":"#VALUE!"},{"$error":"#VALUE!"},{"$error":"#VALUE!"},{"$error":"#VALUE!"},null,{"$error":"#VALUE!"},{"$error":"#VALUE!"},{"$error":"#VALUE!"},null,{"$error":"#VALUE!"},{"$error":"#VALUE!"},{"$error":"#VALUE!"},{"$error":"#VALUE!"},{"$error":"#VALUE!"},{"$error":"#VALUE!"},{"$error":"#VALUE!"},{"$error":"#VALUE!"},{"$error":"#VALUE!"},{"$error":"#VALUE!"}]
[null,{"$error":"#VALUE!"},null,{"$error":"#VALUE!"},{"$error":"#VALUE!"},{"$error":"#VALUE!"},null,{"$error":"#VALUE!"},{"$error":"#VALUE!"},{"$error":"#VALUE!"},null,{"$error":"#VALUE!"},{"$error":"#VALUE!"},{"$error":"#VALUE!"},{"$error":"#VALUE!"},{"$error":"#VALUE!"},{"$error":"#VALUE!"},{"$error":"#VALUE!"},{"$error":"#VALUE!"},{"$error":"#VALUE!"},{"$error":"#VALUE!"},{"$error":"#VALUE!"},{"$error":"#VALUE!"},{"$error":"#VALUE!"},{"$error":"#VALUE!"},{"$error":"#VALUE!"},{"$error":"#VALUE!"},{"$error":"#VALUE!"},{"$error":"#VALUE!"},{"$error":"#VALUE!"},{"$error":"#VALUE!"},{"$error":"#VALUE!"},{"$error":"#VALUE!"},{"$error":"#VALUE!"},{"$error":"#VALUE!"},{"$error":"#VALUE!"},{"$error":"#VALUE!"},{"$error":"#VALUE!"},{"$error":"#VALUE!"},{"$error":"#VALUE!"},{"$error":"#VALUE!"},{"$error":"#VALUE!"},null,{"$error":"#VALUE!"},{"$error":"#VALUE!"},{"$error":"#VALUE!"},null,{"$error":"#VALUE!"},{"$error":"#VALUE!"},{"$error":"#VALUE!"},{"$error":"#VALUE!"},{"$error":"#VALUE!"},{"$error":"#VALUE!"},{"$error":"#VALUE!"},{"$error":"#VALUE!"},{"$error":"#VALUE!"},{"$error":"#VALUE!"},null,{"$error":"#VALUE!"},{"$error":"#VALUE!"},{"$error":"#VALUE!"},null,{"$error":"#VALUE!"},{"$error":"#VALUE!"},{"$error":"#VALUE!"},{"$error":"#VALUE!"},{"$error":"#VALUE!"},{"$error":"#VALUE!"},{"$error":"#VALUE!"},{"$error":"#VALUE!"},{"$error":"#VALUE!"},{"$error":"#VALUE!"},null,{"$error":"#VALUE!"},{"$error":"#VALUE!"},{"$error":"#VALUE!"},null,{"$error":"#VALUE!"},{"$error":"#VALUE!"},{"$error":"#VALUE!"},{"$error":"#VALUE!"},{"$error":"#VALUE!"},{"$error":"#VALUE!"},{"$error":"#VALUE!"},{"$error":"#VALUE!"},{"$error":"#VALUE!"},{"$error":"#VALUE!"},{"$error":"#VALUE!"},{"$error":"#VALUE!"},{"$error":"#VALUE!"},{"$error":"#VALUE!"},{"$error":"#VALUE!"},{"$error":"#VALUE!"},{"$error":"#VALUE!"},{"$error":"#VALUE!"},{"$error":"#VALUE!"},{"$error":"#VALUE!"},{"$error":"#VALUE!"},{"$error":"#VALUE!"},{"$error":"#VALUE!"},{"$error":"#VALUE!"},{"$error":"#VALUE!"},{"$error":"#VALUE!"},{"$error":"#VALUE!"},{"$error":"#VALUE!"},{"$error":"#VALUE!"},{"$error":"#VALUE!"},{"$error":"#VALUE!"},null,{"$error":"#VALUE!"},{"$error":"#VALUE!"},{"$error":"#VALUE!"},null,{"$error":"#VALUE!"},{"$error":"#VALUE!"},{"$error":"#VALUE!"},{"$error":"#VALUE!"},{"$error":"#VALUE!"},{"$error":"#VALUE!"},{"$error":"#VALUE!"},{"$error":"#VALUE!"},{"$error":"#VALUE!"},{"$error":"#VALUE!"}]
[null,{"$error":"#VALUE!"},null,{"$error":"#VALUE!"},{"$error":"#VALUE!"},{"$error":"#VALUE!"},null,{"$error":"#VALUE!"},{"$error":"#VALUE!"},{"$error":"#VALUE!"},null,{"$error":"#VALUE!"},{"$error":"#VALUE!"},{"$error":"#VALUE!"},{"$error":"#VALUE!"},{"$error":"#VALUE!"},{"$error":"#VALUE!"},{"$error":"#VALUE!"},{"$error":"#VALUE!"},{"$error":"#VALUE!"},{"$error":"#VALUE!"},{"$error":"#VALUE!"},{"$error":"#VALUE!"},{"$error":"#VALUE!"},{"$error":"#VALUE!"},{"$error":"#VALUE!"},{"$error":"#VALUE!"},{"$error":"#VALUE!"},{"$error":"#VALUE!"},{"$error":"#VALUE!"},{"$error":"#VALUE!"},{"$error":"#VALUE!"},{"$error":"#VALUE!"},{"$error":"#VALUE!"},{"$error":"#VALUE!"},{"$error":"#VALUE!"},{"$error":"#VALUE!"},{"$error":"#VALUE!"},{"$error":"#VALUE!"},{"$error":"#VALUE!"},{"$error":"#VALUE!"},{"$error":"#VALUE!"},null,{"$error":"#VALUE!"},{"$error":"#VALUE!"},{"$error":"#VALUE!"},null,{"$error":"#VALUE!"},{"$error":"#VALUE!"},{"$error":"#VALUE!"},{"$error":"#VALUE!"},{"$error":"#VALUE!"},{"$error":"#VALUE!"},{"$error":"#VALUE!"},{"$error":"#VALUE!"},{"$error":"#VALUE!"},{"$error":"#VALUE!"},null,{"$error":"#VALUE!"},{"$error":"#VALUE!"},{"$error":"#VALUE!"},null,{"$error":"#VALUE!"},{"$error":"#VALUE!"},{"$error":"#VALUE!"},{"$error":"#VALUE!"},{"$error":"#VALUE!"},{"$error":"#VALUE!"},{"$error":"#VALUE!"},{"$error":"#VALUE!"},{"$error":"#VALUE!"},{"$error":"#VALUE!"},null,{"$error":"#VALUE!"},{"$error":"#VALUE!"},{"$error":"#VALUE!"},null,{"$error":"#VALUE!"},{"$error":"#VALUE!"},{"$error":"#VALUE!"},{"$error":"#VALUE!"},{"$error":"#VALUE!"},{"$error":"#VALUE!"},{"$error":"#VALUE!"},{"$error":"#VALUE!"},{"$error":"#VALUE!"},{"$error":"#VALUE!"},{"$error":"#VALUE!"},{"$error":"#VALUE!"},{"$error":"#VALUE!"},{"$error":"#VALUE!"},{"$error":"#VALUE!"},{"$error":"#VALUE!"},{"$error":"#VALUE!"},{"$error":"#VALUE!"},{"$error":"#VALUE!"},{"$error":"#VALUE!"},{"$error":"#VALUE!"},{"$error":"#VALUE!"},{"$error":"#VALUE!"},{"$error":"#VALUE!"},{"$error":"#VALUE!"},{"$error":"#VALUE!"},{"$error":"#VALUE!"},{"$error":"#VALUE!"},{"$error":"#VALUE!"},{"$error":"#VALUE!"},{"$error":"#VALUE!"},null,{"$error":"#VALUE!"},{"$error":"#VALUE!"},{"$error":"#VALUE!"},null,{"$error":"#VALUE!"},{"$error":"#VALUE!"},{"$error":"#VALUE!"},{"$error":"#VALUE!"},{"$error":"#VALUE!"},{"$error":"#VALUE!"},{"$error":"#VALUE!"},{"$error":"#VALUE!"},{"$error":"#VALUE!"},{"$error":"#VALUE!"}]
[null,{"$error":"#VALUE!"},null,{"$error":"#VALUE!"},{"$error":"#VALUE!"},{"$error":"#VALUE!"},null,{"$error":"#VALUE!"},{"$error":"#VALUE!"},{"$error":"#VALUE!"},null,{"$error":"#VALUE!"},{"$error":"#VALUE!"},{"$error":"#VALUE!"},{"$error":"#VALUE!"},{"$error":"#VALUE!"},{"$error":"#VALUE!"},{"$error":"#VALUE!"},{"$error":"#VALUE!"},{"$error":"#VALUE!"},{"$error":"#VALUE!"},{"$error":"#VALUE!"},{"$error":"#VALUE!"},{"$error":"#VALUE!"},{"$error":"#VALUE!"},{"$error":"#VALUE!"},{"$error":"#VALUE!"},{"$error":"#VALUE!"},{"$error":"#VALUE!"},{"$error":"#VALUE!"},{"$error":"#VALUE!"},{"$error":"#VALUE!"},{"$error":"#VALUE!"},{"$error":"#VALUE!"},{"$error":"#VALUE!"},{"$error":"#VALUE!"},{"$error":"#VALUE!"},{"$error":"#VALUE!"},{"$error":"#VALUE!"},{"$error":"#VALUE!"},{"$error":"#VALUE!"},{"$error":"#VALUE!"},null,{"$error":"#VALUE!"},{"$error":"#VALUE!"},{"$error":"#VALUE!"},null,{"$error":"#VALUE!"},{"$error":"#VALUE!"},{"$error":"#VALUE!"},{"$error":"#VALUE!"},{"$error":"#VALUE!"},{"$error":"#VALUE!"},{"$error":"#VALUE!"},{"$error":"#VALUE!"},{"$error":"#VALUE!"},{"$error":"#VALUE!"},null,{"$error":"#VALUE!"},{"$error":"#VALUE!"},{"$error":"#VALUE!"},null,{"$error":"#VALUE!"},{"$error":"#VALUE!"},{"$error":"#VALUE!"},{"$error":"#VALUE!"},{"$error":"#VALUE!"},{"$error":"#VALUE!"},{"$error":"#VALUE!"},{"$error":"#VALUE!"},{"$error":"#VALUE!"},{"$error":"#VALUE!"},null,{"$error":"#VALUE!"},{"$error":"#VALUE!"},{"$error":"#VALUE!"},null,{"$error":"#VALUE!"},{"$error":"#VALUE!"},{"$error":"#VALUE!"},{"$error":"#VALUE!"},{"$error":"#VALUE!"},{"$error":"#VALUE!"},{"$error":"#VALUE!"},{"$error":"#VALUE!"},{"$error":"#VALUE!"},{"$error":"#VALUE!"},{"$error":"#VALUE!"},{"$error":"#VALUE!"},{"$error":"#VALUE!"},{"$error":"#VALUE!"},{"$error":"#VALUE!"},{"$error":"#VALUE!"},{"$error":"#VALUE!"},{"$error":"#VALUE!"},{"$error":"#VALUE!"},{"$error":"#VALUE!"},{"$error":"#VALUE!"},{"$error":"#VALUE!"},{"$error":"#VALUE!"},{"$error":"#VALUE!"},{"$error":"#VALUE!"},{"$error":"#VALUE!"},{"$error":"#VALUE!"},{"$error":"#VALUE!"},{"$error":"#VALUE!"},{"$error":"#VALUE!"},{"$error":"#VALUE!"},null,{"$error":"#VALUE!"},{"$error":"#VALUE!"},{"$error":"#VALUE!"},null,{"$error":"#VALUE!"},{"$error":"#VALUE!"},{"$error":"#VALUE!"},{"$error":"#VALUE!"},{"$error":"#VALUE!"},{"$error":"#VALUE!"},{"$error":"#VALUE!"},{"$error":"#VALUE!"},{"$error":"#VALUE!"},{"$error":"#VALUE!"}]
[null,{"$error":"#VALUE!"},null,{"$error":"#VALUE!"},{"$error":"#VALUE!"},{"$error":"#VALUE!"},null,{"$error":"#VALUE!"},{"$error":"#VALUE!"},{"$error":"#VALUE!"},null,{"$error":"#VALUE!"},{"$error":"#VALUE!"},{"$error":"#VALUE!"},{"$error":"#VALUE!"},{"$error":"#VALUE!"},{"$error":"#VALUE!"},{"$error":"#VALUE!"},{"$error":"#VALUE!"},{"$error":"#VALUE!"},{"$error":"#VALUE!"},{"$error":"#VALUE!"},{"$error":"#VALUE!"},{"$error":"#VALUE!"},{"$error":"#VALUE!"},{"$error":"#VALUE!"},{"$error":"#VALUE!"},{"$error":"#VALUE!"},{"$error":"#VALUE!"},{"$error":"#VALUE!"},{"$error":"#VALUE!"},{"$error":"#VALUE!"},{"$error":"#VALUE!"},{"$error":"#VALUE!"},{"$error":"#VALUE!"},{"$error":"#VALUE!"},{"$error":"#VALUE!"},{"$error":"#VALUE!"},{"$error":"#VALUE!"},{"$error":"#VALUE!"},{"$error":"#VALUE!"},{"$error":"#VALUE!"},null,{"$error":"#VALUE!"},{"$error":"#VALUE!"},{"$error":"#VALUE!"},null,{"$error":"#VALUE!"},{"$error":"#VALUE!"},{"$error":"#VALUE!"},{"$error":"#VALUE!"},{"$error":"#VALUE!"},{"$error":"#VALUE!"},{"$error":"#VALUE!"},{"$error":"#VALUE!"},{"$error":"#VALUE!"},{"$error":"#VALUE!"},null,{"$error":"#VALUE!"},{"$error":"#VALUE!"},{"$error":"#VALUE!"},null,{"$error":"#VALUE!"},{"$error":"#VALUE!"},{"$error":"#VALUE!"},{"$error":"#VALUE!"},{"$error":"#VALUE!"},{"$error":"#VALUE!"},{"$error":"#VALUE!"},{"$error":"#VALUE!"},{"$error":"#VALUE!"},{"$error":"#VALUE!"},null,{"$error":"#VALUE!"},{"$error":"#VALUE!"},{"$error":"#VALUE!"},null,{"$error":"#VALUE!"},{"$error":"#VALUE!"},{"$error":"#VALUE!"},{"$error":"#VALUE!"},{"$error":"#VALUE!"},{"$error":"#VALUE!"},{"$error":"#VALUE!"},{"$error":"#VALUE!"},{"$error":"#VALUE!"},{"$error":"#VALUE!"},{"$error":"#VALUE!"},{"$error":"#VALUE!"},{"$error":"#VALUE!"},{"$error":"#VALUE!"},{"$error":"#VALUE!"},{"$error":"#VALUE!"},{"$error":"#VALUE!"},{"$error":"#VALUE!"},{"$error":"#VALUE!"},{"$error":"#VALUE!"},{"$error":"#VALUE!"},{"$error":"#VALUE!"},{"$error":"#VALUE!"},{"$error":"#VALUE!"},{"$error":"#VALUE!"},{"$error":"#VALUE!"},{"$error":"#VALUE!"},{"$error":"#VALUE!"},{"$error":"#VALUE!"},{"$error":"#VALUE!"},{"$error":"#VALUE!"},null,{"$error":"#VALUE!"},{"$error":"#VALUE!"},{"$error":"#VALUE!"},null,{"$error":"#VALUE!"},{"$error":"#VALUE!"},{"$error":"#VALUE!"},{"$error":"#VALUE!"},{"$error":"#VALUE!"},{"$error":"#VALUE!"},{"$error":"#VALUE!"},{"$error":"#VALUE!"},{"$error":"#VALUE!"},{"$error":"#VALUE!"}]
[null,{"$error":"#VALUE!"},null,{"$error":"#VALUE!"},{"$error":"#VALUE!"},{"$error":"#VALUE!"},null,{"$error":"#VALUE!"},{"$error":"#VALUE!"},{"$error":"#VALUE!"},null,{"$error":"#VALUE!"},{"$error":"#VALUE!"},{"$error":"#VALUE!"},{"$error":"#VALUE!"},{"$error":"#VALUE!"},{"$error":"#VALUE!"},{"$error":"#VALUE!"},{"$error":"#VALUE!"},{"$error":"#VALUE!"},{"$error":"#VALUE!"},{"$error":"#VALUE!"},{"$error":"#VALUE!"},{"$error":"#VALUE!"},{"$error":"#VALUE!"},{"$error":"#VALUE!"},{"$error":"#VALUE!"},{"$error":"#VALUE!"},{"$error":"#VALUE!"},{"$error":"#VALUE!"},{"$error":"#VALUE!"},{"$error":"#VALUE!"},{"$error":"#VALUE!"},{"$error":"#VALUE!"},{"$error":"#VALUE!"},{"$error":"#VALUE!"},{"$error":"#VALUE!"},{"$error":"#VALUE!"},{"$error":"#VALUE!"},{"$error":"#VALUE!"},{"$error":"#VALUE!"},{"$error":"#VALUE!"},null,{"$error":"#VALUE!"},{"$error":"#VALUE!"},{"$error":"#VALUE!"},null,{"$error":"#VALUE!"},{"$error":"#VALUE!"},{"$error":"#VALUE!"},{"$error":"#VALUE!"},{"$error":"#VALUE!"},{"$error":"#VALUE!"},{"$error":"#VALUE!"},{"$error":"#VALUE!"},{"$error":"#VALUE!"},{"$error":"#VALUE!"},null,{"$error":"#VALUE!"},{"$error":"#VALUE!"},{"$error":"#VALUE!"},null,{"$error":"#VALUE!"},{"$error":"#VALUE!"},{"$error":"#VALUE!"},{"$error":"#VALUE!"},{"$error":"#VALUE!"},{"$error":"#VALUE!"},{"$error":"#VALUE!"},{"$error":"#VALUE!"},{"$error":"#VALUE!"},{"$error":"#VALUE!"},null,{"$error":"#VALUE!"},{"$error":"#VALUE!"},{"$error":"#VALUE!"},null,{"$error":"#VALUE!"},{"$error":"#VALUE!"},{"$error":"#VALUE!"},{"$error":"#VALUE!"},{"$error":"#VALUE!"},{"$error":"#VALUE!"},{"$error":"#VALUE!"},{"$error":"#VALUE!"},{"$error":"#VALUE!"},{"$error":"#VALUE!"},{"$error":"#VALUE!"},{"$error":"#VALUE!"},{"$error":"#VALUE!"},{"$error":"#VALUE!"},{"$error":"#VALUE!"},{"$error":"#VALUE!"},{"$error":"#VALUE!"},{"$error":"#VALUE!"},{"$error":"#VALUE!"},{"$error":"#VALUE!"},{"$error":"#VALUE!"},{"$error":"#VALUE!"},{"$error":"#VALUE!"},{"$error":"#VALUE!"},{"$error":"#VALUE!"},{"$error":"#VALUE!"},{"$error":"#VALUE!"},{"$error":"#VALUE!"},{"$error":"#VALUE!"},{"$error":"#VALUE!"},{"$error":"#VALUE!"},null,{"$error":"#VALUE!"},{"$error":"#VALUE!"},{"$error":"#VALUE!"},null,{"$error":"#VALUE!"},{"$error":"#VALUE!"},{"$error":"#VALUE!"},{"$error":"#VALUE!"},{"$error":"#VALUE!"},{"$error":"#VALUE!"},{"$error":"#VALUE!"},{"$error":"#VALUE!"},{"$error":"#VALUE!"},{"$error":"#VALUE!"}]
[null,{"$error":"#VALUE!"},null,{"$error":"#VALUE!"},{"$error":"#VALUE!"},{"$error":"#VALUE!"},null,{"$error":"#VALUE!"},{"$error":"#VALUE!"},{"$error":"#VALUE!"},null,{"$error":"#VALUE!"},{"$error":"#VALUE!"},{"$error":"#VALUE!"},{"$error":"#VALUE!"},{"$error":"#VALUE!"},{"$error":"#VALUE!"},{"$error":"#VALUE!"},{"$error":"#VALUE!"},{"$error":"#VALUE!"},{"$error":"#VALUE!"},{"$error":"#VALUE!"},{"$error":"#VALUE!"},{"$error":"#VALUE!"},{"$error":"#VALUE!"},{"$error":"#VALUE!"},{"$error":"#VALUE!"},{"$error":"#VALUE!"},{"$error":"#VALUE!"},{"$error":"#VALUE!"},{"$error":"#VALUE!"},{"$error":"#VALUE!"},{"$error":"#VALUE!"},{"$error":"#VALUE!"},{"$error":"#VALUE!"},{"$error":"#VALUE!"},{"$error":"#VALUE!"},{"$error":"#VALUE!"},{"$error":"#VALUE!"},{"$error":"#VALUE!"},{"$error":"#VALUE!"},{"$error":"#VALUE!"},null,{"$error":"#VALUE!"},{"$error":"#VALUE!"},{"$error":"#VALUE!"},null,{"$error":"#VALUE!"},{"$error":"#VALUE!"},{"$error":"#VALUE!"},{"$error":"#VALUE!"},{"$error":"#VALUE!"},{"$error":"#VALUE!"},{"$error":"#VALUE!"},{"$error":"#VALUE!"},{"$error":"#VALUE!"},{"$error":"#VALUE!"},null,{"$error":"#VALUE!"},{"$error":"#VALUE!"},{"$error":"#VALUE!"},null,{"$error":"#VALUE!"},{"$error":"#VALUE!"},{"$error":"#VALUE!"},{"$error":"#VALUE!"},{"$error":"#VALUE!"},{"$error":"#VALUE!"},{"$error":"#VALUE!"},{"$error":"#VALUE!"},{"$error":"#VALUE!"},{"$error":"#VALUE!"},null,{"$error":"#VALUE!"},{"$error":"#VALUE!"},{"$error":"#VALUE!"},null,{"$error":"#VALUE!"},{"$error":"#VALUE!"},{"$error":"#VALUE!"},{"$error":"#VALUE!"},{"$error":"#VALUE!"},{"$error":"#VALUE!"},{"$error":"#VALUE!"},{"$error":"#VALUE!"},{"$error":"#VALUE!"},{"$error":"#VALUE!"},{"$error":"#VALUE!"},{"$error":"#VALUE!"},{"$error":"#VALUE!"},{"$error":"#VALUE!"},{"$error":"#VALUE!"},{"$error":"#VALUE!"},{"$error":"#VALUE!"},{"$error":"#VALUE!"},{"$error":"#VALUE!"},{"$error":"#VALUE!"},{"$error":"#VALUE!"},{"$error":"#VALUE!"},{"$error":"#VALUE!"},{"$error":"#VALUE!"},{"$error":"#VALUE!"},{"$error":"#VALUE!"},{"$error":"#VALUE!"},{"$error":"#VALUE!"},{"$error":"#VALUE!"},{"$error":"#VALUE!"},{"$error":"#VALUE!"},null,{"$error":"#VALUE!"},{"$error":"#VALUE!"},{"$error":"#VALUE!"},null,{"$error":"#VALUE!"},{"$error":"#VALUE!"},{"$error":"#VALUE!"},{"$error":"#VALUE!"},{"$error":"#VALUE!"},{"$error":"#VALUE!"},{"$error":"#VALUE!"},{"$error":"#VALUE!"},{"$error":"#VALUE!"},{"$error":"#VALUE!"}]
[null,{"$error":"#VALUE!"},null,{"$error":"#VALUE!"},{"$error":"#VALUE!"},{"$error":"#VALUE!"},null,{"$error":"#VALUE!"},{"$error":"#VALUE!"},{"$error":"#VALUE!"},null,{"$error":"#VALUE!"},{"$error":"#VALUE!"},{"$error":"#VALUE!"},{"$error":"#VALUE!"},{"$error":"#VALUE!"},{"$error":"#VALUE!"},{"$error":"#VALUE!"},{"$error":"#VALUE!"},{"$error":"#VALUE!"},{"$error":"#VALUE!"},{"$error":"#VALUE!"},{"$error":"#VALUE!"},{"$error":"#VALUE!"},{"$error":"#VALUE!"},{"$error":"#VALUE!"},{"$error":"#VALUE!"},{"$error":"#VALUE!"},{"$error":"#VALUE!"},{"$error":"#VALUE!"},{"$error":"#VALUE!"},{"$error":"#VALUE!"},{"$error":"#VALUE!"},{"$error":"#VALUE!"},{"$error":"#VALUE!"},{"$error":"#VALUE!"},{"$error":"#VALUE!"},{"$error":"#VALUE!"},{"$error":"#VALUE!"},{"$error":"#VALUE!"},{"$error":"#VALUE!"},{"$error":"#VALUE!"},null,{"$error":"#VALUE!"},{"$error":"#VALUE!"},{"$error":"#VALUE!"},null,{"$error":"#VALUE!"},{"$error":"#VALUE!"},{"$error":"#VALUE!"},{"$error":"#VALUE!"},{"$error":"#VALUE!"},{"$error":"#VALUE!"},{"$error":"#VALUE!"},{"$error":"#VALUE!"},{"$error":"#VALUE!"},{"$error":"#VALUE!"},null,{"$error":"#VALUE!"},{"$error":"#VALUE!"},{"$error":"#VALUE!"},null,{"$error":"#VALUE!"},{"$error":"#VALUE!"},{"$error":"#VALUE!"},{"$error":"#VALUE!"},{"$error":"#VALUE!"},{"$error":"#VALUE!"},{"$error":"#VALUE!"},{"$error":"#VALUE!"},{"$error":"#VALUE!"},{"$error":"#VALUE!"},null,{"$error":"#VALUE!"},{"$error":"#VALUE!"},{"$error":"#VALUE!"},null,{"$error":"#VALUE!"},{"$error":"#VALUE!"},{"$error":"#VALUE!"},{"$error":"#VALUE!"},{"$error":"#VALUE!"},{"$error":"#VALUE!"},{"$error":"#VALUE!"},{"$error":"#VALUE!"},{"$error":"#VALUE!"},{"$error":"#VALUE!"},{"$error":"#VALUE!"},{"$error":"#VALUE!"},{"$error":"#VALUE!"},{"$error":"#VALUE!"},{"$error":"#VALUE!"},{"$error":"#VALUE!"},{"$error":"#VALUE!"},{"$error":"#VALUE!"},{"$error":"#VALUE!"},{"$error":"#VALUE!"},{"$error":"#VALUE!"},{"$error":"#VALUE!"},{"$error":"#VALUE!"},{"$error":"#VALUE!"},{"$error":"#VALUE!"},{"$error":"#VALUE!"},{"$error":"#VALUE!"},{"$error":"#VALUE!"},{"$error":"#VALUE!"},{"$error":"#VALUE!"},{"$error":"#VALUE!"},null,{"$error":"#VALUE!"},{"$error":"#VALUE!"},{"$error":"#VALUE!"},null,{"$error":"#VALUE!"},{"$error":"#VALUE!"},{"$error":"#VALUE!"},{"$error":"#VALUE!"},{"$error":"#VALUE!"},{"$error":"#VALUE!"},{"$error":"#VALUE!"},{"$error":"#VALUE!"},{"$error":"#VALUE!"},{"$error":"#VALUE!"}]
[null,{"$error":"#VALUE!"},null,{"$error":"#VALUE!"},{"$error":"#VALUE!"},{"$error":"#VALUE!"},null,{"$error":"#VALUE!"},{"$error":"#VALUE!"},{"$error":"#VALUE!"},null,{"$error":"#VALUE!"},{"$error":"#VALUE!"},{"$error":"#VALUE!"},{"$error":"#VALUE!"},{"$error":"#VALUE!"},{"$error":"#VALUE!"},{"$error":"#VALUE!"},{"$error":"#VALUE!"},{"$error":"#VALUE!"},{"$error":"#VALUE!"},{"$error":"#VALUE!"},{"$error":"#VALUE!"},{"$error":"#VALUE!"},{"$error":"#VALUE!"},{"$error":"#VALUE!"},{"$error":"#VALUE!"},{"$error":"#VALUE!"},{"$f":"IF(AND($B59>=AC$4,$B59<=AC$5),AC$6,0)","v":{"$error":"#VALUE!"}},{"$error":"#VALUE!"},{"$error":"#VALUE!"},{"$error":"#VALUE!"},{"$error":"#VALUE!"},{"$error":"#VALUE!"},{"$error":"#VALUE!"},{"$error":"#VALUE!"},{"$error":"#VALUE!"},{"$error":"#VALUE!"},{"$error":"#VALUE!"},{"$error":"#VALUE!"},{"$error":"#VALUE!"},{"$error":"#VALUE!"},null,{"$error":"#VALUE!"},{"$error":"#VALUE!"},{"$error":"#VALUE!"},null,{"$error":"#VALUE!"},{"$error":"#VALUE!"},{"$error":"#VALUE!"},{"$error":"#VALUE!"},{"$error":"#VALUE!"},{"$error":"#VALUE!"},{"$error":"#VALUE!"},{"$error":"#VALUE!"},{"$error":"#VALUE!"},{"$error":"#VALUE!"},null,{"$error":"#VALUE!"},{"$error":"#VALUE!"},{"$error":"#VALUE!"},null,{"$error":"#VALUE!"},{"$f":"IF(AND($B59>=BL$4,$B59<=BL$5),BL$6,0)","v":{"$error":"#VALUE!"}},{"$error":"#VALUE!"},{"$error":"#VALUE!"},{"$error":"#VALUE!"},{"$error":"#VALUE!"},{"$error":"#VALUE!"},{"$error":"#VALUE!"},{"$error":"#VALUE!"},{"$error":"#VALUE!"},null,{"$error":"#VALUE!"},{"$error":"#VALUE!"},{"$error":"#VALUE!"},null,{"$error":"#VALUE!"},{"$error":"#VALUE!"},{"$error":"#VALUE!"},{"$error":"#VALUE!"},{"$error":"#VALUE!"},{"$error":"#VALUE!"},{"$error":"#VALUE!"},{"$error":"#VALUE!"},{"$error":"#VALUE!"},{"$error":"#VALUE!"},{"$error":"#VALUE!"},{"$error":"#VALUE!"},{"$error":"#VALUE!"},{"$error":"#VALUE!"},{"$error":"#VALUE!"},{"$error":"#VALUE!"},{"$error":"#VALUE!"},{"$f":"IF(AND($B59>=CQ$4,$B59<=CQ$5),CQ$6,0)","v":{"$error":"#VALUE!"}},{"$error":"#VALUE!"},{"$error":"#VALUE!"},{"$error":"#VALUE!"},{"$error":"#VALUE!"},{"$error":"#VALUE!"},{"$error":"#VALUE!"},{"$error":"#VALUE!"},{"$error":"#VALUE!"},{"$error":"#VALUE!"},{"$error":"#VALUE!"},{"$error":"#VALUE!"},{"$error":"#VALUE!"},{"$error":"#VALUE!"},null,{"$error":"#VALUE!"},{"$error":"#VALUE!"},{"$error":"#VALUE!"},null,{"$error":"#VALUE!"},{"$f":"IF(AND($B59>=DK$4,$B59<=DK$5),DK$6,0)","v":{"$error":"#VALUE!"}},{"$error":"#VALUE!"},{"$error":"#VALUE!"},{"$error":"#VALUE!"},{"$error":"#VALUE!"},{"$error":"#VALUE!"},{"$error":"#VALUE!"},{"$error":"#VALUE!"},{"$error":"#VALUE!"}]
[null,{"$error":"#VALUE!"},null,{"$error":"#VALUE!"},{"$error":"#VALUE!"},{"$error":"#VALUE!"},null,{"$error":"#VALUE!"},{"$error":"#VALUE!"},{"$error":"#VALUE!"},null,{"$error":"#VALUE!"},{"$f":"IF(AND($B60>=M$4,$B60<=M$5),M$6,0)","v":{"$error":"#VALUE!"}},{"$error":"#VALUE!"},{"$error":"#VALUE!"},{"$error":"#VALUE!"},{"$error":"#VALUE!"},{"$error":"#VALUE!"},{"$error":"#VALUE!"},{"$error":"#VALUE!"},{"$error":"#VALUE!"},{"$error":"#VALUE!"},{"$error":"#VALUE!"},{"$error":"#VALUE!"},{"$error":"#VALUE!"},{"$error":"#VALUE!"},{"$error":"#VALUE!"},{"$error":"#VALUE!"},{"$error":"#VALUE!"},{"$error":"#VALUE!"},{"$error":"#VALUE!"},{"$error":"#VALUE!"},{"$error":"#VALUE!"},{"$error":"#VALUE!"},{"$error":"#VALUE!"},{"$error":"#VALUE!"},{"$error":"#VALUE!"},{"$error":"#VALUE!"},{"$error":"#VALUE!"},{"$error":"#VALUE!"},{"$error":"#VALUE!"},{"$error":"#VALUE!"},null,{"$error":"#VALUE!"},{"$error":"#VALUE!"},{"$error":"#VALUE!"},null,{"$error":"#VALUE!"},{"$f":"IF(AND($B60>=AW$4,$B60<=AW$5),AW$6,0)","v":{"$error":"#VALUE!"}},{"$error":"#VALUE!"},{"$error":"#VALUE!"},{"$error":"#VALUE!"},{"$error":"#VALUE!"},{"$error":"#VALUE!"},{"$error":"#VALUE!"},{"$error":"#VALUE!"},{"$error":"#VALUE!"},null,{"$error":"#VALUE!"},{"$error":"#VALUE!"},{"$error":"#VALUE!"},null,{"$error":"#VALUE!"},{"$error":"#VALUE!"},{"$error":"#VALUE!"},{"$error":"#VALUE!"},{"$error":"#VALUE!"},{"$error":"#VALUE!"},{"$error":"#VALUE!"},{"$error":"#VALUE!"},{"$error":"#VALUE!"},{"$error":"#VALUE!"},null,{"$error":"#VALUE!"},{"$error":"#VALUE!"},{"$error":"#VALUE!"},null,{"$error":"#VALUE!"},{"$f":"IF(AND($B60>=CA$4,$B60<=CA$5),CA$6,0)","v":{"$error":"#VALUE!"}},{"$error":"#VALUE!"},{"$error":"#VALUE!"},{"$error":"#VALUE!"},{"$error":"#VALUE!"},{"$error":"#VALUE!"},{"$error":"#VALUE!"},{"$error":"#VALUE!"},{"$error":"#VALUE!"},{"$error":"#VALUE!"},{"$error":"#VALUE!"},{"$error":"#VALUE!"},{"$error":"#VALUE!"},{"$error":"#VALUE!"},{"$error":"#VALUE!"},{"$error":"#VALUE!"},{"$error":"#VALUE!"},{"$error":"#VALUE!"},{"$error":"#VALUE!"},{"$error":"#VALUE!"},{"$error":"#VALUE!"},{"$error":"#VALUE!"},{"$error":"#VALUE!"},{"$error":"#VALUE!"},{"$error":"#VALUE!"},{"$error":"#VALUE!"},{"$error":"#VALUE!"},{"$error":"#VALUE!"},{"$error":"#VALUE!"},{"$error":"#VALUE!"},null,{"$error":"#VALUE!"},{"$error":"#VALUE!"},{"$error":"#VALUE!"},null,{"$error":"#VALUE!"},{"$error":"#VALUE!"},{"$error":"#VALUE!"},{"$error":"#VALUE!"},{"$error":"#VALUE!"},{"$error":"#VALUE!"},{"$error":"#VALUE!"},{"$error":"#VALUE!"},{"$error":"#VALUE!"},{"$error":"#VALUE!"}]
[null,{"$error":"#VALUE!"},null,{"$error":"#VALUE!"},{"$error":"#VALUE!"},{"$error":"#VALUE!"},null,{"$error":"#VALUE!"},{"$error":"#VALUE!"},{"$error":"#VALUE!"},null,{"$error":"#VALUE!"},{"$error":"#VALUE!"},{"$error":"#VALUE!"},{"$error":"#VALUE!"},{"$error":"#VALUE!"},{"$error":"#VALUE!"},{"$error":"#VALUE!"},{"$error":"#VALUE!"},{"$error":"#VALUE!"},{"$error":"#VALUE!"},{"$error":"#VALUE!"},{"$error":"#VALUE!"},{"$error":"#VALUE!"},{"$error":"#VALUE!"},{"$error":"#VALUE!"},{"$error":"#VALUE!"},{"$error":"#VALUE!"},{"$error":"#VALUE!"},{"$error":"#VALUE!"},{"$error":"#VALUE!"},{"$error":"#VALUE!"},{"$error":"#VALUE!"},{"$error":"#VALUE!"},{"$error":"#VALUE!"},{"$error":"#VALUE!"},{"$error":"#VALUE!"},{"$error":"#VALUE!"},{"$error":"#VALUE!"},{"$error":"#VALUE!"},{"$error":"#VALUE!"},{"$error":"#VALUE!"},null,{"$error":"#VALUE!"},{"$error":"#VALUE!"},{"$error":"#VALUE!"},null,{"$error":"#VALUE!"},{"$error":"#VALUE!"},{"$error":"#VALUE!"},{"$error":"#VALUE!"},{"$error":"#VALUE!"},{"$error":"#VALUE!"},{"$error":"#VALUE!"},{"$error":"#VALUE!"},{"$error":"#VALUE!"},{"$error":"#VALUE!"},null,{"$error":"#VALUE!"},{"$error":"#VALUE!"},{"$error":"#VALUE!"},null,{"$error":"#VALUE!"},{"$error":"#VALUE!"},{"$error":"#VALUE!"},{"$error":"#VALUE!"},{"$error":"#VALUE!"},{"$error":"#VALUE!"},{"$error":"#VALUE!"},{"$error":"#VALUE!"},{"$error":"#VALUE!"},{"$error":"#VALUE!"},null,{"$error":"#VALUE!"},{"$error":"#VALUE!"},{"$error":"#VALUE!"},null,{"$error":"#VALUE!"},{"$error":"#VALUE!"},{"$error":"#VALUE!"},{"$error":"#VALUE!"},{"$error":"#VALUE!"},{"$error":"#VALUE!"},{"$error":"#VALUE!"},{"$error":"#VALUE!"},{"$error":"#VALUE!"},{"$error":"#VALUE!"},{"$error":"#VALUE!"},{"$error":"#VALUE!"},{"$error":"#VALUE!"},{"$error":"#VALUE!"},{"$error":"#VALUE!"},{"$error":"#VALUE!"},{"$error":"#VALUE!"},{"$error":"#VALUE!"},{"$error":"#VALUE!"},{"$error":"#VALUE!"},{"$error":"#VALUE!"},{"$error":"#VALUE!"},{"$error":"#VALUE!"},{"$error":"#VALUE!"},{"$error":"#VALUE!"},{"$error":"#VALUE!"},{"$error":"#VALUE!"},{"$error":"#VALUE!"},{"$error":"#VALUE!"},{"$error":"#VALUE!"},{"$error":"#VALUE!"},null,{"$error":"#VALUE!"},{"$error":"#VALUE!"},{"$error":"#VALUE!"},null,{"$error":"#VALUE!"},{"$error":"#VALUE!"},{"$error":"#VALUE!"},{"$error":"#VALUE!"},{"$error":"#VALUE!"},{"$error":"#VALUE!"},{"$error":"#VALUE!"},{"$error":"#VALUE!"},{"$error":"#VALUE!"},{"$error":"#VALUE!"}]
[null,{"$error":"#VALUE!"},null,{"$error":"#VALUE!"},{"$error":"#VALUE!"},{"$error":"#VALUE!"},null,{"$error":"#VALUE!"},{"$error":"#VALUE!"},{"$error":"#VALUE!"},null,{"$error":"#VALUE!"},{"$error":"#VALUE!"},{"$error":"#VALUE!"},{"$error":"#VALUE!"},{"$error":"#VALUE!"},{"$error":"#VALUE!"},{"$error":"#VALUE!"},{"$error":"#VALUE!"},{"$error":"#VALUE!"},{"$error":"#VALUE!"},{"$error":"#VALUE!"},{"$error":"#VALUE!"},{"$error":"#VALUE!"},{"$error":"#VALUE!"},{"$error":"#VALUE!"},{"$error":"#VALUE!"},{"$error":"#VALUE!"},{"$error":"#VALUE!"},{"$error":"#VALUE!"},{"$error":"#VALUE!"},{"$error":"#VALUE!"},{"$error":"#VALUE!"},{"$error":"#VALUE!"},{"$error":"#VALUE!"},{"$error":"#VALUE!"},{"$error":"#VALUE!"},{"$error":"#VALUE!"},{"$error":"#VALUE!"},{"$error":"#VALUE!"},{"$error":"#VALUE!"},{"$error":"#VALUE!"},null,{"$error":"#VALUE!"},{"$error":"#VALUE!"},{"$error":"#VALUE!"},null,{"$error":"#VALUE!"},{"$error":"#VALUE!"},{"$error":"#VALUE!"},{"$error":"#VALUE!"},{"$error":"#VALUE!"},{"$error":"#VALUE!"},{"$error":"#VALUE!"},{"$error":"#VALUE!"},{"$error":"#VALUE!"},{"$error":"#VALUE!"},null,{"$error":"#VALUE!"},{"$error":"#VALUE!"},{"$error":"#VALUE!"},null,{"$error":"#VALUE!"},{"$error":"#VALUE!"},{"$error":"#VALUE!"},{"$error":"#VALUE!"},{"$error":"#VALUE!"},{"$error":"#VALUE!"},{"$error":"#VALUE!"},{"$error":"#VALUE!"},{"$error":"#VALUE!"},{"$error":"#VALUE!"},null,{"$error":"#VALUE!"},{"$error":"#VALUE!"},{"$error":"#VALUE!"},null,{"$error":"#VALUE!"},{"$error":"#VALUE!"},{"$error":"#VALUE!"},{"$error":"#VALUE!"},{"$error":"#VALUE!"},{"$error":"#VALUE!"},{"$error":"#VALUE!"},{"$error":"#VALUE!"},{"$error":"#VALUE!"},{"$error":"#VALUE!"},{"$error":"#VALUE!"},{"$error":"#VALUE!"},{"$error":"#VALUE!"},{"$error":"#VALUE!"},{"$error":"#VALUE!"},{"$error":"#VALUE!"},{"$error":"#VALUE!"},{"$error":"#VALUE!"},{"$error":"#VALUE!"},{"$error":"#VALUE!"},{"$error":"#VALUE!"},{"$error":"#VALUE!"},{"$error":"#VALUE!"},{"$error":"#VALUE!"},{"$error":"#VALUE!"},{"$error":"#VALUE!"},{"$error":"#VALUE!"},{"$error":"#VALUE!"},{"$error":"#VALUE!"},{"$error":"#VALUE!"},{"$error":"#VALUE!"},null,{"$error":"#VALUE!"},{"$error":"#VALUE!"},{"$error":"#VALUE!"},null,{"$error":"#VALUE!"},{"$error":"#VALUE!"},{"$error":"#VALUE!"},{"$error":"#VALUE!"},{"$error":"#VALUE!"},{"$error":"#VALUE!"},{"$error":"#VALUE!"},{"$error":"#VALUE!"},{"$error":"#VALUE!"},{"$error":"#VALUE!"}]
[null,{"$error":"#VALUE!"},null,{"$error":"#VALUE!"},{"$error":"#VALUE!"},{"$error":"#VALUE!"},null,{"$error":"#VALUE!"},{"$error":"#VALUE!"},{"$error":"#VALUE!"},null,{"$error":"#VALUE!"},{"$error":"#VALUE!"},{"$error":"#VALUE!"},{"$error":"#VALUE!"},{"$error":"#VALUE!"},{"$error":"#VALUE!"},{"$error":"#VALUE!"},{"$error":"#VALUE!"},{"$error":"#VALUE!"},{"$error":"#VALUE!"},{"$error":"#VALUE!"},{"$error":"#VALUE!"},{"$error":"#VALUE!"},{"$error":"#VALUE!"},{"$error":"#VALUE!"},{"$error":"#VALUE!"},{"$error":"#VALUE!"},{"$error":"#VALUE!"},{"$error":"#VALUE!"},{"$error":"#VALUE!"},{"$error":"#VALUE!"},{"$error":"#VALUE!"},{"$error":"#VALUE!"},{"$error":"#VALUE!"},{"$error":"#VALUE!"},{"$error":"#VALUE!"},{"$error":"#VALUE!"},{"$error":"#VALUE!"},{"$error":"#VALUE!"},{"$error":"#VALUE!"},{"$error":"#VALUE!"},null,{"$error":"#VALUE!"},{"$error":"#VALUE!"},{"$error":"#VALUE!"},null,{"$error":"#VALUE!"},{"$error":"#VALUE!"},{"$error":"#VALUE!"},{"$error":"#VALUE!"},{"$error":"#VALUE!"},{"$error":"#VALUE!"},{"$error":"#VALUE!"},{"$error":"#VALUE!"},{"$error":"#VALUE!"},{"$error":"#VALUE!"},null,{"$error":"#VALUE!"},{"$error":"#VALUE!"},{"$error":"#VALUE!"},null,{"$error":"#VALUE!"},{"$error":"#VALUE!"},{"$error":"#VALUE!"},{"$error":"#VALUE!"},{"$error":"#VALUE!"},{"$error":"#VALUE!"},{"$error":"#VALUE!"},{"$error":"#VALUE!"},{"$error":"#VALUE!"},{"$error":"#VALUE!"},null,{"$error":"#VALUE!"},{"$error":"#VALUE!"},{"$error":"#VALUE!"},null,{"$error":"#VALUE!"},{"$error":"#VALUE!"},{"$error":"#VALUE!"},{"$error":"#VALUE!"},{"$error":"#VALUE!"},{"$error":"#VALUE!"},{"$error":"#VALUE!"},{"$error":"#VALUE!"},{"$error":"#VALUE!"},{"$error":"#VALUE!"},{"$error":"#VALUE!"},{"$error":"#VALUE!"},{"$error":"#VALUE!"},{"$error":"#VALUE!"},{"$error":"#VALUE!"},{"$error":"#VALUE!"},{"$error":"#VALUE!"},{"$error":"#VALUE!"},{"$error":"#VALUE!"},{"$error":"#VALUE!"},{"$error":"#VALUE!"},{"$error":"#VALUE!"},{"$error":"#VALUE!"},{"$error":"#VALUE!"},{"$error":"#VALUE!"},{"$error":"#VALUE!"},{"$error":"#VALUE!"},{"$error":"#VALUE!"},{"$error":"#VALUE!"},{"$error":"#VALUE!"},{"$error":"#VALUE!"},null,{"$error":"#VALUE!"},{"$error":"#VALUE!"},{"$error":"#VALUE!"},null,{"$error":"#VALUE!"},{"$error":"#VALUE!"},{"$error":"#VALUE!"},{"$error":"#VALUE!"},{"$error":"#VALUE!"},{"$error":"#VALUE!"},{"$error":"#VALUE!"},{"$error":"#VALUE!"},{"$error":"#VALUE!"},{"$error":"#VALUE!"}]
[null,{"$error":"#VALUE!"},null,{"$error":"#VALUE!"},{"$error":"#VALUE!"},{"$error":"#VALUE!"},null,{"$error":"#VALUE!"},{"$error":"#VALUE!"},{"$error":"#VALUE!"},null,{"$error":"#VALUE!"},{"$error":"#VALUE!"},{"$error":"#VALUE!"},{"$error":"#VALUE!"},{"$error":"#VALUE!"},{"$error":"#VALUE!"},{"$error":"#VALUE!"},{"$error":"#VALUE!"},{"$error":"#VALUE!"},{"$error":"#VALUE!"},{"$error":"#VALUE!"},{"$error":"#VALUE!"},{"$error":"#VALUE!"},{"$error":"#VALUE!"},{"$error":"#VALUE!"},{"$error":"#VALUE!"},{"$error":"#VALUE!"},{"$error":"#VALUE!"},{"$error":"#VALUE!"},{"$error":"#VALUE!"},{"$error":"#VALUE!"},{"$error":"#VALUE!"},{"$error":"#VALUE!"},{"$error":"#VALUE!"},{"$error":"#VALUE!"},{"$error":"#VALUE!"},{"$error":"#VALUE!"},{"$error":"#VALUE!"},{"$error":"#VALUE!"},{"$error":"#VALUE!"},{"$error":"#VALUE!"},null,{"$error":"#VALUE!"},{"$error":"#VALUE!"},{"$error":"#VALUE!"},null,{"$error":"#VALUE!"},{"$error":"#VALUE!"},{"$error":"#VALUE!"},{"$error":"#VALUE!"},{"$error":"#VALUE!"},{"$error":"#VALUE!"},{"$error":"#VALUE!"},{"$error":"#VALUE!"},{"$error":"#VALUE!"},{"$error":"#VALUE!"},null,{"$error":"#VALUE!"},{"$error":"#VALUE!"},{"$error":"#VALUE!"},null,{"$error":"#VALUE!"},{"$error":"#VALUE!"},{"$error":"#VALUE!"},{"$error":"#VALUE!"},{"$error":"#VALUE!"},{"$error":"#VALUE!"},{"$error":"#VALUE!"},{"$error":"#VALUE!"},{"$error":"#VALUE!"},{"$error":"#VALUE!"},null,{"$error":"#VALUE!"},{"$error":"#VALUE!"},{"$error":"#VALUE!"},null,{"$error":"#VALUE!"},{"$error":"#VALUE!"},{"$error":"#VALUE!"},{"$error":"#VALUE!"},{"$error":"#VALUE!"},{"$error":"#VALUE!"},{"$error":"#VALUE!"},{"$error":"#VALUE!"},{"$error":"#VALUE!"},{"$error":"#VALUE!"},{"$error":"#VALUE!"},{"$error":"#VALUE!"},{"$error":"#VALUE!"},{"$error":"#VALUE!"},{"$error":"#VALUE!"},{"$error":"#VALUE!"},{"$error":"#VALUE!"},{"$error":"#VALUE!"},{"$error":"#VALUE!"},{"$error":"#VALUE!"},{"$error":"#VALUE!"},{"$error":"#VALUE!"},{"$error":"#VALUE!"},{"$error":"#VALUE!"},{"$error":"#VALUE!"},{"$error":"#VALUE!"},{"$error":"#VALUE!"},{"$error":"#VALUE!"},{"$error":"#VALUE!"},{"$error":"#VALUE!"},{"$error":"#VALUE!"},null,{"$error":"#VALUE!"},{"$error":"#VALUE!"},{"$error":"#VALUE!"},null,{"$error":"#VALUE!"},{"$error":"#VALUE!"},{"$error":"#VALUE!"},{"$error":"#VALUE!"},{"$error":"#VALUE!"},{"$error":"#VALUE!"},{"$error":"#VALUE!"},{"$error":"#VALUE!"},{"$error":"#VALUE!"},{"$error":"#VALUE!"}]
[null,{"$error":"#VALUE!"},null,{"$error":"#VALUE!"},{"$error":"#VALUE!"},{"$error":"#VALUE!"},null,{"$error":"#VALUE!"},{"$error":"#VALUE!"},{"$error":"#VALUE!"},null,{"$error":"#VALUE!"},{"$error":"#VALUE!"},{"$error":"#VALUE!"},{"$error":"#VALUE!"},{"$error":"#VALUE!"},{"$error":"#VALUE!"},{"$error":"#VALUE!"},{"$error":"#VALUE!"},{"$error":"#VALUE!"},{"$error":"#VALUE!"},{"$error":"#VALUE!"},{"$error":"#VALUE!"},{"$error":"#VALUE!"},{"$error":"#VALUE!"},{"$error":"#VALUE!"},{"$error":"#VALUE!"},{"$error":"#VALUE!"},{"$error":"#VALUE!"},{"$error":"#VALUE!"},{"$error":"#VALUE!"},{"$error":"#VALUE!"},{"$error":"#VALUE!"},{"$error":"#VALUE!"},{"$error":"#VALUE!"},{"$error":"#VALUE!"},{"$error":"#VALUE!"},{"$error":"#VALUE!"},{"$error":"#VALUE!"},{"$error":"#VALUE!"},{"$error":"#VALUE!"},{"$error":"#VALUE!"},null,{"$error":"#VALUE!"},{"$error":"#VALUE!"},{"$error":"#VALUE!"},null,{"$error":"#VALUE!"},{"$error":"#VALUE!"},{"$error":"#VALUE!"},{"$error":"#VALUE!"},{"$error":"#VALUE!"},{"$error":"#VALUE!"},{"$error":"#VALUE!"},{"$error":"#VALUE!"},{"$error":"#VALUE!"},{"$error":"#VALUE!"},null,{"$error":"#VALUE!"},{"$error":"#VALUE!"},{"$error":"#VALUE!"},null,{"$error":"#VALUE!"},{"$error":"#VALUE!"},{"$error":"#VALUE!"},{"$error":"#VALUE!"},{"$error":"#VALUE!"},{"$error":"#VALUE!"},{"$error":"#VALUE!"},{"$error":"#VALUE!"},{"$error":"#VALUE!"},{"$error":"#VALUE!"},null,{"$error":"#VALUE!"},{"$error":"#VALUE!"},{"$error":"#VALUE!"},null,{"$error":"#VALUE!"},{"$error":"#VALUE!"},{"$error":"#VALUE!"},{"$error":"#VALUE!"},{"$error":"#VALUE!"},{"$error":"#VALUE!"},{"$error":"#VALUE!"},{"$error":"#VALUE!"},{"$error":"#VALUE!"},{"$error":"#VALUE!"},{"$error":"#VALUE!"},{"$error":"#VALUE!"},{"$error":"#VALUE!"},{"$error":"#VALUE!"},{"$error":"#VALUE!"},{"$error":"#VALUE!"},{"$error":"#VALUE!"},{"$error":"#VALUE!"},{"$error":"#VALUE!"},{"$error":"#VALUE!"},{"$error":"#VALUE!"},{"$error":"#VALUE!"},{"$error":"#VALUE!"},{"$error":"#VALUE!"},{"$error":"#VALUE!"},{"$error":"#VALUE!"},{"$error":"#VALUE!"},{"$error":"#VALUE!"},{"$error":"#VALUE!"},{"$error":"#VALUE!"},{"$error":"#VALUE!"},null,{"$error":"#VALUE!"},{"$error":"#VALUE!"},{"$error":"#VALUE!"},null,{"$error":"#VALUE!"},{"$error":"#VALUE!"},{"$error":"#VALUE!"},{"$error":"#VALUE!"},{"$error":"#VALUE!"},{"$error":"#VALUE!"},{"$error":"#VALUE!"},{"$error":"#VALUE!"},{"$error":"#VALUE!"},{"$error":"#VALUE!"}]
[null,{"$f":"DATE(YEAR(B65),MONTH(B65)+1,DAY(B65))","v":{"$error":"#VALUE!"}},null,{"$error":"#VALUE!"},{"$error":"#VALUE!"},{"$error":"#VALUE!"},null,{"$error":"#VALUE!"},{"$error":"#VALUE!"},{"$error":"#VALUE!"},null,{"$error":"#VALUE!"},{"$error":"#VALUE!"},{"$error":"#VALUE!"},{"$error":"#VALUE!"},{"$error":"#VALUE!"},{"$error":"#VALUE!"},{"$error":"#VALUE!"},{"$error":"#VALUE!"},{"$error":"#VALUE!"},{"$error":"#VALUE!"},{"$error":"#VALUE!"},{"$error":"#VALUE!"},{"$error":"#VALUE!"},{"$error":"#VALUE!"},{"$error":"#VALUE!"},{"$error":"#VALUE!"},{"$error":"#VALUE!"},{"$error":"#VALUE!"},{"$error":"#VALUE!"},{"$error":"#VALUE!"},{"$error":"#VALUE!"},{"$error":"#VALUE!"},{"$error":"#VALUE!"},{"$error":"#VALUE!"},{"$error":"#VALUE!"},{"$error":"#VALUE!"},{"$error":"#VALUE!"},{"$error":"#VALUE!"},{"$error":"#VALUE!"},{"$error":"#VALUE!"},{"$error":"#VALUE!"},null,{"$error":"#VALUE!"},{"$error":"#VALUE!"},{"$error":"#VALUE!"},null,{"$error":"#VALUE!"},{"$error":"#VALUE!"},{"$error":"#VALUE!"},{"$error":"#VALUE!"},{"$error":"#VALUE!"},{"$error":"#VALUE!"},{"$error":"#VALUE!"},{"$error":"#VALUE!"},{"$error":"#VALUE!"},{"$error":"#VALUE!"},null,{"$error":"#VALUE!"},{"$error":"#VALUE!"},{"$error":"#VALUE!"},null,{"$error":"#VALUE!"},{"$error":"#VALUE!"},{"$error":"#VALUE!"},{"$error":"#VALUE!"},{"$error":"#VALUE!"},{"$error":"#VALUE!"},{"$error":"#VALUE!"},{"$error":"#VALUE!"},{"$error":"#VALUE!"},{"$error":"#VALUE!"},null,{"$error":"#VALUE!"},{"$error":"#VALUE!"},{"$error":"#VALUE!"},null,{"$error":"#VALUE!"},{"$error":"#VALUE!"},{"$error":"#VALUE!"},{"$error":"#VALUE!"},{"$error":"#VALUE!"},{"$error":"#VALUE!"},{"$error":"#VALUE!"},{"$error":"#VALUE!"},{"$error":"#VALUE!"},{"$error":"#VALUE!"},{"$error":"#VALUE!"},{"$error":"#VALUE!"},{"$error":"#VALUE!"},{"$error":"#VALUE!"},{"$error":"#VALUE!"},{"$error":"#VALUE!"},{"$error":"#VALUE!"},{"$error":"#VALUE!"},{"$error":"#VALUE!"},{"$error":"#VALUE!"},{"$error":"#VALUE!"},{"$error":"#VALUE!"},{"$error":"#VALUE!"},{"$error":"#VALUE!"},{"$error":"#VALUE!"},{"$error":"#VALUE!"},{"$error":"#VALUE!"},{"$error":"#VALUE!"},{"$error":"#VALUE!"},{"$error":"#VALUE!"},{"$error":"#VALUE!"},null,{"$error":"#VALUE!"},{"$error":"#VALUE!"},{"$error":"#VALUE!"},null,{"$error":"#VALUE!"},{"$error":"#VALUE!"},{"$error":"#VALUE!"},{"$error":"#VALUE!"},{"$error":"#VALUE!"},{"$error":"#VALUE!"},{"$error":"#VALUE!"},{"$error":"#VALUE!"},{"$error":"#VALUE!"},{"$error":"#VALUE!"}]
[null,{"$f":"DATE(YEAR(B66),MONTH(B66)+1,DAY(B66))","v":{"$error":"#VALUE!"}},null,{"$error":"#VALUE!"},{"$error":"#VALUE!"},{"$error":"#VALUE!"},null,{"$error":"#VALUE!"},{"$error":"#VALUE!"},{"$error":"#VALUE!"},null,{"$error":"#VALUE!"},{"$error":"#VALUE!"},{"$error":"#VALUE!"},{"$error":"#VALUE!"},{"$error":"#VALUE!"},{"$error":"#VALUE!"},{"$error":"#VALUE!"},{"$error":"#VALUE!"},{"$error":"#VALUE!"},{"$error":"#VALUE!"},{"$error":"#VALUE!"},{"$error":"#VALUE!"},{"$error":"#VALUE!"},{"$error":"#VALUE!"},{"$error":"#VALUE!"},{"$error":"#VALUE!"},{"$error":"#VALUE!"},{"$error":"#VALUE!"},{"$error":"#VALUE!"},{"$error":"#VALUE!"},{"$error":"#VALUE!"},{"$error":"#VALUE!"},{"$error":"#VALUE!"},{"$error":"#VALUE!"},{"$error":"#VALUE!"},{"$error":"#VALUE!"},{"$error":"#VALUE!"},{"$error":"#VALUE!"},{"$error":"#VALUE!"},{"$error":"#VALUE!"},{"$error":"#VALUE!"},null,{"$error":"#VALUE!"},{"$error":"#VALUE!"},{"$error":"#VALUE!"},null,{"$error":"#VALUE!"},{"$error":"#VALUE!"},{"$error":"#VALUE!"},{"$error":"#VALUE!"},{"$error":"#VALUE!"},{"$error":"#VALUE!"},{"$error":"#VALUE!"},{"$error":"#VALUE!"},{"$error":"#VALUE!"},{"$error":"#VALUE!"},null,{"$error":"#VALUE!"},{"$error":"#VALUE!"},{"$error":"#VALUE!"},null,{"$error":"#VALUE!"},{"$error":"#VALUE!"},{"$error":"#VALUE!"},{"$error":"#VALUE!"},{"$error":"#VALUE!"},{"$error":"#VALUE!"},{"$error":"#VALUE!"},{"$error":"#VALUE!"},{"$error":"#VALUE!"},{"$error":"#VALUE!"},null,{"$error":"#VALUE!"},{"$error":"#VALUE!"},{"$error":"#VALUE!"},null,{"$error":"#VALUE!"},{"$error":"#VALUE!"},{"$error":"#VALUE!"},{"$error":"#VALUE!"},{"$error":"#VALUE!"},{"$error":"#VALUE!"},{"$error":"#VALUE!"},{"$error":"#VALUE!"},{"$error":"#VALUE!"},{"$error":"#VALUE!"},{"$error":"#VALUE!"},{"$error":"#VALUE!"},{"$error":"#VALUE!"},{"$error":"#VALUE!"},{"$error":"#VALUE!"},{"$error":"#VALUE!"},{"$error":"#VALUE!"},{"$error":"#VALUE!"},{"$error":"#VALUE!"},{"$error":"#VALUE!"},{"$error":"#VALUE!"},{"$error":"#VALUE!"},{"$error":"#VALUE!"},{"$error":"#VALUE!"},{"$error":"#VALUE!"},{"$error":"#VALUE!"},{"$error":"#VALUE!"},{"$error":"#VALUE!"},{"$error":"#VALUE!"},{"$error":"#VALUE!"},{"$error":"#VALUE!"},null,{"$error":"#VALUE!"},{"$error":"#VALUE!"},{"$error":"#VALUE!"},null,{"$error":"#VALUE!"},{"$error":"#VALUE!"},{"$error":"#VALUE!"},{"$error":"#VALUE!"},{"$error":"#VALUE!"},{"$error":"#VALUE!"},{"$error":"#VALUE!"},{"$error":"#VALUE!"},{"$error":"#VALUE!"},{"$error":"#VALUE!"}]
[null,{"$f":"DATE(YEAR(B67),MONTH(B67)+1,DAY(B67))","v":{"$error":"#VALUE!"}},null,{"$error":"#VALUE!"},{"$error":"#VALUE!"},{"$error":"#VALUE!"},null,{"$error":"#VALUE!"},{"$error":"#VALUE!"},{"$error":"#VALUE!"},null,{"$error":"#VALUE!"},{"$error":"#VALUE!"},{"$error":"#VALUE!"},{"$error":"#VALUE!"},{"$error":"#VALUE!"},{"$error":"#VALUE!"},{"$error":"#VALUE!"},{"$error":"#VALUE!"},{"$error":"#VALUE!"},{"$error":"#VALUE!"},{"$error":"#VALUE!"},{"$error":"#VALUE!"},{"$error":"#VALUE!"},{"$error":"#VALUE!"},{"$error":"#VALUE!"},{"$error":"#VALUE!"},{"$error":"#VALUE!"},{"$error":"#VALUE!"},{"$error":"#VALUE!"},{"$error":"#VALUE!"},{"$error":"#VALUE!"},{"$error":"#VALUE!"},{"$error":"#VALUE!"},{"$error":"#VALUE!"},{"$error":"#VALUE!"},{"$error":"#VALUE!"},{"$error":"#VALUE!"},{"$error":"#VALUE!"},{"$error":"#VALUE!"},{"$error":"#VALUE!"},{"$error":"#VALUE!"},null,{"$error":"#VALUE!"},{"$error":"#VALUE!"},{"$error":"#VALUE!"},null,{"$error":"#VALUE!"},{"$error":"#VALUE!"},{"$error":"#VALUE!"},{"$error":"#VALUE!"},{"$error":"#VALUE!"},{"$error":"#VALUE!"},{"$error":"#VALUE!"},{"$error":"#VALUE!"},{"$error":"#VALUE!"},{"$error":"#VALUE!"},null,{"$error":"#VALUE!"},{"$error":"#VALUE!"},{"$error":"#VALUE!"},null,{"$error":"#VALUE!"},{"$error":"#VALUE!"},{"$error":"#VALUE!"},{"$error":"#VALUE!"},{"$error":"#VALUE!"},{"$error":"#VALUE!"},{"$error":"#VALUE!"},{"$error":"#VALUE!"},{"$error":"#VALUE!"},{"$error":"#VALUE!"},null,{"$error":"#VALUE!"},{"$error":"#VALUE!"},{"$error":"#VALUE!"},null,{"$error":"#VALUE!"},{"$error":"#VALUE!"},{"$error":"#VALUE!"},{"$error":"#VALUE!"},{"$error":"#VALUE!"},{"$error":"#VALUE!"},{"$error":"#VALUE!"},{"$error":"#VALUE!"},{"$error":"#VALUE!"},{"$error":"#VALUE!"},{"$error":"#VALUE!"},{"$error":"#VALUE!"},{"$error":"#VALUE!"},{"$error":"#VALUE!"},{"$error":"#VALUE!"},{"$error":"#VALUE!"},{"$error":"#VALUE!"},{"$error":"#VALUE!"},{"$error":"#VALUE!"},{"$error":"#VALUE!"},{"$error":"#VALUE!"},{"$error":"#VALUE!"},{"$error":"#VALUE!"},{"$error":"#VALUE!"},{"$error":"#VALUE!"},{"$error":"#VALUE!"},{"$error":"#VALUE!"},{"$error":"#VALUE!"},{"$error":"#VALUE!"},{"$error":"#VALUE!"},{"$error":"#VALUE!"},null,{"$error":"#VALUE!"},{"$error":"#VALUE!"},{"$error":"#VALUE!"},null,{"$error":"#VALUE!"},{"$error":"#VALUE!"},{"$error":"#VALUE!"},{"$error":"#VALUE!"},{"$error":"#VALUE!"},{"$error":"#VALUE!"},{"$error":"#VALUE!"},{"$error":"#VALUE!"},{"$error":"#VALUE!"},{"$error":"#VALUE!"}]
[null,{"$error":"#VALUE!"},null,{"$error":"#VALUE!"},{"$error":"#VALUE!"},{"$error":"#VALUE!"},null,{"$error":"#VALUE!"},{"$error":"#VALUE!"},{"$error":"#VALUE!"},null,{"$error":"#VALUE!"},{"$error":"#VALUE!"},{"$error":"#VALUE!"},{"$error":"#VALUE!"},{"$error":"#VALUE!"},{"$error":"#VALUE!"},{"$error":"#VALUE!"},{"$error":"#VALUE!"},{"$error":"#VALUE!"},{"$error":"#VALUE!"},{"$error":"#VALUE!"},{"$error":"#VALUE!"},{"$error":"#VALUE!"},{"$error":"#VALUE!"},{"$error":"#VALUE!"},{"$error":"#VALUE!"},{"$error":"#VALUE!"},{"$error":"#VALUE!"},{"$error":"#VALUE!"},{"$error":"#VALUE!"},{"$error":"#VALUE!"},{"$error":"#VALUE!"},{"$error":"#VALUE!"},{"$error":"#VALUE!"},{"$error":"#VALUE!"},{"$error":"#VALUE!"},{"$error":"#VALUE!"},{"$error":"#VALUE!"},{"$error":"#VALUE!"},{"$error":"#VALUE!"},{"$error":"#VALUE!"},null,{"$error":"#VALUE!"},{"$error":"#VALUE!"},{"$error":"#VALUE!"},null,{"$error":"#VALUE!"},{"$error":"#VALUE!"},{"$error":"#VALUE!"},{"$error":"#VALUE!"},{"$error":"#VALUE!"},{"$error":"#VALUE!"},{"$error":"#VALUE!"},{"$error":"#VALUE!"},{"$error":"#VALUE!"},{"$error":"#VALUE!"},null,{"$error":"#VALUE!"},{"$error":"#VALUE!"},{"$error":"#VALUE!"},null,{"$error":"#VALUE!"},{"$error":"#VALUE!"},{"$error":"#VALUE!"},{"$error":"#VALUE!"},{"$error":"#VALUE!"},{"$error":"#VALUE!"},{"$error":"#VALUE!"},{"$error":"#VALUE!"},{"$error":"#VALUE!"},{"$error":"#VALUE!"},null,{"$error":"#VALUE!"},{"$error":"#VALUE!"},{"$error":"#VALUE!"},null,{"$error":"#VALUE!"},{"$error":"#VALUE!"},{"$error":"#VALUE!"},{"$error":"#VALUE!"},{"$error":"#VALUE!"},{"$error":"#VALUE!"},{"$error":"#VALUE!"},{"$error":"#VALUE!"},{"$error":"#VALUE!"},{"$error":"#VALUE!"},{"$error":"#VALUE!"},{"$error":"#VALUE!"},{"$error":"#VALUE!"},{"$error":"#VALUE!"},{"$error":"#VALUE!"},{"$error":"#VALUE!"},{"$error":"#VALUE!"},{"$error":"#VALUE!"},{"$error":"#VALUE!"},{"$error":"#VALUE!"},{"$error":"#VALUE!"},{"$error":"#VALUE!"},{"$error":"#VALUE!"},{"$error":"#VALUE!"},{"$error":"#VALUE!"},{"$error":"#VALUE!"},{"$error":"#VALUE!"},{"$error":"#VALUE!"},{"$error":"#VALUE!"},{"$error":"#VALUE!"},{"$error":"#VALUE!"},null,{"$error":"#VALUE!"},{"$error":"#VALUE!"},{"$error":"#VALUE!"},null,{"$error":"#VALUE!"},{"$error":"#VALUE!"},{"$error":"#VALUE!"},{"$error":"#VALUE!"},{"$error":"#VALUE!"},{"$error":"#VALUE!"},{"$error":"#VALUE!"},{"$error":"#VALUE!"},{"$error":"#VALUE!"},{"$error":"#VALUE!"}]
[null,{"$error":"#VALUE!"},null,{"$error":"#VALUE!"},{"$error":"#VALUE!"},{"$error":"#VALUE!"},null,{"$error":"#VALUE!"},{"$error":"#VALUE!"},{"$error":"#VALUE!"},null,{"$error":"#VALUE!"},{"$error":"#VALUE!"},{"$error":"#VALUE!"},{"$error":"#VALUE!"},{"$error":"#VALUE!"},{"$error":"#VALUE!"},{"$error":"#VALUE!"},{"$error":"#VALUE!"},{"$error":"#VALUE!"},{"$error":"#VALUE!"},{"$error":"#VALUE!"},{"$error":"#VALUE!"},{"$error":"#VALUE!"},{"$error":"#VALUE!"},{"$error":"#VALUE!"},{"$error":"#VALUE!"},{"$error":"#VALUE!"},{"$error":"#VALUE!"},{"$error":"#VALUE!"},{"$error":"#VALUE!"},{"$error":"#VALUE!"},{"$error":"#VALUE!"},{"$error":"#VALUE!"},{"$error":"#VALUE!"},{"$error":"#VALUE!"},{"$error":"#VALUE!"},{"$error":"#VALUE!"},{"$error":"#VALUE!"},{"$error":"#VALUE!"},{"$error":"#VALUE!"},{"$error":"#VALUE!"},null,{"$error":"#VALUE!"},{"$error":"#VALUE!"},{"$error":"#VALUE!"},null,{"$error":"#VALUE!"},{"$error":"#VALUE!"},{"$error":"#VALUE!"},{"$error":"#VALUE!"},{"$error":"#VALUE!"},{"$error":"#VALUE!"},{"$error":"#VALUE!"},{"$error":"#VALUE!"},{"$error":"#VALUE!"},{"$error":"#VALUE!"},null,{"$error":"#VALUE!"},{"$error":"#VALUE!"},{"$error":"#VALUE!"},null,{"$error":"#VALUE!"},{"$error":"#VALUE!"},{"$error":"#VALUE!"},{"$error":"#VALUE!"},{"$error":"#VALUE!"},{"$error":"#VALUE!"},{"$error":"#VALUE!"},{"$error":"#VALUE!"},{"$error":"#VALUE!"},{"$error":"#VALUE!"},null,{"$error":"#VALUE!"},{"$error":"#VALUE!"},{"$error":"#VALUE!"},null,{"$error":"#VALUE!"},{"$error":"#VALUE!"},{"$error":"#VALUE!"},{"$error":"#VALUE!"},{"$error":"#VALUE!"},{"$error":"#VALUE!"},{"$error":"#VALUE!"},{"$error":"#VALUE!"},{"$error":"#VALUE!"},{"$error":"#VALUE!"},{"$error":"#VALUE!"},{"$error":"#VALUE!"},{"$error":"#VALUE!"},{"$error":"#VALUE!"},{"$error":"#VALUE!"},{"$error":"#VALUE!"},{"$error":"#VALUE!"},{"$error":"#VALUE!"},{"$error":"#VALUE!"},{"$error":"#VALUE!"},{"$error":"#VALUE!"},{"$error":"#VALUE!"},{"$error":"#VALUE!"},{"$error":"#VALUE!"},{"$error":"#VALUE!"},{"$error":"#VALUE!"},{"$error":"#VALUE!"},{"$error":"#VALUE!"},{"$error":"#VALUE!"},{"$error":"#VALUE!"},{"$error":"#VALUE!"},null,{"$error":"#VALUE!"},{"$error":"#VALUE!"},{"$error":"#VALUE!"},null,{"$error":"#VALUE!"},{"$error":"#VALUE!"},{"$error":"#VALUE!"},{"$error":"#VALUE!"},{"$error":"#VALUE!"},{"$error":"#VALUE!"},{"$error":"#VALUE!"},{"$error":"#VALUE!"},{"$error":"#VALUE!"},{"$error":"#VALUE!"}]
[null,{"$error":"#VALUE!"},null,{"$error":"#VALUE!"},{"$error":"#VALUE!"},{"$error":"#VALUE!"},null,{"$error":"#VALUE!"},{"$error":"#VALUE!"},{"$error":"#VALUE!"},null,{"$error":"#VALUE!"},{"$error":"#VALUE!"},{"$error":"#VALUE!"},{"$error":"#VALUE!"},{"$error":"#VALUE!"},{"$error":"#VALUE!"},{"$error":"#VALUE!"},{"$error":"#VALUE!"},{"$error":"#VALUE!"},{"$error":"#VALUE!"},{"$error":"#VALUE!"},{"$error":"#VALUE!"},{"$error":"#VALUE!"},{"$error":"#VALUE!"},{"$error":"#VALUE!"},{"$error":"#VALUE!"},{"$error":"#VALUE!"},{"$error":"#VALUE!"},{"$error":"#VALUE!"},{"$error":"#VALUE!"},{"$error":"#VALUE!"},{"$error":"#VALUE!"},{"$error":"#VALUE!"},{"$error":"#VALUE!"},{"$error":"#VALUE!"},{"$error":"#VALUE!"},{"$error":"#VALUE!"},{"$error":"#VALUE!"},{"$error":"#VALUE!"},{"$error":"#VALUE!"},{"$error":"#VALUE!"},null,{"$error":"#VALUE!"},{"$error":"#VALUE!"},{"$error":"#VALUE!"},null,{"$error":"#VALUE!"},{"$error":"#VALUE!"},{"$error":"#VALUE!"},{"$error":"#VALUE!"},{"$error":"#VALUE!"},{"$error":"#VALUE!"},{"$error":"#VALUE!"},{"$error":"#VALUE!"},{"$error":"#VALUE!"},{"$error":"#VALUE!"},null,{"$error":"#VALUE!"},{"$error":"#VALUE!"},{"$error":"#VALUE!"},null,{"$error":"#VALUE!"},{"$error":"#VALUE!"},{"$error":"#VALUE!"},{"$error":"#VALUE!"},{"$error":"#VALUE!"},{"$error":"#VALUE!"},{"$error":"#VALUE!"},{"$error":"#VALUE!"},{"$error":"#VALUE!"},{"$error":"#VALUE!"},null,{"$error":"#VALUE!"},{"$error":"#VALUE!"},{"$error":"#VALUE!"},null,{"$error":"#VALUE!"},{"$error":"#VALUE!"},{"$error":"#VALUE!"},{"$error":"#VALUE!"},{"$error":"#VALUE!"},{"$error":"#VALUE!"},{"$error":"#VALUE!"},{"$error":"#VALUE!"},{"$error":"#VALUE!"},{"$error":"#VALUE!"},{"$error":"#VALUE!"},{"$error":"#VALUE!"},{"$error":"#VALUE!"},{"$error":"#VALUE!"},{"$error":"#VALUE!"},{"$error":"#VALUE!"},{"$error":"#VALUE!"},{"$error":"#VALUE!"},{"$error":"#VALUE!"},{"$error":"#VALUE!"},{"$error":"#VALUE!"},{"$error":"#VALUE!"},{"$error":"#VALUE!"},{"$error":"#VALUE!"},{"$error":"#VALUE!"},{"$error":"#VALUE!"},{"$error":"#VALUE!"},{"$error":"#VALUE!"},{"$error":"#VALUE!"},{"$error":"#VALUE!"},{"$error":"#VALUE!"},null,{"$error":"#VALUE!"},{"$error":"#VALUE!"},{"$error":"#VALUE!"},null,{"$error":"#VALUE!"},{"$error":"#VALUE!"},{"$error":"#VALUE!"},{"$error":"#VALUE!"},{"$error":"#VALUE!"},{"$error":"#VALUE!"},{"$error":"#VALUE!"},{"$error":"#VALUE!"},{"$error":"#VALUE!"},{"$error":"#VALUE!"}]
[null,{"$error":"#VALUE!"},null,{"$error":"#VALUE!"},{"$error":"#VALUE!"},{"$error":"#VALUE!"},null,{"$error":"#VALUE!"},{"$error":"#VALUE!"},{"$error":"#VALUE!"},null,{"$error":"#VALUE!"},{"$error":"#VALUE!"},{"$error":"#VALUE!"},{"$error":"#VALUE!"},{"$error":"#VALUE!"},{"$error":"#VALUE!"},{"$error":"#VALUE!"},{"$error":"#VALUE!"},{"$error":"#VALUE!"},{"$error":"#VALUE!"},{"$error":"#VALUE!"},{"$error":"#VALUE!"},{"$error":"#VALUE!"},{"$error":"#VALUE!"},{"$error":"#VALUE!"},{"$error":"#VALUE!"},{"$error":"#VALUE!"},{"$error":"#VALUE!"},{"$error":"#VALUE!"},{"$error":"#VALUE!"},{"$error":"#VALUE!"},{"$error":"#VALUE!"},{"$error":"#VALUE!"},{"$error":"#VALUE!"},{"$error":"#VALUE!"},{"$error":"#VALUE!"},{"$error":"#VALUE!"},{"$error":"#VALUE!"},{"$error":"#VALUE!"},{"$error":"#VALUE!"},{"$error":"#VALUE!"},null,{"$error":"#VALUE!"},{"$error":"#VALUE!"},{"$error":"#VALUE!"},null,{"$error":"#VALUE!"},{"$error":"#VALUE!"},{"$error":"#VALUE!"},{"$error":"#VALUE!"},{"$error":"#VALUE!"},{"$error":"#VALUE!"},{"$error":"#VALUE!"},{"$error":"#VALUE!"},{"$error":"#VALUE!"},{"$error":"#VALUE!"},null,{"$error":"#VALUE!"},{"$error":"#VALUE!"},{"$error":"#VALUE!"},null,{"$error":"#VALUE!"},{"$error":"#VALUE!"},{"$error":"#VALUE!"},{"$error":"#VALUE!"},{"$error":"#VALUE!"},{"$error":"#VALUE!"},{"$error":"#VALUE!"},{"$error":"#VALUE!"},{"$error":"#VALUE!"},{"$error":"#VALUE!"},null,{"$error":"#VALUE!"},{"$error":"#VALUE!"},{"$error":"#VALUE!"},null,{"$error":"#VALUE!"},{"$error":"#VALUE!"},{"$error":"#VALUE!"},{"$error":"#VALUE!"},{"$error":"#VALUE!"},{"$error":"#VALUE!"},{"$error":"#VALUE!"},{"$error":"#VALUE!"},{"$error":"#VALUE!"},{"$error":"#VALUE!"},{"$error":"#VALUE!"},{"$error":"#VALUE!"},{"$error":"#VALUE!"},{"$error":"#VALUE!"},{"$error":"#VALUE!"},{"$error":"#VALUE!"},{"$error":"#VALUE!"},{"$error":"#VALUE!"},{"$error":"#VALUE!"},{"$error":"#VALUE!"},{"$error":"#VALUE!"},{"$error":"#VALUE!"},{"$error":"#VALUE!"},{"$error":"#VALUE!"},{"$error":"#VALUE!"},{"$error":"#VALUE!"},{"$error":"#VALUE!"},{"$error":"#VALUE!"},{"$error":"#VALUE!"},{"$error":"#VALUE!"},{"$error":"#VALUE!"},null,{"$error":"#VALUE!"},{"$error":"#VALUE!"},{"$error":"#VALUE!"},null,{"$error":"#VALUE!"},{"$error":"#VALUE!"},{"$error":"#VALUE!"},{"$error":"#VALUE!"},{"$error":"#VALUE!"},{"$error":"#VALUE!"},{"$error":"#VALUE!"},{"$error":"#VALUE!"},{"$error":"#VALUE!"},{"$error":"#VALUE!"}]
[null,{"$error":"#VALUE!"},null,{"$error":"#VALUE!"},{"$error":"#VALUE!"},{"$error":"#VALUE!"},null,{"$error":"#VALUE!"},{"$error":"#VALUE!"},{"$error":"#VALUE!"},null,{"$error":"#VALUE!"},{"$error":"#VALUE!"},{"$error":"#VALUE!"},{"$error":"#VALUE!"},{"$error":"#VALUE!"},{"$error":"#VALUE!"},{"$error":"#VALUE!"},{"$error":"#VALUE!"},{"$error":"#VALUE!"},{"$error":"#VALUE!"},{"$error":"#VALUE!"},{"$error":"#VALUE!"},{"$error":"#VALUE!"},{"$error":"#VALUE!"},{"$error":"#VALUE!"},{"$error":"#VALUE!"},{"$error":"#VALUE!"},{"$error":"#VALUE!"},{"$error":"#VALUE!"},{"$error":"#VALUE!"},{"$error":"#VALUE!"},{"$error":"#VALUE!"},{"$error":"#VALUE!"},{"$error":"#VALUE!"},{"$error":"#VALUE!"},{"$error":"#VALUE!"},{"$error":"#VALUE!"},{"$error":"#VALUE!"},{"$error":"#VALUE!"},{"$error":"#VALUE!"},{"$error":"#VALUE!"},null,{"$error":"#VALUE!"},{"$error":"#VALUE!"},{"$error":"#VALUE!"},null,{"$error":"#VALUE!"},{"$error":"#VALUE!"},{"$error":"#VALUE!"},{"$error":"#VALUE!"},{"$error":"#VALUE!"},{"$error":"#VALUE!"},{"$error":"#VALUE!"},{"$error":"#VALUE!"},{"$error":"#VALUE!"},{"$error":"#VALUE!"},null,{"$error":"#VALUE!"},{"$error":"#VALUE!"},{"$error":"#VALUE!"},null,{"$error":"#VALUE!"},{"$error":"#VALUE!"},{"$error":"#VALUE!"},{"$error":"#VALUE!"},{"$error":"#VALUE!"},{"$error":"#VALUE!"},{"$error":"#VALUE!"},{"$error":"#VALUE!"},{"$error":"#VALUE!"},{"$error":"#VALUE!"},null,{"$error":"#VALUE!"},{"$error":"#VALUE!"},{"$error":"#VALUE!"},null,{"$error":"#VALUE!"},{"$error":"#VALUE!"},{"$error":"#VALUE!"},{"$error":"#VALUE!"},{"$error":"#VALUE!"},{"$error":"#VALUE!"},{"$error":"#VALUE!"},{"$error":"#VALUE!"},{"$error":"#VALUE!"},{"$error":"#VALUE!"},{"$error":"#VALUE!"},{"$error":"#VALUE!"},{"$error":"#VALUE!"},{"$error":"#VALUE!"},{"$error":"#VALUE!"},{"$error":"#VALUE!"},{"$error":"#VALUE!"},{"$error":"#VALUE!"},{"$error":"#VALUE!"},{"$error":"#VALUE!"},{"$error":"#VALUE!"},{"$error":"#VALUE!"},{"$error":"#VALUE!"},{"$error":"#VALUE!"},{"$error":"#VALUE!"},{"$error":"#VALUE!"},{"$error":"#VALUE!"},{"$error":"#VALUE!"},{"$error":"#VALUE!"},{"$error":"#VALUE!"},{"$error":"#VALUE!"},null,{"$error":"#VALUE!"},{"$error":"#VALUE!"},{"$error":"#VALUE!"},null,{"$error":"#VALUE!"},{"$error":"#VALUE!"},{"$error":"#VALUE!"},{"$error":"#VALUE!"},{"$error":"#VALUE!"},{"$error":"#VALUE!"},{"$error":"#VALUE!"},{"$error":"#VALUE!"},{"$error":"#VALUE!"},{"$error":"#VALUE!"}]
[null,{"$error":"#VALUE!"},null,{"$error":"#VALUE!"},{"$error":"#VALUE!"},{"$error":"#VALUE!"},null,{"$error":"#VALUE!"},{"$error":"#VALUE!"},{"$error":"#VALUE!"},null,{"$error":"#VALUE!"},{"$error":"#VALUE!"},{"$error":"#VALUE!"},{"$error":"#VALUE!"},{"$error":"#VALUE!"},{"$error":"#VALUE!"},{"$error":"#VALUE!"},{"$error":"#VALUE!"},{"$error":"#VALUE!"},{"$error":"#VALUE!"},{"$error":"#VALUE!"},{"$error":"#VALUE!"},{"$error":"#VALUE!"},{"$error":"#VALUE!"},{"$error":"#VALUE!"},{"$error":"#VALUE!"},{"$error":"#VALUE!"},{"$error":"#VALUE!"},{"$error":"#VALUE!"},{"$error":"#VALUE!"},{"$error":"#VALUE!"},{"$error":"#VALUE!"},{"$error":"#VALUE!"},{"$error":"#VALUE!"},{"$error":"#VALUE!"},{"$error":"#VALUE!"},{"$error":"#VALUE!"},{"$error":"#VALUE!"},{"$error":"#VALUE!"},{"$error":"#VALUE!"},{"$error":"#VALUE!"},null,{"$error":"#VALUE!"},{"$error":"#VALUE!"},{"$error":"#VALUE!"},null,{"$error":"#VALUE!"},{"$error":"#VALUE!"},{"$error":"#VALUE!"},{"$error":"#VALUE!"},{"$error":"#VALUE!"},{"$error":"#VALUE!"},{"$error":"#VALUE!"},{"$error":"#VALUE!"},{"$error":"#VALUE!"},{"$error":"#VALUE!"},null,{"$error":"#VALUE!"},{"$error":"#VALUE!"},{"$error":"#VALUE!"},null,{"$error":"#VALUE!"},{"$error":"#VALUE!"},{"$error":"#VALUE!"},{"$error":"#VALUE!"},{"$error":"#VALUE!"},{"$error":"#VALUE!"},{"$error":"#VALUE!"},{"$error":"#VALUE!"},{"$error":"#VALUE!"},{"$error":"#VALUE!"},null,{"$error":"#VALUE!"},{"$error":"#VALUE!"},{"$error":"#VALUE!"},null,{"$error":"#VALUE!"},{"$error":"#VALUE!"},{"$error":"#VALUE!"},{"$error":"#VALUE!"},{"$error":"#VALUE!"},{"$error":"#VALUE!"},{"$error":"#VALUE!"},{"$error":"#VALUE!"},{"$error":"#VALUE!"},{"$error":"#VALUE!"},{"$error":"#VALUE!"},{"$error":"#VALUE!"},{"$error":"#VALUE!"},{"$error":"#VALUE!"},{"$error":"#VALUE!"},{"$error":"#VALUE!"},{"$error":"#VALUE!"},{"$error":"#VALUE!"},{"$error":"#VALUE!"},{"$error":"#VALUE!"},{"$error":"#VALUE!"},{"$error":"#VALUE!"},{"$error":"#VALUE!"},{"$error":"#VALUE!"},{"$error":"#VALUE!"},{"$error":"#VALUE!"},{"$error":"#VALUE!"},{"$error":"#VALUE!"},{"$error":"#VALUE!"},{"$error":"#VALUE!"},{"$error":"#VALUE!"},null,{"$error":"#VALUE!"},{"$error":"#VALUE!"},{"$error":"#VALUE!"},null,{"$error":"#VALUE!"},{"$error":"#VALUE!"},{"$error":"#VALUE!"},{"$error":"#VALUE!"},{"$error":"#VALUE!"},{"$error":"#VALUE!"},{"$error":"#VALUE!"},{"$error":"#VALUE!"},{"$error":"#VALUE!"},{"$error":"#VALUE!"}]
[null,{"$error":"#VALUE!"},null,{"$error":"#VALUE!"},{"$error":"#VALUE!"},{"$error":"#VALUE!"},null,{"$error":"#VALUE!"},{"$error":"#VALUE!"},{"$error":"#VALUE!"},null,{"$error":"#VALUE!"},{"$error":"#VALUE!"},{"$error":"#VALUE!"},{"$error":"#VALUE!"},{"$error":"#VALUE!"},{"$error":"#VALUE!"},{"$error":"#VALUE!"},{"$error":"#VALUE!"},{"$error":"#VALUE!"},{"$error":"#VALUE!"},{"$error":"#VALUE!"},{"$error":"#VALUE!"},{"$error":"#VALUE!"},{"$error":"#VALUE!"},{"$error":"#VALUE!"},{"$error":"#VALUE!"},{"$f":"IF(AND($B75>=AB$4,$B75<=AB$5),AB$6,0)","v":{"$error":"#VALUE!"}},{"$error":"#VALUE!"},{"$error":"#VALUE!"},{"$error":"#VALUE!"},{"$error":"#VALUE!"},{"$error":"#VALUE!"},{"$error":"#VALUE!"},{"$error":"#VALUE!"},{"$error":"#VALUE!"},{"$error":"#VALUE!"},{"$error":"#VALUE!"},{"$error":"#VALUE!"},{"$error":"#VALUE!"},{"$error":"#VALUE!"},{"$error":"#VALUE!"},null,{"$f":"SUM(AW75:BE75)","v":{"$error":"#VALUE!"}},{"$error":"#VALUE!"},{"$error":"#VALUE!"},null,{"$error":"#VALUE!"},{"$error":"#VALUE!"},{"$error":"#VALUE!"},{"$error":"#VALUE!"},{"$error":"#VALUE!"},{"$error":"#VALUE!"},{"$error":"#VALUE!"},{"$error":"#VALUE!"},{"$error":"#VALUE!"},{"$error":"#VALUE!"},null,{"$f":"SUM(BL75:BT75)","v":{"$error":"#VALUE!"}},{"$error":"#VALUE!"},{"$error":"#VALUE!"},null,{"$error":"#VALUE!"},{"$f":"IF(AND($B75>=BL$4,$B75<=BL$5),BL$6,0)","v":{"$error":"#VALUE!"}},{"$error":"#VALUE!"},{"$error":"#VALUE!"},{"$error":"#VALUE!"},{"$error":"#VALUE!"},{"$error":"#VALUE!"},{"$error":"#VALUE!"},{"$error":"#VALUE!"},{"$error":"#VALUE!"},null,{"$error":"#VALUE!"},{"$error":"#VALUE!"},{"$error":"#VALUE!"},null,{"$error":"#VALUE!"},{"$error":"#VALUE!"},{"$error":"#VALUE!"},{"$error":"#VALUE!"},{"$error":"#VALUE!"},{"$error":"#VALUE!"},{"$error":"#VALUE!"},{"$error":"#VALUE!"},{"$error":"#VALUE!"},{"$error":"#VALUE!"},{"$error":"#VALUE!"},{"$error":"#VALUE!"},{"$error":"#VALUE!"},{"$error":"#VALUE!"},{"$error":"#VALUE!"},{"$error":"#VALUE!"},{"$f":"IF(AND($B75>=CP$4,$B75<=CP$5),CP$6,0)","v":{"$error":"#VALUE!"}},{"$error":"#VALUE!"},{"$error":"#VALUE!"},{"$error":"#VALUE!"},{"$error":"#VALUE!"},{"$error":"#VALUE!"},{"$error":"#VALUE!"},{"$error":"#VALUE!"},{"$error":"#VALUE!"},{"$error":"#VALUE!"},{"$error":"#VALUE!"},{"$error":"#VALUE!"},{"$error":"#VALUE!"},{"$error":"#VALUE!"},{"$error":"#VALUE!"},null,{"$f":"SUM(DK75:DS75)","v":{"$error":"#VALUE!"}},{"$error":"#VALUE!"},{"$error":"#VALUE!"},null,{"$error":"#VALUE!"},{"$f":"IF(AND($B75>=DK$4,$B75<=DK$5),DK$6,0)","v":{"$error":"#VALUE!"}},{"$error":"#VALUE!"},{"$error":"#VALUE!"},{"$error":"#VALUE!"},{"$error":"#VALUE!"},{"$error":"#VALUE!"},{"$error":"#VALUE!"},{"$error":"#VALUE!"},{"$error":"#VALUE!"}]
[null,{"$error":"#VALUE!"},null,{"$f":"H76+AR76+BG76+BV76+DF76","v":{"$error":"#VALUE!"}},{"$f":"I76+AS76+BH76+BW76+DG76","v":{"$error":"#VALUE!"}},{"$f":"J76+AT76+BI76+BX76+DH76","v":{"$error":"#VALUE!"}},null,{"$f":"SUM(M76:AP76)","v":{"$error":"#VALUE!"}},{"$f":"$M$7*$M76+$N$7*$N76+$O$7*$O76+$P$7*$P76+$Q$7*$Q76+$R$7*$R76+$S$7*$S76+$T$7*$T76+$U$7*$U76+$V$7*$V76+$W$7*$W76+$X$7*$X76+$Y$7*$Y76+$Z$7*$Z76+$AA$7*$AA76+$AB$7*$AB76+$AC$7*$AC76+$AD$7*$AD76+$AE$7*$AE76+$AF$7*$AF76+$AG$7*$AG76+$AH$7*$AH76+$AI$7*$AI76+$AJ$7*$AJ76+$AK$7*$AK76+$AL$7*$AL76+$AM$7*$AM76+$AN$7*$AN76+$AO$7*$AO76+$AP$7*$AP76","v":{"$error":"#VALUE!"}},{"$f":"$M$8*$M76+$N$8*$N76+$O$8*$O76+$P$8*$P76+$Q$8*$Q76+$R$8*$R76+$S$8*$S76+$T$8*$T76+$U$8*$U76+$V$8*$V76+$W$8*$W76+$X$8*$X76+$Y$8*$Y76+$Z$8*$Z76+$AA$8*$AA76+$AB$8*$AB76+$AC$8*$AC76+$AD$8*$AD76+$AE$8*$AE76+$AF$8*$AF76+$AG$8*$AG76+$AH$8*$AH76+$AI$8*$AI76+$AJ$8*$AJ76+$AK$8*$AK76+$AL$8*$AL76+$AM$8*$AM76+$AN$8*$AN76+$AO$8*$AO76+$AP$8*$AP76","v":{"$error":"#VALUE!"}},null,{"$error":"#VALUE!"},{"$f":"IF(AND($B76>=M$4,$B76<=M$5),M$6,0)","v":{"$error":"#VALUE!"}},{"$error":"#VALUE!"},{"$error":"#VALUE!"},{"$error":"#VALUE!"},{"$error":"#VALUE!"},{"$error":"#VALUE!"},{"$error":"#VALUE!"},{"$error":"#VALUE!"},{"$error":"#VALUE!"},{"$error":"#VALUE!"},{"$error":"#VALUE!"},{"$error":"#VALUE!"},{"$error":"#VALUE!"},{"$error":"#VALUE!"},{"$error":"#VALUE!"},{"$error":"#VALUE!"},{"$error":"#VALUE!"},{"$error":"#VALUE!"},{"$error":"#VALUE!"},{"$error":"#VALUE!"},{"$error":"#VALUE!"},{"$error":"#VALUE!"},{"$error":"#VALUE!"},{"$error":"#VALUE!"},{"$error":"#VALUE!"},{"$error":"#VALUE!"},{"$error":"#VALUE!"},{"$error":"#VALUE!"},{"$error":"#VALUE!"},{"$error":"#VALUE!"},null,{"$error":"#VALUE!"},{"$f":"$AW$7*$AW76+$AX$7*$AX76+$AY$7*$AY76+$AZ$7*$AZ76+$BA$7*$BA76+$BB$7*$BB76+$BC$7*$BC76+$BD$7*$BD76+$BE$7*$BE76","v":{"$error":"#VALUE!"}},{"$f":"$AW$8*$AW76+$AX$8*$AX76+$AY$8*$AY76+$AZ$8*$AZ76+$BA$8*$BA76+$BB$8*$BB76+$BC$8*$BC76+$BD$8*$BD76+$BE$8*$BE76","v":{"$error":"#VALUE!"}},null,{"$error":"#VALUE!"},{"$f":"IF(AND($B76>=AW$4,$B76<=AW$5),AW$6,0)","v":{"$error":"#VALUE!"}},{"$error":"#VALUE!"},{"$error":"#VALUE!"},{"$error":"#VALUE!"},{"$error":"#VALUE!"},{"$error":"#VALUE!"},{"$error":"#VALUE!"},{"$error":"#VALUE!"},{"$error":"#VALUE!"},null,{"$error":"#VALUE!"},{"$f":"$BL$7*$BL76+$BM$7*$BM76+$BN$7*$BN76+$BO$7*$BO76+$BP$7*$BP76+$BQ$7*$BQ76+$BR$7*$BR76+$BS$7*$BS76+$BT$7*$BT76","v":{"$error":"#VALUE!"}},{"$f":"$BL$8*$BL76+$BM$8*$BM76+$BN$8*$BN76+$BO$8*$BO76+$BP$8*$BP76+$BQ$8*$BQ76+$BR$8*$BR76+$BS$8*$BS76+$BT$8*$BT76","v":{"$error":"#VALUE!"}},null,{"$error":"#VALUE!"},{"$error":"#VALUE!"},{"$error":"#VALUE!"},{"$error":"#VALUE!"},{"$error":"#VALUE!"},{"$error":"#VALUE!"},{"$error":"#VALUE!"},{"$error":"#VALUE!"},{"$error":"#VALUE!"},{"$error":"#VALUE!"},null,{"$f":"SUM(CA76:DD76)","v":{"$error":"#VALUE!"}},{"$f":"$CA$7*CA76+$CB$7*CB76+$CC$7*CC76+$CD$7*CD76+$CE$7*CE76+$CF$7*CF76+$CG$7*CG76+$CH$7*CH76+$CI$7*CI76+$CJ$7*CJ76+$CK$7*CK76+$CL$7*CL76+$CM$7*CM76+$CN$7*CN76+$CO$7*CO76+$CP$7*CP76+$CQ$7*CQ76+$CR$7*CR76+$CS$7*CS76+$CT$7*CT76+$CU$7*CU76+$CV$7*CV76+$CW$7*CW76+$CX$7*CX76+$CY$7*CY76+$CZ$7*CZ76+$DA$7*DA76+$DB$7*DB76+$DC$7*DC76+$DD$7*DD76","v":{"$error":"#VALUE!"}},{"$f":"$CA$8*CA76+$CB$8*CB76+$CC$8*CC76+$CD$8*CD76+$CE$8*CE76+$CF$8*CF76+$CG$8*CG76+$CH$8*CH76+$CI$8*CI76+$CJ$8*CJ76+$CK$8*CK76+$CL$8*CL76+$CM$8*CM76+$CN$8*CN76+$CO$8*CO76+$CP$8*CP76+$CQ$8*CQ76+$CR$8*CR76+$CS$8*CS76+$CT$8*CT76+$CU$8*CU76+$CV$8*CV76+$CW$8*CW76+$CX$8*CX76+$CY$8*CY76+$CZ$8*CZ76+$DA$8*DA76+$DB$8*DB76+$DC$8*DC76+$DD$8*DD76","v":{"$error":"#VALUE!"}},null,{"$error":"#VALUE!"},{"$f":"IF(AND($B76>=CA$4,$B76<=CA$5),CA$6,0)","v":{"$error":"#VALUE!"}},{"$error":"#VALUE!"},{"$error":"#VALUE!"},{"$error":"#VALUE!"},{"$error":"#VALUE!"},{"$error":"#VALUE!"},{"$error":"#VALUE!"},{"$error":"#VALUE!"},{"$error":"#VALUE!"},{"$error":"#VALUE!"},{"$error":"#VALUE!"},{"$error":"#VALUE!"},{"$error":"#VALUE!"},{"$error":"#VALUE!"},{"$error":"#VALUE!"},{"$error":"#VALUE!"},{"$error":"#VALUE!"},{"$error":"#VALUE!"},{"$error":"#VALUE!"},{"$error":"#VALUE!"},{"$error":"#VALUE!"},{"$error":"#VALUE!"},{"$error":"#VALUE!"},{"$error":"#VALUE!"},{"$error":"#VALUE!"},{"$error":"#VALUE!"},{"$error":"#VALUE!"},{"$error":"#VALUE!"},{"$error":"#VALUE!"},{"$error":"#VALUE!"},null,{"$error":"#VALUE!"},{"$f":"DK$7*DK76+DL$7*DL76+DM$7*DM76+DN$7*DN76+DO$7*DO76+DP$7*DP76+DQ$7*DQ76+DR$7*DR76+DS$7*DS76","v":{"$error":"#VALUE!"}},{"$f":"DK$8*DK76+DL$8*DL76+DM$8*DM76+DN$8*DN76+DO$8*DO76+DP$8*DP76+DQ$8*DQ76+DR$8*DR76+DS$8*DS76","v":{"$error":"#VALUE!"}},null,{"$error":"#VALUE!"},{"$error":"#VALUE!"},{"$error":"#VALUE!"},{"$error":"#VALUE!"},{"$error":"#VALUE!"},{"$error":"#VALUE!"},{"$error":"#VALUE!"},{"$error":"#VALUE!"},{"$error":"#VALUE!"},{"$error":"#VALUE!"}]
[null,{"$error":"#VALUE!"},null,{"$error":"#VALUE!"},{"$error":"#VALUE!"},{"$error":"#VALUE!"},null,{"$error":"#VALUE!"},{"$error":"#VALUE!"},{"$error":"#VALUE!"},null,{"$error":"#VALUE!"},{"$error":"#VALUE!"},{"$error":"#VALUE!"},{"$error":"#VALUE!"},{"$error":"#VALUE!"},{"$error":"#VALUE!"},{"$error":"#VALUE!"},{"$error":"#VALUE!"},{"$error":"#VALUE!"},{"$error":"#VALUE!"},{"$error":"#VALUE!"},{"$error":"#VALUE!"},{"$error":"#VALUE!"},{"$error":"#VALUE!"},{"$error":"#VALUE!"},{"$error":"#VALUE!"},{"$error":"#VALUE!"},{"$error":"#VALUE!"},{"$error":"#VALUE!"},{"$error":"#VALUE!"},{"$error":"#VALUE!"},{"$error":"#VALUE!"},{"$error":"#VALUE!"},{"$error":"#VALUE!"},{"$error":"#VALUE!"},{"$error":"#VALUE!"},{"$error":"#VALUE!"},{"$error":"#VALUE!"},{"$error":"#VALUE!"},{"$error":"#VALUE!"},{"$error":"#VALUE!"},null,{"$error":"#VALUE!"},{"$error":"#VALUE!"},{"$error":"#VALUE!"},null,{"$error":"#VALUE!"},{"$error":"#VALUE!"},{"$error":"#VALUE!"},{"$error":"#VALUE!"},{"$error":"#VALUE!"},{"$error":"#VALUE!"},{"$error":"#VALUE!"},{"$error":"#VALUE!"},{"$error":"#VALUE!"},{"$error":"#VALUE!"},null,{"$error":"#VALUE!"},{"$error":"#VALUE!"},{"$error":"#VALUE!"},null,{"$error":"#VALUE!"},{"$error":"#VALUE!"},{"$error":"#VALUE!"},{"$error":"#VALUE!"},{"$error":"#VALUE!"},{"$error":"#VALUE!"},{"$error":"#VALUE!"},{"$error":"#VALUE!"},{"$error":"#VALUE!"},{"$error":"#VALUE!"},null,{"$error":"#VALUE!"},{"$error":"#VALUE!"},{"$error":"#VALUE!"},null,{"$error":"#VALUE!"},{"$error":"#VALUE!"},{"$error":"#VALUE!"},{"$error":"#VALUE!"},{"$error":"#VALUE!"},{"$error":"#VALUE!"},{"$error":"#VALUE!"},{"$error":"#VALUE!"},{"$error":"#VALUE!"},{"$error":"#VALUE!"},{"$error":"#VALUE!"},{"$error":"#VALUE!"},{"$error":"#VALUE!"},{"$error":"#VALUE!"},{"$error":"#VALUE!"},{"$error":"#VALUE!"},{"$error":"#VALUE!"},{"$error":"#VALUE!"},{"$error":"#VALUE!"},{"$error":"#VALUE!"},{"$error":"#VALUE!"},{"$error":"#VALUE!"},{"$error":"#VALUE!"},{"$error":"#VALUE!"},{"$error":"#VALUE!"},{"$error":"#VALUE!"},{"$error":"#VALUE!"},{"$error":"#VALUE!"},{"$error":"#VALUE!"},{"$error":"#VALUE!"},{"$error":"#VALUE!"},null,{"$error":"#VALUE!"},{"$error":"#VALUE!"},{"$error":"#VALUE!"},null,{"$error":"#VALUE!"},{"$error":"#VALUE!"},{"$error":"#VALUE!"},{"$error":"#VALUE!"},{"$error":"#VALUE!"},{"$error":"#VALUE!"},{"$error":"#VALUE!"},{"$error":"#VALUE!"},{"$error":"#VALUE!"},{"$error":"#VALUE!"}]
[null,{"$error":"#VALUE!"},null,{"$error":"#VALUE!"},{"$error":"#VALUE!"},{"$error":"#VALUE!"},null,{"$error":"#VALUE!"},{"$error":"#VALUE!"},{"$error":"#VALUE!"},null,{"$error":"#VALUE!"},{"$error":"#VALUE!"},{"$error":"#VALUE!"},{"$error":"#VALUE!"},{"$error":"#VALUE!"},{"$error":"#VALUE!"},{"$error":"#VALUE!"},{"$error":"#VALUE!"},{"$error":"#VALUE!"},{"$error":"#VALUE!"},{"$error":"#VALUE!"},{"$error":"#VALUE!"},{"$error":"#VALUE!"},{"$error":"#VALUE!"},{"$error":"#VALUE!"},{"$error":"#VALUE!"},{"$error":"#VALUE!"},{"$error":"#VALUE!"},{"$error":"#VALUE!"},{"$error":"#VALUE!"},{"$error":"#VALUE!"},{"$error":"#VALUE!"},{"$error":"#VALUE!"},{"$error":"#VALUE!"},{"$error":"#VALUE!"},{"$error":"#VALUE!"},{"$error":"#VALUE!"},{"$error":"#VALUE!"},{"$error":"#VALUE!"},{"$error":"#VALUE!"},{"$error":"#VALUE!"},null,{"$error":"#VALUE!"},{"$error":"#VALUE!"},{"$error":"#VALUE!"},null,{"$error":"#VALUE!"},{"$error":"#VALUE!"},{"$error":"#VALUE!"},{"$error":"#VALUE!"},{"$error":"#VALUE!"},{"$error":"#VALUE!"},{"$error":"#VALUE!"},{"$error":"#VALUE!"},{"$error":"#VALUE!"},{"$error":"#VALUE!"},null,{"$error":"#VALUE!"},{"$error":"#VALUE!"},{"$error":"#VALUE!"},null,{"$error":"#VALUE!"},{"$error":"#VALUE!"},{"$error":"#VALUE!"},{"$error":"#VALUE!"},{"$error":"#VALUE!"},{"$error":"#VALUE!"},{"$error":"#VALUE!"},{"$error":"#VALUE!"},{"$error":"#VALUE!"},{"$error":"#VALUE!"},null,{"$error":"#VALUE!"},{"$error":"#VALUE!"},{"$error":"#VALUE!"},null,{"$error":"#VALUE!"},{"$error":"#VALUE!"},{"$error":"#VALUE!"},{"$error":"#VALUE!"},{"$error":"#VALUE!"},{"$error":"#VALUE!"},{"$error":"#VALUE!"},{"$error":"#VALUE!"},{"$error":"#VALUE!"},{"$error":"#VALUE!"},{"$error":"#VALUE!"},{"$error":"#VALUE!"},{"$error":"#VALUE!"},{"$error":"#VALUE!"},{"$error":"#VALUE!"},{"$error":"#VALUE!"},{"$error":"#VALUE!"},{"$error":"#VALUE!"},{"$error":"#VALUE!"},{"$error":"#VALUE!"},{"$error":"#VALUE!"},{"$error":"#VALUE!"},{"$error":"#VALUE!"},{"$error":"#VALUE!"},{"$error":"#VALUE!"},{"$error":"#VALUE!"},{"$error":"#VALUE!"},{"$error":"#VALUE!"},{"$error":"#VALUE!"},{"$error":"#VALUE!"},{"$error":"#VALUE!"},null,{"$error":"#VALUE!"},{"$error":"#VALUE!"},{"$error":"#VALUE!"},null,{"$error":"#VALUE!"},{"$error":"#VALUE!"},{"$error":"#VALUE!"},{"$error":"#VALUE!"},{"$error":"#VALUE!"},{"$error":"#VALUE!"},{"$error":"#VALUE!"},{"$error":"#VALUE!"},{"$error":"#VALUE!"},{"$error":"#VALUE!"}]
[null,{"$error":"#VALUE!"},null,{"$error":"#VALUE!"},{"$error":"#VALUE!"},{"$error":"#VALUE!"},null,{"$error":"#VALUE!"},{"$error":"#VALUE!"},{"$error":"#VALUE!"},null,{"$error":"#VALUE!"},{"$error":"#VALUE!"},{"$error":"#VALUE!"},{"$error":"#VALUE!"},{"$error":"#VALUE!"},{"$error":"#VALUE!"},{"$error":"#VALUE!"},{"$error":"#VALUE!"},{"$error":"#VALUE!"},{"$error":"#VALUE!"},{"$error":"#VALUE!"},{"$error":"#VALUE!"},{"$error":"#VALUE!"},{"$error":"#VALUE!"},{"$error":"#VALUE!"},{"$error":"#VALUE!"},{"$error":"#VALUE!"},{"$error":"#VALUE!"},{"$error":"#VALUE!"},{"$error":"#VALUE!"},{"$error":"#VALUE!"},{"$error":"#VALUE!"},{"$error":"#VALUE!"},{"$error":"#VALUE!"},{"$error":"#VALUE!"},{"$error":"#VALUE!"},{"$error":"#VALUE!"},{"$error":"#VALUE!"},{"$error":"#VALUE!"},{"$error":"#VALUE!"},{"$error":"#VALUE!"},null,{"$error":"#VALUE!"},{"$error":"#VALUE!"},{"$error":"#VALUE!"},null,{"$error":"#VALUE!"},{"$error":"#VALUE!"},{"$error":"#VALUE!"},{"$error":"#VALUE!"},{"$error":"#VALUE!"},{"$error":"#VALUE!"},{"$error":"#VALUE!"},{"$error":"#VALUE!"},{"$error":"#VALUE!"},{"$error":"#VALUE!"},null,{"$error":"#VALUE!"},{"$error":"#VALUE!"},{"$error":"#VALUE!"},null,{"$error":"#VALUE!"},{"$error":"#VALUE!"},{"$error":"#VALUE!"},{"$error":"#VALUE!"},{"$error":"#VALUE!"},{"$error":"#VALUE!"},{"$error":"#VALUE!"},{"$error":"#VALUE!"},{"$error":"#VALUE!"},{"$error":"#VALUE!"},null,{"$error":"#VALUE!"},{"$error":"#VALUE!"},{"$error":"#VALUE!"},null,{"$error":"#VALUE!"},{"$error":"#VALUE!"},{"$error":"#VALUE!"},{"$error":"#VALUE!"},{"$error":"#VALUE!"},{"$error":"#VALUE!"},{"$error":"#VALUE!"},{"$error":"#VALUE!"},{"$error":"#VALUE!"},{"$error":"#VALUE!"},{"$error":"#VALUE!"},{"$error":"#VALUE!"},{"$error":"#VALUE!"},{"$error":"#VALUE!"},{"$error":"#VALUE!"},{"$error":"#VALUE!"},{"$error":"#VALUE!"},{"$error":"#VALUE!"},{"$error":"#VALUE!"},{"$error":"#VALUE!"},{"$error":"#VALUE!"},{"$error":"#VALUE!"},{"$error":"#VALUE!"},{"$error":"#VALUE!"},{"$error":"#VALUE!"},{"$error":"#VALUE!"},{"$error":"#VALUE!"},{"$error":"#VALUE!"},{"$error":"#VALUE!"},{"$error":"#VALUE!"},{"$error":"#VALUE!"},null,{"$error":"#VALUE!"},{"$error":"#VALUE!"},{"$error":"#VALUE!"},null,{"$error":"#VALUE!"},{"$error":"#VALUE!"},{"$error":"#VALUE!"},{"$error":"#VALUE!"},{"$error":"#VALUE!"},{"$error":"#VALUE!"},{"$error":"#VALUE!"},{"$error":"#VALUE!"},{"$error":"#VALUE!"},{"$error":"#VALUE!"}]
[null,{"$error":"#VALUE!"},null,{"$error":"#VALUE!"},{"$error":"#VALUE!"},{"$error":"#VALUE!"},null,{"$error":"#VALUE!"},{"$error":"#VALUE!"},{"$error":"#VALUE!"},null,{"$error":"#VALUE!"},{"$error":"#VALUE!"},{"$error":"#VALUE!"},{"$error":"#VALUE!"},{"$error":"#VALUE!"},{"$error":"#VALUE!"},{"$error":"#VALUE!"},{"$error":"#VALUE!"},{"$error":"#VALUE!"},{"$error":"#VALUE!"},{"$error":"#VALUE!"},{"$error":"#VALUE!"},{"$error":"#VALUE!"},{"$error":"#VALUE!"},{"$error":"#VALUE!"},{"$error":"#VALUE!"},{"$error":"#VALUE!"},{"$error":"#VALUE!"},{"$error":"#VALUE!"},{"$error":"#VALUE!"},{"$error":"#VALUE!"},{"$error":"#VALUE!"},{"$error":"#VALUE!"},{"$error":"#VALUE!"},{"$error":"#VALUE!"},{"$error":"#VALUE!"},{"$error":"#VALUE!"},{"$error":"#VALUE!"},{"$error":"#VALUE!"},{"$error":"#VALUE!"},{"$error":"#VALUE!"},null,{"$error":"#VALUE!"},{"$error":"#VALUE!"},{"$error":"#VALUE!"},null,{"$error":"#VALUE!"},{"$error":"#VALUE!"},{"$error":"#VALUE!"},{"$error":"#VALUE!"},{"$error":"#VALUE!"},{"$error":"#VALUE!"},{"$error":"#VALUE!"},{"$error":"#VALUE!"},{"$error":"#VALUE!"},{"$error":"#VALUE!"},null,{"$error":"#VALUE!"},{"$error":"#VALUE!"},{"$error":"#VALUE!"},null,{"$error":"#VALUE!"},{"$error":"#VALUE!"},{"$error":"#VALUE!"},{"$error":"#VALUE!"},{"$error":"#VALUE!"},{"$error":"#VALUE!"},{"$error":"#VALUE!"},{"$error":"#VALUE!"},{"$error":"#VALUE!"},{"$error":"#VALUE!"},null,{"$error":"#VALUE!"},{"$error":"#VALUE!"},{"$error":"#VALUE!"},null,{"$error":"#VALUE!"},{"$error":"#VALUE!"},{"$error":"#VALUE!"},{"$error":"#VALUE!"},{"$error":"#VALUE!"},{"$error":"#VALUE!"},{"$error":"#VALUE!"},{"$error":"#VALUE!"},{"$error":"#VALUE!"},{"$error":"#VALUE!"},{"$error":"#VALUE!"},{"$error":"#VALUE!"},{"$error":"#VALUE!"},{"$error":"#VALUE!"},{"$error":"#VALUE!"},{"$error":"#VALUE!"},{"$error":"#VALUE!"},{"$error":"#VALUE!"},{"$error":"#VALUE!"},{"$error":"#VALUE!"},{"$error":"#VALUE!"},{"$error":"#VALUE!"},{"$error":"#VALUE!"},{"$error":"#VALUE!"},{"$error":"#VALUE!"},{"$error":"#VALUE!"},{"$error":"#VALUE!"},{"$error":"#VALUE!"},{"$error":"#VALUE!"},{"$error":"#VALUE!"},{"$error":"#VALUE!"},null,{"$error":"#VALUE!"},{"$error":"#VALUE!"},{"$error":"#VALUE!"},null,{"$error":"#VALUE!"},{"$error":"#VALUE!"},{"$error":"#VALUE!"},{"$error":"#VALUE!"},{"$error":"#VALUE!"},{"$error":"#VALUE!"},{"$error":"#VALUE!"},{"$error":"#VALUE!"},{"$error":"#VALUE!"},{"$error":"#VALUE!"}]
[null,{"$error":"#VALUE!"},null,{"$error":"#VALUE!"},{"$error":"#VALUE!"},{"$error":"#VALUE!"},null,{"$error":"#VALUE!"},{"$error":"#VALUE!"},{"$error":"#VALUE!"},null,{"$error":"#VALUE!"},{"$error":"#VALUE!"},{"$error":"#VALUE!"},{"$error":"#VALUE!"},{"$error":"#VALUE!"},{"$error":"#VALUE!"},{"$error":"#VALUE!"},{"$error":"#VALUE!"},{"$error":"#VALUE!"},{"$error":"#VALUE!"},{"$error":"#VALUE!"},{"$error":"#VALUE!"},{"$error":"#VALUE!"},{"$error":"#VALUE!"},{"$error":"#VALUE!"},{"$error":"#VALUE!"},{"$error":"#VALUE!"},{"$error":"#VALUE!"},{"$error":"#VALUE!"},{"$error":"#VALUE!"},{"$error":"#VALUE!"},{"$error":"#VALUE!"},{"$error":"#VALUE!"},{"$error":"#VALUE!"},{"$error":"#VALUE!"},{"$error":"#VALUE!"},{"$error":"#VALUE!"},{"$error":"#VALUE!"},{"$error":"#VALUE!"},{"$error":"#VALUE!"},{"$error":"#VALUE!"},null,{"$error":"#VALUE!"},{"$error":"#VALUE!"},{"$error":"#VALUE!"},null,{"$error":"#VALUE!"},{"$error":"#VALUE!"},{"$error":"#VALUE!"},{"$error":"#VALUE!"},{"$error":"#VALUE!"},{"$error":"#VALUE!"},{"$error":"#VALUE!"},{"$error":"#VALUE!"},{"$error":"#VALUE!"},{"$error":"#VALUE!"},null,{"$error":"#VALUE!"},{"$error":"#VALUE!"},{"$error":"#VALUE!"},null,{"$error":"#VALUE!"},{"$error":"#VALUE!"},{"$error":"#VALUE!"},{"$error":"#VALUE!"},{"$error":"#VALUE!"},{"$error":"#VALUE!"},{"$error":"#VALUE!"},{"$error":"#VALUE!"},{"$error":"#VALUE!"},{"$error":"#VALUE!"},null,{"$error":"#VALUE!"},{"$error":"#VALUE!"},{"$error":"#VALUE!"},null,{"$error":"#VALUE!"},{"$error":"#VALUE!"},{"$error":"#VALUE!"},{"$error":"#VALUE!"},{"$error":"#VALUE!"},{"$error":"#VALUE!"},{"$error":"#VALUE!"},{"$error":"#VALUE!"},{"$error":"#VALUE!"},{"$error":"#VALUE!"},{"$error":"#VALUE!"},{"$error":"#VALUE!"},{"$error":"#VALUE!"},{"$error":"#VALUE!"},{"$error":"#VALUE!"},{"$error":"#VALUE!"},{"$error":"#VALUE!"},{"$error":"#VALUE!"},{"$error":"#VALUE!"},{"$error":"#VALUE!"},{"$error":"#VALUE!"},{"$error":"#VALUE!"},{"$error":"#VALUE!"},{"$error":"#VALUE!"},{"$error":"#VALUE!"},{"$error":"#VALUE!"},{"$error":"#VALUE!"},{"$error":"#VALUE!"},{"$error":"#VALUE!"},{"$error":"#VALUE!"},{"$error":"#VALUE!"},null,{"$error":"#VALUE!"},{"$error":"#VALUE!"},{"$error":"#VALUE!"},null,{"$error":"#VALUE!"},{"$error":"#VALUE!"},{"$error":"#VALUE!"},{"$error":"#VALUE!"},{"$error":"#VALUE!"},{"$error":"#VALUE!"},{"$error":"#VALUE!"},{"$error":"#VALUE!"},{"$error":"#VALUE!"},{"$error":"#VALUE!"}]
[null,{"$error":"#VALUE!"},null,{"$error":"#VALUE!"},{"$error":"#VALUE!"},{"$error":"#VALUE!"},null,{"$error":"#VALUE!"},{"$error":"#VALUE!"},{"$error":"#VALUE!"},null,{"$error":"#VALUE!"},{"$error":"#VALUE!"},{"$error":"#VALUE!"},{"$error":"#VALUE!"},{"$error":"#VALUE!"},{"$error":"#VALUE!"},{"$error":"#VALUE!"},{"$error":"#VALUE!"},{"$error":"#VALUE!"},{"$error":"#VALUE!"},{"$error":"#VALUE!"},{"$error":"#VALUE!"},{"$error":"#VALUE!"},{"$error":"#VALUE!"},{"$error":"#VALUE!"},{"$error":"#VALUE!"},{"$error":"#VALUE!"},{"$error":"#VALUE!"},{"$error":"#VALUE!"},{"$error":"#VALUE!"},{"$error":"#VALUE!"},{"$error":"#VALUE!"},{"$error":"#VALUE!"},{"$error":"#VALUE!"},{"$error":"#VALUE!"},{"$error":"#VALUE!"},{"$error":"#VALUE!"},{"$error":"#VALUE!"},{"$error":"#VALUE!"},{"$error":"#VALUE!"},{"$error":"#VALUE!"},null,{"$error":"#VALUE!"},{"$error":"#VALUE!"},{"$error":"#VALUE!"},null,{"$error":"#VALUE!"},{"$error":"#VALUE!"},{"$error":"#VALUE!"},{"$error":"#VALUE!"},{"$error":"#VALUE!"},{"$error":"#VALUE!"},{"$error":"#VALUE!"},{"$error":"#VALUE!"},{"$error":"#VALUE!"},{"$error":"#VALUE!"},null,{"$error":"#VALUE!"},{"$error":"#VALUE!"},{"$error":"#VALUE!"},null,{"$error":"#VALUE!"},{"$error":"#VALUE!"},{"$error":"#VALUE!"},{"$error":"#VALUE!"},{"$error":"#VALUE!"},{"$error":"#VALUE!"},{"$error":"#VALUE!"},{"$error":"#VALUE!"},{"$error":"#VALUE!"},{"$error":"#VALUE!"},null,{"$error":"#VALUE!"},{"$error":"#VALUE!"},{"$error":"#VALUE!"},null,{"$error":"#VALUE!"},{"$error":"#VALUE!"},{"$error":"#VALUE!"},{"$error":"#VALUE!"},{"$error":"#VALUE!"},{"$error":"#VALUE!"},{"$error":"#VALUE!"},{"$error":"#VALUE!"},{"$error":"#VALUE!"},{"$error":"#VALUE!"},{"$error":"#VALUE!"},{"$error":"#VALUE!"},{"$error":"#VALUE!"},{"$error":"#VALUE!"},{"$error":"#VALUE!"},{"$error":"#VALUE!"},{"$error":"#VALUE!"},{"$error":"#VALUE!"},{"$error":"#VALUE!"},{"$error":"#VALUE!"},{"$error":"#VALUE!"},{"$error":"#VALUE!"},{"$error":"#VALUE!"},{"$error":"#VALUE!"},{"$error":"#VALUE!"},{"$error":"#VALUE!"},{"$error":"#VALUE!"},{"$error":"#VALUE!"},{"$error":"#VALUE!"},{"$error":"#VALUE!"},{"$error":"#VALUE!"},null,{"$error":"#VALUE!"},{"$error":"#VALUE!"},{"$error":"#VALUE!"},null,{"$error":"#VALUE!"},{"$error":"#VALUE!"},{"$error":"#VALUE!"},{"$error":"#VALUE!"},{"$error":"#VALUE!"},{"$error":"#VALUE!"},{"$error":"#VALUE!"},{"$error":"#VALUE!"},{"$error":"#VALUE!"},{"$error":"#VALUE!"}]
[null,{"$error":"#VALUE!"},null,{"$error":"#VALUE!"},{"$error":"#VALUE!"},{"$error":"#VALUE!"},null,{"$error":"#VALUE!"},{"$error":"#VALUE!"},{"$error":"#VALUE!"},null,{"$error":"#VALUE!"},{"$error":"#VALUE!"},{"$error":"#VALUE!"},{"$error":"#VALUE!"},{"$error":"#VALUE!"},{"$error":"#VALUE!"},{"$error":"#VALUE!"},{"$error":"#VALUE!"},{"$error":"#VALUE!"},{"$error":"#VALUE!"},{"$error":"#VALUE!"},{"$error":"#VALUE!"},{"$error":"#VALUE!"},{"$error":"#VALUE!"},{"$error":"#VALUE!"},{"$error":"#VALUE!"},{"$error":"#VALUE!"},{"$error":"#VALUE!"},{"$error":"#VALUE!"},{"$error":"#VALUE!"},{"$error":"#VALUE!"},{"$error":"#VALUE!"},{"$error":"#VALUE!"},{"$error":"#VALUE!"},{"$error":"#VALUE!"},{"$error":"#VALUE!"},{"$error":"#VALUE!"},{"$error":"#VALUE!"},{"$error":"#VALUE!"},{"$error":"#VALUE!"},{"$error":"#VALUE!"},null,{"$error":"#VALUE!"},{"$error":"#VALUE!"},{"$error":"#VALUE!"},null,{"$error":"#VALUE!"},{"$error":"#VALUE!"},{"$error":"#VALUE!"},{"$error":"#VALUE!"},{"$error":"#VALUE!"},{"$error":"#VALUE!"},{"$error":"#VALUE!"},{"$error":"#VALUE!"},{"$error":"#VALUE!"},{"$error":"#VALUE!"},null,{"$error":"#VALUE!"},{"$error":"#VALUE!"},{"$error":"#VALUE!"},null,{"$error":"#VALUE!"},{"$error":"#VALUE!"},{"$error":"#VALUE!"},{"$error":"#VALUE!"},{"$error":"#VALUE!"},{"$error":"#VALUE!"},{"$error":"#VALUE!"},{"$error":"#VALUE!"},{"$error":"#VALUE!"},{"$error":"#VALUE!"},null,{"$error":"#VALUE!"},{"$error":"#VALUE!"},{"$error":"#VALUE!"},null,{"$error":"#VALUE!"},{"$error":"#VALUE!"},{"$error":"#VALUE!"},{"$error":"#VALUE!"},{"$error":"#VALUE!"},{"$error":"#VALUE!"},{"$error":"#VALUE!"},{"$error":"#VALUE!"},{"$error":"#VALUE!"},{"$error":"#VALUE!"},{"$error":"#VALUE!"},{"$error":"#VALUE!"},{"$error":"#VALUE!"},{"$error":"#VALUE!"},{"$error":"#VALUE!"},{"$error":"#VALUE!"},{"$error":"#VALUE!"},{"$error":"#VALUE!"},{"$error":"#VALUE!"},{"$error":"#VALUE!"},{"$error":"#VALUE!"},{"$error":"#VALUE!"},{"$error":"#VALUE!"},{"$error":"#VALUE!"},{"$error":"#VALUE!"},{"$error":"#VALUE!"},{"$error":"#VALUE!"},{"$error":"#VALUE!"},{"$error":"#VALUE!"},{"$error":"#VALUE!"},{"$error":"#VALUE!"},null,{"$error":"#VALUE!"},{"$error":"#VALUE!"},{"$error":"#VALUE!"},null,{"$error":"#VALUE!"},{"$error":"#VALUE!"},{"$error":"#VALUE!"},{"$error":"#VALUE!"},{"$error":"#VALUE!"},{"$error":"#VALUE!"},{"$error":"#VALUE!"},{"$error":"#VALUE!"},{"$error":"#VALUE!"},{"$error":"#VALUE!"}]
[null,{"$error":"#VALUE!"},null,{"$error":"#VALUE!"},{"$error":"#VALUE!"},{"$error":"#VALUE!"},null,{"$error":"#VALUE!"},{"$error":"#VALUE!"},{"$error":"#VALUE!"},null,{"$error":"#VALUE!"},{"$error":"#VALUE!"},{"$error":"#VALUE!"},{"$error":"#VALUE!"},{"$error":"#VALUE!"},{"$error":"#VALUE!"},{"$error":"#VALUE!"},{"$error":"#VALUE!"},{"$error":"#VALUE!"},{"$error":"#VALUE!"},{"$error":"#VALUE!"},{"$error":"#VALUE!"},{"$error":"#VALUE!"},{"$error":"#VALUE!"},{"$error":"#VALUE!"},{"$error":"#VALUE!"},{"$error":"#VALUE!"},{"$error":"#VALUE!"},{"$error":"#VALUE!"},{"$error":"#VALUE!"},{"$error":"#VALUE!"},{"$error":"#VALUE!"},{"$error":"#VALUE!"},{"$error":"#VALUE!"},{"$error":"#VALUE!"},{"$error":"#VALUE!"},{"$error":"#VALUE!"},{"$error":"#VALUE!"},{"$error":"#VALUE!"},{"$error":"#VALUE!"},{"$error":"#VALUE!"},null,{"$error":"#VALUE!"},{"$error":"#VALUE!"},{"$error":"#VALUE!"},null,{"$error":"#VALUE!"},{"$error":"#VALUE!"},{"$error":"#VALUE!"},{"$error":"#VALUE!"},{"$error":"#VALUE!"},{"$error":"#VALUE!"},{"$error":"#VALUE!"},{"$error":"#VALUE!"},{"$error":"#VALUE!"},{"$error":"#VALUE!"},null,{"$error":"#VALUE!"},{"$error":"#VALUE!"},{"$error":"#VALUE!"},null,{"$error":"#VALUE!"},{"$error":"#VALUE!"},{"$error":"#VALUE!"},{"$error":"#VALUE!"},{"$error":"#VALUE!"},{"$error":"#VALUE!"},{"$error":"#VALUE!"},{"$error":"#VALUE!"},{"$error":"#VALUE!"},{"$error":"#VALUE!"},null,{"$error":"#VALUE!"},{"$error":"#VALUE!"},{"$error":"#VALUE!"},null,{"$error":"#VALUE!"},{"$error":"#VALUE!"},{"$error":"#VALUE!"},{"$error":"#VALUE!"},{"$error":"#VALUE!"},{"$error":"#VALUE!"},{"$error":"#VALUE!"},{"$error":"#VALUE!"},{"$error":"#VALUE!"},{"$error":"#VALUE!"},{"$error":"#VALUE!"},{"$error":"#VALUE!"},{"$error":"#VALUE!"},{"$error":"#VALUE!"},{"$error":"#VALUE!"},{"$error":"#VALUE!"},{"$error":"#VALUE!"},{"$error":"#VALUE!"},{"$error":"#VALUE!"},{"$error":"#VALUE!"},{"$error":"#VALUE!"},{"$error":"#VALUE!"},{"$error":"#VALUE!"},{"$error":"#VALUE!"},{"$error":"#VALUE!"},{"$error":"#VALUE!"},{"$error":"#VALUE!"},{"$error":"#VALUE!"},{"$error":"#VALUE!"},{"$error":"#VALUE!"},{"$error":"#VALUE!"},null,{"$error":"#VALUE!"},{"$error":"#VALUE!"},{"$error":"#VALUE!"},null,{"$error":"#VALUE!"},{"$error":"#VALUE!"},{"$error":"#VALUE!"},{"$error":"#VALUE!"},{"$error":"#VALUE!"},{"$error":"#VALUE!"},{"$error":"#VALUE!"},{"$error":"#VALUE!"},{"$error":"#VALUE!"},{"$error":"#VALUE!"}]
[null,{"$f":"DATE(YEAR(B84),MONTH(B84)+1,DAY(B84))","v":{"$error":"#VALUE!"}},null,{"$error":"#VALUE!"},{"$error":"#VALUE!"},{"$error":"#VALUE!"},null,{"$error":"#VALUE!"},{"$error":"#VALUE!"},{"$error":"#VALUE!"},null,{"$error":"#VALUE!"},{"$error":"#VALUE!"},{"$error":"#VALUE!"},{"$error":"#VALUE!"},{"$error":"#VALUE!"},{"$error":"#VALUE!"},{"$error":"#VALUE!"},{"$error":"#VALUE!"},{"$error":"#VALUE!"},{"$error":"#VALUE!"},{"$error":"#VALUE!"},{"$error":"#VALUE!"},{"$error":"#VALUE!"},{"$error":"#VALUE!"},{"$error":"#VALUE!"},{"$error":"#VALUE!"},{"$error":"#VALUE!"},{"$error":"#VALUE!"},{"$error":"#VALUE!"},{"$error":"#VALUE!"},{"$error":"#VALUE!"},{"$error":"#VALUE!"},{"$error":"#VALUE!"},{"$error":"#VALUE!"},{"$error":"#VALUE!"},{"$error":"#VALUE!"},{"$error":"#VALUE!"},{"$error":"#VALUE!"},{"$error":"#VALUE!"},{"$error":"#VALUE!"},{"$error":"#VALUE!"},null,{"$error":"#VALUE!"},{"$error":"#VALUE!"},{"$error":"#VALUE!"},null,{"$error":"#VALUE!"},{"$error":"#VALUE!"},{"$error":"#VALUE!"},{"$error":"#VALUE!"},{"$error":"#VALUE!"},{"$error":"#VALUE!"},{"$error":"#VALUE!"},{"$error":"#VALUE!"},{"$error":"#VALUE!"},{"$error":"#VALUE!"},null,{"$error":"#VALUE!"},{"$error":"#VALUE!"},{"$error":"#VALUE!"},null,{"$error":"#VALUE!"},{"$error":"#VALUE!"},{"$error":"#VALUE!"},{"$error":"#VALUE!"},{"$error":"#VALUE!"},{"$error":"#VALUE!"},{"$error":"#VALUE!"},{"$error":"#VALUE!"},{"$error":"#VALUE!"},{"$error":"#VALUE!"},null,{"$error":"#VALUE!"},{"$error":"#VALUE!"},{"$error":"#VALUE!"},null,{"$error":"#VALUE!"},{"$error":"#VALUE!"},{"$error":"#VALUE!"},{"$error":"#VALUE!"},{"$error":"#VALUE!"},{"$error":"#VALUE!"},{"$error":"#VALUE!"},{"$error":"#VALUE!"},{"$error":"#VALUE!"},{"$error":"#VALUE!"},{"$error":"#VALUE!"},{"$error":"#VALUE!"},{"$error":"#VALUE!"},{"$error":"#VALUE!"},{"$error":"#VALUE!"},{"$error":"#VALUE!"},{"$error":"#VALUE!"},{"$error":"#VALUE!"},{"$error":"#VALUE!"},{"$error":"#VALUE!"},{"$error":"#VALUE!"},{"$error":"#VALUE!"},{"$error":"#VALUE!"},{"$error":"#VALUE!"},{"$error":"#VALUE!"},{"$error":"#VALUE!"},{"$error":"#VALUE!"},{"$error":"#VALUE!"},{"$error":"#VALUE!"},{"$error":"#VALUE!"},{"$error":"#VALUE!"},null,{"$error":"#VALUE!"},{"$error":"#VALUE!"},{"$error":"#VALUE!"},null,{"$error":"#VALUE!"},{"$error":"#VALUE!"},{"$error":"#VALUE!"},{"$error":"#VALUE!"},{"$error":"#VALUE!"},{"$error":"#VALUE!"},{"$error":"#VALUE!"},{"$error":"#VALUE!"},{"$error":"#VALUE!"},{"$error":"#VALUE!"}]
[null,{"$f":"DATE(YEAR(B85),MONTH(B85)+1,DAY(B85))","v":{"$error":"#VALUE!"}},null,{"$error":"#VALUE!"},{"$error":"#VALUE!"},{"$error":"#VALUE!"},null,{"$error":"#VALUE!"},{"$error":"#VALUE!"},{"$error":"#VALUE!"},null,{"$error":"#VALUE!"},{"$error":"#VALUE!"},{"$error":"#VALUE!"},{"$error":"#VALUE!"},{"$error":"#VALUE!"},{"$error":"#VALUE!"},{"$error":"#VALUE!"},{"$error":"#VALUE!"},{"$error":"#VALUE!"},{"$error":"#VALUE!"},{"$error":"#VALUE!"},{"$error":"#VALUE!"},{"$error":"#VALUE!"},{"$error":"#VALUE!"},{"$error":"#VALUE!"},{"$error":"#VALUE!"},{"$error":"#VALUE!"},{"$error":"#VALUE!"},{"$error":"#VALUE!"},{"$error":"#VALUE!"},{"$error":"#VALUE!"},{"$error":"#VALUE!"},{"$error":"#VALUE!"},{"$error":"#VALUE!"},{"$error":"#VALUE!"},{"$error":"#VALUE!"},{"$error":"#VALUE!"},{"$error":"#VALUE!"},{"$error":"#VALUE!"},{"$error":"#VALUE!"},{"$error":"#VALUE!"},null,{"$error":"#VALUE!"},{"$error":"#VALUE!"},{"$error":"#VALUE!"},null,{"$error":"#VALUE!"},{"$error":"#VALUE!"},{"$error":"#VALUE!"},{"$error":"#VALUE!"},{"$error":"#VALUE!"},{"$error":"#VALUE!"},{"$error":"#VALUE!"},{"$error":"#VALUE!"},{"$error":"#VALUE!"},{"$error":"#VALUE!"},null,{"$error":"#VALUE!"},{"$error":"#VALUE!"},{"$error":"#VALUE!"},null,{"$error":"#VALUE!"},{"$error":"#VALUE!"},{"$error":"#VALUE!"},{"$error":"#VALUE!"},{"$error":"#VALUE!"},{"$error":"#VALUE!"},{"$error":"#VALUE!"},{"$error":"#VALUE!"},{"$error":"#VALUE!"},{"$error":"#VALUE!"},null,{"$error":"#VALUE!"},{"$error":"#VALUE!"},{"$error":"#VALUE!"},null,{"$error":"#VALUE!"},{"$error":"#VALUE!"},{"$error":"#VALUE!"},{"$error":"#VALUE!"},{"$error":"#VALUE!"},{"$error":"#VALUE!"},{"$error":"#VALUE!"},{"$error":"#VALUE!"},{"$error":"#VALUE!"},{"$error":"#VALUE!"},{"$error":"#VALUE!"},{"$error":"#VALUE!"},{"$error":"#VALUE!"},{"$error":"#VALUE!"},{"$error":"#VALUE!"},{"$error":"#VALUE!"},{"$error":"#VALUE!"},{"$error":"#VALUE!"},{"$error":"#VALUE!"},{"$error":"#VALUE!"},{"$error":"#VALUE!"},{"$error":"#VALUE!"},{"$error":"#VALUE!"},{"$error":"#VALUE!"},{"$error":"#VALUE!"},{"$error":"#VALUE!"},{"$error":"#VALUE!"},{"$error":"#VALUE!"},{"$error":"#VALUE!"},{"$error":"#VALUE!"},{"$error":"#VALUE!"},null,{"$error":"#VALUE!"},{"$error":"#VALUE!"},{"$error":"#VALUE!"},null,{"$error":"#VALUE!"},{"$error":"#VALUE!"},{"$error":"#VALUE!"},{"$error":"#VALUE!"},{"$error":"#VALUE!"},{"$error":"#VALUE!"},{"$error":"#VALUE!"},{"$error":"#VALUE!"},{"$error":"#VALUE!"},{"$error":"#VALUE!"}]
[null,{"$f":"DATE(YEAR(B86),MONTH(B86)+1,DAY(B86))","v":{"$error":"#VALUE!"}},null,{"$error":"#VALUE!"},{"$error":"#VALUE!"},{"$error":"#VALUE!"},null,{"$error":"#VALUE!"},{"$error":"#VALUE!"},{"$error":"#VALUE!"},null,{"$error":"#VALUE!"},{"$error":"#VALUE!"},{"$error":"#VALUE!"},{"$error":"#VALUE!"},{"$error":"#VALUE!"},{"$error":"#VALUE!"},{"$error":"#VALUE!"},{"$error":"#VALUE!"},{"$error":"#VALUE!"},{"$error":"#VALUE!"},{"$error":"#VALUE!"},{"$error":"#VALUE!"},{"$error":"#VALUE!"},{"$error":"#VALUE!"},{"$error":"#VALUE!"},{"$error":"#VALUE!"},{"$error":"#VALUE!"},{"$error":"#VALUE!"},{"$error":"#VALUE!"},{"$error":"#VALUE!"},{"$error":"#VALUE!"},{"$error":"#VALUE!"},{"$error":"#VALUE!"},{"$error":"#VALUE!"},{"$error":"#VALUE!"},{"$error":"#VALUE!"},{"$error":"#VALUE!"},{"$error":"#VALUE!"},{"$error":"#VALUE!"},{"$error":"#VALUE!"},{"$error":"#VALUE!"},null,{"$error":"#VALUE!"},{"$error":"#VALUE!"},{"$error":"#VALUE!"},null,{"$error":"#VALUE!"},{"$error":"#VALUE!"},{"$error":"#VALUE!"},{"$error":"#VALUE!"},{"$error":"#VALUE!"},{"$error":"#VALUE!"},{"$error":"#VALUE!"},{"$error":"#VALUE!"},{"$error":"#VALUE!"},{"$error":"#VALUE!"},null,{"$error":"#VALUE!"},{"$error":"#VALUE!"},{"$error":"#VALUE!"},null,{"$error":"#VALUE!"},{"$error":"#VALUE!"},{"$error":"#VALUE!"},{"$error":"#VALUE!"},{"$error":"#VALUE!"},{"$error":"#VALUE!"},{"$error":"#VALUE!"},{"$error":"#VALUE!"},{"$error":"#VALUE!"},{"$error":"#VALUE!"},null,{"$error":"#VALUE!"},{"$error":"#VALUE!"},{"$error":"#VALUE!"},null,{"$error":"#VALUE!"},{"$error":"#VALUE!"},{"$error":"#VALUE!"},{"$error":"#VALUE!"},{"$error":"#VALUE!"},{"$error":"#VALUE!"},{"$error":"#VALUE!"},{"$error":"#VALUE!"},{"$error":"#VALUE!"},{"$error":"#VALUE!"},{"$error":"#VALUE!"},{"$error":"#VALUE!"},{"$error":"#VALUE!"},{"$error":"#VALUE!"},{"$error":"#VALUE!"},{"$error":"#VALUE!"},{"$error":"#VALUE!"},{"$error":"#VALUE!"},{"$error":"#VALUE!"},{"$error":"#VALUE!"},{"$error":"#VALUE!"},{"$error":"#VALUE!"},{"$error":"#VALUE!"},{"$error":"#VALUE!"},{"$error":"#VALUE!"},{"$error":"#VALUE!"},{"$error":"#VALUE!"},{"$error":"#VALUE!"},{"$error":"#VALUE!"},{"$error":"#VALUE!"},{"$error":"#VALUE!"},null,{"$error":"#VALUE!"},{"$error":"#VALUE!"},{"$error":"#VALUE!"},null,{"$error":"#VALUE!"},{"$error":"#VALUE!"},{"$error":"#VALUE!"},{"$error":"#VALUE!"},{"$error":"#VALUE!"},{"$error":"#VALUE!"},{"$error":"#VALUE!"},{"$error":"#VALUE!"},{"$error":"#VALUE!"},{"$error":"#VALUE!"}]
[null,{"$error":"#VALUE!"},null,{"$error":"#VALUE!"},{"$error":"#VALUE!"},{"$error":"#VALUE!"},null,{"$error":"#VALUE!"},{"$error":"#VALUE!"},{"$error":"#VALUE!"},null,{"$error":"#VALUE!"},{"$error":"#VALUE!"},{"$error":"#VALUE!"},{"$error":"#VALUE!"},{"$error":"#VALUE!"},{"$error":"#VALUE!"},{"$error":"#VALUE!"},{"$error":"#VALUE!"},{"$error":"#VALUE!"},{"$error":"#VALUE!"},{"$error":"#VALUE!"},{"$error":"#VALUE!"},{"$error":"#VALUE!"},{"$error":"#VALUE!"},{"$error":"#VALUE!"},{"$error":"#VALUE!"},{"$error":"#VALUE!"},{"$error":"#VALUE!"},{"$error":"#VALUE!"},{"$error":"#VALUE!"},{"$error":"#VALUE!"},{"$error":"#VALUE!"},{"$error":"#VALUE!"},{"$error":"#VALUE!"},{"$error":"#VALUE!"},{"$error":"#VALUE!"},{"$error":"#VALUE!"},{"$error":"#VALUE!"},{"$error":"#VALUE!"},{"$error":"#VALUE!"},{"$error":"#VALUE!"},null,{"$error":"#VALUE!"},{"$error":"#VALUE!"},{"$error":"#VALUE!"},null,{"$error":"#VALUE!"},{"$error":"#VALUE!"},{"$error":"#VALUE!"},{"$error":"#VALUE!"},{"$error":"#VALUE!"},{"$error":"#VALUE!"},{"$error":"#VALUE!"},{"$error":"#VALUE!"},{"$error":"#VALUE!"},{"$error":"#VALUE!"},null,{"$error":"#VALUE!"},{"$error":"#VALUE!"},{"$error":"#VALUE!"},null,{"$error":"#VALUE!"},{"$error":"#VALUE!"},{"$error":"#VALUE!"},{"$error":"#VALUE!"},{"$error":"#VALUE!"},{"$error":"#VALUE!"},{"$error":"#VALUE!"},{"$error":"#VALUE!"},{"$error":"#VALUE!"},{"$error":"#VALUE!"},null,{"$error":"#VALUE!"},{"$error":"#VALUE!"},{"$error":"#VALUE!"},null,{"$error":"#VALUE!"},{"$error":"#VALUE!"},{"$error":"#VALUE!"},{"$error":"#VALUE!"},{"$error":"#VALUE!"},{"$error":"#VALUE!"},{"$error":"#VALUE!"},{"$error":"#VALUE!"},{"$error":"#VALUE!"},{"$error":"#VALUE!"},{"$error":"#VALUE!"},{"$error":"#VALUE!"},{"$error":"#VALUE!"},{"$error":"#VALUE!"},{"$error":"#VALUE!"},{"$error":"#VALUE!"},{"$error":"#VALUE!"},{"$error":"#VALUE!"},{"$error":"#VALUE!"},{"$error":"#VALUE!"},{"$error":"#VALUE!"},{"$error":"#VALUE!"},{"$error":"#VALUE!"},{"$error":"#VALUE!"},{"$error":"#VALUE!"},{"$error":"#VALUE!"},{"$error":"#VALUE!"},{"$error":"#VALUE!"},{"$error":"#VALUE!"},{"$error":"#VALUE!"},{"$error":"#VALUE!"},null,{"$error":"#VALUE!"},{"$error":"#VALUE!"},{"$error":"#VALUE!"},null,{"$error":"#VALUE!"},{"$error":"#VALUE!"},{"$error":"#VALUE!"},{"$error":"#VALUE!"},{"$error":"#VALUE!"},{"$error":"#VALUE!"},{"$error":"#VALUE!"},{"$error":"#VALUE!"},{"$error":"#VALUE!"},{"$error":"#VALUE!"}]
[null,{"$error":"#VALUE!"},null,{"$error":"#VALUE!"},{"$error":"#VALUE!"},{"$error":"#VALUE!"},null,{"$error":"#VALUE!"},{"$error":"#VALUE!"},{"$error":"#VALUE!"},null,{"$error":"#VALUE!"},{"$error":"#VALUE!"},{"$error":"#VALUE!"},{"$error":"#VALUE!"},{"$error":"#VALUE!"},{"$error":"#VALUE!"},{"$error":"#VALUE!"},{"$error":"#VALUE!"},{"$error":"#VALUE!"},{"$error":"#VALUE!"},{"$error":"#VALUE!"},{"$error":"#VALUE!"},{"$error":"#VALUE!"},{"$error":"#VALUE!"},{"$error":"#VALUE!"},{"$error":"#VALUE!"},{"$error":"#VALUE!"},{"$error":"#VALUE!"},{"$error":"#VALUE!"},{"$error":"#VALUE!"},{"$error":"#VALUE!"},{"$error":"#VALUE!"},{"$error":"#VALUE!"},{"$error":"#VALUE!"},{"$error":"#VALUE!"},{"$error":"#VALUE!"},{"$error":"#VALUE!"},{"$error":"#VALUE!"},{"$error":"#VALUE!"},{"$error":"#VALUE!"},{"$error":"#VALUE!"},null,{"$error":"#VALUE!"},{"$error":"#VALUE!"},{"$error":"#VALUE!"},null,{"$error":"#VALUE!"},{"$error":"#VALUE!"},{"$error":"#VALUE!"},{"$error":"#VALUE!"},{"$error":"#VALUE!"},{"$error":"#VALUE!"},{"$error":"#VALUE!"},{"$error":"#VALUE!"},{"$error":"#VALUE!"},{"$error":"#VALUE!"},null,{"$error":"#VALUE!"},{"$error":"#VALUE!"},{"$error":"#VALUE!"},null,{"$error":"#VALUE!"},{"$error":"#VALUE!"},{"$error":"#VALUE!"},{"$error":"#VALUE!"},{"$error":"#VALUE!"},{"$error":"#VALUE!"},{"$error":"#VALUE!"},{"$error":"#VALUE!"},{"$error":"#VALUE!"},{"$error":"#VALUE!"},null,{"$error":"#VALUE!"},{"$error":"#VALUE!"},{"$error":"#VALUE!"},null,{"$error":"#VALUE!"},{"$error":"#VALUE!"},{"$error":"#VALUE!"},{"$error":"#VALUE!"},{"$error":"#VALUE!"},{"$error":"#VALUE!"},{"$error":"#VALUE!"},{"$error":"#VALUE!"},{"$error":"#VALUE!"},{"$error":"#VALUE!"},{"$error":"#VALUE!"},{"$error":"#VALUE!"},{"$error":"#VALUE!"},{"$error":"#VALUE!"},{"$error":"#VALUE!"},{"$error":"#VALUE!"},{"$error":"#VALUE!"},{"$error":"#VALUE!"},{"$error":"#VALUE!"},{"$error":"#VALUE!"},{"$error":"#VALUE!"},{"$error":"#VALUE!"},{"$error":"#VALUE!"},{"$error":"#VALUE!"},{"$error":"#VALUE!"},{"$error":"#VALUE!"},{"$error":"#VALUE!"},{"$error":"#VALUE!"},{"$error":"#VALUE!"},{"$error":"#VALUE!"},{"$error":"#VALUE!"},null,{"$error":"#VALUE!"},{"$error":"#VALUE!"},{"$error":"#VALUE!"},null,{"$error":"#VALUE!"},{"$error":"#VALUE!"},{"$error":"#VALUE!"},{"$error":"#VALUE!"},{"$error":"#VALUE!"},{"$error":"#VALUE!"},{"$error":"#VALUE!"},{"$error":"#VALUE!"},{"$error":"#VALUE!"},{"$error":"#VALUE!"}]
[null,{"$error":"#VALUE!"},null,{"$error":"#VALUE!"},{"$error":"#VALUE!"},{"$error":"#VALUE!"},null,{"$error":"#VALUE!"},{"$error":"#VALUE!"},{"$error":"#VALUE!"},null,{"$error":"#VALUE!"},{"$error":"#VALUE!"},{"$error":"#VALUE!"},{"$error":"#VALUE!"},{"$error":"#VALUE!"},{"$error":"#VALUE!"},{"$error":"#VALUE!"},{"$error":"#VALUE!"},{"$error":"#VALUE!"},{"$error":"#VALUE!"},{"$error":"#VALUE!"},{"$error":"#VALUE!"},{"$error":"#VALUE!"},{"$error":"#VALUE!"},{"$error":"#VALUE!"},{"$error":"#VALUE!"},{"$error":"#VALUE!"},{"$error":"#VALUE!"},{"$error":"#VALUE!"},{"$error":"#VALUE!"},{"$error":"#VALUE!"},{"$error":"#VALUE!"},{"$error":"#VALUE!"},{"$error":"#VALUE!"},{"$error":"#VALUE!"},{"$error":"#VALUE!"},{"$error":"#VALUE!"},{"$error":"#VALUE!"},{"$error":"#VALUE!"},{"$error":"#VALUE!"},{"$error":"#VALUE!"},null,{"$error":"#VALUE!"},{"$error":"#VALUE!"},{"$error":"#VALUE!"},null,{"$error":"#VALUE!"},{"$error":"#VALUE!"},{"$error":"#VALUE!"},{"$error":"#VALUE!"},{"$error":"#VALUE!"},{"$error":"#VALUE!"},{"$error":"#VALUE!"},{"$error":"#VALUE!"},{"$error":"#VALUE!"},{"$error":"#VALUE!"},null,{"$error":"#VALUE!"},{"$error":"#VALUE!"},{"$error":"#VALUE!"},null,{"$error":"#VALUE!"},{"$error":"#VALUE!"},{"$error":"#VALUE!"},{"$error":"#VALUE!"},{"$error":"#VALUE!"},{"$error":"#VALUE!"},{"$error":"#VALUE!"},{"$error":"#VALUE!"},{"$error":"#VALUE!"},{"$error":"#VALUE!"},null,{"$error":"#VALUE!"},{"$error":"#VALUE!"},{"$error":"#VALUE!"},null,{"$error":"#VALUE!"},{"$error":"#VALUE!"},{"$error":"#VALUE!"},{"$error":"#VALUE!"},{"$error":"#VALUE!"},{"$error":"#VALUE!"},{"$error":"#VALUE!"},{"$error":"#VALUE!"},{"$error":"#VALUE!"},{"$error":"#VALUE!"},{"$error":"#VALUE!"},{"$error":"#VALUE!"},{"$error":"#VALUE!"},{"$error":"#VALUE!"},{"$error":"#VALUE!"},{"$error":"#VALUE!"},{"$error":"#VALUE!"},{"$error":"#VALUE!"},{"$error":"#VALUE!"},{"$error":"#VALUE!"},{"$error":"#VALUE!"},{"$error":"#VALUE!"},{"$error":"#VALUE!"},{"$error":"#VALUE!"},{"$error":"#VALUE!"},{"$error":"#VALUE!"},{"$error":"#VALUE!"},{"$error":"#VALUE!"},{"$error":"#VALUE!"},{"$error":"#VALUE!"},{"$error":"#VALUE!"},null,{"$error":"#VALUE!"},{"$error":"#VALUE!"},{"$error":"#VALUE!"},null,{"$error":"#VALUE!"},{"$error":"#VALUE!"},{"$error":"#VALUE!"},{"$error":"#VALUE!"},{"$error":"#VALUE!"},{"$error":"#VALUE!"},{"$error":"#VALUE!"},{"$error":"#VALUE!"},{"$error":"#VALUE!"},{"$error":"#VALUE!"}]
[null,{"$error":"#VALUE!"},null,{"$error":"#VALUE!"},{"$error":"#VALUE!"},{"$error":"#VALUE!"},null,{"$error":"#VALUE!"},{"$error":"#VALUE!"},{"$error":"#VALUE!"},null,{"$error":"#VALUE!"},{"$error":"#VALUE!"},{"$error":"#VALUE!"},{"$error":"#VALUE!"},{"$error":"#VALUE!"},{"$error":"#VALUE!"},{"$error":"#VALUE!"},{"$error":"#VALUE!"},{"$error":"#VALUE!"},{"$error":"#VALUE!"},{"$error":"#VALUE!"},{"$error":"#VALUE!"},{"$error":"#VALUE!"},{"$error":"#VALUE!"},{"$error":"#VALUE!"},{"$error":"#VALUE!"},{"$error":"#VALUE!"},{"$f":"IF(AND($B91>=AC$4,$B91<=AC$5),AC$6,0)","v":{"$error":"#VALUE!"}},{"$error":"#VALUE!"},{"$error":"#VALUE!"},{"$error":"#VALUE!"},{"$error":"#VALUE!"},{"$error":"#VALUE!"},{"$error":"#VALUE!"},{"$error":"#VALUE!"},{"$error":"#VALUE!"},{"$error":"#VALUE!"},{"$error":"#VALUE!"},{"$error":"#VALUE!"},{"$error":"#VALUE!"},{"$error":"#VALUE!"},null,{"$error":"#VALUE!"},{"$error":"#VALUE!"},{"$error":"#VALUE!"},null,{"$error":"#VALUE!"},{"$error":"#VALUE!"},{"$error":"#VALUE!"},{"$error":"#VALUE!"},{"$error":"#VALUE!"},{"$error":"#VALUE!"},{"$error":"#VALUE!"},{"$error":"#VALUE!"},{"$error":"#VALUE!"},{"$error":"#VALUE!"},null,{"$error":"#VALUE!"},{"$error":"#VALUE!"},{"$error":"#VALUE!"},null,{"$error":"#VALUE!"},{"$f":"IF(AND($B91>=BL$4,$B91<=BL$5),BL$6,0)","v":{"$error":"#VALUE!"}},{"$error":"#VALUE!"},{"$error":"#VALUE!"},{"$error":"#VALUE!"},{"$error":"#VALUE!"},{"$error":"#VALUE!"},{"$error":"#VALUE!"},{"$error":"#VALUE!"},{"$error":"#VALUE!"},null,{"$error":"#VALUE!"},{"$error":"#VALUE!"},{"$error":"#VALUE!"},null,{"$error":"#VALUE!"},{"$error":"#VALUE!"},{"$error":"#VALUE!"},{"$error":"#VALUE!"},{"$error":"#VALUE!"},{"$error":"#VALUE!"},{"$error":"#VALUE!"},{"$error":"#VALUE!"},{"$error":"#VALUE!"},{"$error":"#VALUE!"},{"$error":"#VALUE!"},{"$error":"#VALUE!"},{"$error":"#VALUE!"},{"$error":"#VALUE!"},{"$error":"#VALUE!"},{"$error":"#VALUE!"},{"$error":"#VALUE!"},{"$f":"IF(AND($B91>=CQ$4,$B91<=CQ$5),CQ$6,0)","v":{"$error":"#VALUE!"}},{"$error":"#VALUE!"},{"$error":"#VALUE!"},{"$error":"#VALUE!"},{"$error":"#VALUE!"},{"$error":"#VALUE!"},{"$error":"#VALUE!"},{"$error":"#VALUE!"},{"$error":"#VALUE!"},{"$error":"#VALUE!"},{"$error":"#VALUE!"},{"$error":"#VALUE!"},{"$error":"#VALUE!"},{"$error":"#VALUE!"},null,{"$error":"#VALUE!"},{"$error":"#VALUE!"},{"$error":"#VALUE!"},null,{"$error":"#VALUE!"},{"$f":"IF(AND($B91>=DK$4,$B91<=DK$5),DK$6,0)","v":{"$error":"#VALUE!"}},{"$error":"#VALUE!"},{"$error":"#VALUE!"},{"$error":"#VALUE!"},{"$error":"#VALUE!"},{"$error":"#VALUE!"},{"$error":"#VALUE!"},{"$error":"#VALUE!"},{"$error":"#VALUE!"}]
[null,{"$error":"#VALUE!"},null,{"$error":"#VALUE!"},{"$error":"#VALUE!"},{"$error":"#VALUE!"},null,{"$error":"#VALUE!"},{"$error":"#VALUE!"},{"$error":"#VALUE!"},null,{"$error":"#VALUE!"},{"$f":"IF(AND($B92>=M$4,$B92<=M$5),M$6,0)","v":{"$error":"#VALUE!"}},{"$error":"#VALUE!"},{"$error":"#VALUE!"},{"$error":"#VALUE!"},{"$error":"#VALUE!"},{"$error":"#VALUE!"},{"$error":"#VALUE!"},{"$error":"#VALUE!"},{"$error":"#VALUE!"},{"$error":"#VALUE!"},{"$error":"#VALUE!"},{"$error":"#VALUE!"},{"$error":"#VALUE!"},{"$error":"#VALUE!"},{"$error":"#VALUE!"},{"$error":"#VALUE!"},{"$error":"#VALUE!"},{"$error":"#VALUE!"},{"$error":"#VALUE!"},{"$error":"#VALUE!"},{"$error":"#VALUE!"},{"$error":"#VALUE!"},{"$error":"#VALUE!"},{"$error":"#VALUE!"},{"$error":"#VALUE!"},{"$error":"#VALUE!"},{"$error":"#VALUE!"},{"$error":"#VALUE!"},{"$error":"#VALUE!"},{"$error":"#VALUE!"},null,{"$error":"#VALUE!"},{"$error":"#VALUE!"},{"$error":"#VALUE!"},null,{"$error":"#VALUE!"},{"$f":"IF(AND($B92>=AW$4,$B92<=AW$5),AW$6,0)","v":{"$error":"#VALUE!"}},{"$error":"#VALUE!"},{"$error":"#VALUE!"},{"$error":"#VALUE!"},{"$error":"#VALUE!"},{"$error":"#VALUE!"},{"$error":"#VALUE!"},{"$error":"#VALUE!"},{"$error":"#VALUE!"},null,{"$error":"#VALUE!"},{"$error":"#VALUE!"},{"$error":"#VALUE!"},null,{"$error":"#VALUE!"},{"$error":"#VALUE!"},{"$error":"#VALUE!"},{"$error":"#VALUE!"},{"$error":"#VALUE!"},{"$error":"#VALUE!"},{"$error":"#VALUE!"},{"$error":"#VALUE!"},{"$error":"#VALUE!"},{"$error":"#VALUE!"},null,{"$error":"#VALUE!"},{"$error":"#VALUE!"},{"$error":"#VALUE!"},null,{"$error":"#VALUE!"},{"$f":"IF(AND($B92>=CA$4,$B92<=CA$5),CA$6,0)","v":{"$error":"#VALUE!"}},{"$error":"#VALUE!"},{"$error":"#VALUE!"},{"$error":"#VALUE!"},{"$error":"#VALUE!"},{"$error":"#VALUE!"},{"$error":"#VALUE!"},{"$error":"#VALUE!"},{"$error":"#VALUE!"},{"$error":"#VALUE!"},{"$error":"#VALUE!"},{"$error":"#VALUE!"},{"$error":"#VALUE!"},{"$error":"#VALUE!"},{"$error":"#VALUE!"},{"$error":"#VALUE!"},{"$error":"#VALUE!"},{"$error":"#VALUE!"},{"$error":"#VALUE!"},{"$error":"#VALUE!"},{"$error":"#VALUE!"},{"$error":"#VALUE!"},{"$error":"#VALUE!"},{"$error":"#VALUE!"},{"$error":"#VALUE!"},{"$error":"#VALUE!"},{"$error":"#VALUE!"},{"$error":"#VALUE!"},{"$error":"#VALUE!"},{"$error":"#VALUE!"},null,{"$error":"#VALUE!"},{"$error":"#VALUE!"},{"$error":"#VALUE!"},null,{"$error":"#VALUE!"},{"$error":"#VALUE!"},{"$error":"#VALUE!"},{"$error":"#VALUE!"},{"$error":"#VALUE!"},{"$error":"#VALUE!"},{"$error":"#VALUE!"},{"$error":"#VALUE!"},{"$error":"#VALUE!"},{"$error":"#VALUE!"}]
[null,{"$error":"#VALUE!"},null,{"$error":"#VALUE!"},{"$error":"#VALUE!"},{"$error":"#VALUE!"},null,{"$error":"#VALUE!"},{"$error":"#VALUE!"},{"$error":"#VALUE!"},null,{"$error":"#VALUE!"},{"$error":"#VALUE!"},{"$error":"#VALUE!"},{"$error":"#VALUE!"},{"$error":"#VALUE!"},{"$error":"#VALUE!"},{"$error":"#VALUE!"},{"$error":"#VALUE!"},{"$error":"#VALUE!"},{"$error":"#VALUE!"},{"$error":"#VALUE!"},{"$error":"#VALUE!"},{"$error":"#VALUE!"},{"$error":"#VALUE!"},{"$error":"#VALUE!"},{"$error":"#VALUE!"},{"$error":"#VALUE!"},{"$error":"#VALUE!"},{"$error":"#VALUE!"},{"$error":"#VALUE!"},{"$error":"#VALUE!"},{"$error":"#VALUE!"},{"$error":"#VALUE!"},{"$error":"#VALUE!"},{"$error":"#VALUE!"},{"$error":"#VALUE!"},{"$error":"#VALUE!"},{"$error":"#VALUE!"},{"$error":"#VALUE!"},{"$error":"#VALUE!"},{"$error":"#VALUE!"},null,{"$error":"#VALUE!"},{"$error":"#VALUE!"},{"$error":"#VALUE!"},null,{"$error":"#VALUE!"},{"$error":"#VALUE!"},{"$error":"#VALUE!"},{"$error":"#VALUE!"},{"$error":"#VALUE!"},{"$error":"#VALUE!"},{"$error":"#VALUE!"},{"$error":"#VALUE!"},{"$error":"#VALUE!"},{"$error":"#VALUE!"},null,{"$error":"#VALUE!"},{"$error":"#VALUE!"},{"$error":"#VALUE!"},null,{"$error":"#VALUE!"},{"$error":"#VALUE!"},{"$error":"#VALUE!"},{"$error":"#VALUE!"},{"$error":"#VALUE!"},{"$error":"#VALUE!"},{"$error":"#VALUE!"},{"$error":"#VALUE!"},{"$error":"#VALUE!"},{"$error":"#VALUE!"},null,{"$error":"#VALUE!"},{"$error":"#VALUE!"},{"$error":"#VALUE!"},null,{"$error":"#VALUE!"},{"$error":"#VALUE!"},{"$error":"#VALUE!"},{"$error":"#VALUE!"},{"$error":"#VALUE!"},{"$error":"#VALUE!"},{"$error":"#VALUE!"},{"$error":"#VALUE!"},{"$error":"#VALUE!"},{"$error":"#VALUE!"},{"$error":"#VALUE!"},{"$error":"#VALUE!"},{"$error":"#VALUE!"},{"$error":"#VALUE!"},{"$error":"#VALUE!"},{"$error":"#VALUE!"},{"$error":"#VALUE!"},{"$error":"#VALUE!"},{"$error":"#VALUE!"},{"$error":"#VALUE!"},{"$error":"#VALUE!"},{"$error":"#VALUE!"},{"$error":"#VALUE!"},{"$error":"#VALUE!"},{"$error":"#VALUE!"},{"$error":"#VALUE!"},{"$error":"#VALUE!"},{"$error":"#VALUE!"},{"$error":"#VALUE!"},{"$error":"#VALUE!"},{"$error":"#VALUE!"},null,{"$error":"#VALUE!"},{"$error":"#VALUE!"},{"$error":"#VALUE!"},null,{"$error":"#VALUE!"},{"$error":"#VALUE!"},{"$error":"#VALUE!"},{"$error":"#VALUE!"},{"$error":"#VALUE!"},{"$error":"#VALUE!"},{"$error":"#VALUE!"},{"$error":"#VALUE!"},{"$error":"#VALUE!"},{"$error":"#VALUE!"}]
[null,{"$error":"#VALUE!"},null,{"$error":"#VALUE!"},{"$error":"#VALUE!"},{"$error":"#VALUE!"},null,{"$error":"#VALUE!"},{"$error":"#VALUE!"},{"$error":"#VALUE!"},null,{"$error":"#VALUE!"},{"$error":"#VALUE!"},{"$error":"#VALUE!"},{"$error":"#VALUE!"},{"$error":"#VALUE!"},{"$error":"#VALUE!"},{"$error":"#VALUE!"},{"$error":"#VALUE!"},{"$error":"#VALUE!"},{"$error":"#VALUE!"},{"$error":"#VALUE!"},{"$error":"#VALUE!"},{"$error":"#VALUE!"},{"$error":"#VALUE!"},{"$error":"#VALUE!"},{"$error":"#VALUE!"},{"$error":"#VALUE!"},{"$error":"#VALUE!"},{"$error":"#VALUE!"},{"$error":"#VALUE!"},{"$error":"#VALUE!"},{"$error":"#VALUE!"},{"$error":"#VALUE!"},{"$error":"#VALUE!"},{"$error":"#VALUE!"},{"$error":"#VALUE!"},{"$error":"#VALUE!"},{"$error":"#VALUE!"},{"$error":"#VALUE!"},{"$error":"#VALUE!"},{"$error":"#VALUE!"},null,{"$error":"#VALUE!"},{"$error":"#VALUE!"},{"$error":"#VALUE!"},null,{"$error":"#VALUE!"},{"$error":"#VALUE!"},{"$error":"#VALUE!"},{"$error":"#VALUE!"},{"$error":"#VALUE!"},{"$error":"#VALUE!"},{"$error":"#VALUE!"},{"$error":"#VALUE!"},{"$error":"#VALUE!"},{"$error":"#VALUE!"},null,{"$error":"#VALUE!"},{"$error":"#VALUE!"},{"$error":"#VALUE!"},null,{"$error":"#VALUE!"},{"$error":"#VALUE!"},{"$error":"#VALUE!"},{"$error":"#VALUE!"},{"$error":"#VALUE!"},{"$error":"#VALUE!"},{"$error":"#VALUE!"},{"$error":"#VALUE!"},{"$error":"#VALUE!"},{"$error":"#VALUE!"},null,{"$error":"#VALUE!"},{"$error":"#VALUE!"},{"$error":"#VALUE!"},null,{"$error":"#VALUE!"},{"$error":"#VALUE!"},{"$error":"#VALUE!"},{"$error":"#VALUE!"},{"$error":"#VALUE!"},{"$error":"#VALUE!"},{"$error":"#VALUE!"},{"$error":"#VALUE!"},{"$error":"#VALUE!"},{"$error":"#VALUE!"},{"$error":"#VALUE!"},{"$error":"#VALUE!"},{"$error":"#VALUE!"},{"$error":"#VALUE!"},{"$error":"#VALUE!"},{"$error":"#VALUE!"},{"$error":"#VALUE!"},{"$error":"#VALUE!"},{"$error":"#VALUE!"},{"$error":"#VALUE!"},{"$error":"#VALUE!"},{"$error":"#VALUE!"},{"$error":"#VALUE!"},{"$error":"#VALUE!"},{"$error":"#VALUE!"},{"$error":"#VALUE!"},{"$error":"#VALUE!"},{"$error":"#VALUE!"},{"$error":"#VALUE!"},{"$error":"#VALUE!"},{"$error":"#VALUE!"},null,{"$error":"#VALUE!"},{"$error":"#VALUE!"},{"$error":"#VALUE!"},null,{"$error":"#VALUE!"},{"$error":"#VALUE!"},{"$error":"#VALUE!"},{"$error":"#VALUE!"},{"$error":"#VALUE!"},{"$error":"#VALUE!"},{"$error":"#VALUE!"},{"$error":"#VALUE!"},{"$error":"#VALUE!"},{"$error":"#VALUE!"}]
[null,{"$error":"#VALUE!"},null,{"$error":"#VALUE!"},{"$error":"#VALUE!"},{"$error":"#VALUE!"},null,{"$error":"#VALUE!"},{"$error":"#VALUE!"},{"$error":"#VALUE!"},null,{"$error":"#VALUE!"},{"$error":"#VALUE!"},{"$error":"#VALUE!"},{"$error":"#VALUE!"},{"$error":"#VALUE!"},{"$error":"#VALUE!"},{"$error":"#VALUE!"},{"$error":"#VALUE!"},{"$error":"#VALUE!"},{"$error":"#VALUE!"},{"$error":"#VALUE!"},{"$error":"#VALUE!"},{"$error":"#VALUE!"},{"$error":"#VALUE!"},{"$error":"#VALUE!"},{"$error":"#VALUE!"},{"$error":"#VALUE!"},{"$error":"#VALUE!"},{"$error":"#VALUE!"},{"$error":"#VALUE!"},{"$error":"#VALUE!"},{"$error":"#VALUE!"},{"$error":"#VALUE!"},{"$error":"#VALUE!"},{"$error":"#VALUE!"},{"$error":"#VALUE!"},{"$error":"#VALUE!"},{"$error":"#VALUE!"},{"$error":"#VALUE!"},{"$error":"#VALUE!"},{"$error":"#VALUE!"},null,{"$error":"#VALUE!"},{"$error":"#VALUE!"},{"$error":"#VALUE!"},null,{"$error":"#VALUE!"},{"$error":"#VALUE!"},{"$error":"#VALUE!"},{"$error":"#VALUE!"},{"$error":"#VALUE!"},{"$error":"#VALUE!"},{"$error":"#VALUE!"},{"$error":"#VALUE!"},{"$error":"#VALUE!"},{"$error":"#VALUE!"},null,{"$error":"#VALUE!"},{"$error":"#VALUE!"},{"$error":"#VALUE!"},null,{"$error":"#VALUE!"},{"$error":"#VALUE!"},{"$error":"#VALUE!"},{"$error":"#VALUE!"},{"$error":"#VALUE!"},{"$error":"#VALUE!"},{"$error":"#VALUE!"},{"$error":"#VALUE!"},{"$error":"#VALUE!"},{"$error":"#VALUE!"},null,{"$error":"#VALUE!"},{"$error":"#VALUE!"},{"$error":"#VALUE!"},null,{"$error":"#VALUE!"},{"$error":"#VALUE!"},{"$error":"#VALUE!"},{"$error":"#VALUE!"},{"$error":"#VALUE!"},{"$error":"#VALUE!"},{"$error":"#VALUE!"},{"$error":"#VALUE!"},{"$error":"#VALUE!"},{"$error":"#VALUE!"},{"$error":"#VALUE!"},{"$error":"#VALUE!"},{"$error":"#VALUE!"},{"$error":"#VALUE!"},{"$error":"#VALUE!"},{"$error":"#VALUE!"},{"$error":"#VALUE!"},{"$error":"#VALUE!"},{"$error":"#VALUE!"},{"$error":"#VALUE!"},{"$error":"#VALUE!"},{"$error":"#VALUE!"},{"$error":"#VALUE!"},{"$error":"#VALUE!"},{"$error":"#VALUE!"},{"$error":"#VALUE!"},{"$error":"#VALUE!"},{"$error":"#VALUE!"},{"$error":"#VALUE!"},{"$error":"#VALUE!"},{"$error":"#VALUE!"},null,{"$error":"#VALUE!"},{"$error":"#VALUE!"},{"$error":"#VALUE!"},null,{"$error":"#VALUE!"},{"$error":"#VALUE!"},{"$error":"#VALUE!"},{"$error":"#VALUE!"},{"$error":"#VALUE!"},{"$error":"#VALUE!"},{"$error":"#VALUE!"},{"$error":"#VALUE!"},{"$error":"#VALUE!"},{"$error":"#VALUE!"}]
[null,{"$error":"#VALUE!"},null,{"$error":"#VALUE!"},{"$error":"#VALUE!"},{"$error":"#VALUE!"},null,{"$error":"#VALUE!"},{"$error":"#VALUE!"},{"$error":"#VALUE!"},null,{"$error":"#VALUE!"},{"$error":"#VALUE!"},{"$error":"#VALUE!"},{"$error":"#VALUE!"},{"$error":"#VALUE!"},{"$error":"#VALUE!"},{"$error":"#VALUE!"},{"$error":"#VALUE!"},{"$error":"#VALUE!"},{"$error":"#VALUE!"},{"$error":"#VALUE!"},{"$error":"#VALUE!"},{"$error":"#VALUE!"},{"$error":"#VALUE!"},{"$error":"#VALUE!"},{"$error":"#VALUE!"},{"$error":"#VALUE!"},{"$error":"#VALUE!"},{"$error":"#VALUE!"},{"$error":"#VALUE!"},{"$error":"#VALUE!"},{"$error":"#VALUE!"},{"$error":"#VALUE!"},{"$error":"#VALUE!"},{"$error":"#VALUE!"},{"$error":"#VALUE!"},{"$error":"#VALUE!"},{"$error":"#VALUE!"},{"$error":"#VALUE!"},{"$error":"#VALUE!"},{"$error":"#VALUE!"},null,{"$error":"#VALUE!"},{"$error":"#VALUE!"},{"$error":"#VALUE!"},null,{"$error":"#VALUE!"},{"$error":"#VALUE!"},{"$error":"#VALUE!"},{"$error":"#VALUE!"},{"$error":"#VALUE!"},{"$error":"#VALUE!"},{"$error":"#VALUE!"},{"$error":"#VALUE!"},{"$error":"#VALUE!"},{"$error":"#VALUE!"},null,{"$error":"#VALUE!"},{"$error":"#VALUE!"},{"$error":"#VALUE!"},null,{"$error":"#VALUE!"},{"$error":"#VALUE!"},{"$error":"#VALUE!"},{"$error":"#VALUE!"},{"$error":"#VALUE!"},{"$error":"#VALUE!"},{"$error":"#VALUE!"},{"$error":"#VALUE!"},{"$error":"#VALUE!"},{"$error":"#VALUE!"},null,{"$error":"#VALUE!"},{"$error":"#VALUE!"},{"$error":"#VALUE!"},null,{"$error":"#VALUE!"},{"$error":"#VALUE!"},{"$error":"#VALUE!"},{"$error":"#VALUE!"},{"$error":"#VALUE!"},{"$error":"#VALUE!"},{"$error":"#VALUE!"},{"$error":"#VALUE!"},{"$error":"#VALUE!"},{"$error":"#VALUE!"},{"$error":"#VALUE!"},{"$error":"#VALUE!"},{"$error":"#VALUE!"},{"$error":"#VALUE!"},{"$error":"#VALUE!"},{"$error":"#VALUE!"},{"$error":"#VALUE!"},{"$error":"#VALUE!"},{"$error":"#VALUE!"},{"$error":"#VALUE!"},{"$error":"#VALUE!"},{"$error":"#VALUE!"},{"$error":"#VALUE!"},{"$error":"#VALUE!"},{"$error":"#VALUE!"},{"$error":"#VALUE!"},{"$error":"#VALUE!"},{"$error":"#VALUE!"},{"$error":"#VALUE!"},{"$error":"#VALUE!"},{"$error":"#VALUE!"},null,{"$error":"#VALUE!"},{"$error":"#VALUE!"},{"$error":"#VALUE!"},null,{"$error":"#VALUE!"},{"$error":"#VALUE!"},{"$error":"#VALUE!"},{"$error":"#VALUE!"},{"$error":"#VALUE!"},{"$error":"#VALUE!"},{"$error":"#VALUE!"},{"$error":"#VALUE!"},{"$error":"#VALUE!"},{"$error":"#VALUE!"}]
[null,{"$error":"#VALUE!"},null,{"$error":"#VALUE!"},{"$error":"#VALUE!"},{"$error":"#VALUE!"},null,{"$error":"#VALUE!"},{"$error":"#VALUE!"},{"$error":"#VALUE!"},null,{"$error":"#VALUE!"},{"$error":"#VALUE!"},{"$error":"#VALUE!"},{"$error":"#VALUE!"},{"$error":"#VALUE!"},{"$error":"#VALUE!"},{"$error":"#VALUE!"},{"$error":"#VALUE!"},{"$error":"#VALUE!"},{"$error":"#VALUE!"},{"$error":"#VALUE!"},{"$error":"#VALUE!"},{"$error":"#VALUE!"},{"$error":"#VALUE!"},{"$error":"#VALUE!"},{"$error":"#VALUE!"},{"$error":"#VALUE!"},{"$error":"#VALUE!"},{"$error":"#VALUE!"},{"$error":"#VALUE!"},{"$error":"#VALUE!"},{"$error":"#VALUE!"},{"$error":"#VALUE!"},{"$error":"#VALUE!"},{"$error":"#VALUE!"},{"$error":"#VALUE!"},{"$error":"#VALUE!"},{"$error":"#VALUE!"},{"$error":"#VALUE!"},{"$error":"#VALUE!"},{"$error":"#VALUE!"},null,{"$error":"#VALUE!"},{"$error":"#VALUE!"},{"$error":"#VALUE!"},null,{"$error":"#VALUE!"},{"$error":"#VALUE!"},{"$error":"#VALUE!"},{"$error":"#VALUE!"},{"$error":"#VALUE!"},{"$error":"#VALUE!"},{"$error":"#VALUE!"},{"$error":"#VALUE!"},{"$error":"#VALUE!"},{"$error":"#VALUE!"},null,{"$error":"#VALUE!"},{"$error":"#VALUE!"},{"$error":"#VALUE!"},null,{"$error":"#VALUE!"},{"$error":"#VALUE!"},{"$error":"#VALUE!"},{"$error":"#VALUE!"},{"$error":"#VALUE!"},{"$error":"#VALUE!"},{"$error":"#VALUE!"},{"$error":"#VALUE!"},{"$error":"#VALUE!"},{"$error":"#VALUE!"},null,{"$error":"#VALUE!"},{"$error":"#VALUE!"},{"$error":"#VALUE!"},null,{"$error":"#VALUE!"},{"$error":"#VALUE!"},{"$error":"#VALUE!"},{"$error":"#VALUE!"},{"$error":"#VALUE!"},{"$error":"#VALUE!"},{"$error":"#VALUE!"},{"$error":"#VALUE!"},{"$error":"#VALUE!"},{"$error":"#VALUE!"},{"$error":"#VALUE!"},{"$error":"#VALUE!"},{"$error":"#VALUE!"},{"$error":"#VALUE!"},{"$error":"#VALUE!"},{"$error":"#VALUE!"},{"$error":"#VALUE!"},{"$error":"#VALUE!"},{"$error":"#VALUE!"},{"$error":"#VALUE!"},{"$error":"#VALUE!"},{"$error":"#VALUE!"},{"$error":"#VALUE!"},{"$error":"#VALUE!"},{"$error":"#VALUE!"},{"$error":"#VALUE!"},{"$error":"#VALUE!"},{"$error":"#VALUE!"},{"$error":"#VALUE!"},{"$error":"#VALUE!"},{"$error":"#VALUE!"},null,{"$error":"#VALUE!"},{"$error":"#VALUE!"},{"$error":"#VALUE!"},null,{"$error":"#VALUE!"},{"$error":"#VALUE!"},{"$error":"#VALUE!"},{"$error":"#VALUE!"},{"$error":"#VALUE!"},{"$error":"#VALUE!"},{"$error":"#VALUE!"},{"$error":"#VALUE!"},{"$error":"#VALUE!"},{"$error":"#VALUE!"}]
[null,{"$error":"#VALUE!"},null,{"$error":"#VALUE!"},{"$error":"#VALUE!"},{"$error":"#VALUE!"},null,{"$error":"#VALUE!"},{"$error":"#VALUE!"},{"$error":"#VALUE!"},null,{"$error":"#VALUE!"},{"$error":"#VALUE!"},{"$error":"#VALUE!"},{"$error":"#VALUE!"},{"$error":"#VALUE!"},{"$error":"#VALUE!"},{"$error":"#VALUE!"},{"$error":"#VALUE!"},{"$error":"#VALUE!"},{"$error":"#VALUE!"},{"$error":"#VALUE!"},{"$error":"#VALUE!"},{"$error":"#VALUE!"},{"$error":"#VALUE!"},{"$error":"#VALUE!"},{"$error":"#VALUE!"},{"$error":"#VALUE!"},{"$error":"#VALUE!"},{"$error":"#VALUE!"},{"$error":"#VALUE!"},{"$error":"#VALUE!"},{"$error":"#VALUE!"},{"$error":"#VALUE!"},{"$error":"#VALUE!"},{"$error":"#VALUE!"},{"$error":"#VALUE!"},{"$error":"#VALUE!"},{"$error":"#VALUE!"},{"$error":"#VALUE!"},{"$error":"#VALUE!"},{"$error":"#VALUE!"},null,{"$error":"#VALUE!"},{"$error":"#VALUE!"},{"$error":"#VALUE!"},null,{"$error":"#VALUE!"},{"$error":"#VALUE!"},{"$error":"#VALUE!"},{"$error":"#VALUE!"},{"$error":"#VALUE!"},{"$error":"#VALUE!"},{"$error":"#VALUE!"},{"$error":"#VALUE!"},{"$error":"#VALUE!"},{"$error":"#VALUE!"},null,{"$error":"#VALUE!"},{"$error":"#VALUE!"},{"$error":"#VALUE!"},null,{"$error":"#VALUE!"},{"$error":"#VALUE!"},{"$error":"#VALUE!"},{"$error":"#VALUE!"},{"$error":"#VALUE!"},{"$error":"#VALUE!"},{"$error":"#VALUE!"},{"$error":"#VALUE!"},{"$error":"#VALUE!"},{"$error":"#VALUE!"},null,{"$error":"#VALUE!"},{"$error":"#VALUE!"},{"$error":"#VALUE!"},null,{"$error":"#VALUE!"},{"$error":"#VALUE!"},{"$error":"#VALUE!"},{"$error":"#VALUE!"},{"$error":"#VALUE!"},{"$error":"#VALUE!"},{"$error":"#VALUE!"},{"$error":"#VALUE!"},{"$error":"#VALUE!"},{"$error":"#VALUE!"},{"$error":"#VALUE!"},{"$error":"#VALUE!"},{"$error":"#VALUE!"},{"$error":"#VALUE!"},{"$error":"#VALUE!"},{"$error":"#VALUE!"},{"$error":"#VALUE!"},{"$error":"#VALUE!"},{"$error":"#VALUE!"},{"$error":"#VALUE!"},{"$error":"#VALUE!"},{"$error":"#VALUE!"},{"$error":"#VALUE!"},{"$error":"#VALUE!"},{"$error":"#VALUE!"},{"$error":"#VALUE!"},{"$error":"#VALUE!"},{"$error":"#VALUE!"},{"$error":"#VALUE!"},{"$error":"#VALUE!"},{"$error":"#VALUE!"},null,{"$error":"#VALUE!"},{"$error":"#VALUE!"},{"$error":"#VALUE!"},null,{"$error":"#VALUE!"},{"$error":"#VALUE!"},{"$error":"#VALUE!"},{"$error":"#VALUE!"},{"$error":"#VALUE!"},{"$error":"#VALUE!"},{"$error":"#VALUE!"},{"$error":"#VALUE!"},{"$error":"#VALUE!"},{"$error":"#VALUE!"}]
[null,{"$error":"#VALUE!"},null,{"$error":"#VALUE!"},{"$error":"#VALUE!"},{"$error":"#VALUE!"},null,{"$error":"#VALUE!"},{"$error":"#VALUE!"},{"$error":"#VALUE!"},null,{"$error":"#VALUE!"},{"$error":"#VALUE!"},{"$error":"#VALUE!"},{"$error":"#VALUE!"},{"$error":"#VALUE!"},{"$error":"#VALUE!"},{"$error":"#VALUE!"},{"$error":"#VALUE!"},{"$error":"#VALUE!"},{"$error":"#VALUE!"},{"$error":"#VALUE!"},{"$error":"#VALUE!"},{"$error":"#VALUE!"},{"$error":"#VALUE!"},{"$error":"#VALUE!"},{"$error":"#VALUE!"},{"$error":"#VALUE!"},{"$error":"#VALUE!"},{"$error":"#VALUE!"},{"$error":"#VALUE!"},{"$error":"#VALUE!"},{"$error":"#VALUE!"},{"$error":"#VALUE!"},{"$error":"#VALUE!"},{"$error":"#VALUE!"},{"$error":"#VALUE!"},{"$error":"#VALUE!"},{"$error":"#VALUE!"},{"$error":"#VALUE!"},{"$error":"#VALUE!"},{"$error":"#VALUE!"},null,{"$error":"#VALUE!"},{"$error":"#VALUE!"},{"$error":"#VALUE!"},null,{"$error":"#VALUE!"},{"$error":"#VALUE!"},{"$error":"#VALUE!"},{"$error":"#VALUE!"},{"$error":"#VALUE!"},{"$error":"#VALUE!"},{"$error":"#VALUE!"},{"$error":"#VALUE!"},{"$error":"#VALUE!"},{"$error":"#VALUE!"},null,{"$error":"#VALUE!"},{"$error":"#VALUE!"},{"$error":"#VALUE!"},null,{"$error":"#VALUE!"},{"$error":"#VALUE!"},{"$error":"#VALUE!"},{"$error":"#VALUE!"},{"$error":"#VALUE!"},{"$error":"#VALUE!"},{"$error":"#VALUE!"},{"$error":"#VALUE!"},{"$error":"#VALUE!"},{"$error":"#VALUE!"},null,{"$error":"#VALUE!"},{"$error":"#VALUE!"},{"$error":"#VALUE!"},null,{"$error":"#VALUE!"},{"$error":"#VALUE!"},{"$error":"#VALUE!"},{"$error":"#VALUE!"},{"$error":"#VALUE!"},{"$error":"#VALUE!"},{"$error":"#VALUE!"},{"$error":"#VALUE!"},{"$error":"#VALUE!"},{"$error":"#VALUE!"},{"$error":"#VALUE!"},{"$error":"#VALUE!"},{"$error":"#VALUE!"},{"$error":"#VALUE!"},{"$error":"#VALUE!"},{"$error":"#VALUE!"},{"$error":"#VALUE!"},{"$error":"#VALUE!"},{"$error":"#VALUE!"},{"$error":"#VALUE!"},{"$error":"#VALUE!"},{"$error":"#VALUE!"},{"$error":"#VALUE!"},{"$error":"#VALUE!"},{"$error":"#VALUE!"},{"$error":"#VALUE!"},{"$error":"#VALUE!"},{"$error":"#VALUE!"},{"$error":"#VALUE!"},{"$error":"#VALUE!"},{"$error":"#VALUE!"},null,{"$error":"#VALUE!"},{"$error":"#VALUE!"},{"$error":"#VALUE!"},null,{"$error":"#VALUE!"},{"$error":"#VALUE!"},{"$error":"#VALUE!"},{"$error":"#VALUE!"},{"$error":"#VALUE!"},{"$error":"#VALUE!"},{"$error":"#VALUE!"},{"$error":"#VALUE!"},{"$error":"#VALUE!"},{"$error":"#VALUE!"}]
[null,{"$error":"#VALUE!"},null,{"$error":"#VALUE!"},{"$error":"#VALUE!"},{"$error":"#VALUE!"},null,{"$error":"#VALUE!"},{"$error":"#VALUE!"},{"$error":"#VALUE!"},null,{"$error":"#VALUE!"},{"$error":"#VALUE!"},{"$error":"#VALUE!"},{"$error":"#VALUE!"},{"$error":"#VALUE!"},{"$error":"#VALUE!"},{"$error":"#VALUE!"},{"$error":"#VALUE!"},{"$error":"#VALUE!"},{"$error":"#VALUE!"},{"$error":"#VALUE!"},{"$error":"#VALUE!"},{"$error":"#VALUE!"},{"$error":"#VALUE!"},{"$error":"#VALUE!"},{"$error":"#VALUE!"},{"$error":"#VALUE!"},{"$error":"#VALUE!"},{"$error":"#VALUE!"},{"$error":"#VALUE!"},{"$error":"#VALUE!"},{"$error":"#VALUE!"},{"$error":"#VALUE!"},{"$error":"#VALUE!"},{"$error":"#VALUE!"},{"$error":"#VALUE!"},{"$error":"#VALUE!"},{"$error":"#VALUE!"},{"$error":"#VALUE!"},{"$error":"#VALUE!"},{"$error":"#VALUE!"},null,{"$error":"#VALUE!"},{"$error":"#VALUE!"},{"$error":"#VALUE!"},null,{"$error":"#VALUE!"},{"$error":"#VALUE!"},{"$error":"#VALUE!"},{"$error":"#VALUE!"},{"$error":"#VALUE!"},{"$error":"#VALUE!"},{"$error":"#VALUE!"},{"$error":"#VALUE!"},{"$error":"#VALUE!"},{"$error":"#VALUE!"},null,{"$error":"#VALUE!"},{"$error":"#VALUE!"},{"$error":"#VALUE!"},null,{"$error":"#VALUE!"},{"$error":"#VALUE!"},{"$error":"#VALUE!"},{"$error":"#VALUE!"},{"$error":"#VALUE!"},{"$error":"#VALUE!"},{"$error":"#VALUE!"},{"$error":"#VALUE!"},{"$error":"#VALUE!"},{"$error":"#VALUE!"},null,{"$error":"#VALUE!"},{"$error":"#VALUE!"},{"$error":"#VALUE!"},null,{"$error":"#VALUE!"},{"$error":"#VALUE!"},{"$error":"#VALUE!"},{"$error":"#VALUE!"},{"$error":"#VALUE!"},{"$error":"#VALUE!"},{"$error":"#VALUE!"},{"$error":"#VALUE!"},{"$error":"#VALUE!"},{"$error":"#VALUE!"},{"$error":"#VALUE!"},{"$error":"#VALUE!"},{"$error":"#VALUE!"},{"$error":"#VALUE!"},{"$error":"#VALUE!"},{"$error":"#VALUE!"},{"$error":"#VALUE!"},{"$error":"#VALUE!"},{"$error":"#VALUE!"},{"$error":"#VALUE!"},{"$error":"#VALUE!"},{"$error":"#VALUE!"},{"$error":"#VALUE!"},{"$error":"#VALUE!"},{"$error":"#VALUE!"},{"$error":"#VALUE!"},{"$error":"#VALUE!"},{"$error":"#VALUE!"},{"$error":"#VALUE!"},{"$error":"#VALUE!"},{"$error":"#VALUE!"},null,{"$error":"#VALUE!"},{"$error":"#VALUE!"},{"$error":"#VALUE!"},null,{"$error":"#VALUE!"},{"$error":"#VALUE!"},{"$error":"#VALUE!"},{"$error":"#VALUE!"},{"$error":"#VALUE!"},{"$error":"#VALUE!"},{"$error":"#VALUE!"},{"$error":"#VALUE!"},{"$error":"#VALUE!"},{"$error":"#VALUE!"}]
[null,{"$error":"#VALUE!"},null,{"$error":"#VALUE!"},{"$error":"#VALUE!"},{"$error":"#VALUE!"},null,{"$error":"#VALUE!"},{"$error":"#VALUE!"},{"$error":"#VALUE!"},null,{"$error":"#VALUE!"},{"$error":"#VALUE!"},{"$error":"#VALUE!"},{"$error":"#VALUE!"},{"$error":"#VALUE!"},{"$error":"#VALUE!"},{"$error":"#VALUE!"},{"$error":"#VALUE!"},{"$error":"#VALUE!"},{"$error":"#VALUE!"},{"$error":"#VALUE!"},{"$error":"#VALUE!"},{"$error":"#VALUE!"},{"$error":"#VALUE!"},{"$error":"#VALUE!"},{"$error":"#VALUE!"},{"$error":"#VALUE!"},{"$error":"#VALUE!"},{"$error":"#VALUE!"},{"$error":"#VALUE!"},{"$error":"#VALUE!"},{"$error":"#VALUE!"},{"$error":"#VALUE!"},{"$error":"#VALUE!"},{"$error":"#VALUE!"},{"$error":"#VALUE!"},{"$error":"#VALUE!"},{"$error":"#VALUE!"},{"$error":"#VALUE!"},{"$error":"#VALUE!"},{"$error":"#VALUE!"},null,{"$error":"#VALUE!"},{"$error":"#VALUE!"},{"$error":"#VALUE!"},null,{"$error":"#VALUE!"},{"$error":"#VALUE!"},{"$error":"#VALUE!"},{"$error":"#VALUE!"},{"$error":"#VALUE!"},{"$error":"#VALUE!"},{"$error":"#VALUE!"},{"$error":"#VALUE!"},{"$error":"#VALUE!"},{"$error":"#VALUE!"},null,{"$error":"#VALUE!"},{"$error":"#VALUE!"},{"$error":"#VALUE!"},null,{"$error":"#VALUE!"},{"$error":"#VALUE!"},{"$error":"#VALUE!"},{"$error":"#VALUE!"},{"$error":"#VALUE!"},{"$error":"#VALUE!"},{"$error":"#VALUE!"},{"$error":"#VALUE!"},{"$error":"#VALUE!"},{"$error":"#VALUE!"},null,{"$error":"#VALUE!"},{"$error":"#VALUE!"},{"$error":"#VALUE!"},null,{"$error":"#VALUE!"},{"$error":"#VALUE!"},{"$error":"#VALUE!"},{"$error":"#VALUE!"},{"$error":"#VALUE!"},{"$error":"#VALUE!"},{"$error":"#VALUE!"},{"$error":"#VALUE!"},{"$error":"#VALUE!"},{"$error":"#VALUE!"},{"$error":"#VALUE!"},{"$error":"#VALUE!"},{"$error":"#VALUE!"},{"$error":"#VALUE!"},{"$error":"#VALUE!"},{"$error":"#VALUE!"},{"$error":"#VALUE!"},{"$error":"#VALUE!"},{"$error":"#VALUE!"},{"$error":"#VALUE!"},{"$error":"#VALUE!"},{"$error":"#VALUE!"},{"$error":"#VALUE!"},{"$error":"#VALUE!"},{"$error":"#VALUE!"},{"$error":"#VALUE!"},{"$error":"#VALUE!"},{"$error":"#VALUE!"},{"$error":"#VALUE!"},{"$error":"#VALUE!"},{"$error":"#VALUE!"},null,{"$error":"#VALUE!"},{"$error":"#VALUE!"},{"$error":"#VALUE!"},null,{"$error":"#VALUE!"},{"$error":"#VALUE!"},{"$error":"#VALUE!"},{"$error":"#VALUE!"},{"$error":"#VALUE!"},{"$error":"#VALUE!"},{"$error":"#VALUE!"},{"$error":"#VALUE!"},{"$error":"#VALUE!"},{"$error":"#VALUE!"}]
[null,{"$f":"DATE(YEAR(B101),MONTH(B101)+1,DAY(B101))","v":{"$error":"#VALUE!"}},null,{"$error":"#VALUE!"},{"$error":"#VALUE!"},{"$error":"#VALUE!"},null,{"$error":"#VALUE!"},{"$error":"#VALUE!"},{"$error":"#VALUE!"},null,{"$error":"#VALUE!"},{"$error":"#VALUE!"},{"$error":"#VALUE!"},{"$error":"#VALUE!"},{"$error":"#VALUE!"},{"$error":"#VALUE!"},{"$error":"#VALUE!"},{"$error":"#VALUE!"},{"$error":"#VALUE!"},{"$error":"#VALUE!"},{"$error":"#VALUE!"},{"$error":"#VALUE!"},{"$error":"#VALUE!"},{"$error":"#VALUE!"},{"$error":"#VALUE!"},{"$error":"#VALUE!"},{"$error":"#VALUE!"},{"$error":"#VALUE!"},{"$error":"#VALUE!"},{"$error":"#VALUE!"},{"$error":"#VALUE!"},{"$error":"#VALUE!"},{"$error":"#VALUE!"},{"$error":"#VALUE!"},{"$error":"#VALUE!"},{"$error":"#VALUE!"},{"$error":"#VALUE!"},{"$error":"#VALUE!"},{"$error":"#VALUE!"},{"$error":"#VALUE!"},{"$error":"#VALUE!"},null,{"$error":"#VALUE!"},{"$error":"#VALUE!"},{"$error":"#VALUE!"},null,{"$error":"#VALUE!"},{"$error":"#VALUE!"},{"$error":"#VALUE!"},{"$error":"#VALUE!"},{"$error":"#VALUE!"},{"$error":"#VALUE!"},{"$error":"#VALUE!"},{"$error":"#VALUE!"},{"$error":"#VALUE!"},{"$error":"#VALUE!"},null,{"$error":"#VALUE!"},{"$error":"#VALUE!"},{"$error":"#VALUE!"},null,{"$error":"#VALUE!"},{"$error":"#VALUE!"},{"$error":"#VALUE!"},{"$error":"#VALUE!"},{"$error":"#VALUE!"},{"$error":"#VALUE!"},{"$error":"#VALUE!"},{"$error":"#VALUE!"},{"$error":"#VALUE!"},{"$error":"#VALUE!"},null,{"$error":"#VALUE!"},{"$error":"#VALUE!"},{"$error":"#VALUE!"},null,{"$error":"#VALUE!"},{"$error":"#VALUE!"},{"$error":"#VALUE!"},{"$error":"#VALUE!"},{"$error":"#VALUE!"},{"$error":"#VALUE!"},{"$error":"#VALUE!"},{"$error":"#VALUE!"},{"$error":"#VALUE!"},{"$error":"#VALUE!"},{"$error":"#VALUE!"},{"$error":"#VALUE!"},{"$error":"#VALUE!"},{"$error":"#VALUE!"},{"$error":"#VALUE!"},{"$error":"#VALUE!"},{"$error":"#VALUE!"},{"$error":"#VALUE!"},{"$error":"#VALUE!"},{"$error":"#VALUE!"},{"$error":"#VALUE!"},{"$error":"#VALUE!"},{"$error":"#VALUE!"},{"$error":"#VALUE!"},{"$error":"#VALUE!"},{"$error":"#VALUE!"},{"$error":"#VALUE!"},{"$error":"#VALUE!"},{"$error":"#VALUE!"},{"$error":"#VALUE!"},{"$error":"#VALUE!"},null,{"$error":"#VALUE!"},{"$error":"#VALUE!"},{"$error":"#VALUE!"},null,{"$error":"#VALUE!"},{"$error":"#VALUE!"},{"$error":"#VALUE!"},{"$error":"#VALUE!"},{"$error":"#VALUE!"},{"$error":"#VALUE!"},{"$error":"#VALUE!"},{"$error":"#VALUE!"},{"$error":"#VALUE!"},{"$error":"#VALUE!"}]
[null,{"$f":"DATE(YEAR(B102),MONTH(B102)+1,DAY(B102))","v":{"$error":"#VALUE!"}},null,{"$error":"#VALUE!"},{"$error":"#VALUE!"},{"$error":"#VALUE!"},null,{"$error":"#VALUE!"},{"$error":"#VALUE!"},{"$error":"#VALUE!"},null,{"$error":"#VALUE!"},{"$error":"#VALUE!"},{"$error":"#VALUE!"},{"$error":"#VALUE!"},{"$error":"#VALUE!"},{"$error":"#VALUE!"},{"$error":"#VALUE!"},{"$error":"#VALUE!"},{"$error":"#VALUE!"},{"$error":"#VALUE!"},{"$error":"#VALUE!"},{"$error":"#VALUE!"},{"$error":"#VALUE!"},{"$error":"#VALUE!"},{"$error":"#VALUE!"},{"$error":"#VALUE!"},{"$error":"#VALUE!"},{"$error":"#VALUE!"},{"$error":"#VALUE!"},{"$error":"#VALUE!"},{"$error":"#VALUE!"},{"$error":"#VALUE!"},{"$error":"#VALUE!"},{"$error":"#VALUE!"},{"$error":"#VALUE!"},{"$error":"#VALUE!"},{"$error":"#VALUE!"},{"$error":"#VALUE!"},{"$error":"#VALUE!"},{"$error":"#VALUE!"},{"$error":"#VALUE!"},null,{"$error":"#VALUE!"},{"$error":"#VALUE!"},{"$error":"#VALUE!"},null,{"$error":"#VALUE!"},{"$error":"#VALUE!"},{"$error":"#VALUE!"},{"$error":"#VALUE!"},{"$error":"#VALUE!"},{"$error":"#VALUE!"},{"$error":"#VALUE!"},{"$error":"#VALUE!"},{"$error":"#VALUE!"},{"$error":"#VALUE!"},null,{"$error":"#VALUE!"},{"$error":"#VALUE!"},{"$error":"#VALUE!"},null,{"$error":"#VALUE!"},{"$error":"#VALUE!"},{"$error":"#VALUE!"},{"$error":"#VALUE!"},{"$error":"#VALUE!"},{"$error":"#VALUE!"},{"$error":"#VALUE!"},{"$error":"#VALUE!"},{"$error":"#VALUE!"},{"$error":"#VALUE!"},null,{"$error":"#VALUE!"},{"$error":"#VALUE!"},{"$error":"#VALUE!"},null,{"$error":"#VALUE!"},{"$error":"#VALUE!"},{"$error":"#VALUE!"},{"$error":"#VALUE!"},{"$error":"#VALUE!"},{"$error":"#VALUE!"},{"$error":"#VALUE!"},{"$error":"#VALUE!"},{"$error":"#VALUE!"},{"$error":"#VALUE!"},{"$error":"#VALUE!"},{"$error":"#VALUE!"},{"$error":"#VALUE!"},{"$error":"#VALUE!"},{"$error":"#VALUE!"},{"$error":"#VALUE!"},{"$error":"#VALUE!"},{"$error":"#VALUE!"},{"$error":"#VALUE!"},{"$error":"#VALUE!"},{"$error":"#VALUE!"},{"$error":"#VALUE!"},{"$error":"#VALUE!"},{"$error":"#VALUE!"},{"$error":"#VALUE!"},{"$error":"#VALUE!"},{"$error":"#VALUE!"},{"$error":"#VALUE!"},{"$error":"#VALUE!"},{"$error":"#VALUE!"},{"$error":"#VALUE!"},null,{"$error":"#VALUE!"},{"$error":"#VALUE!"},{"$error":"#VALUE!"},null,{"$error":"#VALUE!"},{"$error":"#VALUE!"},{"$error":"#VALUE!"},{"$error":"#VALUE!"},{"$error":"#VALUE!"},{"$error":"#VALUE!"},{"$error":"#VALUE!"},{"$error":"#VALUE!"},{"$error":"#VALUE!"},{"$error":"#VALUE!"}]
[null,{"$f":"DATE(YEAR(B103),MONTH(B103)+1,DAY(B103))","v":{"$error":"#VALUE!"}},null,{"$error":"#VALUE!"},{"$error":"#VALUE!"},{"$error":"#VALUE!"},null,{"$error":"#VALUE!"},{"$error":"#VALUE!"},{"$error":"#VALUE!"},null,{"$error":"#VALUE!"},{"$error":"#VALUE!"},{"$error":"#VALUE!"},{"$error":"#VALUE!"},{"$error":"#VALUE!"},{"$error":"#VALUE!"},{"$error":"#VALUE!"},{"$error":"#VALUE!"},{"$error":"#VALUE!"},{"$error":"#VALUE!"},{"$error":"#VALUE!"},{"$error":"#VALUE!"},{"$error":"#VALUE!"},{"$error":"#VALUE!"},{"$error":"#VALUE!"},{"$error":"#VALUE!"},{"$error":"#VALUE!"},{"$error":"#VALUE!"},{"$error":"#VALUE!"},{"$error":"#VALUE!"},{"$error":"#VALUE!"},{"$error":"#VALUE!"},{"$error":"#VALUE!"},{"$error":"#VALUE!"},{"$error":"#VALUE!"},{"$error":"#VALUE!"},{"$error":"#VALUE!"},{"$error":"#VALUE!"},{"$error":"#VALUE!"},{"$error":"#VALUE!"},{"$error":"#VALUE!"},null,{"$error":"#VALUE!"},{"$error":"#VALUE!"},{"$error":"#VALUE!"},null,{"$error":"#VALUE!"},{"$error":"#VALUE!"},{"$error":"#VALUE!"},{"$error":"#VALUE!"},{"$error":"#VALUE!"},{"$error":"#VALUE!"},{"$error":"#VALUE!"},{"$error":"#VALUE!"},{"$error":"#VALUE!"},{"$error":"#VALUE!"},null,{"$error":"#VALUE!"},{"$error":"#VALUE!"},{"$error":"#VALUE!"},null,{"$error":"#VALUE!"},{"$error":"#VALUE!"},{"$error":"#VALUE!"},{"$error":"#VALUE!"},{"$error":"#VALUE!"},{"$error":"#VALUE!"},{"$error":"#VALUE!"},{"$error":"#VALUE!"},{"$error":"#VALUE!"},{"$error":"#VALUE!"},null,{"$error":"#VALUE!"},{"$error":"#VALUE!"},{"$error":"#VALUE!"},null,{"$error":"#VALUE!"},{"$error":"#VALUE!"},{"$error":"#VALUE!"},{"$error":"#VALUE!"},{"$error":"#VALUE!"},{"$error":"#VALUE!"},{"$error":"#VALUE!"},{"$error":"#VALUE!"},{"$error":"#VALUE!"},{"$error":"#VALUE!"},{"$error":"#VALUE!"},{"$error":"#VALUE!"},{"$error":"#VALUE!"},{"$error":"#VALUE!"},{"$error":"#VALUE!"},{"$error":"#VALUE!"},{"$error":"#VALUE!"},{"$error":"#VALUE!"},{"$error":"#VALUE!"},{"$error":"#VALUE!"},{"$error":"#VALUE!"},{"$error":"#VALUE!"},{"$error":"#VALUE!"},{"$error":"#VALUE!"},{"$error":"#VALUE!"},{"$error":"#VALUE!"},{"$error":"#VALUE!"},{"$error":"#VALUE!"},{"$error":"#VALUE!"},{"$error":"#VALUE!"},{"$error":"#VALUE!"},null,{"$error":"#VALUE!"},{"$error":"#VALUE!"},{"$error":"#VALUE!"},null,{"$error":"#VALUE!"},{"$error":"#VALUE!"},{"$error":"#VALUE!"},{"$error":"#VALUE!"},{"$error":"#VALUE!"},{"$error":"#VALUE!"},{"$error":"#VALUE!"},{"$error":"#VALUE!"},{"$error":"#VALUE!"},{"$error":"#VALUE!"}]
[null,{"$error":"#VALUE!"},null,{"$error":"#VALUE!"},{"$error":"#VALUE!"},{"$error":"#VALUE!"},null,{"$error":"#VALUE!"},{"$error":"#VALUE!"},{"$error":"#VALUE!"},null,{"$f":"SUM(M105:O105)","v":{"$error":"#VALUE!"}},{"$error":"#VALUE!"},{"$error":"#VALUE!"},{"$error":"#VALUE!"},{"$error":"#VALUE!"},{"$error":"#VALUE!"},{"$error":"#VALUE!"},{"$error":"#VALUE!"},{"$error":"#VALUE!"},{"$error":"#VALUE!"},{"$error":"#VALUE!"},{"$error":"#VALUE!"},{"$error":"#VALUE!"},{"$error":"#VALUE!"},{"$error":"#VALUE!"},{"$error":"#VALUE!"},{"$error":"#VALUE!"},{"$error":"#VALUE!"},{"$error":"#VALUE!"},{"$error":"#VALUE!"},{"$error":"#VALUE!"},{"$error":"#VALUE!"},{"$error":"#VALUE!"},{"$error":"#VALUE!"},{"$error":"#VALUE!"},{"$error":"#VALUE!"},{"$error":"#VALUE!"},{"$error":"#VALUE!"},{"$error":"#VALUE!"},{"$error":"#VALUE!"},{"$error":"#VALUE!"},null,{"$error":"#VALUE!"},{"$error":"#VALUE!"},{"$error":"#VALUE!"},null,{"$f":"SUM(AW105:AY105)","v":{"$error":"#VALUE!"}},{"$error":"#VALUE!"},{"$error":"#VALUE!"},{"$error":"#VALUE!"},{"$error":"#VALUE!"},{"$error":"#VALUE!"},{"$error":"#VALUE!"},{"$error":"#VALUE!"},{"$error":"#VALUE!"},{"$error":"#VALUE!"},null,{"$error":"#VALUE!"},{"$error":"#VALUE!"},{"$error":"#VALUE!"},null,{"$f":"SUM(BL105:BN105)","v":{"$error":"#VALUE!"}},{"$error":"#VALUE!"},{"$error":"#VALUE!"},{"$error":"#VALUE!"},{"$error":"#VALUE!"},{"$error":"#VALUE!"},{"$error":"#VALUE!"},{"$error":"#VALUE!"},{"$error":"#VALUE!"},{"$error":"#VALUE!"},null,{"$error":"#VALUE!"},{"$error":"#VALUE!"},{"$error":"#VALUE!"},null,{"$f":"SUM(CA105:CC105)","v":{"$error":"#VALUE!"}},{"$error":"#VALUE!"},{"$error":"#VALUE!"},{"$error":"#VALUE!"},{"$error":"#VALUE!"},{"$error":"#VALUE!"},{"$error":"#VALUE!"},{"$error":"#VALUE!"},{"$error":"#VALUE!"},{"$error":"#VALUE!"},{"$error":"#VALUE!"},{"$error":"#VALUE!"},{"$error":"#VALUE!"},{"$error":"#VALUE!"},{"$error":"#VALUE!"},{"$error":"#VALUE!"},{"$error":"#VALUE!"},{"$error":"#VALUE!"},{"$error":"#VALUE!"},{"$error":"#VALUE!"},{"$error":"#VALUE!"},{"$error":"#VALUE!"},{"$error":"#VALUE!"},{"$error":"#VALUE!"},{"$error":"#VALUE!"},{"$error":"#VALUE!"},{"$error":"#VALUE!"},{"$error":"#VALUE!"},{"$error":"#VALUE!"},{"$error":"#VALUE!"},{"$error":"#VALUE!"},null,{"$error":"#VALUE!"},{"$error":"#VALUE!"},{"$error":"#VALUE!"},null,{"$f":"SUM(DK105:DM105)","v":{"$error":"#VALUE!"}},{"$error":"#VALUE!"},{"$error":"#VALUE!"},{"$error":"#VALUE!"},{"$error":"#VALUE!"},{"$error":"#VALUE!"},{"$error":"#VALUE!"},{"$error":"#VALUE!"},{"$error":"#VALUE!"},{"$error":"#VALUE!"}]
[null,{"$error":"#VALUE!"},null,{"$error":"#VALUE!"},{"$error":"#VALUE!"},{"$error":"#VALUE!"},null,{"$error":"#VALUE!"},{"$error":"#VALUE!"},{"$error":"#VALUE!"},null,{"$error":"#VALUE!"},{"$error":"#VALUE!"},{"$error":"#VALUE!"},{"$error":"#VALUE!"},{"$error":"#VALUE!"},{"$error":"#VALUE!"},{"$error":"#VALUE!"},{"$error":"#VALUE!"},{"$error":"#VALUE!"},{"$error":"#VALUE!"},{"$error":"#VALUE!"},{"$error":"#VALUE!"},{"$error":"#VALUE!"},{"$error":"#VALUE!"},{"$error":"#VALUE!"},{"$error":"#VALUE!"},{"$error":"#VALUE!"},{"$error":"#VALUE!"},{"$error":"#VALUE!"},{"$error":"#VALUE!"},{"$error":"#VALUE!"},{"$error":"#VALUE!"},{"$error":"#VALUE!"},{"$error":"#VALUE!"},{"$error":"#VALUE!"},{"$error":"#VALUE!"},{"$error":"#VALUE!"},{"$error":"#VALUE!"},{"$error":"#VALUE!"},{"$error":"#VALUE!"},{"$error":"#VALUE!"},null,{"$error":"#VALUE!"},{"$error":"#VALUE!"},{"$error":"#VALUE!"},null,{"$error":"#VALUE!"},{"$error":"#VALUE!"},{"$error":"#VALUE!"},{"$error":"#VALUE!"},{"$error":"#VALUE!"},{"$error":"#VALUE!"},{"$error":"#VALUE!"},{"$error":"#VALUE!"},{"$error":"#VALUE!"},{"$error":"#VALUE!"},null,{"$error":"#VALUE!"},{"$error":"#VALUE!"},{"$error":"#VALUE!"},null,{"$error":"#VALUE!"},{"$error":"#VALUE!"},{"$error":"#VALUE!"},{"$error":"#VALUE!"},{"$error":"#VALUE!"},{"$error":"#VALUE!"},{"$error":"#VALUE!"},{"$error":"#VALUE!"},{"$error":"#VALUE!"},{"$error":"#VALUE!"},null,{"$error":"#VALUE!"},{"$error":"#VALUE!"},{"$error":"#VALUE!"},null,{"$error":"#VALUE!"},{"$error":"#VALUE!"},{"$error":"#VALUE!"},{"$error":"#VALUE!"},{"$error":"#VALUE!"},{"$error":"#VALUE!"},{"$error":"#VALUE!"},{"$error":"#VALUE!"},{"$error":"#VALUE!"},{"$error":"#VALUE!"},{"$error":"#VALUE!"},{"$error":"#VALUE!"},{"$error":"#VALUE!"},{"$error":"#VALUE!"},{"$error":"#VALUE!"},{"$error":"#VALUE!"},{"$error":"#VALUE!"},{"$error":"#VALUE!"},{"$error":"#VALUE!"},{"$error":"#VALUE!"},{"$error":"#VALUE!"},{"$error":"#VALUE!"},{"$error":"#VALUE!"},{"$error":"#VALUE!"},{"$error":"#VALUE!"},{"$error":"#VALUE!"},{"$error":"#VALUE!"},{"$error":"#VALUE!"},{"$error":"#VALUE!"},{"$error":"#VALUE!"},{"$error":"#VALUE!"},null,{"$error":"#VALUE!"},{"$error":"#VALUE!"},{"$error":"#VALUE!"},null,{"$error":"#VALUE!"},{"$error":"#VALUE!"},{"$error":"#VALUE!"},{"$error":"#VALUE!"},{"$error":"#VALUE!"},{"$error":"#VALUE!"},{"$error":"#VALUE!"},{"$error":"#VALUE!"},{"$error":"#VALUE!"},{"$error":"#VALUE!"}]
[null,{"$error":"#VALUE!"},null,{"$error":"#VALUE!"},{"$error":"#VALUE!"},{"$error":"#VALUE!"},null,{"$error":"#VALUE!"},{"$error":"#VALUE!"},{"$error":"#VALUE!"},null,{"$error":"#VALUE!"},{"$error":"#VALUE!"},{"$error":"#VALUE!"},{"$error":"#VALUE!"},{"$error":"#VALUE!"},{"$error":"#VALUE!"},{"$error":"#VALUE!"},{"$error":"#VALUE!"},{"$error":"#VALUE!"},{"$error":"#VALUE!"},{"$error":"#VALUE!"},{"$error":"#VALUE!"},{"$error":"#VALUE!"},{"$error":"#VALUE!"},{"$error":"#VALUE!"},{"$error":"#VALUE!"},{"$f":"IF(AND($B107>=AB$4,$B107<=AB$5),AB$6,0)","v":{"$error":"#VALUE!"}},{"$error":"#VALUE!"},{"$error":"#VALUE!"},{"$error":"#VALUE!"},{"$error":"#VALUE!"},{"$error":"#VALUE!"},{"$error":"#VALUE!"},{"$error":"#VALUE!"},{"$error":"#VALUE!"},{"$error":"#VALUE!"},{"$error":"#VALUE!"},{"$error":"#VALUE!"},{"$error":"#VALUE!"},{"$error":"#VALUE!"},{"$error":"#VALUE!"},null,{"$f":"SUM(AW107:BE107)","v":{"$error":"#VALUE!"}},{"$error":"#VALUE!"},{"$error":"#VALUE!"},null,{"$error":"#VALUE!"},{"$error":"#VALUE!"},{"$error":"#VALUE!"},{"$error":"#VALUE!"},{"$error":"#VALUE!"},{"$error":"#VALUE!"},{"$error":"#VALUE!"},{"$error":"#VALUE!"},{"$error":"#VALUE!"},{"$error":"#VALUE!"},null,{"$f":"SUM(BL107:BT107)","v":{"$error":"#VALUE!"}},{"$error":"#VALUE!"},{"$error":"#VALUE!"},null,{"$error":"#VALUE!"},{"$f":"IF(AND($B107>=BL$4,$B107<=BL$5),BL$6,0)","v":{"$error":"#VALUE!"}},{"$error":"#VALUE!"},{"$error":"#VALUE!"},{"$error":"#VALUE!"},{"$error":"#VALUE!"},{"$error":"#VALUE!"},{"$error":"#VALUE!"},{"$error":"#VALUE!"},{"$error":"#VALUE!"},null,{"$error":"#VALUE!"},{"$error":"#VALUE!"},{"$error":"#VALUE!"},null,{"$error":"#VALUE!"},{"$error":"#VALUE!"},{"$error":"#VALUE!"},{"$error":"#VALUE!"},{"$error":"#VALUE!"},{"$error":"#VALUE!"},{"$error":"#VALUE!"},{"$error":"#VALUE!"},{"$error":"#VALUE!"},{"$error":"#VALUE!"},{"$error":"#VALUE!"},{"$error":"#VALUE!"},{"$error":"#VALUE!"},{"$error":"#VALUE!"},{"$error":"#VALUE!"},{"$error":"#VALUE!"},{"$f":"IF(AND($B107>=CP$4,$B107<=CP$5),CP$6,0)","v":{"$error":"#VALUE!"}},{"$error":"#VALUE!"},{"$error":"#VALUE!"},{"$error":"#VALUE!"},{"$error":"#VALUE!"},{"$error":"#VALUE!"},{"$error":"#VALUE!"},{"$error":"#VALUE!"},{"$error":"#VALUE!"},{"$error":"#VALUE!"},{"$error":"#VALUE!"},{"$error":"#VALUE!"},{"$error":"#VALUE!"},{"$error":"#VALUE!"},{"$error":"#VALUE!"},null,{"$error":"#VALUE!"},{"$error":"#VALUE!"},{"$error":"#VALUE!"},null,{"$error":"#VALUE!"},{"$f":"IF(AND($B107>=DK$4,$B107<=DK$5),DK$6,0)","v":{"$error":"#VALUE!"}},{"$error":"#VALUE!"},{"$error":"#VALUE!"},{"$error":"#VALUE!"},{"$error":"#VALUE!"},{"$error":"#VALUE!"},{"$error":"#VALUE!"},{"$error":"#VALUE!"},{"$error":"#VALUE!"}]
[null,{"$error":"#VALUE!"},null,{"$error":"#VALUE!"},{"$error":"#VALUE!"},{"$error":"#VALUE!"},null,{"$error":"#VALUE!"},{"$error":"#VALUE!"},{"$error":"#VALUE!"},null,{"$error":"#VALUE!"},{"$f":"IF(AND($B108>=M$4,$B108<=M$5),M$6,0)","v":{"$error":"#VALUE!"}},{"$error":"#VALUE!"},{"$error":"#VALUE!"},{"$error":"#VALUE!"},{"$error":"#VALUE!"},{"$error":"#VALUE!"},{"$error":"#VALUE!"},{"$error":"#VALUE!"},{"$error":"#VALUE!"},{"$error":"#VALUE!"},{"$error":"#VALUE!"},{"$error":"#VALUE!"},{"$error":"#VALUE!"},{"$error":"#VALUE!"},{"$error":"#VALUE!"},{"$error":"#VALUE!"},{"$error":"#VALUE!"},{"$error":"#VALUE!"},{"$error":"#VALUE!"},{"$error":"#VALUE!"},{"$error":"#VALUE!"},{"$error":"#VALUE!"},{"$error":"#VALUE!"},{"$error":"#VALUE!"},{"$error":"#VALUE!"},{"$error":"#VALUE!"},{"$error":"#VALUE!"},{"$error":"#VALUE!"},{"$error":"#VALUE!"},{"$error":"#VALUE!"},null,{"$error":"#VALUE!"},{"$error":"#VALUE!"},{"$error":"#VALUE!"},null,{"$error":"#VALUE!"},{"$f":"IF(AND($B108>=AW$4,$B108<=AW$5),AW$6,0)","v":{"$error":"#VALUE!"}},{"$error":"#VALUE!"},{"$error":"#VALUE!"},{"$error":"#VALUE!"},{"$error":"#VALUE!"},{"$error":"#VALUE!"},{"$error":"#VALUE!"},{"$error":"#VALUE!"},{"$error":"#VALUE!"},null,{"$error":"#VALUE!"},{"$error":"#VALUE!"},{"$error":"#VALUE!"},null,{"$error":"#VALUE!"},{"$error":"#VALUE!"},{"$error":"#VALUE!"},{"$error":"#VALUE!"},{"$error":"#VALUE!"},{"$error":"#VALUE!"},{"$error":"#VALUE!"},{"$error":"#VALUE!"},{"$error":"#VALUE!"},{"$error":"#VALUE!"},null,{"$error":"#VALUE!"},{"$error":"#VALUE!"},{"$error":"#VALUE!"},null,{"$error":"#VALUE!"},{"$f":"IF(AND($B108>=CA$4,$B108<=CA$5),CA$6,0)","v":{"$error":"#VALUE!"}},{"$error":"#VALUE!"},{"$error":"#VALUE!"},{"$error":"#VALUE!"},{"$error":"#VALUE!"},{"$error":"#VALUE!"},{"$error":"#VALUE!"},{"$error":"#VALUE!"},{"$error":"#VALUE!"},{"$error":"#VALUE!"},{"$error":"#VALUE!"},{"$error":"#VALUE!"},{"$error":"#VALUE!"},{"$error":"#VALUE!"},{"$error":"#VALUE!"},{"$error":"#VALUE!"},{"$error":"#VALUE!"},{"$error":"#VALUE!"},{"$error":"#VALUE!"},{"$error":"#VALUE!"},{"$error":"#VALUE!"},{"$error":"#VALUE!"},{"$error":"#VALUE!"},{"$error":"#VALUE!"},{"$error":"#VALUE!"},{"$error":"#VALUE!"},{"$error":"#VALUE!"},{"$error":"#VALUE!"},{"$error":"#VALUE!"},{"$error":"#VALUE!"},null,{"$error":"#VALUE!"},{"$error":"#VALUE!"},{"$error":"#VALUE!"},null,{"$error":"#VALUE!"},{"$error":"#VALUE!"},{"$error":"#VALUE!"},{"$error":"#VALUE!"},{"$error":"#VALUE!"},{"$error":"#VALUE!"},{"$error":"#VALUE!"},{"$error":"#VALUE!"},{"$error":"#VALUE!"},{"$error":"#VALUE!"}]
[null,{"$error":"#VALUE!"},null,{"$error":"#VALUE!"},{"$error":"#VALUE!"},{"$error":"#VALUE!"},null,{"$error":"#VALUE!"},{"$error":"#VALUE!"},{"$error":"#VALUE!"},null,{"$error":"#VALUE!"},{"$error":"#VALUE!"},{"$error":"#VALUE!"},{"$error":"#VALUE!"},{"$error":"#VALUE!"},{"$error":"#VALUE!"},{"$error":"#VALUE!"},{"$error":"#VALUE!"},{"$error":"#VALUE!"},{"$error":"#VALUE!"},{"$error":"#VALUE!"},{"$error":"#VALUE!"},{"$error":"#VALUE!"},{"$error":"#VALUE!"},{"$error":"#VALUE!"},{"$error":"#VALUE!"},{"$error":"#VALUE!"},{"$error":"#VALUE!"},{"$error":"#VALUE!"},{"$error":"#VALUE!"},{"$error":"#VALUE!"},{"$error":"#VALUE!"},{"$error":"#VALUE!"},{"$error":"#VALUE!"},{"$error":"#VALUE!"},{"$error":"#VALUE!"},{"$error":"#VALUE!"},{"$error":"#VALUE!"},{"$error":"#VALUE!"},{"$error":"#VALUE!"},{"$error":"#VALUE!"},null,{"$error":"#VALUE!"},{"$error":"#VALUE!"},{"$error":"#VALUE!"},null,{"$error":"#VALUE!"},{"$error":"#VALUE!"},{"$error":"#VALUE!"},{"$error":"#VALUE!"},{"$error":"#VALUE!"},{"$error":"#VALUE!"},{"$error":"#VALUE!"},{"$error":"#VALUE!"},{"$error":"#VALUE!"},{"$error":"#VALUE!"},null,{"$error":"#VALUE!"},{"$error":"#VALUE!"},{"$error":"#VALUE!"},null,{"$error":"#VALUE!"},{"$error":"#VALUE!"},{"$error":"#VALUE!"},{"$error":"#VALUE!"},{"$error":"#VALUE!"},{"$error":"#VALUE!"},{"$error":"#VALUE!"},{"$error":"#VALUE!"},{"$error":"#VALUE!"},{"$error":"#VALUE!"},null,{"$error":"#VALUE!"},{"$error":"#VALUE!"},{"$error":"#VALUE!"},null,{"$error":"#VALUE!"},{"$error":"#VALUE!"},{"$error":"#VALUE!"},{"$error":"#VALUE!"},{"$error":"#VALUE!"},{"$error":"#VALUE!"},{"$error":"#VALUE!"},{"$error":"#VALUE!"},{"$error":"#VALUE!"},{"$error":"#VALUE!"},{"$error":"#VALUE!"},{"$error":"#VALUE!"},{"$error":"#VALUE!"},{"$error":"#VALUE!"},{"$error":"#VALUE!"},{"$error":"#VALUE!"},{"$error":"#VALUE!"},{"$error":"#VALUE!"},{"$error":"#VALUE!"},{"$error":"#VALUE!"},{"$error":"#VALUE!"},{"$error":"#VALUE!"},{"$error":"#VALUE!"},{"$error":"#VALUE!"},{"$error":"#VALUE!"},{"$error":"#VALUE!"},{"$error":"#VALUE!"},{"$error":"#VALUE!"},{"$error":"#VALUE!"},{"$error":"#VALUE!"},{"$error":"#VALUE!"},null,{"$error":"#VALUE!"},{"$error":"#VALUE!"},{"$error":"#VALUE!"},null,{"$error":"#VALUE!"},{"$error":"#VALUE!"},{"$error":"#VALUE!"},{"$error":"#VALUE!"},{"$error":"#VALUE!"},{"$error":"#VALUE!"},{"$error":"#VALUE!"},{"$error":"#VALUE!"},{"$error":"#VALUE!"},{"$error":"#VALUE!"}]
[null,{"$error":"#VALUE!"},null,{"$error":"#VALUE!"},{"$error":"#VALUE!"},{"$error":"#VALUE!"},null,{"$error":"#VALUE!"},{"$error":"#VALUE!"},{"$error":"#VALUE!"},null,{"$error":"#VALUE!"},{"$error":"#VALUE!"},{"$error":"#VALUE!"},{"$error":"#VALUE!"},{"$error":"#VALUE!"},{"$error":"#VALUE!"},{"$error":"#VALUE!"},{"$error":"#VALUE!"},{"$error":"#VALUE!"},{"$error":"#VALUE!"},{"$error":"#VALUE!"},{"$error":"#VALUE!"},{"$error":"#VALUE!"},{"$error":"#VALUE!"},{"$error":"#VALUE!"},{"$error":"#VALUE!"},{"$error":"#VALUE!"},{"$error":"#VALUE!"},{"$error":"#VALUE!"},{"$error":"#VALUE!"},{"$error":"#VALUE!"},{"$error":"#VALUE!"},{"$error":"#VALUE!"},{"$error":"#VALUE!"},{"$error":"#VALUE!"},{"$error":"#VALUE!"},{"$error":"#VALUE!"},{"$error":"#VALUE!"},{"$error":"#VALUE!"},{"$error":"#VALUE!"},{"$error":"#VALUE!"},null,{"$error":"#VALUE!"},{"$error":"#VALUE!"},{"$error":"#VALUE!"},null,{"$error":"#VALUE!"},{"$error":"#VALUE!"},{"$error":"#VALUE!"},{"$error":"#VALUE!"},{"$error":"#VALUE!"},{"$error":"#VALUE!"},{"$error":"#VALUE!"},{"$error":"#VALUE!"},{"$error":"#VALUE!"},{"$error":"#VALUE!"},null,{"$error":"#VALUE!"},{"$error":"#VALUE!"},{"$error":"#VALUE!"},null,{"$error":"#VALUE!"},{"$error":"#VALUE!"},{"$error":"#VALUE!"},{"$error":"#VALUE!"},{"$error":"#VALUE!"},{"$error":"#VALUE!"},{"$error":"#VALUE!"},{"$error":"#VALUE!"},{"$error":"#VALUE!"},{"$error":"#VALUE!"},null,{"$error":"#VALUE!"},{"$error":"#VALUE!"},{"$error":"#VALUE!"},null,{"$error":"#VALUE!"},{"$error":"#VALUE!"},{"$error":"#VALUE!"},{"$error":"#VALUE!"},{"$error":"#VALUE!"},{"$error":"#VALUE!"},{"$error":"#VALUE!"},{"$error":"#VALUE!"},{"$error":"#VALUE!"},{"$error":"#VALUE!"},{"$error":"#VALUE!"},{"$error":"#VALUE!"},{"$error":"#VALUE!"},{"$error":"#VALUE!"},{"$error":"#VALUE!"},{"$error":"#VALUE!"},{"$error":"#VALUE!"},{"$error":"#VALUE!"},{"$error":"#VALUE!"},{"$error":"#VALUE!"},{"$error":"#VALUE!"},{"$error":"#VALUE!"},{"$error":"#VALUE!"},{"$error":"#VALUE!"},{"$error":"#VALUE!"},{"$error":"#VALUE!"},{"$error":"#VALUE!"},{"$error":"#VALUE!"},{"$error":"#VALUE!"},{"$error":"#VALUE!"},{"$error":"#VALUE!"},null,{"$error":"#VALUE!"},{"$error":"#VALUE!"},{"$error":"#VALUE!"},null,{"$error":"#VALUE!"},{"$error":"#VALUE!"},{"$error":"#VALUE!"},{"$error":"#VALUE!"},{"$error":"#VALUE!"},{"$error":"#VALUE!"},{"$error":"#VALUE!"},{"$error":"#VALUE!"},{"$error":"#VALUE!"},{"$error":"#VALUE!"}]
[null,{"$error":"#VALUE!"},null,{"$error":"#VALUE!"},{"$error":"#VALUE!"},{"$error":"#VALUE!"},null,{"$error":"#VALUE!"},{"$error":"#VALUE!"},{"$error":"#VALUE!"},null,{"$error":"#VALUE!"},{"$error":"#VALUE!"},{"$error":"#VALUE!"},{"$error":"#VALUE!"},{"$error":"#VALUE!"},{"$error":"#VALUE!"},{"$error":"#VALUE!"},{"$error":"#VALUE!"},{"$error":"#VALUE!"},{"$error":"#VALUE!"},{"$error":"#VALUE!"},{"$error":"#VALUE!"},{"$error":"#VALUE!"},{"$error":"#VALUE!"},{"$error":"#VALUE!"},{"$error":"#VALUE!"},{"$error":"#VALUE!"},{"$error":"#VALUE!"},{"$error":"#VALUE!"},{"$error":"#VALUE!"},{"$error":"#VALUE!"},{"$error":"#VALUE!"},{"$error":"#VALUE!"},{"$error":"#VALUE!"},{"$error":"#VALUE!"},{"$error":"#VALUE!"},{"$error":"#VALUE!"},{"$error":"#VALUE!"},{"$error":"#VALUE!"},{"$error":"#VALUE!"},{"$error":"#VALUE!"},null,{"$error":"#VALUE!"},{"$error":"#VALUE!"},{"$error":"#VALUE!"},null,{"$error":"#VALUE!"},{"$error":"#VALUE!"},{"$error":"#VALUE!"},{"$error":"#VALUE!"},{"$error":"#VALUE!"},{"$error":"#VALUE!"},{"$error":"#VALUE!"},{"$error":"#VALUE!"},{"$error":"#VALUE!"},{"$error":"#VALUE!"},null,{"$error":"#VALUE!"},{"$error":"#VALUE!"},{"$error":"#VALUE!"},null,{"$error":"#VALUE!"},{"$error":"#VALUE!"},{"$error":"#VALUE!"},{"$error":"#VALUE!"},{"$error":"#VALUE!"},{"$error":"#VALUE!"},{"$error":"#VALUE!"},{"$error":"#VALUE!"},{"$error":"#VALUE!"},{"$error":"#VALUE!"},null,{"$error":"#VALUE!"},{"$error":"#VALUE!"},{"$error":"#VALUE!"},null,{"$error":"#VALUE!"},{"$error":"#VALUE!"},{"$error":"#VALUE!"},{"$error":"#VALUE!"},{"$error":"#VALUE!"},{"$error":"#VALUE!"},{"$error":"#VALUE!"},{"$error":"#VALUE!"},{"$error":"#VALUE!"},{"$error":"#VALUE!"},{"$error":"#VALUE!"},{"$error":"#VALUE!"},{"$error":"#VALUE!"},{"$error":"#VALUE!"},{"$error":"#VALUE!"},{"$error":"#VALUE!"},{"$error":"#VALUE!"},{"$error":"#VALUE!"},{"$error":"#VALUE!"},{"$error":"#VALUE!"},{"$error":"#VALUE!"},{"$error":"#VALUE!"},{"$error":"#VALUE!"},{"$error":"#VALUE!"},{"$error":"#VALUE!"},{"$error":"#VALUE!"},{"$error":"#VALUE!"},{"$error":"#VALUE!"},{"$error":"#VALUE!"},{"$error":"#VALUE!"},{"$error":"#VALUE!"},null,{"$error":"#VALUE!"},{"$error":"#VALUE!"},{"$error":"#VALUE!"},null,{"$error":"#VALUE!"},{"$error":"#VALUE!"},{"$error":"#VALUE!"},{"$error":"#VALUE!"},{"$error":"#VALUE!"},{"$error":"#VALUE!"},{"$error":"#VALUE!"},{"$error":"#VALUE!"},{"$error":"#VALUE!"},{"$error":"#VALUE!"}]
[null,{"$error":"#VALUE!"},null,{"$error":"#VALUE!"},{"$error":"#VALUE!"},{"$error":"#VALUE!"},null,{"$error":"#VALUE!"},{"$error":"#VALUE!"},{"$error":"#VALUE!"},null,{"$error":"#VALUE!"},{"$error":"#VALUE!"},{"$error":"#VALUE!"},{"$error":"#VALUE!"},{"$error":"#VALUE!"},{"$error":"#VALUE!"},{"$error":"#VALUE!"},{"$error":"#VALUE!"},{"$error":"#VALUE!"},{"$error":"#VALUE!"},{"$error":"#VALUE!"},{"$error":"#VALUE!"},{"$error":"#VALUE!"},{"$error":"#VALUE!"},{"$error":"#VALUE!"},{"$error":"#VALUE!"},{"$error":"#VALUE!"},{"$error":"#VALUE!"},{"$error":"#VALUE!"},{"$error":"#VALUE!"},{"$error":"#VALUE!"},{"$error":"#VALUE!"},{"$error":"#VALUE!"},{"$error":"#VALUE!"},{"$error":"#VALUE!"},{"$error":"#VALUE!"},{"$error":"#VALUE!"},{"$error":"#VALUE!"},{"$error":"#VALUE!"},{"$error":"#VALUE!"},{"$error":"#VALUE!"},null,{"$error":"#VALUE!"},{"$error":"#VALUE!"},{"$error":"#VALUE!"},null,{"$error":"#VALUE!"},{"$error":"#VALUE!"},{"$error":"#VALUE!"},{"$error":"#VALUE!"},{"$error":"#VALUE!"},{"$error":"#VALUE!"},{"$error":"#VALUE!"},{"$error":"#VALUE!"},{"$error":"#VALUE!"},{"$error":"#VALUE!"},null,{"$error":"#VALUE!"},{"$error":"#VALUE!"},{"$error":"#VALUE!"},null,{"$error":"#VALUE!"},{"$error":"#VALUE!"},{"$error":"#VALUE!"},{"$error":"#VALUE!"},{"$error":"#VALUE!"},{"$error":"#VALUE!"},{"$error":"#VALUE!"},{"$error":"#VALUE!"},{"$error":"#VALUE!"},{"$error":"#VALUE!"},null,{"$error":"#VALUE!"},{"$error":"#VALUE!"},{"$error":"#VALUE!"},null,{"$error":"#VALUE!"},{"$error":"#VALUE!"},{"$error":"#VALUE!"},{"$error":"#VALUE!"},{"$error":"#VALUE!"},{"$error":"#VALUE!"},{"$error":"#VALUE!"},{"$error":"#VALUE!"},{"$error":"#VALUE!"},{"$error":"#VALUE!"},{"$error":"#VALUE!"},{"$error":"#VALUE!"},{"$error":"#VALUE!"},{"$error":"#VALUE!"},{"$error":"#VALUE!"},{"$error":"#VALUE!"},{"$error":"#VALUE!"},{"$error":"#VALUE!"},{"$error":"#VALUE!"},{"$error":"#VALUE!"},{"$error":"#VALUE!"},{"$error":"#VALUE!"},{"$error":"#VALUE!"},{"$error":"#VALUE!"},{"$error":"#VALUE!"},{"$error":"#VALUE!"},{"$error":"#VALUE!"},{"$error":"#VALUE!"},{"$error":"#VALUE!"},{"$error":"#VALUE!"},{"$error":"#VALUE!"},null,{"$error":"#VALUE!"},{"$error":"#VALUE!"},{"$error":"#VALUE!"},null,{"$error":"#VALUE!"},{"$error":"#VALUE!"},{"$error":"#VALUE!"},{"$error":"#VALUE!"},{"$error":"#VALUE!"},{"$error":"#VALUE!"},{"$error":"#VALUE!"},{"$error":"#VALUE!"},{"$error":"#VALUE!"},{"$error":"#VALUE!"}]
[null,{"$error":"#VALUE!"},null,{"$error":"#VALUE!"},{"$error":"#VALUE!"},{"$error":"#VALUE!"},null,{"$error":"#VALUE!"},{"$error":"#VALUE!"},{"$error":"#VALUE!"},null,{"$error":"#VALUE!"},{"$error":"#VALUE!"},{"$error":"#VALUE!"},{"$error":"#VALUE!"},{"$error":"#VALUE!"},{"$error":"#VALUE!"},{"$error":"#VALUE!"},{"$error":"#VALUE!"},{"$error":"#VALUE!"},{"$error":"#VALUE!"},{"$error":"#VALUE!"},{"$error":"#VALUE!"},{"$error":"#VALUE!"},{"$error":"#VALUE!"},{"$error":"#VALUE!"},{"$error":"#VALUE!"},{"$error":"#VALUE!"},{"$error":"#VALUE!"},{"$error":"#VALUE!"},{"$error":"#VALUE!"},{"$error":"#VALUE!"},{"$error":"#VALUE!"},{"$error":"#VALUE!"},{"$error":"#VALUE!"},{"$error":"#VALUE!"},{"$error":"#VALUE!"},{"$error":"#VALUE!"},{"$error":"#VALUE!"},{"$error":"#VALUE!"},{"$error":"#VALUE!"},{"$error":"#VALUE!"},null,{"$error":"#VALUE!"},{"$error":"#VALUE!"},{"$error":"#VALUE!"},null,{"$error":"#VALUE!"},{"$error":"#VALUE!"},{"$error":"#VALUE!"},{"$error":"#VALUE!"},{"$error":"#VALUE!"},{"$error":"#VALUE!"},{"$error":"#VALUE!"},{"$error":"#VALUE!"},{"$error":"#VALUE!"},{"$error":"#VALUE!"},null,{"$error":"#VALUE!"},{"$error":"#VALUE!"},{"$error":"#VALUE!"},null,{"$error":"#VALUE!"},{"$error":"#VALUE!"},{"$error":"#VALUE!"},{"$error":"#VALUE!"},{"$error":"#VALUE!"},{"$error":"#VALUE!"},{"$error":"#VALUE!"},{"$error":"#VALUE!"},{"$error":"#VALUE!"},{"$error":"#VALUE!"},null,{"$error":"#VALUE!"},{"$error":"#VALUE!"},{"$error":"#VALUE!"},null,{"$error":"#VALUE!"},{"$error":"#VALUE!"},{"$error":"#VALUE!"},{"$error":"#VALUE!"},{"$error":"#VALUE!"},{"$error":"#VALUE!"},{"$error":"#VALUE!"},{"$error":"#VALUE!"},{"$error":"#VALUE!"},{"$error":"#VALUE!"},{"$error":"#VALUE!"},{"$error":"#VALUE!"},{"$error":"#VALUE!"},{"$error":"#VALUE!"},{"$error":"#VALUE!"},{"$error":"#VALUE!"},{"$error":"#VALUE!"},{"$error":"#VALUE!"},{"$error":"#VALUE!"},{"$error":"#VALUE!"},{"$error":"#VALUE!"},{"$error":"#VALUE!"},{"$error":"#VALUE!"},{"$error":"#VALUE!"},{"$error":"#VALUE!"},{"$error":"#VALUE!"},{"$error":"#VALUE!"},{"$error":"#VALUE!"},{"$error":"#VALUE!"},{"$error":"#VALUE!"},{"$error":"#VALUE!"},null,{"$error":"#VALUE!"},{"$error":"#VALUE!"},{"$error":"#VALUE!"},null,{"$error":"#VALUE!"},{"$error":"#VALUE!"},{"$error":"#VALUE!"},{"$error":"#VALUE!"},{"$error":"#VALUE!"},{"$error":"#VALUE!"},{"$error":"#VALUE!"},{"$error":"#VALUE!"},{"$error":"#VALUE!"},{"$error":"#VALUE!"}]
[null,{"$error":"#VALUE!"},null,{"$error":"#VALUE!"},{"$error":"#VALUE!"},{"$error":"#VALUE!"},null,{"$error":"#VALUE!"},{"$error":"#VALUE!"},{"$error":"#VALUE!"},null,{"$error":"#VALUE!"},{"$error":"#VALUE!"},{"$error":"#VALUE!"},{"$error":"#VALUE!"},{"$error":"#VALUE!"},{"$error":"#VALUE!"},{"$error":"#VALUE!"},{"$error":"#VALUE!"},{"$error":"#VALUE!"},{"$error":"#VALUE!"},{"$error":"#VALUE!"},{"$error":"#VALUE!"},{"$error":"#VALUE!"},{"$error":"#VALUE!"},{"$error":"#VALUE!"},{"$error":"#VALUE!"},{"$error":"#VALUE!"},{"$error":"#VALUE!"},{"$error":"#VALUE!"},{"$error":"#VALUE!"},{"$error":"#VALUE!"},{"$error":"#VALUE!"},{"$error":"#VALUE!"},{"$error":"#VALUE!"},{"$error":"#VALUE!"},{"$error":"#VALUE!"},{"$error":"#VALUE!"},{"$error":"#VALUE!"},{"$error":"#VALUE!"},{"$error":"#VALUE!"},{"$error":"#VALUE!"},null,{"$error":"#VALUE!"},{"$error":"#VALUE!"},{"$error":"#VALUE!"},null,{"$error":"#VALUE!"},{"$error":"#VALUE!"},{"$error":"#VALUE!"},{"$error":"#VALUE!"},{"$error":"#VALUE!"},{"$error":"#VALUE!"},{"$error":"#VALUE!"},{"$error":"#VALUE!"},{"$error":"#VALUE!"},{"$error":"#VALUE!"},null,{"$error":"#VALUE!"},{"$error":"#VALUE!"},{"$error":"#VALUE!"},null,{"$error":"#VALUE!"},{"$error":"#VALUE!"},{"$error":"#VALUE!"},{"$error":"#VALUE!"},{"$error":"#VALUE!"},{"$error":"#VALUE!"},{"$error":"#VALUE!"},{"$error":"#VALUE!"},{"$error":"#VALUE!"},{"$error":"#VALUE!"},null,{"$error":"#VALUE!"},{"$error":"#VALUE!"},{"$error":"#VALUE!"},null,{"$error":"#VALUE!"},{"$error":"#VALUE!"},{"$error":"#VALUE!"},{"$error":"#VALUE!"},{"$error":"#VALUE!"},{"$error":"#VALUE!"},{"$error":"#VALUE!"},{"$error":"#VALUE!"},{"$error":"#VALUE!"},{"$error":"#VALUE!"},{"$error":"#VALUE!"},{"$error":"#VALUE!"},{"$error":"#VALUE!"},{"$error":"#VALUE!"},{"$error":"#VALUE!"},{"$error":"#VALUE!"},{"$error":"#VALUE!"},{"$error":"#VALUE!"},{"$error":"#VALUE!"},{"$error":"#VALUE!"},{"$error":"#VALUE!"},{"$error":"#VALUE!"},{"$error":"#VALUE!"},{"$error":"#VALUE!"},{"$error":"#VALUE!"},{"$error":"#VALUE!"},{"$error":"#VALUE!"},{"$error":"#VALUE!"},{"$error":"#VALUE!"},{"$error":"#VALUE!"},{"$error":"#VALUE!"},null,{"$error":"#VALUE!"},{"$error":"#VALUE!"},{"$error":"#VALUE!"},null,{"$error":"#VALUE!"},{"$error":"#VALUE!"},{"$error":"#VALUE!"},{"$error":"#VALUE!"},{"$error":"#VALUE!"},{"$error":"#VALUE!"},{"$error":"#VALUE!"},{"$error":"#VALUE!"},{"$error":"#VALUE!"},{"$error":"#VALUE!"}]
[null,{"$error":"#VALUE!"},null,{"$error":"#VALUE!"},{"$error":"#VALUE!"},{"$error":"#VALUE!"},null,{"$error":"#VALUE!"},{"$error":"#VALUE!"},{"$error":"#VALUE!"},null,{"$error":"#VALUE!"},{"$error":"#VALUE!"},{"$error":"#VALUE!"},{"$error":"#VALUE!"},{"$error":"#VALUE!"},{"$error":"#VALUE!"},{"$error":"#VALUE!"},{"$error":"#VALUE!"},{"$error":"#VALUE!"},{"$error":"#VALUE!"},{"$error":"#VALUE!"},{"$error":"#VALUE!"},{"$error":"#VALUE!"},{"$error":"#VALUE!"},{"$error":"#VALUE!"},{"$error":"#VALUE!"},{"$error":"#VALUE!"},{"$error":"#VALUE!"},{"$error":"#VALUE!"},{"$error":"#VALUE!"},{"$error":"#VALUE!"},{"$error":"#VALUE!"},{"$error":"#VALUE!"},{"$error":"#VALUE!"},{"$error":"#VALUE!"},{"$error":"#VALUE!"},{"$error":"#VALUE!"},{"$error":"#VALUE!"},{"$error":"#VALUE!"},{"$error":"#VALUE!"},{"$error":"#VALUE!"},null,{"$error":"#VALUE!"},{"$error":"#VALUE!"},{"$error":"#VALUE!"},null,{"$error":"#VALUE!"},{"$error":"#VALUE!"},{"$error":"#VALUE!"},{"$error":"#VALUE!"},{"$error":"#VALUE!"},{"$error":"#VALUE!"},{"$error":"#VALUE!"},{"$error":"#VALUE!"},{"$error":"#VALUE!"},{"$error":"#VALUE!"},null,{"$error":"#VALUE!"},{"$error":"#VALUE!"},{"$error":"#VALUE!"},null,{"$error":"#VALUE!"},{"$error":"#VALUE!"},{"$error":"#VALUE!"},{"$error":"#VALUE!"},{"$error":"#VALUE!"},{"$error":"#VALUE!"},{"$error":"#VALUE!"},{"$error":"#VALUE!"},{"$error":"#VALUE!"},{"$error":"#VALUE!"},null,{"$error":"#VALUE!"},{"$error":"#VALUE!"},{"$error":"#VALUE!"},null,{"$error":"#VALUE!"},{"$error":"#VALUE!"},{"$error":"#VALUE!"},{"$error":"#VALUE!"},{"$error":"#VALUE!"},{"$error":"#VALUE!"},{"$error":"#VALUE!"},{"$error":"#VALUE!"},{"$error":"#VALUE!"},{"$error":"#VALUE!"},{"$error":"#VALUE!"},{"$error":"#VALUE!"},{"$error":"#VALUE!"},{"$error":"#VALUE!"},{"$error":"#VALUE!"},{"$error":"#VALUE!"},{"$error":"#VALUE!"},{"$error":"#VALUE!"},{"$error":"#VALUE!"},{"$error":"#VALUE!"},{"$error":"#VALUE!"},{"$error":"#VALUE!"},{"$error":"#VALUE!"},{"$error":"#VALUE!"},{"$error":"#VALUE!"},{"$error":"#VALUE!"},{"$error":"#VALUE!"},{"$error":"#VALUE!"},{"$error":"#VALUE!"},{"$error":"#VALUE!"},{"$error":"#VALUE!"},null,{"$error":"#VALUE!"},{"$error":"#VALUE!"},{"$error":"#VALUE!"},null,{"$error":"#VALUE!"},{"$error":"#VALUE!"},{"$error":"#VALUE!"},{"$error":"#VALUE!"},{"$error":"#VALUE!"},{"$error":"#VALUE!"},{"$error":"#VALUE!"},{"$error":"#VALUE!"},{"$error":"#VALUE!"},{"$error":"#VALUE!"}]
[null,{"$error":"#VALUE!"},null,{"$error":"#VALUE!"},{"$error":"#VALUE!"},{"$error":"#VALUE!"},null,{"$error":"#VALUE!"},{"$error":"#VALUE!"},{"$error":"#VALUE!"},null,{"$error":"#VALUE!"},{"$error":"#VALUE!"},{"$error":"#VALUE!"},{"$error":"#VALUE!"},{"$error":"#VALUE!"},{"$error":"#VALUE!"},{"$error":"#VALUE!"},{"$error":"#VALUE!"},{"$error":"#VALUE!"},{"$error":"#VALUE!"},{"$error":"#VALUE!"},{"$error":"#VALUE!"},{"$error":"#VALUE!"},{"$error":"#VALUE!"},{"$error":"#VALUE!"},{"$error":"#VALUE!"},{"$error":"#VALUE!"},{"$error":"#VALUE!"},{"$error":"#VALUE!"},{"$error":"#VALUE!"},{"$error":"#VALUE!"},{"$error":"#VALUE!"},{"$error":"#VALUE!"},{"$error":"#VALUE!"},{"$error":"#VALUE!"},{"$error":"#VALUE!"},{"$error":"#VALUE!"},{"$error":"#VALUE!"},{"$error":"#VALUE!"},{"$error":"#VALUE!"},{"$error":"#VALUE!"},null,{"$error":"#VALUE!"},{"$error":"#VALUE!"},{"$error":"#VALUE!"},null,{"$error":"#VALUE!"},{"$error":"#VALUE!"},{"$error":"#VALUE!"},{"$error":"#VALUE!"},{"$error":"#VALUE!"},{"$error":"#VALUE!"},{"$error":"#VALUE!"},{"$error":"#VALUE!"},{"$error":"#VALUE!"},{"$error":"#VALUE!"},null,{"$error":"#VALUE!"},{"$error":"#VALUE!"},{"$error":"#VALUE!"},null,{"$error":"#VALUE!"},{"$error":"#VALUE!"},{"$error":"#VALUE!"},{"$error":"#VALUE!"},{"$error":"#VALUE!"},{"$error":"#VALUE!"},{"$error":"#VALUE!"},{"$error":"#VALUE!"},{"$error":"#VALUE!"},{"$error":"#VALUE!"},null,{"$error":"#VALUE!"},{"$error":"#VALUE!"},{"$error":"#VALUE!"},null,{"$error":"#VALUE!"},{"$error":"#VALUE!"},{"$error":"#VALUE!"},{"$error":"#VALUE!"},{"$error":"#VALUE!"},{"$error":"#VALUE!"},{"$error":"#VALUE!"},{"$error":"#VALUE!"},{"$error":"#VALUE!"},{"$error":"#VALUE!"},{"$error":"#VALUE!"},{"$error":"#VALUE!"},{"$error":"#VALUE!"},{"$error":"#VALUE!"},{"$error":"#VALUE!"},{"$error":"#VALUE!"},{"$error":"#VALUE!"},{"$error":"#VALUE!"},{"$error":"#VALUE!"},{"$error":"#VALUE!"},{"$error":"#VALUE!"},{"$error":"#VALUE!"},{"$error":"#VALUE!"},{"$error":"#VALUE!"},{"$error":"#VALUE!"},{"$error":"#VALUE!"},{"$error":"#VALUE!"},{"$error":"#VALUE!"},{"$error":"#VALUE!"},{"$error":"#VALUE!"},{"$error":"#VALUE!"},null,{"$error":"#VALUE!"},{"$error":"#VALUE!"},{"$error":"#VALUE!"},null,{"$error":"#VALUE!"},{"$error":"#VALUE!"},{"$error":"#VALUE!"},{"$error":"#VALUE!"},{"$error":"#VALUE!"},{"$error":"#VALUE!"},{"$error":"#VALUE!"},{"$error":"#VALUE!"},{"$error":"#VALUE!"},{"$error":"#VALUE!"}]
[null,{"$f":"DATE(YEAR(B116),MONTH(B116)+1,DAY(B116))","v":{"$error":"#VALUE!"}},null,{"$error":"#VALUE!"},{"$error":"#VALUE!"},{"$error":"#VALUE!"},null,{"$error":"#VALUE!"},{"$error":"#VALUE!"},{"$error":"#VALUE!"},null,{"$error":"#VALUE!"},{"$error":"#VALUE!"},{"$error":"#VALUE!"},{"$error":"#VALUE!"},{"$error":"#VALUE!"},{"$error":"#VALUE!"},{"$error":"#VALUE!"},{"$error":"#VALUE!"},{"$error":"#VALUE!"},{"$error":"#VALUE!"},{"$error":"#VALUE!"},{"$error":"#VALUE!"},{"$error":"#VALUE!"},{"$error":"#VALUE!"},{"$error":"#VALUE!"},{"$error":"#VALUE!"},{"$error":"#VALUE!"},{"$error":"#VALUE!"},{"$error":"#VALUE!"},{"$error":"#VALUE!"},{"$error":"#VALUE!"},{"$error":"#VALUE!"},{"$error":"#VALUE!"},{"$error":"#VALUE!"},{"$error":"#VALUE!"},{"$error":"#VALUE!"},{"$error":"#VALUE!"},{"$error":"#VALUE!"},{"$error":"#VALUE!"},{"$error":"#VALUE!"},{"$error":"#VALUE!"},null,{"$error":"#VALUE!"},{"$error":"#VALUE!"},{"$error":"#VALUE!"},null,{"$error":"#VALUE!"},{"$error":"#VALUE!"},{"$error":"#VALUE!"},{"$error":"#VALUE!"},{"$error":"#VALUE!"},{"$error":"#VALUE!"},{"$error":"#VALUE!"},{"$error":"#VALUE!"},{"$error":"#VALUE!"},{"$error":"#VALUE!"},null,{"$error":"#VALUE!"},{"$error":"#VALUE!"},{"$error":"#VALUE!"},null,{"$error":"#VALUE!"},{"$error":"#VALUE!"},{"$error":"#VALUE!"},{"$error":"#VALUE!"},{"$error":"#VALUE!"},{"$error":"#VALUE!"},{"$error":"#VALUE!"},{"$error":"#VALUE!"},{"$error":"#VALUE!"},{"$error":"#VALUE!"},null,{"$error":"#VALUE!"},{"$error":"#VALUE!"},{"$error":"#VALUE!"},null,{"$error":"#VALUE!"},{"$error":"#VALUE!"},{"$error":"#VALUE!"},{"$error":"#VALUE!"},{"$error":"#VALUE!"},{"$error":"#VALUE!"},{"$error":"#VALUE!"},{"$error":"#VALUE!"},{"$error":"#VALUE!"},{"$error":"#VALUE!"},{"$error":"#VALUE!"},{"$error":"#VALUE!"},{"$error":"#VALUE!"},{"$error":"#VALUE!"},{"$error":"#VALUE!"},{"$error":"#VALUE!"},{"$error":"#VALUE!"},{"$error":"#VALUE!"},{"$error":"#VALUE!"},{"$error":"#VALUE!"},{"$error":"#VALUE!"},{"$error":"#VALUE!"},{"$error":"#VALUE!"},{"$error":"#VALUE!"},{"$error":"#VALUE!"},{"$error":"#VALUE!"},{"$error":"#VALUE!"},{"$error":"#VALUE!"},{"$error":"#VALUE!"},{"$error":"#VALUE!"},{"$error":"#VALUE!"},null,{"$error":"#VALUE!"},{"$error":"#VALUE!"},{"$error":"#VALUE!"},null,{"$error":"#VALUE!"},{"$error":"#VALUE!"},{"$error":"#VALUE!"},{"$error":"#VALUE!"},{"$error":"#VALUE!"},{"$error":"#VALUE!"},{"$error":"#VALUE!"},{"$error":"#VALUE!"},{"$error":"#VALUE!"},{"$error":"#VALUE!"}]
[null,{"$f":"DATE(YEAR(B117),MONTH(B117)+1,DAY(B117))","v":{"$error":"#VALUE!"}},null,{"$error":"#VALUE!"},{"$error":"#VALUE!"},{"$error":"#VALUE!"},null,{"$error":"#VALUE!"},{"$error":"#VALUE!"},{"$error":"#VALUE!"},null,{"$error":"#VALUE!"},{"$error":"#VALUE!"},{"$error":"#VALUE!"},{"$error":"#VALUE!"},{"$error":"#VALUE!"},{"$error":"#VALUE!"},{"$error":"#VALUE!"},{"$error":"#VALUE!"},{"$error":"#VALUE!"},{"$error":"#VALUE!"},{"$error":"#VALUE!"},{"$error":"#VALUE!"},{"$error":"#VALUE!"},{"$error":"#VALUE!"},{"$error":"#VALUE!"},{"$error":"#VALUE!"},{"$error":"#VALUE!"},{"$error":"#VALUE!"},{"$error":"#VALUE!"},{"$error":"#VALUE!"},{"$error":"#VALUE!"},{"$error":"#VALUE!"},{"$error":"#VALUE!"},{"$error":"#VALUE!"},{"$error":"#VALUE!"},{"$error":"#VALUE!"},{"$error":"#VALUE!"},{"$error":"#VALUE!"},{"$error":"#VALUE!"},{"$error":"#VALUE!"},{"$error":"#VALUE!"},null,{"$error":"#VALUE!"},{"$error":"#VALUE!"},{"$error":"#VALUE!"},null,{"$error":"#VALUE!"},{"$error":"#VALUE!"},{"$error":"#VALUE!"},{"$error":"#VALUE!"},{"$error":"#VALUE!"},{"$error":"#VALUE!"},{"$error":"#VALUE!"},{"$error":"#VALUE!"},{"$error":"#VALUE!"},{"$error":"#VALUE!"},null,{"$error":"#VALUE!"},{"$error":"#VALUE!"},{"$error":"#VALUE!"},null,{"$error":"#VALUE!"},{"$error":"#VALUE!"},{"$error":"#VALUE!"},{"$error":"#VALUE!"},{"$error":"#VALUE!"},{"$error":"#VALUE!"},{"$error":"#VALUE!"},{"$error":"#VALUE!"},{"$error":"#VALUE!"},{"$error":"#VALUE!"},null,{"$error":"#VALUE!"},{"$error":"#VALUE!"},{"$error":"#VALUE!"},null,{"$error":"#VALUE!"},{"$error":"#VALUE!"},{"$error":"#VALUE!"},{"$error":"#VALUE!"},{"$error":"#VALUE!"},{"$error":"#VALUE!"},{"$error":"#VALUE!"},{"$error":"#VALUE!"},{"$error":"#VALUE!"},{"$error":"#VALUE!"},{"$error":"#VALUE!"},{"$error":"#VALUE!"},{"$error":"#VALUE!"},{"$error":"#VALUE!"},{"$error":"#VALUE!"},{"$error":"#VALUE!"},{"$error":"#VALUE!"},{"$error":"#VALUE!"},{"$error":"#VALUE!"},{"$error":"#VALUE!"},{"$error":"#VALUE!"},{"$error":"#VALUE!"},{"$error":"#VALUE!"},{"$error":"#VALUE!"},{"$error":"#VALUE!"},{"$error":"#VALUE!"},{"$error":"#VALUE!"},{"$error":"#VALUE!"},{"$error":"#VALUE!"},{"$error":"#VALUE!"},{"$error":"#VALUE!"},null,{"$error":"#VALUE!"},{"$error":"#VALUE!"},{"$error":"#VALUE!"},null,{"$error":"#VALUE!"},{"$error":"#VALUE!"},{"$error":"#VALUE!"},{"$error":"#VALUE!"},{"$error":"#VALUE!"},{"$error":"#VALUE!"},{"$error":"#VALUE!"},{"$error":"#VALUE!"},{"$error":"#VALUE!"},{"$error":"#VALUE!"}]
[null,{"$f":"DATE(YEAR(B118),MONTH(B118)+1,DAY(B118))","v":{"$error":"#VALUE!"}},null,{"$error":"#VALUE!"},{"$error":"#VALUE!"},{"$error":"#VALUE!"},null,{"$error":"#VALUE!"},{"$error":"#VALUE!"},{"$error":"#VALUE!"},null,{"$error":"#VALUE!"},{"$error":"#VALUE!"},{"$error":"#VALUE!"},{"$error":"#VALUE!"},{"$error":"#VALUE!"},{"$error":"#VALUE!"},{"$error":"#VALUE!"},{"$error":"#VALUE!"},{"$error":"#VALUE!"},{"$error":"#VALUE!"},{"$error":"#VALUE!"},{"$error":"#VALUE!"},{"$error":"#VALUE!"},{"$error":"#VALUE!"},{"$error":"#VALUE!"},{"$error":"#VALUE!"},{"$error":"#VALUE!"},{"$error":"#VALUE!"},{"$error":"#VALUE!"},{"$error":"#VALUE!"},{"$error":"#VALUE!"},{"$error":"#VALUE!"},{"$error":"#VALUE!"},{"$error":"#VALUE!"},{"$error":"#VALUE!"},{"$error":"#VALUE!"},{"$error":"#VALUE!"},{"$error":"#VALUE!"},{"$error":"#VALUE!"},{"$error":"#VALUE!"},{"$error":"#VALUE!"},null,{"$error":"#VALUE!"},{"$error":"#VALUE!"},{"$error":"#VALUE!"},null,{"$error":"#VALUE!"},{"$error":"#VALUE!"},{"$error":"#VALUE!"},{"$error":"#VALUE!"},{"$error":"#VALUE!"},{"$error":"#VALUE!"},{"$error":"#VALUE!"},{"$error":"#VALUE!"},{"$error":"#VALUE!"},{"$error":"#VALUE!"},null,{"$error":"#VALUE!"},{"$error":"#VALUE!"},{"$error":"#VALUE!"},null,{"$error":"#VALUE!"},{"$error":"#VALUE!"},{"$error":"#VALUE!"},{"$error":"#VALUE!"},{"$error":"#VALUE!"},{"$error":"#VALUE!"},{"$error":"#VALUE!"},{"$error":"#VALUE!"},{"$error":"#VALUE!"},{"$error":"#VALUE!"},null,{"$error":"#VALUE!"},{"$error":"#VALUE!"},{"$error":"#VALUE!"},null,{"$error":"#VALUE!"},{"$error":"#VALUE!"},{"$error":"#VALUE!"},{"$error":"#VALUE!"},{"$error":"#VALUE!"},{"$error":"#VALUE!"},{"$error":"#VALUE!"},{"$error":"#VALUE!"},{"$error":"#VALUE!"},{"$error":"#VALUE!"},{"$error":"#VALUE!"},{"$error":"#VALUE!"},{"$error":"#VALUE!"},{"$error":"#VALUE!"},{"$error":"#VALUE!"},{"$error":"#VALUE!"},{"$error":"#VALUE!"},{"$error":"#VALUE!"},{"$error":"#VALUE!"},{"$error":"#VALUE!"},{"$error":"#VALUE!"},{"$error":"#VALUE!"},{"$error":"#VALUE!"},{"$error":"#VALUE!"},{"$error":"#VALUE!"},{"$error":"#VALUE!"},{"$error":"#VALUE!"},{"$error":"#VALUE!"},{"$error":"#VALUE!"},{"$error":"#VALUE!"},{"$error":"#VALUE!"},null,{"$error":"#VALUE!"},{"$error":"#VALUE!"},{"$error":"#VALUE!"},null,{"$error":"#VALUE!"},{"$error":"#VALUE!"},{"$error":"#VALUE!"},{"$error":"#VALUE!"},{"$error":"#VALUE!"},{"$error":"#VALUE!"},{"$error":"#VALUE!"},{"$error":"#VALUE!"},{"$error":"#VALUE!"},{"$error":"#VALUE!"}]
[null,{"$error":"#VALUE!"},null,{"$error":"#VALUE!"},{"$error":"#VALUE!"},{"$error":"#VALUE!"},null,{"$error":"#VALUE!"},{"$error":"#VALUE!"},{"$error":"#VALUE!"},null,{"$error":"#VALUE!"},{"$error":"#VALUE!"},{"$error":"#VALUE!"},{"$error":"#VALUE!"},{"$error":"#VALUE!"},{"$error":"#VALUE!"},{"$error":"#VALUE!"},{"$error":"#VALUE!"},{"$error":"#VALUE!"},{"$error":"#VALUE!"},{"$error":"#VALUE!"},{"$error":"#VALUE!"},{"$error":"#VALUE!"},{"$error":"#VALUE!"},{"$error":"#VALUE!"},{"$error":"#VALUE!"},{"$error":"#VALUE!"},{"$error":"#VALUE!"},{"$error":"#VALUE!"},{"$error":"#VALUE!"},{"$error":"#VALUE!"},{"$error":"#VALUE!"},{"$error":"#VALUE!"},{"$error":"#VALUE!"},{"$error":"#VALUE!"},{"$error":"#VALUE!"},{"$error":"#VALUE!"},{"$error":"#VALUE!"},{"$error":"#VALUE!"},{"$error":"#VALUE!"},{"$error":"#VALUE!"},null,{"$error":"#VALUE!"},{"$error":"#VALUE!"},{"$error":"#VALUE!"},null,{"$error":"#VALUE!"},{"$error":"#VALUE!"},{"$error":"#VALUE!"},{"$error":"#VALUE!"},{"$error":"#VALUE!"},{"$error":"#VALUE!"},{"$error":"#VALUE!"},{"$error":"#VALUE!"},{"$error":"#VALUE!"},{"$error":"#VALUE!"},null,{"$error":"#VALUE!"},{"$error":"#VALUE!"},{"$error":"#VALUE!"},null,{"$error":"#VALUE!"},{"$error":"#VALUE!"},{"$error":"#VALUE!"},{"$error":"#VALUE!"},{"$error":"#VALUE!"},{"$error":"#VALUE!"},{"$error":"#VALUE!"},{"$error":"#VALUE!"},{"$error":"#VALUE!"},{"$error":"#VALUE!"},null,{"$error":"#VALUE!"},{"$error":"#VALUE!"},{"$error":"#VALUE!"},null,{"$error":"#VALUE!"},{"$error":"#VALUE!"},{"$error":"#VALUE!"},{"$error":"#VALUE!"},{"$error":"#VALUE!"},{"$error":"#VALUE!"},{"$error":"#VALUE!"},{"$error":"#VALUE!"},{"$error":"#VALUE!"},{"$error":"#VALUE!"},{"$error":"#VALUE!"},{"$error":"#VALUE!"},{"$error":"#VALUE!"},{"$error":"#VALUE!"},{"$error":"#VALUE!"},{"$error":"#VALUE!"},{"$error":"#VALUE!"},{"$error":"#VALUE!"},{"$error":"#VALUE!"},{"$error":"#VALUE!"},{"$error":"#VALUE!"},{"$error":"#VALUE!"},{"$error":"#VALUE!"},{"$error":"#VALUE!"},{"$error":"#VALUE!"},{"$error":"#VALUE!"},{"$error":"#VALUE!"},{"$error":"#VALUE!"},{"$error":"#VALUE!"},{"$error":"#VALUE!"},{"$error":"#VALUE!"},null,{"$error":"#VALUE!"},{"$error":"#VALUE!"},{"$error":"#VALUE!"},null,{"$error":"#VALUE!"},{"$error":"#VALUE!"},{"$error":"#VALUE!"},{"$error":"#VALUE!"},{"$error":"#VALUE!"},{"$error":"#VALUE!"},{"$error":"#VALUE!"},{"$error":"#VALUE!"},{"$error":"#VALUE!"},{"$error":"#VALUE!"}]
[null,{"$error":"#VALUE!"},null,{"$error":"#VALUE!"},{"$error":"#VALUE!"},{"$error":"#VALUE!"},null,{"$error":"#VALUE!"},{"$error":"#VALUE!"},{"$error":"#VALUE!"},null,{"$error":"#VALUE!"},{"$error":"#VALUE!"},{"$error":"#VALUE!"},{"$error":"#VALUE!"},{"$error":"#VALUE!"},{"$error":"#VALUE!"},{"$error":"#VALUE!"},{"$error":"#VALUE!"},{"$error":"#VALUE!"},{"$error":"#VALUE!"},{"$error":"#VALUE!"},{"$error":"#VALUE!"},{"$error":"#VALUE!"},{"$error":"#VALUE!"},{"$error":"#VALUE!"},{"$error":"#VALUE!"},{"$error":"#VALUE!"},{"$error":"#VALUE!"},{"$error":"#VALUE!"},{"$error":"#VALUE!"},{"$error":"#VALUE!"},{"$error":"#VALUE!"},{"$error":"#VALUE!"},{"$error":"#VALUE!"},{"$error":"#VALUE!"},{"$error":"#VALUE!"},{"$error":"#VALUE!"},{"$error":"#VALUE!"},{"$error":"#VALUE!"},{"$error":"#VALUE!"},{"$error":"#VALUE!"},null,{"$error":"#VALUE!"},{"$error":"#VALUE!"},{"$error":"#VALUE!"},null,{"$error":"#VALUE!"},{"$error":"#VALUE!"},{"$error":"#VALUE!"},{"$error":"#VALUE!"},{"$error":"#VALUE!"},{"$error":"#VALUE!"},{"$error":"#VALUE!"},{"$error":"#VALUE!"},{"$error":"#VALUE!"},{"$error":"#VALUE!"},null,{"$error":"#VALUE!"},{"$error":"#VALUE!"},{"$error":"#VALUE!"},null,{"$error":"#VALUE!"},{"$error":"#VALUE!"},{"$error":"#VALUE!"},{"$error":"#VALUE!"},{"$error":"#VALUE!"},{"$error":"#VALUE!"},{"$error":"#VALUE!"},{"$error":"#VALUE!"},{"$error":"#VALUE!"},{"$error":"#VALUE!"},null,{"$error":"#VALUE!"},{"$error":"#VALUE!"},{"$error":"#VALUE!"},null,{"$error":"#VALUE!"},{"$error":"#VALUE!"},{"$error":"#VALUE!"},{"$error":"#VALUE!"},{"$error":"#VALUE!"},{"$error":"#VALUE!"},{"$error":"#VALUE!"},{"$error":"#VALUE!"},{"$error":"#VALUE!"},{"$error":"#VALUE!"},{"$error":"#VALUE!"},{"$error":"#VALUE!"},{"$error":"#VALUE!"},{"$error":"#VALUE!"},{"$error":"#VALUE!"},{"$error":"#VALUE!"},{"$error":"#VALUE!"},{"$error":"#VALUE!"},{"$error":"#VALUE!"},{"$error":"#VALUE!"},{"$error":"#VALUE!"},{"$error":"#VALUE!"},{"$error":"#VALUE!"},{"$error":"#VALUE!"},{"$error":"#VALUE!"},{"$error":"#VALUE!"},{"$error":"#VALUE!"},{"$error":"#VALUE!"},{"$error":"#VALUE!"},{"$error":"#VALUE!"},{"$error":"#VALUE!"},null,{"$error":"#VALUE!"},{"$error":"#VALUE!"},{"$error":"#VALUE!"},null,{"$error":"#VALUE!"},{"$error":"#VALUE!"},{"$error":"#VALUE!"},{"$error":"#VALUE!"},{"$error":"#VALUE!"},{"$error":"#VALUE!"},{"$error":"#VALUE!"},{"$error":"#VALUE!"},{"$error":"#VALUE!"},{"$error":"#VALUE!"}]
[null,{"$error":"#VALUE!"},null,{"$error":"#VALUE!"},{"$error":"#VALUE!"},{"$error":"#VALUE!"},null,{"$error":"#VALUE!"},{"$error":"#VALUE!"},{"$error":"#VALUE!"},null,{"$error":"#VALUE!"},{"$error":"#VALUE!"},{"$error":"#VALUE!"},{"$error":"#VALUE!"},{"$error":"#VALUE!"},{"$error":"#VALUE!"},{"$error":"#VALUE!"},{"$error":"#VALUE!"},{"$error":"#VALUE!"},{"$error":"#VALUE!"},{"$error":"#VALUE!"},{"$error":"#VALUE!"},{"$error":"#VALUE!"},{"$error":"#VALUE!"},{"$error":"#VALUE!"},{"$error":"#VALUE!"},{"$error":"#VALUE!"},{"$error":"#VALUE!"},{"$error":"#VALUE!"},{"$error":"#VALUE!"},{"$error":"#VALUE!"},{"$error":"#VALUE!"},{"$error":"#VALUE!"},{"$error":"#VALUE!"},{"$error":"#VALUE!"},{"$error":"#VALUE!"},{"$error":"#VALUE!"},{"$error":"#VALUE!"},{"$error":"#VALUE!"},{"$error":"#VALUE!"},{"$error":"#VALUE!"},null,{"$error":"#VALUE!"},{"$error":"#VALUE!"},{"$error":"#VALUE!"},null,{"$error":"#VALUE!"},{"$error":"#VALUE!"},{"$error":"#VALUE!"},{"$error":"#VALUE!"},{"$error":"#VALUE!"},{"$error":"#VALUE!"},{"$error":"#VALUE!"},{"$error":"#VALUE!"},{"$error":"#VALUE!"},{"$error":"#VALUE!"},null,{"$error":"#VALUE!"},{"$error":"#VALUE!"},{"$error":"#VALUE!"},null,{"$error":"#VALUE!"},{"$error":"#VALUE!"},{"$error":"#VALUE!"},{"$error":"#VALUE!"},{"$error":"#VALUE!"},{"$error":"#VALUE!"},{"$error":"#VALUE!"},{"$error":"#VALUE!"},{"$error":"#VALUE!"},{"$error":"#VALUE!"},null,{"$error":"#VALUE!"},{"$error":"#VALUE!"},{"$error":"#VALUE!"},null,{"$error":"#VALUE!"},{"$error":"#VALUE!"},{"$error":"#VALUE!"},{"$error":"#VALUE!"},{"$error":"#VALUE!"},{"$error":"#VALUE!"},{"$error":"#VALUE!"},{"$error":"#VALUE!"},{"$error":"#VALUE!"},{"$error":"#VALUE!"},{"$error":"#VALUE!"},{"$error":"#VALUE!"},{"$error":"#VALUE!"},{"$error":"#VALUE!"},{"$error":"#VALUE!"},{"$error":"#VALUE!"},{"$error":"#VALUE!"},{"$error":"#VALUE!"},{"$error":"#VALUE!"},{"$error":"#VALUE!"},{"$error":"#VALUE!"},{"$error":"#VALUE!"},{"$error":"#VALUE!"},{"$error":"#VALUE!"},{"$error":"#VALUE!"},{"$error":"#VALUE!"},{"$error":"#VALUE!"},{"$error":"#VALUE!"},{"$error":"#VALUE!"},{"$error":"#VALUE!"},{"$error":"#VALUE!"},null,{"$error":"#VALUE!"},{"$error":"#VALUE!"},{"$error":"#VALUE!"},null,{"$error":"#VALUE!"},{"$error":"#VALUE!"},{"$error":"#VALUE!"},{"$error":"#VALUE!"},{"$error":"#VALUE!"},{"$error":"#VALUE!"},{"$error":"#VALUE!"},{"$error":"#VALUE!"},{"$error":"#VALUE!"},{"$error":"#VALUE!"}]
[null,{"$error":"#VALUE!"},null,{"$error":"#VALUE!"},{"$error":"#VALUE!"},{"$error":"#VALUE!"},null,{"$error":"#VALUE!"},{"$error":"#VALUE!"},{"$error":"#VALUE!"},null,{"$error":"#VALUE!"},{"$error":"#VALUE!"},{"$error":"#VALUE!"},{"$error":"#VALUE!"},{"$error":"#VALUE!"},{"$error":"#VALUE!"},{"$error":"#VALUE!"},{"$error":"#VALUE!"},{"$error":"#VALUE!"},{"$error":"#VALUE!"},{"$error":"#VALUE!"},{"$error":"#VALUE!"},{"$error":"#VALUE!"},{"$error":"#VALUE!"},{"$error":"#VALUE!"},{"$error":"#VALUE!"},{"$error":"#VALUE!"},{"$f":"IF(AND($B123>=AC$4,$B123<=AC$5),AC$6,0)","v":{"$error":"#VALUE!"}},{"$error":"#VALUE!"},{"$error":"#VALUE!"},{"$error":"#VALUE!"},{"$error":"#VALUE!"},{"$error":"#VALUE!"},{"$error":"#VALUE!"},{"$error":"#VALUE!"},{"$error":"#VALUE!"},{"$error":"#VALUE!"},{"$error":"#VALUE!"},{"$error":"#VALUE!"},{"$error":"#VALUE!"},{"$error":"#VALUE!"},null,{"$error":"#VALUE!"},{"$error":"#VALUE!"},{"$error":"#VALUE!"},null,{"$error":"#VALUE!"},{"$error":"#VALUE!"},{"$error":"#VALUE!"},{"$error":"#VALUE!"},{"$error":"#VALUE!"},{"$error":"#VALUE!"},{"$error":"#VALUE!"},{"$error":"#VALUE!"},{"$error":"#VALUE!"},{"$error":"#VALUE!"},null,{"$error":"#VALUE!"},{"$error":"#VALUE!"},{"$error":"#VALUE!"},null,{"$error":"#VALUE!"},{"$f":"IF(AND($B123>=BL$4,$B123<=BL$5),BL$6,0)","v":{"$error":"#VALUE!"}},{"$error":"#VALUE!"},{"$error":"#VALUE!"},{"$error":"#VALUE!"},{"$error":"#VALUE!"},{"$error":"#VALUE!"},{"$error":"#VALUE!"},{"$error":"#VALUE!"},{"$error":"#VALUE!"},null,{"$error":"#VALUE!"},{"$error":"#VALUE!"},{"$error":"#VALUE!"},null,{"$error":"#VALUE!"},{"$error":"#VALUE!"},{"$error":"#VALUE!"},{"$error":"#VALUE!"},{"$error":"#VALUE!"},{"$error":"#VALUE!"},{"$error":"#VALUE!"},{"$error":"#VALUE!"},{"$error":"#VALUE!"},{"$error":"#VALUE!"},{"$error":"#VALUE!"},{"$error":"#VALUE!"},{"$error":"#VALUE!"},{"$error":"#VALUE!"},{"$error":"#VALUE!"},{"$error":"#VALUE!"},{"$error":"#VALUE!"},{"$f":"IF(AND($B123>=CQ$4,$B123<=CQ$5),CQ$6,0)","v":{"$error":"#VALUE!"}},{"$error":"#VALUE!"},{"$error":"#VALUE!"},{"$error":"#VALUE!"},{"$error":"#VALUE!"},{"$error":"#VALUE!"},{"$error":"#VALUE!"},{"$error":"#VALUE!"},{"$error":"#VALUE!"},{"$error":"#VALUE!"},{"$error":"#VALUE!"},{"$error":"#VALUE!"},{"$error":"#VALUE!"},{"$error":"#VALUE!"},null,{"$error":"#VALUE!"},{"$error":"#VALUE!"},{"$error":"#VALUE!"},null,{"$error":"#VALUE!"},{"$f":"IF(AND($B123>=DK$4,$B123<=DK$5),DK$6,0)","v":{"$error":"#VALUE!"}},{"$error":"#VALUE!"},{"$error":"#VALUE!"},{"$error":"#VALUE!"},{"$error":"#VALUE!"},{"$error":"#VALUE!"},{"$error":"#VALUE!"},{"$error":"#VALUE!"},{"$error":"#VALUE!"}]
[null,{"$error":"#VALUE!"},null,{"$error":"#VALUE!"},{"$error":"#VALUE!"},{"$error":"#VALUE!"},null,{"$error":"#VALUE!"},{"$error":"#VALUE!"},{"$error":"#VALUE!"},null,{"$error":"#VALUE!"},{"$f":"IF(AND($B124>=M$4,$B124<=M$5),M$6,0)","v":{"$error":"#VALUE!"}},{"$error":"#VALUE!"},{"$error":"#VALUE!"},{"$error":"#VALUE!"},{"$error":"#VALUE!"},{"$error":"#VALUE!"},{"$error":"#VALUE!"},{"$error":"#VALUE!"},{"$error":"#VALUE!"},{"$error":"#VALUE!"},{"$error":"#VALUE!"},{"$error":"#VALUE!"},{"$error":"#VALUE!"},{"$error":"#VALUE!"},{"$error":"#VALUE!"},{"$error":"#VALUE!"},{"$error":"#VALUE!"},{"$error":"#VALUE!"},{"$error":"#VALUE!"},{"$error":"#VALUE!"},{"$error":"#VALUE!"},{"$error":"#VALUE!"},{"$error":"#VALUE!"},{"$error":"#VALUE!"},{"$error":"#VALUE!"},{"$error":"#VALUE!"},{"$error":"#VALUE!"},{"$error":"#VALUE!"},{"$error":"#VALUE!"},{"$error":"#VALUE!"},null,{"$error":"#VALUE!"},{"$error":"#VALUE!"},{"$error":"#VALUE!"},null,{"$error":"#VALUE!"},{"$f":"IF(AND($B124>=AW$4,$B124<=AW$5),AW$6,0)","v":{"$error":"#VALUE!"}},{"$error":"#VALUE!"},{"$error":"#VALUE!"},{"$error":"#VALUE!"},{"$error":"#VALUE!"},{"$error":"#VALUE!"},{"$error":"#VALUE!"},{"$error":"#VALUE!"},{"$error":"#VALUE!"},null,{"$error":"#VALUE!"},{"$error":"#VALUE!"},{"$error":"#VALUE!"},null,{"$error":"#VALUE!"},{"$error":"#VALUE!"},{"$error":"#VALUE!"},{"$error":"#VALUE!"},{"$error":"#VALUE!"},{"$error":"#VALUE!"},{"$error":"#VALUE!"},{"$error":"#VALUE!"},{"$error":"#VALUE!"},{"$error":"#VALUE!"},null,{"$error":"#VALUE!"},{"$error":"#VALUE!"},{"$error":"#VALUE!"},null,{"$error":"#VALUE!"},{"$f":"IF(AND($B124>=CA$4,$B124<=CA$5),CA$6,0)","v":{"$error":"#VALUE!"}},{"$error":"#VALUE!"},{"$error":"#VALUE!"},{"$error":"#VALUE!"},{"$error":"#VALUE!"},{"$error":"#VALUE!"},{"$error":"#VALUE!"},{"$error":"#VALUE!"},{"$error":"#VALUE!"},{"$error":"#VALUE!"},{"$error":"#VALUE!"},{"$error":"#VALUE!"},{"$error":"#VALUE!"},{"$error":"#VALUE!"},{"$error":"#VALUE!"},{"$error":"#VALUE!"},{"$error":"#VALUE!"},{"$error":"#VALUE!"},{"$error":"#VALUE!"},{"$error":"#VALUE!"},{"$error":"#VALUE!"},{"$error":"#VALUE!"},{"$error":"#VALUE!"},{"$error":"#VALUE!"},{"$error":"#VALUE!"},{"$error":"#VALUE!"},{"$error":"#VALUE!"},{"$error":"#VALUE!"},{"$error":"#VALUE!"},{"$error":"#VALUE!"},null,{"$error":"#VALUE!"},{"$error":"#VALUE!"},{"$error":"#VALUE!"},null,{"$error":"#VALUE!"},{"$error":"#VALUE!"},{"$error":"#VALUE!"},{"$error":"#VALUE!"},{"$error":"#VALUE!"},{"$error":"#VALUE!"},{"$error":"#VALUE!"},{"$error":"#VALUE!"},{"$error":"#VALUE!"},{"$error":"#VALUE!"}]
[null,{"$error":"#VALUE!"},null,{"$error":"#VALUE!"},{"$error":"#VALUE!"},{"$error":"#VALUE!"},null,{"$error":"#VALUE!"},{"$error":"#VALUE!"},{"$error":"#VALUE!"},null,{"$error":"#VALUE!"},{"$error":"#VALUE!"},{"$error":"#VALUE!"},{"$error":"#VALUE!"},{"$error":"#VALUE!"},{"$error":"#VALUE!"},{"$error":"#VALUE!"},{"$error":"#VALUE!"},{"$error":"#VALUE!"},{"$error":"#VALUE!"},{"$error":"#VALUE!"},{"$error":"#VALUE!"},{"$error":"#VALUE!"},{"$error":"#VALUE!"},{"$error":"#VALUE!"},{"$error":"#VALUE!"},{"$error":"#VALUE!"},{"$error":"#VALUE!"},{"$error":"#VALUE!"},{"$error":"#VALUE!"},{"$error":"#VALUE!"},{"$error":"#VALUE!"},{"$error":"#VALUE!"},{"$error":"#VALUE!"},{"$error":"#VALUE!"},{"$error":"#VALUE!"},{"$error":"#VALUE!"},{"$error":"#VALUE!"},{"$error":"#VALUE!"},{"$error":"#VALUE!"},{"$error":"#VALUE!"},null,{"$error":"#VALUE!"},{"$error":"#VALUE!"},{"$error":"#VALUE!"},null,{"$error":"#VALUE!"},{"$error":"#VALUE!"},{"$error":"#VALUE!"},{"$error":"#VALUE!"},{"$error":"#VALUE!"},{"$error":"#VALUE!"},{"$error":"#VALUE!"},{"$error":"#VALUE!"},{"$error":"#VALUE!"},{"$error":"#VALUE!"},null,{"$error":"#VALUE!"},{"$error":"#VALUE!"},{"$error":"#VALUE!"},null,{"$error":"#VALUE!"},{"$error":"#VALUE!"},{"$error":"#VALUE!"},{"$error":"#VALUE!"},{"$error":"#VALUE!"},{"$error":"#VALUE!"},{"$error":"#VALUE!"},{"$error":"#VALUE!"},{"$error":"#VALUE!"},{"$error":"#VALUE!"},null,{"$error":"#VALUE!"},{"$error":"#VALUE!"},{"$error":"#VALUE!"},null,{"$error":"#VALUE!"},{"$error":"#VALUE!"},{"$error":"#VALUE!"},{"$error":"#VALUE!"},{"$error":"#VALUE!"},{"$error":"#VALUE!"},{"$error":"#VALUE!"},{"$error":"#VALUE!"},{"$error":"#VALUE!"},{"$error":"#VALUE!"},{"$error":"#VALUE!"},{"$error":"#VALUE!"},{"$error":"#VALUE!"},{"$error":"#VALUE!"},{"$error":"#VALUE!"},{"$error":"#VALUE!"},{"$error":"#VALUE!"},{"$error":"#VALUE!"},{"$error":"#VALUE!"},{"$error":"#VALUE!"},{"$error":"#VALUE!"},{"$error":"#VALUE!"},{"$error":"#VALUE!"},{"$error":"#VALUE!"},{"$error":"#VALUE!"},{"$error":"#VALUE!"},{"$error":"#VALUE!"},{"$error":"#VALUE!"},{"$error":"#VALUE!"},{"$error":"#VALUE!"},{"$error":"#VALUE!"},null,{"$error":"#VALUE!"},{"$error":"#VALUE!"},{"$error":"#VALUE!"},null,{"$error":"#VALUE!"},{"$error":"#VALUE!"},{"$error":"#VALUE!"},{"$error":"#VALUE!"},{"$error":"#VALUE!"},{"$error":"#VALUE!"},{"$error":"#VALUE!"},{"$error":"#VALUE!"},{"$error":"#VALUE!"},{"$error":"#VALUE!"}]
[null,{"$error":"#VALUE!"},null,{"$error":"#VALUE!"},{"$error":"#VALUE!"},{"$error":"#VALUE!"},null,{"$error":"#VALUE!"},{"$error":"#VALUE!"},{"$error":"#VALUE!"},null,{"$error":"#VALUE!"},{"$error":"#VALUE!"},{"$error":"#VALUE!"},{"$error":"#VALUE!"},{"$error":"#VALUE!"},{"$error":"#VALUE!"},{"$error":"#VALUE!"},{"$error":"#VALUE!"},{"$error":"#VALUE!"},{"$error":"#VALUE!"},{"$error":"#VALUE!"},{"$error":"#VALUE!"},{"$error":"#VALUE!"},{"$error":"#VALUE!"},{"$error":"#VALUE!"},{"$error":"#VALUE!"},{"$error":"#VALUE!"},{"$error":"#VALUE!"},{"$error":"#VALUE!"},{"$error":"#VALUE!"},{"$error":"#VALUE!"},{"$error":"#VALUE!"},{"$error":"#VALUE!"},{"$error":"#VALUE!"},{"$error":"#VALUE!"},{"$error":"#VALUE!"},{"$error":"#VALUE!"},{"$error":"#VALUE!"},{"$error":"#VALUE!"},{"$error":"#VALUE!"},{"$error":"#VALUE!"},null,{"$error":"#VALUE!"},{"$error":"#VALUE!"},{"$error":"#VALUE!"},null,{"$error":"#VALUE!"},{"$error":"#VALUE!"},{"$error":"#VALUE!"},{"$error":"#VALUE!"},{"$error":"#VALUE!"},{"$error":"#VALUE!"},{"$error":"#VALUE!"},{"$error":"#VALUE!"},{"$error":"#VALUE!"},{"$error":"#VALUE!"},null,{"$error":"#VALUE!"},{"$error":"#VALUE!"},{"$error":"#VALUE!"},null,{"$error":"#VALUE!"},{"$error":"#VALUE!"},{"$error":"#VALUE!"},{"$error":"#VALUE!"},{"$error":"#VALUE!"},{"$error":"#VALUE!"},{"$error":"#VALUE!"},{"$error":"#VALUE!"},{"$error":"#VALUE!"},{"$error":"#VALUE!"},null,{"$error":"#VALUE!"},{"$error":"#VALUE!"},{"$error":"#VALUE!"},null,{"$error":"#VALUE!"},{"$error":"#VALUE!"},{"$error":"#VALUE!"},{"$error":"#VALUE!"},{"$error":"#VALUE!"},{"$error":"#VALUE!"},{"$error":"#VALUE!"},{"$error":"#VALUE!"},{"$error":"#VALUE!"},{"$error":"#VALUE!"},{"$error":"#VALUE!"},{"$error":"#VALUE!"},{"$error":"#VALUE!"},{"$error":"#VALUE!"},{"$error":"#VALUE!"},{"$error":"#VALUE!"},{"$error":"#VALUE!"},{"$error":"#VALUE!"},{"$error":"#VALUE!"},{"$error":"#VALUE!"},{"$error":"#VALUE!"},{"$error":"#VALUE!"},{"$error":"#VALUE!"},{"$error":"#VALUE!"},{"$error":"#VALUE!"},{"$error":"#VALUE!"},{"$error":"#VALUE!"},{"$error":"#VALUE!"},{"$error":"#VALUE!"},{"$error":"#VALUE!"},{"$error":"#VALUE!"},null,{"$error":"#VALUE!"},{"$error":"#VALUE!"},{"$error":"#VALUE!"},null,{"$error":"#VALUE!"},{"$error":"#VALUE!"},{"$error":"#VALUE!"},{"$error":"#VALUE!"},{"$error":"#VALUE!"},{"$error":"#VALUE!"},{"$error":"#VALUE!"},{"$error":"#VALUE!"},{"$error":"#VALUE!"},{"$error":"#VALUE!"}]
[null,{"$error":"#VALUE!"},null,{"$error":"#VALUE!"},{"$error":"#VALUE!"},{"$error":"#VALUE!"},null,{"$error":"#VALUE!"},{"$error":"#VALUE!"},{"$error":"#VALUE!"},null,{"$error":"#VALUE!"},{"$error":"#VALUE!"},{"$error":"#VALUE!"},{"$error":"#VALUE!"},{"$error":"#VALUE!"},{"$error":"#VALUE!"},{"$error":"#VALUE!"},{"$error":"#VALUE!"},{"$error":"#VALUE!"},{"$error":"#VALUE!"},{"$error":"#VALUE!"},{"$error":"#VALUE!"},{"$error":"#VALUE!"},{"$error":"#VALUE!"},{"$error":"#VALUE!"},{"$error":"#VALUE!"},{"$error":"#VALUE!"},{"$error":"#VALUE!"},{"$error":"#VALUE!"},{"$error":"#VALUE!"},{"$error":"#VALUE!"},{"$error":"#VALUE!"},{"$error":"#VALUE!"},{"$error":"#VALUE!"},{"$error":"#VALUE!"},{"$error":"#VALUE!"},{"$error":"#VALUE!"},{"$error":"#VALUE!"},{"$error":"#VALUE!"},{"$error":"#VALUE!"},{"$error":"#VALUE!"},null,{"$error":"#VALUE!"},{"$error":"#VALUE!"},{"$error":"#VALUE!"},null,{"$error":"#VALUE!"},{"$error":"#VALUE!"},{"$error":"#VALUE!"},{"$error":"#VALUE!"},{"$error":"#VALUE!"},{"$error":"#VALUE!"},{"$error":"#VALUE!"},{"$error":"#VALUE!"},{"$error":"#VALUE!"},{"$error":"#VALUE!"},null,{"$error":"#VALUE!"},{"$error":"#VALUE!"},{"$error":"#VALUE!"},null,{"$error":"#VALUE!"},{"$error":"#VALUE!"},{"$error":"#VALUE!"},{"$error":"#VALUE!"},{"$error":"#VALUE!"},{"$error":"#VALUE!"},{"$error":"#VALUE!"},{"$error":"#VALUE!"},{"$error":"#VALUE!"},{"$error":"#VALUE!"},null,{"$error":"#VALUE!"},{"$error":"#VALUE!"},{"$error":"#VALUE!"},null,{"$error":"#VALUE!"},{"$error":"#VALUE!"},{"$error":"#VALUE!"},{"$error":"#VALUE!"},{"$error":"#VALUE!"},{"$error":"#VALUE!"},{"$error":"#VALUE!"},{"$error":"#VALUE!"},{"$error":"#VALUE!"},{"$error":"#VALUE!"},{"$error":"#VALUE!"},{"$error":"#VALUE!"},{"$error":"#VALUE!"},{"$error":"#VALUE!"},{"$error":"#VALUE!"},{"$error":"#VALUE!"},{"$error":"#VALUE!"},{"$error":"#VALUE!"},{"$error":"#VALUE!"},{"$error":"#VALUE!"},{"$error":"#VALUE!"},{"$error":"#VALUE!"},{"$error":"#VALUE!"},{"$error":"#VALUE!"},{"$error":"#VALUE!"},{"$error":"#VALUE!"},{"$error":"#VALUE!"},{"$error":"#VALUE!"},{"$error":"#VALUE!"},{"$error":"#VALUE!"},{"$error":"#VALUE!"},null,{"$error":"#VALUE!"},{"$error":"#VALUE!"},{"$error":"#VALUE!"},null,{"$error":"#VALUE!"},{"$error":"#VALUE!"},{"$error":"#VALUE!"},{"$error":"#VALUE!"},{"$error":"#VALUE!"},{"$error":"#VALUE!"},{"$error":"#VALUE!"},{"$error":"#VALUE!"},{"$error":"#VALUE!"},{"$error":"#VALUE!"}]
[null,{"$error":"#VALUE!"},null,{"$error":"#VALUE!"},{"$error":"#VALUE!"},{"$error":"#VALUE!"},null,{"$error":"#VALUE!"},{"$error":"#VALUE!"},{"$error":"#VALUE!"},null,{"$error":"#VALUE!"},{"$error":"#VALUE!"},{"$error":"#VALUE!"},{"$error":"#VALUE!"},{"$error":"#VALUE!"},{"$error":"#VALUE!"},{"$error":"#VALUE!"},{"$error":"#VALUE!"},{"$error":"#VALUE!"},{"$error":"#VALUE!"},{"$error":"#VALUE!"},{"$error":"#VALUE!"},{"$error":"#VALUE!"},{"$error":"#VALUE!"},{"$error":"#VALUE!"},{"$error":"#VALUE!"},{"$error":"#VALUE!"},{"$error":"#VALUE!"},{"$error":"#VALUE!"},{"$error":"#VALUE!"},{"$error":"#VALUE!"},{"$error":"#VALUE!"},{"$error":"#VALUE!"},{"$error":"#VALUE!"},{"$error":"#VALUE!"},{"$error":"#VALUE!"},{"$error":"#VALUE!"},{"$error":"#VALUE!"},{"$error":"#VALUE!"},{"$error":"#VALUE!"},{"$error":"#VALUE!"},null,{"$error":"#VALUE!"},{"$error":"#VALUE!"},{"$error":"#VALUE!"},null,{"$error":"#VALUE!"},{"$error":"#VALUE!"},{"$error":"#VALUE!"},{"$error":"#VALUE!"},{"$error":"#VALUE!"},{"$error":"#VALUE!"},{"$error":"#VALUE!"},{"$error":"#VALUE!"},{"$error":"#VALUE!"},{"$error":"#VALUE!"},null,{"$error":"#VALUE!"},{"$error":"#VALUE!"},{"$error":"#VALUE!"},null,{"$error":"#VALUE!"},{"$error":"#VALUE!"},{"$error":"#VALUE!"},{"$error":"#VALUE!"},{"$error":"#VALUE!"},{"$error":"#VALUE!"},{"$error":"#VALUE!"},{"$error":"#VALUE!"},{"$error":"#VALUE!"},{"$error":"#VALUE!"},null,{"$error":"#VALUE!"},{"$error":"#VALUE!"},{"$error":"#VALUE!"},null,{"$error":"#VALUE!"},{"$error":"#VALUE!"},{"$error":"#VALUE!"},{"$error":"#VALUE!"},{"$error":"#VALUE!"},{"$error":"#VALUE!"},{"$error":"#VALUE!"},{"$error":"#VALUE!"},{"$error":"#VALUE!"},{"$error":"#VALUE!"},{"$error":"#VALUE!"},{"$error":"#VALUE!"},{"$error":"#VALUE!"},{"$error":"#VALUE!"},{"$error":"#VALUE!"},{"$error":"#VALUE!"},{"$error":"#VALUE!"},{"$error":"#VALUE!"},{"$error":"#VALUE!"},{"$error":"#VALUE!"},{"$error":"#VALUE!"},{"$error":"#VALUE!"},{"$error":"#VALUE!"},{"$error":"#VALUE!"},{"$error":"#VALUE!"},{"$error":"#VALUE!"},{"$error":"#VALUE!"},{"$error":"#VALUE!"},{"$error":"#VALUE!"},{"$error":"#VALUE!"},{"$error":"#VALUE!"},null,{"$error":"#VALUE!"},{"$error":"#VALUE!"},{"$error":"#VALUE!"},null,{"$error":"#VALUE!"},{"$error":"#VALUE!"},{"$error":"#VALUE!"},{"$error":"#VALUE!"},{"$error":"#VALUE!"},{"$error":"#VALUE!"},{"$error":"#VALUE!"},{"$error":"#VALUE!"},{"$error":"#VALUE!"},{"$error":"#VALUE!"}]
[null,{"$error":"#VALUE!"},null,{"$error":"#VALUE!"},{"$error":"#VALUE!"},{"$error":"#VALUE!"},null,{"$error":"#VALUE!"},{"$error":"#VALUE!"},{"$error":"#VALUE!"},null,{"$error":"#VALUE!"},{"$error":"#VALUE!"},{"$error":"#VALUE!"},{"$error":"#VALUE!"},{"$error":"#VALUE!"},{"$error":"#VALUE!"},{"$error":"#VALUE!"},{"$error":"#VALUE!"},{"$error":"#VALUE!"},{"$error":"#VALUE!"},{"$error":"#VALUE!"},{"$error":"#VALUE!"},{"$error":"#VALUE!"},{"$error":"#VALUE!"},{"$error":"#VALUE!"},{"$error":"#VALUE!"},{"$error":"#VALUE!"},{"$error":"#VALUE!"},{"$error":"#VALUE!"},{"$error":"#VALUE!"},{"$error":"#VALUE!"},{"$error":"#VALUE!"},{"$error":"#VALUE!"},{"$error":"#VALUE!"},{"$error":"#VALUE!"},{"$error":"#VALUE!"},{"$error":"#VALUE!"},{"$error":"#VALUE!"},{"$error":"#VALUE!"},{"$error":"#VALUE!"},{"$error":"#VALUE!"},null,{"$error":"#VALUE!"},{"$error":"#VALUE!"},{"$error":"#VALUE!"},null,{"$error":"#VALUE!"},{"$error":"#VALUE!"},{"$error":"#VALUE!"},{"$error":"#VALUE!"},{"$error":"#VALUE!"},{"$error":"#VALUE!"},{"$error":"#VALUE!"},{"$error":"#VALUE!"},{"$error":"#VALUE!"},{"$error":"#VALUE!"},null,{"$error":"#VALUE!"},{"$error":"#VALUE!"},{"$error":"#VALUE!"},null,{"$error":"#VALUE!"},{"$error":"#VALUE!"},{"$error":"#VALUE!"},{"$error":"#VALUE!"},{"$error":"#VALUE!"},{"$error":"#VALUE!"},{"$error":"#VALUE!"},{"$error":"#VALUE!"},{"$error":"#VALUE!"},{"$error":"#VALUE!"},null,{"$error":"#VALUE!"},{"$error":"#VALUE!"},{"$error":"#VALUE!"},null,{"$error":"#VALUE!"},{"$error":"#VALUE!"},{"$error":"#VALUE!"},{"$error":"#VALUE!"},{"$error":"#VALUE!"},{"$error":"#VALUE!"},{"$error":"#VALUE!"},{"$error":"#VALUE!"},{"$error":"#VALUE!"},{"$error":"#VALUE!"},{"$error":"#VALUE!"},{"$error":"#VALUE!"},{"$error":"#VALUE!"},{"$error":"#VALUE!"},{"$error":"#VALUE!"},{"$error":"#VALUE!"},{"$error":"#VALUE!"},{"$error":"#VALUE!"},{"$error":"#VALUE!"},{"$error":"#VALUE!"},{"$error":"#VALUE!"},{"$error":"#VALUE!"},{"$error":"#VALUE!"},{"$error":"#VALUE!"},{"$error":"#VALUE!"},{"$error":"#VALUE!"},{"$error":"#VALUE!"},{"$error":"#VALUE!"},{"$error":"#VALUE!"},{"$error":"#VALUE!"},{"$error":"#VALUE!"},null,{"$error":"#VALUE!"},{"$error":"#VALUE!"},{"$error":"#VALUE!"},null,{"$error":"#VALUE!"},{"$error":"#VALUE!"},{"$error":"#VALUE!"},{"$error":"#VALUE!"},{"$error":"#VALUE!"},{"$error":"#VALUE!"},{"$error":"#VALUE!"},{"$error":"#VALUE!"},{"$error":"#VALUE!"},{"$error":"#VALUE!"}]
[null,{"$error":"#VALUE!"},null,{"$error":"#VALUE!"},{"$error":"#VALUE!"},{"$error":"#VALUE!"},null,{"$error":"#VALUE!"},{"$error":"#VALUE!"},{"$error":"#VALUE!"},null,{"$error":"#VALUE!"},{"$error":"#VALUE!"},{"$error":"#VALUE!"},{"$error":"#VALUE!"},{"$error":"#VALUE!"},{"$error":"#VALUE!"},{"$error":"#VALUE!"},{"$error":"#VALUE!"},{"$error":"#VALUE!"},{"$error":"#VALUE!"},{"$error":"#VALUE!"},{"$error":"#VALUE!"},{"$error":"#VALUE!"},{"$error":"#VALUE!"},{"$error":"#VALUE!"},{"$error":"#VALUE!"},{"$error":"#VALUE!"},{"$error":"#VALUE!"},{"$error":"#VALUE!"},{"$error":"#VALUE!"},{"$error":"#VALUE!"},{"$error":"#VALUE!"},{"$error":"#VALUE!"},{"$error":"#VALUE!"},{"$error":"#VALUE!"},{"$error":"#VALUE!"},{"$error":"#VALUE!"},{"$error":"#VALUE!"},{"$error":"#VALUE!"},{"$error":"#VALUE!"},{"$error":"#VALUE!"},null,{"$error":"#VALUE!"},{"$error":"#VALUE!"},{"$error":"#VALUE!"},null,{"$error":"#VALUE!"},{"$error":"#VALUE!"},{"$error":"#VALUE!"},{"$error":"#VALUE!"},{"$error":"#VALUE!"},{"$error":"#VALUE!"},{"$error":"#VALUE!"},{"$error":"#VALUE!"},{"$error":"#VALUE!"},{"$error":"#VALUE!"},null,{"$error":"#VALUE!"},{"$error":"#VALUE!"},{"$error":"#VALUE!"},null,{"$error":"#VALUE!"},{"$error":"#VALUE!"},{"$error":"#VALUE!"},{"$error":"#VALUE!"},{"$error":"#VALUE!"},{"$error":"#VALUE!"},{"$error":"#VALUE!"},{"$error":"#VALUE!"},{"$error":"#VALUE!"},{"$error":"#VALUE!"},null,{"$error":"#VALUE!"},{"$error":"#VALUE!"},{"$error":"#VALUE!"},null,{"$error":"#VALUE!"},{"$error":"#VALUE!"},{"$error":"#VALUE!"},{"$error":"#VALUE!"},{"$error":"#VALUE!"},{"$error":"#VALUE!"},{"$error":"#VALUE!"},{"$error":"#VALUE!"},{"$error":"#VALUE!"},{"$error":"#VALUE!"},{"$error":"#VALUE!"},{"$error":"#VALUE!"},{"$error":"#VALUE!"},{"$error":"#VALUE!"},{"$error":"#VALUE!"},{"$error":"#VALUE!"},{"$error":"#VALUE!"},{"$error":"#VALUE!"},{"$error":"#VALUE!"},{"$error":"#VALUE!"},{"$error":"#VALUE!"},{"$error":"#VALUE!"},{"$error":"#VALUE!"},{"$error":"#VALUE!"},{"$error":"#VALUE!"},{"$error":"#VALUE!"},{"$error":"#VALUE!"},{"$error":"#VALUE!"},{"$error":"#VALUE!"},{"$error":"#VALUE!"},{"$error":"#VALUE!"},null,{"$error":"#VALUE!"},{"$error":"#VALUE!"},{"$error":"#VALUE!"},null,{"$error":"#VALUE!"},{"$error":"#VALUE!"},{"$error":"#VALUE!"},{"$error":"#VALUE!"},{"$error":"#VALUE!"},{"$error":"#VALUE!"},{"$error":"#VALUE!"},{"$error":"#VALUE!"},{"$error":"#VALUE!"},{"$error":"#VALUE!"}]
[null,{"$error":"#VALUE!"},null,{"$error":"#VALUE!"},{"$error":"#VALUE!"},{"$error":"#VALUE!"},null,{"$error":"#VALUE!"},{"$error":"#VALUE!"},{"$error":"#VALUE!"},null,{"$error":"#VALUE!"},{"$error":"#VALUE!"},{"$error":"#VALUE!"},{"$error":"#VALUE!"},{"$error":"#VALUE!"},{"$error":"#VALUE!"},{"$error":"#VALUE!"},{"$error":"#VALUE!"},{"$error":"#VALUE!"},{"$error":"#VALUE!"},{"$error":"#VALUE!"},{"$error":"#VALUE!"},{"$error":"#VALUE!"},{"$error":"#VALUE!"},{"$error":"#VALUE!"},{"$error":"#VALUE!"},{"$error":"#VALUE!"},{"$error":"#VALUE!"},{"$error":"#VALUE!"},{"$error":"#VALUE!"},{"$error":"#VALUE!"},{"$error":"#VALUE!"},{"$error":"#VALUE!"},{"$error":"#VALUE!"},{"$error":"#VALUE!"},{"$error":"#VALUE!"},{"$error":"#VALUE!"},{"$error":"#VALUE!"},{"$error":"#VALUE!"},{"$error":"#VALUE!"},{"$error":"#VALUE!"},null,{"$error":"#VALUE!"},{"$error":"#VALUE!"},{"$error":"#VALUE!"},null,{"$error":"#VALUE!"},{"$error":"#VALUE!"},{"$error":"#VALUE!"},{"$error":"#VALUE!"},{"$error":"#VALUE!"},{"$error":"#VALUE!"},{"$error":"#VALUE!"},{"$error":"#VALUE!"},{"$error":"#VALUE!"},{"$error":"#VALUE!"},null,{"$error":"#VALUE!"},{"$error":"#VALUE!"},{"$error":"#VALUE!"},null,{"$error":"#VALUE!"},{"$error":"#VALUE!"},{"$error":"#VALUE!"},{"$error":"#VALUE!"},{"$error":"#VALUE!"},{"$error":"#VALUE!"},{"$error":"#VALUE!"},{"$error":"#VALUE!"},{"$error":"#VALUE!"},{"$error":"#VALUE!"},null,{"$error":"#VALUE!"},{"$error":"#VALUE!"},{"$error":"#VALUE!"},null,{"$error":"#VALUE!"},{"$error":"#VALUE!"},{"$error":"#VALUE!"},{"$error":"#VALUE!"},{"$error":"#VALUE!"},{"$error":"#VALUE!"},{"$error":"#VALUE!"},{"$error":"#VALUE!"},{"$error":"#VALUE!"},{"$error":"#VALUE!"},{"$error":"#VALUE!"},{"$error":"#VALUE!"},{"$error":"#VALUE!"},{"$error":"#VALUE!"},{"$error":"#VALUE!"},{"$error":"#VALUE!"},{"$error":"#VALUE!"},{"$error":"#VALUE!"},{"$error":"#VALUE!"},{"$error":"#VALUE!"},{"$error":"#VALUE!"},{"$error":"#VALUE!"},{"$error":"#VALUE!"},{"$error":"#VALUE!"},{"$error":"#VALUE!"},{"$error":"#VALUE!"},{"$error":"#VALUE!"},{"$error":"#VALUE!"},{"$error":"#VALUE!"},{"$error":"#VALUE!"},{"$error":"#VALUE!"},null,{"$error":"#VALUE!"},{"$error":"#VALUE!"},{"$error":"#VALUE!"},null,{"$error":"#VALUE!"},{"$error":"#VALUE!"},{"$error":"#VALUE!"},{"$error":"#VALUE!"},{"$error":"#VALUE!"},{"$error":"#VALUE!"},{"$error":"#VALUE!"},{"$error":"#VALUE!"},{"$error":"#VALUE!"},{"$error":"#VALUE!"}]
[null,{"$error":"#VALUE!"},null,{"$error":"#VALUE!"},{"$error":"#VALUE!"},{"$error":"#VALUE!"},null,{"$error":"#VALUE!"},{"$error":"#VALUE!"},{"$error":"#VALUE!"},null,{"$error":"#VALUE!"},{"$error":"#VALUE!"},{"$error":"#VALUE!"},{"$error":"#VALUE!"},{"$error":"#VALUE!"},{"$error":"#VALUE!"},{"$error":"#VALUE!"},{"$error":"#VALUE!"},{"$error":"#VALUE!"},{"$error":"#VALUE!"},{"$error":"#VALUE!"},{"$error":"#VALUE!"},{"$error":"#VALUE!"},{"$error":"#VALUE!"},{"$error":"#VALUE!"},{"$error":"#VALUE!"},{"$error":"#VALUE!"},{"$error":"#VALUE!"},{"$error":"#VALUE!"},{"$error":"#VALUE!"},{"$error":"#VALUE!"},{"$error":"#VALUE!"},{"$error":"#VALUE!"},{"$error":"#VALUE!"},{"$error":"#VALUE!"},{"$error":"#VALUE!"},{"$error":"#VALUE!"},{"$error":"#VALUE!"},{"$error":"#VALUE!"},{"$error":"#VALUE!"},{"$error":"#VALUE!"},null,{"$error":"#VALUE!"},{"$error":"#VALUE!"},{"$error":"#VALUE!"},null,{"$error":"#VALUE!"},{"$error":"#VALUE!"},{"$error":"#VALUE!"},{"$error":"#VALUE!"},{"$error":"#VALUE!"},{"$error":"#VALUE!"},{"$error":"#VALUE!"},{"$error":"#VALUE!"},{"$error":"#VALUE!"},{"$error":"#VALUE!"},null,{"$error":"#VALUE!"},{"$error":"#VALUE!"},{"$error":"#VALUE!"},null,{"$error":"#VALUE!"},{"$error":"#VALUE!"},{"$error":"#VALUE!"},{"$error":"#VALUE!"},{"$error":"#VALUE!"},{"$error":"#VALUE!"},{"$error":"#VALUE!"},{"$error":"#VALUE!"},{"$error":"#VALUE!"},{"$error":"#VALUE!"},null,{"$error":"#VALUE!"},{"$error":"#VALUE!"},{"$error":"#VALUE!"},null,{"$error":"#VALUE!"},{"$error":"#VALUE!"},{"$error":"#VALUE!"},{"$error":"#VALUE!"},{"$error":"#VALUE!"},{"$error":"#VALUE!"},{"$error":"#VALUE!"},{"$error":"#VALUE!"},{"$error":"#VALUE!"},{"$error":"#VALUE!"},{"$error":"#VALUE!"},{"$error":"#VALUE!"},{"$error":"#VALUE!"},{"$error":"#VALUE!"},{"$error":"#VALUE!"},{"$error":"#VALUE!"},{"$error":"#VALUE!"},{"$error":"#VALUE!"},{"$error":"#VALUE!"},{"$error":"#VALUE!"},{"$error":"#VALUE!"},{"$error":"#VALUE!"},{"$error":"#VALUE!"},{"$error":"#VALUE!"},{"$error":"#VALUE!"},{"$error":"#VALUE!"},{"$error":"#VALUE!"},{"$error":"#VALUE!"},{"$error":"#VALUE!"},{"$error":"#VALUE!"},{"$error":"#VALUE!"},null,{"$error":"#VALUE!"},{"$error":"#VALUE!"},{"$error":"#VALUE!"},null,{"$error":"#VALUE!"},{"$error":"#VALUE!"},{"$error":"#VALUE!"},{"$error":"#VALUE!"},{"$error":"#VALUE!"},{"$error":"#VALUE!"},{"$error":"#VALUE!"},{"$error":"#VALUE!"},{"$error":"#VALUE!"},{"$error":"#VALUE!"}]
[null,{"$error":"#VALUE!"},null,{"$error":"#VALUE!"},{"$error":"#VALUE!"},{"$error":"#VALUE!"},null,{"$error":"#VALUE!"},{"$error":"#VALUE!"},{"$error":"#VALUE!"},null,{"$error":"#VALUE!"},{"$error":"#VALUE!"},{"$error":"#VALUE!"},{"$error":"#VALUE!"},{"$error":"#VALUE!"},{"$error":"#VALUE!"},{"$error":"#VALUE!"},{"$error":"#VALUE!"},{"$error":"#VALUE!"},{"$error":"#VALUE!"},{"$error":"#VALUE!"},{"$error":"#VALUE!"},{"$error":"#VALUE!"},{"$error":"#VALUE!"},{"$error":"#VALUE!"},{"$error":"#VALUE!"},{"$error":"#VALUE!"},{"$error":"#VALUE!"},{"$error":"#VALUE!"},{"$error":"#VALUE!"},{"$error":"#VALUE!"},{"$error":"#VALUE!"},{"$error":"#VALUE!"},{"$error":"#VALUE!"},{"$error":"#VALUE!"},{"$error":"#VALUE!"},{"$error":"#VALUE!"},{"$error":"#VALUE!"},{"$error":"#VALUE!"},{"$error":"#VALUE!"},{"$error":"#VALUE!"},null,{"$error":"#VALUE!"},{"$error":"#VALUE!"},{"$error":"#VALUE!"},null,{"$error":"#VALUE!"},{"$error":"#VALUE!"},{"$error":"#VALUE!"},{"$error":"#VALUE!"},{"$error":"#VALUE!"},{"$error":"#VALUE!"},{"$error":"#VALUE!"},{"$error":"#VALUE!"},{"$error":"#VALUE!"},{"$error":"#VALUE!"},null,{"$error":"#VALUE!"},{"$error":"#VALUE!"},{"$error":"#VALUE!"},null,{"$error":"#VALUE!"},{"$error":"#VALUE!"},{"$error":"#VALUE!"},{"$error":"#VALUE!"},{"$error":"#VALUE!"},{"$error":"#VALUE!"},{"$error":"#VALUE!"},{"$error":"#VALUE!"},{"$error":"#VALUE!"},{"$error":"#VALUE!"},null,{"$error":"#VALUE!"},{"$error":"#VALUE!"},{"$error":"#VALUE!"},null,{"$error":"#VALUE!"},{"$error":"#VALUE!"},{"$error":"#VALUE!"},{"$error":"#VALUE!"},{"$error":"#VALUE!"},{"$error":"#VALUE!"},{"$error":"#VALUE!"},{"$error":"#VALUE!"},{"$error":"#VALUE!"},{"$error":"#VALUE!"},{"$error":"#VALUE!"},{"$error":"#VALUE!"},{"$error":"#VALUE!"},{"$error":"#VALUE!"},{"$error":"#VALUE!"},{"$error":"#VALUE!"},{"$error":"#VALUE!"},{"$error":"#VALUE!"},{"$error":"#VALUE!"},{"$error":"#VALUE!"},{"$error":"#VALUE!"},{"$error":"#VALUE!"},{"$error":"#VALUE!"},{"$error":"#VALUE!"},{"$error":"#VALUE!"},{"$error":"#VALUE!"},{"$error":"#VALUE!"},{"$error":"#VALUE!"},{"$error":"#VALUE!"},{"$error":"#VALUE!"},{"$error":"#VALUE!"},null,{"$error":"#VALUE!"},{"$error":"#VALUE!"},{"$error":"#VALUE!"},null,{"$error":"#VALUE!"},{"$error":"#VALUE!"},{"$error":"#VALUE!"},{"$error":"#VALUE!"},{"$error":"#VALUE!"},{"$error":"#VALUE!"},{"$error":"#VALUE!"},{"$error":"#VALUE!"},{"$error":"#VALUE!"},{"$error":"#VALUE!"}]
[null,{"$error":"#VALUE!"},null,{"$error":"#VALUE!"},{"$error":"#VALUE!"},{"$error":"#VALUE!"},null,{"$error":"#VALUE!"},{"$error":"#VALUE!"},{"$error":"#VALUE!"},null,{"$error":"#VALUE!"},{"$error":"#VALUE!"},{"$error":"#VALUE!"},{"$error":"#VALUE!"},{"$error":"#VALUE!"},{"$error":"#VALUE!"},{"$error":"#VALUE!"},{"$error":"#VALUE!"},{"$error":"#VALUE!"},{"$error":"#VALUE!"},{"$error":"#VALUE!"},{"$error":"#VALUE!"},{"$error":"#VALUE!"},{"$error":"#VALUE!"},{"$error":"#VALUE!"},{"$error":"#VALUE!"},{"$error":"#VALUE!"},{"$error":"#VALUE!"},{"$error":"#VALUE!"},{"$error":"#VALUE!"},{"$error":"#VALUE!"},{"$error":"#VALUE!"},{"$error":"#VALUE!"},{"$error":"#VALUE!"},{"$error":"#VALUE!"},{"$error":"#VALUE!"},{"$error":"#VALUE!"},{"$error":"#VALUE!"},{"$error":"#VALUE!"},{"$error":"#VALUE!"},{"$error":"#VALUE!"},null,{"$error":"#VALUE!"},{"$error":"#VALUE!"},{"$error":"#VALUE!"},null,{"$error":"#VALUE!"},{"$error":"#VALUE!"},{"$error":"#VALUE!"},{"$error":"#VALUE!"},{"$error":"#VALUE!"},{"$error":"#VALUE!"},{"$error":"#VALUE!"},{"$error":"#VALUE!"},{"$error":"#VALUE!"},{"$error":"#VALUE!"},null,{"$error":"#VALUE!"},{"$error":"#VALUE!"},{"$error":"#VALUE!"},null,{"$error":"#VALUE!"},{"$error":"#VALUE!"},{"$error":"#VALUE!"},{"$error":"#VALUE!"},{"$error":"#VALUE!"},{"$error":"#VALUE!"},{"$error":"#VALUE!"},{"$error":"#VALUE!"},{"$error":"#VALUE!"},{"$error":"#VALUE!"},null,{"$error":"#VALUE!"},{"$error":"#VALUE!"},{"$error":"#VALUE!"},null,{"$error":"#VALUE!"},{"$error":"#VALUE!"},{"$error":"#VALUE!"},{"$error":"#VALUE!"},{"$error":"#VALUE!"},{"$error":"#VALUE!"},{"$error":"#VALUE!"},{"$error":"#VALUE!"},{"$error":"#VALUE!"},{"$error":"#VALUE!"},{"$error":"#VALUE!"},{"$error":"#VALUE!"},{"$error":"#VALUE!"},{"$error":"#VALUE!"},{"$error":"#VALUE!"},{"$error":"#VALUE!"},{"$error":"#VALUE!"},{"$error":"#VALUE!"},{"$error":"#VALUE!"},{"$error":"#VALUE!"},{"$error":"#VALUE!"},{"$error":"#VALUE!"},{"$error":"#VALUE!"},{"$error":"#VALUE!"},{"$error":"#VALUE!"},{"$error":"#VALUE!"},{"$error":"#VALUE!"},{"$error":"#VALUE!"},{"$error":"#VALUE!"},{"$error":"#VALUE!"},{"$error":"#VALUE!"},null,{"$error":"#VALUE!"},{"$error":"#VALUE!"},{"$error":"#VALUE!"},null,{"$error":"#VALUE!"},{"$error":"#VALUE!"},{"$error":"#VALUE!"},{"$error":"#VALUE!"},{"$error":"#VALUE!"},{"$error":"#VALUE!"},{"$error":"#VALUE!"},{"$error":"#VALUE!"},{"$error":"#VALUE!"},{"$error":"#VALUE!"}]
[null,{"$f":"DATE(YEAR(B134),MONTH(B134)+1,DAY(B134))","v":{"$error":"#VALUE!"}},null,{"$error":"#VALUE!"},{"$error":"#VALUE!"},{"$error":"#VALUE!"},null,{"$error":"#VALUE!"},{"$error":"#VALUE!"},{"$error":"#VALUE!"},null,{"$error":"#VALUE!"},{"$error":"#VALUE!"},{"$error":"#VALUE!"},{"$error":"#VALUE!"},{"$error":"#VALUE!"},{"$error":"#VALUE!"},{"$error":"#VALUE!"},{"$error":"#VALUE!"},{"$error":"#VALUE!"},{"$error":"#VALUE!"},{"$error":"#VALUE!"},{"$error":"#VALUE!"},{"$error":"#VALUE!"},{"$error":"#VALUE!"},{"$error":"#VALUE!"},{"$error":"#VALUE!"},{"$error":"#VALUE!"},{"$error":"#VALUE!"},{"$error":"#VALUE!"},{"$error":"#VALUE!"},{"$error":"#VALUE!"},{"$error":"#VALUE!"},{"$error":"#VALUE!"},{"$error":"#VALUE!"},{"$error":"#VALUE!"},{"$error":"#VALUE!"},{"$error":"#VALUE!"},{"$error":"#VALUE!"},{"$error":"#VALUE!"},{"$error":"#VALUE!"},{"$error":"#VALUE!"},null,{"$error":"#VALUE!"},{"$error":"#VALUE!"},{"$error":"#VALUE!"},null,{"$error":"#VALUE!"},{"$error":"#VALUE!"},{"$error":"#VALUE!"},{"$error":"#VALUE!"},{"$error":"#VALUE!"},{"$error":"#VALUE!"},{"$error":"#VALUE!"},{"$error":"#VALUE!"},{"$error":"#VALUE!"},{"$error":"#VALUE!"},null,{"$error":"#VALUE!"},{"$error":"#VALUE!"},{"$error":"#VALUE!"},null,{"$error":"#VALUE!"},{"$error":"#VALUE!"},{"$error":"#VALUE!"},{"$error":"#VALUE!"},{"$error":"#VALUE!"},{"$error":"#VALUE!"},{"$error":"#VALUE!"},{"$error":"#VALUE!"},{"$error":"#VALUE!"},{"$error":"#VALUE!"},null,{"$error":"#VALUE!"},{"$error":"#VALUE!"},{"$error":"#VALUE!"},null,{"$error":"#VALUE!"},{"$error":"#VALUE!"},{"$error":"#VALUE!"},{"$error":"#VALUE!"},{"$error":"#VALUE!"},{"$error":"#VALUE!"},{"$error":"#VALUE!"},{"$error":"#VALUE!"},{"$error":"#VALUE!"},{"$error":"#VALUE!"},{"$error":"#VALUE!"},{"$error":"#VALUE!"},{"$error":"#VALUE!"},{"$error":"#VALUE!"},{"$error":"#VALUE!"},{"$error":"#VALUE!"},{"$error":"#VALUE!"},{"$error":"#VALUE!"},{"$error":"#VALUE!"},{"$error":"#VALUE!"},{"$error":"#VALUE!"},{"$error":"#VALUE!"},{"$error":"#VALUE!"},{"$error":"#VALUE!"},{"$error":"#VALUE!"},{"$error":"#VALUE!"},{"$error":"#VALUE!"},{"$error":"#VALUE!"},{"$error":"#VALUE!"},{"$error":"#VALUE!"},{"$error":"#VALUE!"},null,{"$error":"#VALUE!"},{"$error":"#VALUE!"},{"$error":"#VALUE!"},null,{"$error":"#VALUE!"},{"$error":"#VALUE!"},{"$error":"#VALUE!"},{"$error":"#VALUE!"},{"$error":"#VALUE!"},{"$error":"#VALUE!"},{"$error":"#VALUE!"},{"$error":"#VALUE!"},{"$error":"#VALUE!"},{"$error":"#VALUE!"}]
[null,{"$f":"DATE(YEAR(B135),MONTH(B135)+1,DAY(B135))","v":{"$error":"#VALUE!"}},null,{"$error":"#VALUE!"},{"$error":"#VALUE!"},{"$error":"#VALUE!"},null,{"$error":"#VALUE!"},{"$error":"#VALUE!"},{"$error":"#VALUE!"},null,{"$error":"#VALUE!"},{"$error":"#VALUE!"},{"$error":"#VALUE!"},{"$error":"#VALUE!"},{"$error":"#VALUE!"},{"$error":"#VALUE!"},{"$error":"#VALUE!"},{"$error":"#VALUE!"},{"$error":"#VALUE!"},{"$error":"#VALUE!"},{"$error":"#VALUE!"},{"$error":"#VALUE!"},{"$error":"#VALUE!"},{"$error":"#VALUE!"},{"$error":"#VALUE!"},{"$error":"#VALUE!"},{"$error":"#VALUE!"},{"$error":"#VALUE!"},{"$error":"#VALUE!"},{"$error":"#VALUE!"},{"$error":"#VALUE!"},{"$error":"#VALUE!"},{"$error":"#VALUE!"},{"$error":"#VALUE!"},{"$error":"#VALUE!"},{"$error":"#VALUE!"},{"$error":"#VALUE!"},{"$error":"#VALUE!"},{"$error":"#VALUE!"},{"$error":"#VALUE!"},{"$error":"#VALUE!"},null,{"$error":"#VALUE!"},{"$error":"#VALUE!"},{"$error":"#VALUE!"},null,{"$error":"#VALUE!"},{"$error":"#VALUE!"},{"$error":"#VALUE!"},{"$error":"#VALUE!"},{"$error":"#VALUE!"},{"$error":"#VALUE!"},{"$error":"#VALUE!"},{"$error":"#VALUE!"},{"$error":"#VALUE!"},{"$error":"#VALUE!"},null,{"$error":"#VALUE!"},{"$error":"#VALUE!"},{"$error":"#VALUE!"},null,{"$error":"#VALUE!"},{"$error":"#VALUE!"},{"$error":"#VALUE!"},{"$error":"#VALUE!"},{"$error":"#VALUE!"},{"$error":"#VALUE!"},{"$error":"#VALUE!"},{"$error":"#VALUE!"},{"$error":"#VALUE!"},{"$error":"#VALUE!"},null,{"$error":"#VALUE!"},{"$error":"#VALUE!"},{"$error":"#VALUE!"},null,{"$error":"#VALUE!"},{"$error":"#VALUE!"},{"$error":"#VALUE!"},{"$error":"#VALUE!"},{"$error":"#VALUE!"},{"$error":"#VALUE!"},{"$error":"#VALUE!"},{"$error":"#VALUE!"},{"$error":"#VALUE!"},{"$error":"#VALUE!"},{"$error":"#VALUE!"},{"$error":"#VALUE!"},{"$error":"#VALUE!"},{"$error":"#VALUE!"},{"$error":"#VALUE!"},{"$error":"#VALUE!"},{"$error":"#VALUE!"},{"$error":"#VALUE!"},{"$error":"#VALUE!"},{"$error":"#VALUE!"},{"$error":"#VALUE!"},{"$error":"#VALUE!"},{"$error":"#VALUE!"},{"$error":"#VALUE!"},{"$error":"#VALUE!"},{"$error":"#VALUE!"},{"$error":"#VALUE!"},{"$error":"#VALUE!"},{"$error":"#VALUE!"},{"$error":"#VALUE!"},{"$error":"#VALUE!"},null,{"$error":"#VALUE!"},{"$error":"#VALUE!"},{"$error":"#VALUE!"},null,{"$error":"#VALUE!"},{"$error":"#VALUE!"},{"$error":"#VALUE!"},{"$error":"#VALUE!"},{"$error":"#VALUE!"},{"$error":"#VALUE!"},{"$error":"#VALUE!"},{"$error":"#VALUE!"},{"$error":"#VALUE!"},{"$error":"#VALUE!"}]
[null,{"$f":"DATE(YEAR(B136),MONTH(B136)+1,DAY(B136))","v":{"$error":"#VALUE!"}},null,{"$error":"#VALUE!"},{"$error":"#VALUE!"},{"$error":"#VALUE!"},null,{"$error":"#VALUE!"},{"$error":"#VALUE!"},{"$error":"#VALUE!"},null,{"$error":"#VALUE!"},{"$error":"#VALUE!"},{"$error":"#VALUE!"},{"$error":"#VALUE!"},{"$error":"#VALUE!"},{"$error":"#VALUE!"},{"$error":"#VALUE!"},{"$error":"#VALUE!"},{"$error":"#VALUE!"},{"$error":"#VALUE!"},{"$error":"#VALUE!"},{"$error":"#VALUE!"},{"$error":"#VALUE!"},{"$error":"#VALUE!"},{"$error":"#VALUE!"},{"$error":"#VALUE!"},{"$error":"#VALUE!"},{"$error":"#VALUE!"},{"$error":"#VALUE!"},{"$error":"#VALUE!"},{"$error":"#VALUE!"},{"$error":"#VALUE!"},{"$error":"#VALUE!"},{"$error":"#VALUE!"},{"$error":"#VALUE!"},{"$error":"#VALUE!"},{"$error":"#VALUE!"},{"$error":"#VALUE!"},{"$error":"#VALUE!"},{"$error":"#VALUE!"},{"$error":"#VALUE!"},null,{"$error":"#VALUE!"},{"$error":"#VALUE!"},{"$error":"#VALUE!"},null,{"$error":"#VALUE!"},{"$error":"#VALUE!"},{"$error":"#VALUE!"},{"$error":"#VALUE!"},{"$error":"#VALUE!"},{"$error":"#VALUE!"},{"$error":"#VALUE!"},{"$error":"#VALUE!"},{"$error":"#VALUE!"},{"$error":"#VALUE!"},null,{"$error":"#VALUE!"},{"$error":"#VALUE!"},{"$error":"#VALUE!"},null,{"$error":"#VALUE!"},{"$error":"#VALUE!"},{"$error":"#VALUE!"},{"$error":"#VALUE!"},{"$error":"#VALUE!"},{"$error":"#VALUE!"},{"$error":"#VALUE!"},{"$error":"#VALUE!"},{"$error":"#VALUE!"},{"$error":"#VALUE!"},null,{"$error":"#VALUE!"},{"$error":"#VALUE!"},{"$error":"#VALUE!"},null,{"$error":"#VALUE!"},{"$error":"#VALUE!"},{"$error":"#VALUE!"},{"$error":"#VALUE!"},{"$error":"#VALUE!"},{"$error":"#VALUE!"},{"$error":"#VALUE!"},{"$error":"#VALUE!"},{"$error":"#VALUE!"},{"$error":"#VALUE!"},{"$error":"#VALUE!"},{"$error":"#VALUE!"},{"$error":"#VALUE!"},{"$error":"#VALUE!"},{"$error":"#VALUE!"},{"$error":"#VALUE!"},{"$error":"#VALUE!"},{"$error":"#VALUE!"},{"$error":"#VALUE!"},{"$error":"#VALUE!"},{"$error":"#VALUE!"},{"$error":"#VALUE!"},{"$error":"#VALUE!"},{"$error":"#VALUE!"},{"$error":"#VALUE!"},{"$error":"#VALUE!"},{"$error":"#VALUE!"},{"$error":"#VALUE!"},{"$error":"#VALUE!"},{"$error":"#VALUE!"},{"$error":"#VALUE!"},null,{"$error":"#VALUE!"},{"$error":"#VALUE!"},{"$error":"#VALUE!"},null,{"$error":"#VALUE!"},{"$error":"#VALUE!"},{"$error":"#VALUE!"},{"$error":"#VALUE!"},{"$error":"#VALUE!"},{"$error":"#VALUE!"},{"$error":"#VALUE!"},{"$error":"#VALUE!"},{"$error":"#VALUE!"},{"$error":"#VALUE!"}]
[null,{"$error":"#VALUE!"},null,{"$error":"#VALUE!"},{"$error":"#VALUE!"},{"$error":"#VALUE!"},null,{"$error":"#VALUE!"},{"$error":"#VALUE!"},{"$error":"#VALUE!"},null,{"$error":"#VALUE!"},{"$error":"#VALUE!"},{"$error":"#VALUE!"},{"$error":"#VALUE!"},{"$error":"#VALUE!"},{"$error":"#VALUE!"},{"$error":"#VALUE!"},{"$error":"#VALUE!"},{"$error":"#VALUE!"},{"$error":"#VALUE!"},{"$error":"#VALUE!"},{"$error":"#VALUE!"},{"$error":"#VALUE!"},{"$error":"#VALUE!"},{"$error":"#VALUE!"},{"$error":"#VALUE!"},{"$error":"#VALUE!"},{"$error":"#VALUE!"},{"$error":"#VALUE!"},{"$error":"#VALUE!"},{"$error":"#VALUE!"},{"$error":"#VALUE!"},{"$error":"#VALUE!"},{"$error":"#VALUE!"},{"$error":"#VALUE!"},{"$error":"#VALUE!"},{"$error":"#VALUE!"},{"$error":"#VALUE!"},{"$error":"#VALUE!"},{"$error":"#VALUE!"},{"$error":"#VALUE!"},null,{"$error":"#VALUE!"},{"$error":"#VALUE!"},{"$error":"#VALUE!"},null,{"$error":"#VALUE!"},{"$error":"#VALUE!"},{"$error":"#VALUE!"},{"$error":"#VALUE!"},{"$error":"#VALUE!"},{"$error":"#VALUE!"},{"$error":"#VALUE!"},{"$error":"#VALUE!"},{"$error":"#VALUE!"},{"$error":"#VALUE!"},null,{"$error":"#VALUE!"},{"$error":"#VALUE!"},{"$error":"#VALUE!"},null,{"$error":"#VALUE!"},{"$error":"#VALUE!"},{"$error":"#VALUE!"},{"$error":"#VALUE!"},{"$error":"#VALUE!"},{"$error":"#VALUE!"},{"$error":"#VALUE!"},{"$error":"#VALUE!"},{"$error":"#VALUE!"},{"$error":"#VALUE!"},null,{"$error":"#VALUE!"},{"$error":"#VALUE!"},{"$error":"#VALUE!"},null,{"$error":"#VALUE!"},{"$error":"#VALUE!"},{"$error":"#VALUE!"},{"$error":"#VALUE!"},{"$error":"#VALUE!"},{"$error":"#VALUE!"},{"$error":"#VALUE!"},{"$error":"#VALUE!"},{"$error":"#VALUE!"},{"$error":"#VALUE!"},{"$error":"#VALUE!"},{"$error":"#VALUE!"},{"$error":"#VALUE!"},{"$error":"#VALUE!"},{"$error":"#VALUE!"},{"$error":"#VALUE!"},{"$error":"#VALUE!"},{"$error":"#VALUE!"},{"$error":"#VALUE!"},{"$error":"#VALUE!"},{"$error":"#VALUE!"},{"$error":"#VALUE!"},{"$error":"#VALUE!"},{"$error":"#VALUE!"},{"$error":"#VALUE!"},{"$error":"#VALUE!"},{"$error":"#VALUE!"},{"$error":"#VALUE!"},{"$error":"#VALUE!"},{"$error":"#VALUE!"},{"$error":"#VALUE!"},null,{"$error":"#VALUE!"},{"$error":"#VALUE!"},{"$error":"#VALUE!"},null,{"$error":"#VALUE!"},{"$error":"#VALUE!"},{"$error":"#VALUE!"},{"$error":"#VALUE!"},{"$error":"#VALUE!"},{"$error":"#VALUE!"},{"$error":"#VALUE!"},{"$error":"#VALUE!"},{"$error":"#VALUE!"},{"$error":"#VALUE!"}]
[null,{"$error":"#VALUE!"},null,{"$error":"#VALUE!"},{"$error":"#VALUE!"},{"$error":"#VALUE!"},null,{"$error":"#VALUE!"},{"$error":"#VALUE!"},{"$error":"#VALUE!"},null,{"$error":"#VALUE!"},{"$error":"#VALUE!"},{"$error":"#VALUE!"},{"$error":"#VALUE!"},{"$error":"#VALUE!"},{"$error":"#VALUE!"},{"$error":"#VALUE!"},{"$error":"#VALUE!"},{"$error":"#VALUE!"},{"$error":"#VALUE!"},{"$error":"#VALUE!"},{"$error":"#VALUE!"},{"$error":"#VALUE!"},{"$error":"#VALUE!"},{"$error":"#VALUE!"},{"$error":"#VALUE!"},{"$f":"IF(AND($B139>=AB$4,$B139<=AB$5),AB$6,0)","v":{"$error":"#VALUE!"}},{"$error":"#VALUE!"},{"$error":"#VALUE!"},{"$error":"#VALUE!"},{"$error":"#VALUE!"},{"$error":"#VALUE!"},{"$error":"#VALUE!"},{"$error":"#VALUE!"},{"$error":"#VALUE!"},{"$error":"#VALUE!"},{"$error":"#VALUE!"},{"$error":"#VALUE!"},{"$error":"#VALUE!"},{"$error":"#VALUE!"},{"$error":"#VALUE!"},null,{"$f":"SUM(AW139:BE139)","v":{"$error":"#VALUE!"}},{"$error":"#VALUE!"},{"$error":"#VALUE!"},null,{"$error":"#VALUE!"},{"$error":"#VALUE!"},{"$error":"#VALUE!"},{"$error":"#VALUE!"},{"$error":"#VALUE!"},{"$error":"#VALUE!"},{"$error":"#VALUE!"},{"$error":"#VALUE!"},{"$error":"#VALUE!"},{"$error":"#VALUE!"},null,{"$f":"SUM(BL139:BT139)","v":{"$error":"#VALUE!"}},{"$error":"#VALUE!"},{"$error":"#VALUE!"},null,{"$error":"#VALUE!"},{"$f":"IF(AND($B139>=BL$4,$B139<=BL$5),BL$6,0)","v":{"$error":"#VALUE!"}},{"$error":"#VALUE!"},{"$error":"#VALUE!"},{"$error":"#VALUE!"},{"$error":"#VALUE!"},{"$error":"#VALUE!"},{"$error":"#VALUE!"},{"$error":"#VALUE!"},{"$error":"#VALUE!"},null,{"$error":"#VALUE!"},{"$error":"#VALUE!"},{"$error":"#VALUE!"},null,{"$error":"#VALUE!"},{"$error":"#VALUE!"},{"$error":"#VALUE!"},{"$error":"#VALUE!"},{"$error":"#VALUE!"},{"$error":"#VALUE!"},{"$error":"#VALUE!"},{"$error":"#VALUE!"},{"$error":"#VALUE!"},{"$error":"#VALUE!"},{"$error":"#VALUE!"},{"$error":"#VALUE!"},{"$error":"#VALUE!"},{"$error":"#VALUE!"},{"$error":"#VALUE!"},{"$error":"#VALUE!"},{"$f":"IF(AND($B139>=CP$4,$B139<=CP$5),CP$6,0)","v":{"$error":"#VALUE!"}},{"$error":"#VALUE!"},{"$error":"#VALUE!"},{"$error":"#VALUE!"},{"$error":"#VALUE!"},{"$error":"#VALUE!"},{"$error":"#VALUE!"},{"$error":"#VALUE!"},{"$error":"#VALUE!"},{"$error":"#VALUE!"},{"$error":"#VALUE!"},{"$error":"#VALUE!"},{"$error":"#VALUE!"},{"$error":"#VALUE!"},{"$error":"#VALUE!"},null,{"$f":"SUM(DK139:DS139)","v":{"$error":"#VALUE!"}},{"$error":"#VALUE!"},{"$error":"#VALUE!"},null,{"$error":"#VALUE!"},{"$f":"IF(AND($B139>=DK$4,$B139<=DK$5),DK$6,0)","v":{"$error":"#VALUE!"}},{"$error":"#VALUE!"},{"$error":"#VALUE!"},{"$error":"#VALUE!"},{"$error":"#VALUE!"},{"$error":"#VALUE!"},{"$error":"#VALUE!"},{"$error":"#VALUE!"},{"$error":"#VALUE!"}]
[null,{"$error":"#VALUE!"},null,{"$f":"H140+AR140+BG140+BV140+DF140","v":{"$error":"#VALUE!"}},{"$f":"I140+AS140+BH140+BW140+DG140","v":{"$error":"#VALUE!"}},{"$f":"J140+AT140+BI140+BX140+DH140","v":{"$error":"#VALUE!"}},null,{"$f":"SUM(M140:AP140)","v":{"$error":"#VALUE!"}},{"$f":"$M$7*$M140+$N$7*$N140+$O$7*$O140+$P$7*$P140+$Q$7*$Q140+$R$7*$R140+$S$7*$S140+$T$7*$T140+$U$7*$U140+$V$7*$V140+$W$7*$W140+$X$7*$X140+$Y$7*$Y140+$Z$7*$Z140+$AA$7*$AA140+$AB$7*$AB140+$AC$7*$AC140+$AD$7*$AD140+$AE$7*$AE140+$AF$7*$AF140+$AG$7*$AG140+$AH$7*$AH140+$AI$7*$AI140+$AJ$7*$AJ140+$AK$7*$AK140+$AL$7*$AL140+$AM$7*$AM140+$AN$7*$AN140+$AO$7*$AO140+$AP$7*$AP140","v":{"$error":"#VALUE!"}},{"$f":"$M$8*$M140+$N$8*$N140+$O$8*$O140+$P$8*$P140+$Q$8*$Q140+$R$8*$R140+$S$8*$S140+$T$8*$T140+$U$8*$U140+$V$8*$V140+$W$8*$W140+$X$8*$X140+$Y$8*$Y140+$Z$8*$Z140+$AA$8*$AA140+$AB$8*$AB140+$AC$8*$AC140+$AD$8*$AD140+$AE$8*$AE140+$AF$8*$AF140+$AG$8*$AG140+$AH$8*$AH140+$AI$8*$AI140+$AJ$8*$AJ140+$AK$8*$AK140+$AL$8*$AL140+$AM$8*$AM140+$AN$8*$AN140+$AO$8*$AO140+$AP$8*$AP140","v":{"$error":"#VALUE!"}},null,{"$error":"#VALUE!"},{"$f":"IF(AND($B140>=M$4,$B140<=M$5),M$6,0)","v":{"$error":"#VALUE!"}},{"$error":"#VALUE!"},{"$error":"#VALUE!"},{"$error":"#VALUE!"},{"$error":"#VALUE!"},{"$error":"#VALUE!"},{"$error":"#VALUE!"},{"$error":"#VALUE!"},{"$error":"#VALUE!"},{"$error":"#VALUE!"},{"$error":"#VALUE!"},{"$error":"#VALUE!"},{"$error":"#VALUE!"},{"$error":"#VALUE!"},{"$error":"#VALUE!"},{"$error":"#VALUE!"},{"$error":"#VALUE!"},{"$error":"#VALUE!"},{"$error":"#VALUE!"},{"$error":"#VALUE!"},{"$error":"#VALUE!"},{"$error":"#VALUE!"},{"$error":"#VALUE!"},{"$error":"#VALUE!"},{"$error":"#VALUE!"},{"$error":"#VALUE!"},{"$error":"#VALUE!"},{"$error":"#VALUE!"},{"$error":"#VALUE!"},{"$error":"#VALUE!"},null,{"$error":"#VALUE!"},{"$f":"$AW$7*$AW140+$AX$7*$AX140+$AY$7*$AY140+$AZ$7*$AZ140+$BA$7*$BA140+$BB$7*$BB140+$BC$7*$BC140+$BD$7*$BD140+$BE$7*$BE140","v":{"$error":"#VALUE!"}},{"$f":"$AW$8*$AW140+$AX$8*$AX140+$AY$8*$AY140+$AZ$8*$AZ140+$BA$8*$BA140+$BB$8*$BB140+$BC$8*$BC140+$BD$8*$BD140+$BE$8*$BE140","v":{"$error":"#VALUE!"}},null,{"$error":"#VALUE!"},{"$f":"IF(AND($B140>=AW$4,$B140<=AW$5),AW$6,0)","v":{"$error":"#VALUE!"}},{"$error":"#VALUE!"},{"$error":"#VALUE!"},{"$error":"#VALUE!"},{"$error":"#VALUE!"},{"$error":"#VALUE!"},{"$error":"#VALUE!"},{"$error":"#VALUE!"},{"$error":"#VALUE!"},null,{"$error":"#VALUE!"},{"$f":"$BL$7*$BL140+$BM$7*$BM140+$BN$7*$BN140+$BO$7*$BO140+$BP$7*$BP140+$BQ$7*$BQ140+$BR$7*$BR140+$BS$7*$BS140+$BT$7*$BT140","v":{"$error":"#VALUE!"}},{"$f":"$BL$8*$BL140+$BM$8*$BM140+$BN$8*$BN140+$BO$8*$BO140+$BP$8*$BP140+$BQ$8*$BQ140+$BR$8*$BR140+$BS$8*$BS140+$BT$8*$BT140","v":{"$error":"#VALUE!"}},null,{"$error":"#VALUE!"},{"$error":"#VALUE!"},{"$error":"#VALUE!"},{"$error":"#VALUE!"},{"$error":"#VALUE!"},{"$error":"#VALUE!"},{"$error":"#VALUE!"},{"$error":"#VALUE!"},{"$error":"#VALUE!"},{"$error":"#VALUE!"},null,{"$f":"SUM(CA140:DD140)","v":{"$error":"#VALUE!"}},{"$f":"$CA$7*CA140+$CB$7*CB140+$CC$7*CC140+$CD$7*CD140+$CE$7*CE140+$CF$7*CF140+$CG$7*CG140+$CH$7*CH140+$CI$7*CI140+$CJ$7*CJ140+$CK$7*CK140+$CL$7*CL140+$CM$7*CM140+$CN$7*CN140+$CO$7*CO140+$CP$7*CP140+$CQ$7*CQ140+$CR$7*CR140+$CS$7*CS140+$CT$7*CT140+$CU$7*CU140+$CV$7*CV140+$CW$7*CW140+$CX$7*CX140+$CY$7*CY140+$CZ$7*CZ140+$DA$7*DA140+$DB$7*DB140+$DC$7*DC140+$DD$7*DD140","v":{"$error":"#VALUE!"}},{"$f":"$CA$8*CA140+$CB$8*CB140+$CC$8*CC140+$CD$8*CD140+$CE$8*CE140+$CF$8*CF140+$CG$8*CG140+$CH$8*CH140+$CI$8*CI140+$CJ$8*CJ140+$CK$8*CK140+$CL$8*CL140+$CM$8*CM140+$CN$8*CN140+$CO$8*CO140+$CP$8*CP140+$CQ$8*CQ140+$CR$8*CR140+$CS$8*CS140+$CT$8*CT140+$CU$8*CU140+$CV$8*CV140+$CW$8*CW140+$CX$8*CX140+$CY$8*CY140+$CZ$8*CZ140+$DA$8*DA140+$DB$8*DB140+$DC$8*DC140+$DD$8*DD140","v":{"$error":"#VALUE!"}},null,{"$error":"#VALUE!"},{"$f":"IF(AND($B140>=CA$4,$B140<=CA$5),CA$6,0)","v":{"$error":"#VALUE!"}},{"$error":"#VALUE!"},{"$error":"#VALUE!"},{"$error":"#VALUE!"},{"$error":"#VALUE!"},{"$error":"#VALUE!"},{"$error":"#VALUE!"},{"$error":"#VALUE!"},{"$error":"#VALUE!"},{"$error":"#VALUE!"},{"$error":"#VALUE!"},{"$error":"#VALUE!"},{"$error":"#VALUE!"},{"$error":"#VALUE!"},{"$error":"#VALUE!"},{"$error":"#VALUE!"},{"$error":"#VALUE!"},{"$error":"#VALUE!"},{"$error":"#VALUE!"},{"$error":"#VALUE!"},{"$error":"#VALUE!"},{"$error":"#VALUE!"},{"$error":"#VALUE!"},{"$error":"#VALUE!"},{"$error":"#VALUE!"},{"$error":"#VALUE!"},{"$error":"#VALUE!"},{"$error":"#VALUE!"},{"$error":"#VALUE!"},{"$error":"#VALUE!"},null,{"$error":"#VALUE!"},{"$f":"DK$7*DK140+DL$7*DL140+DM$7*DM140+DN$7*DN140+DO$7*DO140+DP$7*DP140+DQ$7*DQ140+DR$7*DR140+DS$7*DS140","v":{"$error":"#VALUE!"}},{"$f":"DK$8*DK140+DL$8*DL140+DM$8*DM140+DN$8*DN140+DO$8*DO140+DP$8*DP140+DQ$8*DQ140+DR$8*DR140+DS$8*DS140","v":{"$error":"#VALUE!"}},null,{"$error":"#VALUE!"},{"$error":"#VALUE!"},{"$error":"#VALUE!"},{"$error":"#VALUE!"},{"$error":"#VALUE!"},{"$error":"#VALUE!"},{"$error":"#VALUE!"},{"$error":"#VALUE!"},{"$error":"#VALUE!"},{"$error":"#VALUE!"}]
[null,{"$error":"#VALUE!"},null,{"$error":"#VALUE!"},{"$error":"#VALUE!"},{"$error":"#VALUE!"},null,{"$error":"#VALUE!"},{"$error":"#VALUE!"},{"$error":"#VALUE!"},null,{"$error":"#VALUE!"},{"$error":"#VALUE!"},{"$error":"#VALUE!"},{"$error":"#VALUE!"},{"$error":"#VALUE!"},{"$error":"#VALUE!"},{"$error":"#VALUE!"},{"$error":"#VALUE!"},{"$error":"#VALUE!"},{"$error":"#VALUE!"},{"$error":"#VALUE!"},{"$error":"#VALUE!"},{"$error":"#VALUE!"},{"$error":"#VALUE!"},{"$error":"#VALUE!"},{"$error":"#VALUE!"},{"$error":"#VALUE!"},{"$error":"#VALUE!"},{"$error":"#VALUE!"},{"$error":"#VALUE!"},{"$error":"#VALUE!"},{"$error":"#VALUE!"},{"$error":"#VALUE!"},{"$error":"#VALUE!"},{"$error":"#VALUE!"},{"$error":"#VALUE!"},{"$error":"#VALUE!"},{"$error":"#VALUE!"},{"$error":"#VALUE!"},{"$error":"#VALUE!"},{"$error":"#VALUE!"},null,{"$error":"#VALUE!"},{"$error":"#VALUE!"},{"$error":"#VALUE!"},null,{"$error":"#VALUE!"},{"$error":"#VALUE!"},{"$error":"#VALUE!"},{"$error":"#VALUE!"},{"$error":"#VALUE!"},{"$error":"#VALUE!"},{"$error":"#VALUE!"},{"$error":"#VALUE!"},{"$error":"#VALUE!"},{"$error":"#VALUE!"},null,{"$error":"#VALUE!"},{"$error":"#VALUE!"},{"$error":"#VALUE!"},null,{"$error":"#VALUE!"},{"$error":"#VALUE!"},{"$error":"#VALUE!"},{"$error":"#VALUE!"},{"$error":"#VALUE!"},{"$error":"#VALUE!"},{"$error":"#VALUE!"},{"$error":"#VALUE!"},{"$error":"#VALUE!"},{"$error":"#VALUE!"},null,{"$error":"#VALUE!"},{"$error":"#VALUE!"},{"$error":"#VALUE!"},null,{"$error":"#VALUE!"},{"$error":"#VALUE!"},{"$error":"#VALUE!"},{"$error":"#VALUE!"},{"$error":"#VALUE!"},{"$error":"#VALUE!"},{"$error":"#VALUE!"},{"$error":"#VALUE!"},{"$error":"#VALUE!"},{"$error":"#VALUE!"},{"$error":"#VALUE!"},{"$error":"#VALUE!"},{"$error":"#VALUE!"},{"$error":"#VALUE!"},{"$error":"#VALUE!"},{"$error":"#VALUE!"},{"$error":"#VALUE!"},{"$error":"#VALUE!"},{"$error":"#VALUE!"},{"$error":"#VALUE!"},{"$error":"#VALUE!"},{"$error":"#VALUE!"},{"$error":"#VALUE!"},{"$error":"#VALUE!"},{"$error":"#VALUE!"},{"$error":"#VALUE!"},{"$error":"#VALUE!"},{"$error":"#VALUE!"},{"$error":"#VALUE!"},{"$error":"#VALUE!"},{"$error":"#VALUE!"},null,{"$error":"#VALUE!"},{"$error":"#VALUE!"},{"$error":"#VALUE!"},null,{"$error":"#VALUE!"},{"$error":"#VALUE!"},{"$error":"#VALUE!"},{"$error":"#VALUE!"},{"$error":"#VALUE!"},{"$error":"#VALUE!"},{"$error":"#VALUE!"},{"$error":"#VALUE!"},{"$error":"#VALUE!"},{"$error":"#VALUE!"}]
[null,{"$error":"#VALUE!"},null,{"$error":"#VALUE!"},{"$error":"#VALUE!"},{"$error":"#VALUE!"},null,{"$error":"#VALUE!"},{"$error":"#VALUE!"},{"$error":"#VALUE!"},null,{"$error":"#VALUE!"},{"$error":"#VALUE!"},{"$error":"#VALUE!"},{"$error":"#VALUE!"},{"$error":"#VALUE!"},{"$error":"#VALUE!"},{"$error":"#VALUE!"},{"$error":"#VALUE!"},{"$error":"#VALUE!"},{"$error":"#VALUE!"},{"$error":"#VALUE!"},{"$error":"#VALUE!"},{"$error":"#VALUE!"},{"$error":"#VALUE!"},{"$error":"#VALUE!"},{"$error":"#VALUE!"},{"$error":"#VALUE!"},{"$error":"#VALUE!"},{"$error":"#VALUE!"},{"$error":"#VALUE!"},{"$error":"#VALUE!"},{"$error":"#VALUE!"},{"$error":"#VALUE!"},{"$error":"#VALUE!"},{"$error":"#VALUE!"},{"$error":"#VALUE!"},{"$error":"#VALUE!"},{"$error":"#VALUE!"},{"$error":"#VALUE!"},{"$error":"#VALUE!"},{"$error":"#VALUE!"},null,{"$error":"#VALUE!"},{"$error":"#VALUE!"},{"$error":"#VALUE!"},null,{"$error":"#VALUE!"},{"$error":"#VALUE!"},{"$error":"#VALUE!"},{"$error":"#VALUE!"},{"$error":"#VALUE!"},{"$error":"#VALUE!"},{"$error":"#VALUE!"},{"$error":"#VALUE!"},{"$error":"#VALUE!"},{"$error":"#VALUE!"},null,{"$error":"#VALUE!"},{"$error":"#VALUE!"},{"$error":"#VALUE!"},null,{"$error":"#VALUE!"},{"$error":"#VALUE!"},{"$error":"#VALUE!"},{"$error":"#VALUE!"},{"$error":"#VALUE!"},{"$error":"#VALUE!"},{"$error":"#VALUE!"},{"$error":"#VALUE!"},{"$error":"#VALUE!"},{"$error":"#VALUE!"},null,{"$error":"#VALUE!"},{"$error":"#VALUE!"},{"$error":"#VALUE!"},null,{"$error":"#VALUE!"},{"$error":"#VALUE!"},{"$error":"#VALUE!"},{"$error":"#VALUE!"},{"$error":"#VALUE!"},{"$error":"#VALUE!"},{"$error":"#VALUE!"},{"$error":"#VALUE!"},{"$error":"#VALUE!"},{"$error":"#VALUE!"},{"$error":"#VALUE!"},{"$error":"#VALUE!"},{"$error":"#VALUE!"},{"$error":"#VALUE!"},{"$error":"#VALUE!"},{"$error":"#VALUE!"},{"$error":"#VALUE!"},{"$error":"#VALUE!"},{"$error":"#VALUE!"},{"$error":"#VALUE!"},{"$error":"#VALUE!"},{"$error":"#VALUE!"},{"$error":"#VALUE!"},{"$error":"#VALUE!"},{"$error":"#VALUE!"},{"$error":"#VALUE!"},{"$error":"#VALUE!"},{"$error":"#VALUE!"},{"$error":"#VALUE!"},{"$error":"#VALUE!"},{"$error":"#VALUE!"},null,{"$error":"#VALUE!"},{"$error":"#VALUE!"},{"$error":"#VALUE!"},null,{"$error":"#VALUE!"},{"$error":"#VALUE!"},{"$error":"#VALUE!"},{"$error":"#VALUE!"},{"$error":"#VALUE!"},{"$error":"#VALUE!"},{"$error":"#VALUE!"},{"$error":"#VALUE!"},{"$error":"#VALUE!"},{"$error":"#VALUE!"}]
[null,{"$error":"#VALUE!"},null,{"$error":"#VALUE!"},{"$error":"#VALUE!"},{"$error":"#VALUE!"},null,{"$error":"#VALUE!"},{"$error":"#VALUE!"},{"$error":"#VALUE!"},null,{"$error":"#VALUE!"},{"$error":"#VALUE!"},{"$error":"#VALUE!"},{"$error":"#VALUE!"},{"$error":"#VALUE!"},{"$error":"#VALUE!"},{"$error":"#VALUE!"},{"$error":"#VALUE!"},{"$error":"#VALUE!"},{"$error":"#VALUE!"},{"$error":"#VALUE!"},{"$error":"#VALUE!"},{"$error":"#VALUE!"},{"$error":"#VALUE!"},{"$error":"#VALUE!"},{"$error":"#VALUE!"},{"$error":"#VALUE!"},{"$error":"#VALUE!"},{"$error":"#VALUE!"},{"$error":"#VALUE!"},{"$error":"#VALUE!"},{"$error":"#VALUE!"},{"$error":"#VALUE!"},{"$error":"#VALUE!"},{"$error":"#VALUE!"},{"$error":"#VALUE!"},{"$error":"#VALUE!"},{"$error":"#VALUE!"},{"$error":"#VALUE!"},{"$error":"#VALUE!"},{"$error":"#VALUE!"},null,{"$error":"#VALUE!"},{"$error":"#VALUE!"},{"$error":"#VALUE!"},null,{"$error":"#VALUE!"},{"$error":"#VALUE!"},{"$error":"#VALUE!"},{"$error":"#VALUE!"},{"$error":"#VALUE!"},{"$error":"#VALUE!"},{"$error":"#VALUE!"},{"$error":"#VALUE!"},{"$error":"#VALUE!"},{"$error":"#VALUE!"},null,{"$error":"#VALUE!"},{"$error":"#VALUE!"},{"$error":"#VALUE!"},null,{"$error":"#VALUE!"},{"$error":"#VALUE!"},{"$error":"#VALUE!"},{"$error":"#VALUE!"},{"$error":"#VALUE!"},{"$error":"#VALUE!"},{"$error":"#VALUE!"},{"$error":"#VALUE!"},{"$error":"#VALUE!"},{"$error":"#VALUE!"},null,{"$error":"#VALUE!"},{"$error":"#VALUE!"},{"$error":"#VALUE!"},null,{"$error":"#VALUE!"},{"$error":"#VALUE!"},{"$error":"#VALUE!"},{"$error":"#VALUE!"},{"$error":"#VALUE!"},{"$error":"#VALUE!"},{"$error":"#VALUE!"},{"$error":"#VALUE!"},{"$error":"#VALUE!"},{"$error":"#VALUE!"},{"$error":"#VALUE!"},{"$error":"#VALUE!"},{"$error":"#VALUE!"},{"$error":"#VALUE!"},{"$error":"#VALUE!"},{"$error":"#VALUE!"},{"$error":"#VALUE!"},{"$error":"#VALUE!"},{"$error":"#VALUE!"},{"$error":"#VALUE!"},{"$error":"#VALUE!"},{"$error":"#VALUE!"},{"$error":"#VALUE!"},{"$error":"#VALUE!"},{"$error":"#VALUE!"},{"$error":"#VALUE!"},{"$error":"#VALUE!"},{"$error":"#VALUE!"},{"$error":"#VALUE!"},{"$error":"#VALUE!"},{"$error":"#VALUE!"},null,{"$error":"#VALUE!"},{"$error":"#VALUE!"},{"$error":"#VALUE!"},null,{"$error":"#VALUE!"},{"$error":"#VALUE!"},{"$error":"#VALUE!"},{"$error":"#VALUE!"},{"$error":"#VALUE!"},{"$error":"#VALUE!"},{"$error":"#VALUE!"},{"$error":"#VALUE!"},{"$error":"#VALUE!"},{"$error":"#VALUE!"}]
[null,{"$error":"#VALUE!"},null,{"$error":"#VALUE!"},{"$error":"#VALUE!"},{"$error":"#VALUE!"},null,{"$error":"#VALUE!"},{"$error":"#VALUE!"},{"$error":"#VALUE!"},null,{"$error":"#VALUE!"},{"$error":"#VALUE!"},{"$error":"#VALUE!"},{"$error":"#VALUE!"},{"$error":"#VALUE!"},{"$error":"#VALUE!"},{"$error":"#VALUE!"},{"$error":"#VALUE!"},{"$error":"#VALUE!"},{"$error":"#VALUE!"},{"$error":"#VALUE!"},{"$error":"#VALUE!"},{"$error":"#VALUE!"},{"$error":"#VALUE!"},{"$error":"#VALUE!"},{"$error":"#VALUE!"},{"$error":"#VALUE!"},{"$error":"#VALUE!"},{"$error":"#VALUE!"},{"$error":"#VALUE!"},{"$error":"#VALUE!"},{"$error":"#VALUE!"},{"$error":"#VALUE!"},{"$error":"#VALUE!"},{"$error":"#VALUE!"},{"$error":"#VALUE!"},{"$error":"#VALUE!"},{"$error":"#VALUE!"},{"$error":"#VALUE!"},{"$error":"#VALUE!"},{"$error":"#VALUE!"},null,{"$error":"#VALUE!"},{"$error":"#VALUE!"},{"$error":"#VALUE!"},null,{"$error":"#VALUE!"},{"$error":"#VALUE!"},{"$error":"#VALUE!"},{"$error":"#VALUE!"},{"$error":"#VALUE!"},{"$error":"#VALUE!"},{"$error":"#VALUE!"},{"$error":"#VALUE!"},{"$error":"#VALUE!"},{"$error":"#VALUE!"},null,{"$error":"#VALUE!"},{"$error":"#VALUE!"},{"$error":"#VALUE!"},null,{"$error":"#VALUE!"},{"$error":"#VALUE!"},{"$error":"#VALUE!"},{"$error":"#VALUE!"},{"$error":"#VALUE!"},{"$error":"#VALUE!"},{"$error":"#VALUE!"},{"$error":"#VALUE!"},{"$error":"#VALUE!"},{"$error":"#VALUE!"},null,{"$error":"#VALUE!"},{"$error":"#VALUE!"},{"$error":"#VALUE!"},null,{"$error":"#VALUE!"},{"$error":"#VALUE!"},{"$error":"#VALUE!"},{"$error":"#VALUE!"},{"$error":"#VALUE!"},{"$error":"#VALUE!"},{"$error":"#VALUE!"},{"$error":"#VALUE!"},{"$error":"#VALUE!"},{"$error":"#VALUE!"},{"$error":"#VALUE!"},{"$error":"#VALUE!"},{"$error":"#VALUE!"},{"$error":"#VALUE!"},{"$error":"#VALUE!"},{"$error":"#VALUE!"},{"$error":"#VALUE!"},{"$error":"#VALUE!"},{"$error":"#VALUE!"},{"$error":"#VALUE!"},{"$error":"#VALUE!"},{"$error":"#VALUE!"},{"$error":"#VALUE!"},{"$error":"#VALUE!"},{"$error":"#VALUE!"},{"$error":"#VALUE!"},{"$error":"#VALUE!"},{"$error":"#VALUE!"},{"$error":"#VALUE!"},{"$error":"#VALUE!"},{"$error":"#VALUE!"},null,{"$error":"#VALUE!"},{"$error":"#VALUE!"},{"$error":"#VALUE!"},null,{"$error":"#VALUE!"},{"$error":"#VALUE!"},{"$error":"#VALUE!"},{"$error":"#VALUE!"},{"$error":"#VALUE!"},{"$error":"#VALUE!"},{"$error":"#VALUE!"},{"$error":"#VALUE!"},{"$error":"#VALUE!"},{"$error":"#VALUE!"}]
[null,{"$error":"#VALUE!"},null,{"$error":"#VALUE!"},{"$error":"#VALUE!"},{"$error":"#VALUE!"},null,{"$error":"#VALUE!"},{"$error":"#VALUE!"},{"$error":"#VALUE!"},null,{"$error":"#VALUE!"},{"$error":"#VALUE!"},{"$error":"#VALUE!"},{"$error":"#VALUE!"},{"$error":"#VALUE!"},{"$error":"#VALUE!"},{"$error":"#VALUE!"},{"$error":"#VALUE!"},{"$error":"#VALUE!"},{"$error":"#VALUE!"},{"$error":"#VALUE!"},{"$error":"#VALUE!"},{"$error":"#VALUE!"},{"$error":"#VALUE!"},{"$error":"#VALUE!"},{"$error":"#VALUE!"},{"$error":"#VALUE!"},{"$error":"#VALUE!"},{"$error":"#VALUE!"},{"$error":"#VALUE!"},{"$error":"#VALUE!"},{"$error":"#VALUE!"},{"$error":"#VALUE!"},{"$error":"#VALUE!"},{"$error":"#VALUE!"},{"$error":"#VALUE!"},{"$error":"#VALUE!"},{"$error":"#VALUE!"},{"$error":"#VALUE!"},{"$error":"#VALUE!"},{"$error":"#VALUE!"},null,{"$error":"#VALUE!"},{"$error":"#VALUE!"},{"$error":"#VALUE!"},null,{"$error":"#VALUE!"},{"$error":"#VALUE!"},{"$error":"#VALUE!"},{"$error":"#VALUE!"},{"$error":"#VALUE!"},{"$error":"#VALUE!"},{"$error":"#VALUE!"},{"$error":"#VALUE!"},{"$error":"#VALUE!"},{"$error":"#VALUE!"},null,{"$error":"#VALUE!"},{"$error":"#VALUE!"},{"$error":"#VALUE!"},null,{"$error":"#VALUE!"},{"$error":"#VALUE!"},{"$error":"#VALUE!"},{"$error":"#VALUE!"},{"$error":"#VALUE!"},{"$error":"#VALUE!"},{"$error":"#VALUE!"},{"$error":"#VALUE!"},{"$error":"#VALUE!"},{"$error":"#VALUE!"},null,{"$error":"#VALUE!"},{"$error":"#VALUE!"},{"$error":"#VALUE!"},null,{"$error":"#VALUE!"},{"$error":"#VALUE!"},{"$error":"#VALUE!"},{"$error":"#VALUE!"},{"$error":"#VALUE!"},{"$error":"#VALUE!"},{"$error":"#VALUE!"},{"$error":"#VALUE!"},{"$error":"#VALUE!"},{"$error":"#VALUE!"},{"$error":"#VALUE!"},{"$error":"#VALUE!"},{"$error":"#VALUE!"},{"$error":"#VALUE!"},{"$error":"#VALUE!"},{"$error":"#VALUE!"},{"$error":"#VALUE!"},{"$error":"#VALUE!"},{"$error":"#VALUE!"},{"$error":"#VALUE!"},{"$error":"#VALUE!"},{"$error":"#VALUE!"},{"$error":"#VALUE!"},{"$error":"#VALUE!"},{"$error":"#VALUE!"},{"$error":"#VALUE!"},{"$error":"#VALUE!"},{"$error":"#VALUE!"},{"$error":"#VALUE!"},{"$error":"#VALUE!"},{"$error":"#VALUE!"},null,{"$error":"#VALUE!"},{"$error":"#VALUE!"},{"$error":"#VALUE!"},null,{"$error":"#VALUE!"},{"$error":"#VALUE!"},{"$error":"#VALUE!"},{"$error":"#VALUE!"},{"$error":"#VALUE!"},{"$error":"#VALUE!"},{"$error":"#VALUE!"},{"$error":"#VALUE!"},{"$error":"#VALUE!"},{"$error":"#VALUE!"}]
[null,{"$error":"#VALUE!"},null,{"$error":"#VALUE!"},{"$error":"#VALUE!"},{"$error":"#VALUE!"},null,{"$error":"#VALUE!"},{"$error":"#VALUE!"},{"$error":"#VALUE!"},null,{"$error":"#VALUE!"},{"$error":"#VALUE!"},{"$error":"#VALUE!"},{"$error":"#VALUE!"},{"$error":"#VALUE!"},{"$error":"#VALUE!"},{"$error":"#VALUE!"},{"$error":"#VALUE!"},{"$error":"#VALUE!"},{"$error":"#VALUE!"},{"$error":"#VALUE!"},{"$error":"#VALUE!"},{"$error":"#VALUE!"},{"$error":"#VALUE!"},{"$error":"#VALUE!"},{"$error":"#VALUE!"},{"$error":"#VALUE!"},{"$error":"#VALUE!"},{"$error":"#VALUE!"},{"$error":"#VALUE!"},{"$error":"#VALUE!"},{"$error":"#VALUE!"},{"$error":"#VALUE!"},{"$error":"#VALUE!"},{"$error":"#VALUE!"},{"$error":"#VALUE!"},{"$error":"#VALUE!"},{"$error":"#VALUE!"},{"$error":"#VALUE!"},{"$error":"#VALUE!"},{"$error":"#VALUE!"},null,{"$error":"#VALUE!"},{"$error":"#VALUE!"},{"$error":"#VALUE!"},null,{"$error":"#VALUE!"},{"$error":"#VALUE!"},{"$error":"#VALUE!"},{"$error":"#VALUE!"},{"$error":"#VALUE!"},{"$error":"#VALUE!"},{"$error":"#VALUE!"},{"$error":"#VALUE!"},{"$error":"#VALUE!"},{"$error":"#VALUE!"},null,{"$error":"#VALUE!"},{"$error":"#VALUE!"},{"$error":"#VALUE!"},null,{"$error":"#VALUE!"},{"$error":"#VALUE!"},{"$error":"#VALUE!"},{"$error":"#VALUE!"},{"$error":"#VALUE!"},{"$error":"#VALUE!"},{"$error":"#VALUE!"},{"$error":"#VALUE!"},{"$error":"#VALUE!"},{"$error":"#VALUE!"},null,{"$error":"#VALUE!"},{"$error":"#VALUE!"},{"$error":"#VALUE!"},null,{"$error":"#VALUE!"},{"$error":"#VALUE!"},{"$error":"#VALUE!"},{"$error":"#VALUE!"},{"$error":"#VALUE!"},{"$error":"#VALUE!"},{"$error":"#VALUE!"},{"$error":"#VALUE!"},{"$error":"#VALUE!"},{"$error":"#VALUE!"},{"$error":"#VALUE!"},{"$error":"#VALUE!"},{"$error":"#VALUE!"},{"$error":"#VALUE!"},{"$error":"#VALUE!"},{"$error":"#VALUE!"},{"$error":"#VALUE!"},{"$error":"#VALUE!"},{"$error":"#VALUE!"},{"$error":"#VALUE!"},{"$error":"#VALUE!"},{"$error":"#VALUE!"},{"$error":"#VALUE!"},{"$error":"#VALUE!"},{"$error":"#VALUE!"},{"$error":"#VALUE!"},{"$error":"#VALUE!"},{"$error":"#VALUE!"},{"$error":"#VALUE!"},{"$error":"#VALUE!"},{"$error":"#VALUE!"},null,{"$error":"#VALUE!"},{"$error":"#VALUE!"},{"$error":"#VALUE!"},null,{"$error":"#VALUE!"},{"$error":"#VALUE!"},{"$error":"#VALUE!"},{"$error":"#VALUE!"},{"$error":"#VALUE!"},{"$error":"#VALUE!"},{"$error":"#VALUE!"},{"$error":"#VALUE!"},{"$error":"#VALUE!"},{"$error":"#VALUE!"}]
[null,{"$error":"#VALUE!"},null,{"$error":"#VALUE!"},{"$error":"#VALUE!"},{"$error":"#VALUE!"},null,{"$error":"#VALUE!"},{"$error":"#VALUE!"},{"$error":"#VALUE!"},null,{"$error":"#VALUE!"},{"$error":"#VALUE!"},{"$error":"#VALUE!"},{"$error":"#VALUE!"},{"$error":"#VALUE!"},{"$error":"#VALUE!"},{"$error":"#VALUE!"},{"$error":"#VALUE!"},{"$error":"#VALUE!"},{"$error":"#VALUE!"},{"$error":"#VALUE!"},{"$error":"#VALUE!"},{"$error":"#VALUE!"},{"$error":"#VALUE!"},{"$error":"#VALUE!"},{"$error":"#VALUE!"},{"$error":"#VALUE!"},{"$error":"#VALUE!"},{"$error":"#VALUE!"},{"$error":"#VALUE!"},{"$error":"#VALUE!"},{"$error":"#VALUE!"},{"$error":"#VALUE!"},{"$error":"#VALUE!"},{"$error":"#VALUE!"},{"$error":"#VALUE!"},{"$error":"#VALUE!"},{"$error":"#VALUE!"},{"$error":"#VALUE!"},{"$error":"#VALUE!"},{"$error":"#VALUE!"},null,{"$error":"#VALUE!"},{"$error":"#VALUE!"},{"$error":"#VALUE!"},null,{"$error":"#VALUE!"},{"$error":"#VALUE!"},{"$error":"#VALUE!"},{"$error":"#VALUE!"},{"$error":"#VALUE!"},{"$error":"#VALUE!"},{"$error":"#VALUE!"},{"$error":"#VALUE!"},{"$error":"#VALUE!"},{"$error":"#VALUE!"},null,{"$error":"#VALUE!"},{"$error":"#VALUE!"},{"$error":"#VALUE!"},null,{"$error":"#VALUE!"},{"$error":"#VALUE!"},{"$error":"#VALUE!"},{"$error":"#VALUE!"},{"$error":"#VALUE!"},{"$error":"#VALUE!"},{"$error":"#VALUE!"},{"$error":"#VALUE!"},{"$error":"#VALUE!"},{"$error":"#VALUE!"},null,{"$error":"#VALUE!"},{"$error":"#VALUE!"},{"$error":"#VALUE!"},null,{"$error":"#VALUE!"},{"$error":"#VALUE!"},{"$error":"#VALUE!"},{"$error":"#VALUE!"},{"$error":"#VALUE!"},{"$error":"#VALUE!"},{"$error":"#VALUE!"},{"$error":"#VALUE!"},{"$error":"#VALUE!"},{"$error":"#VALUE!"},{"$error":"#VALUE!"},{"$error":"#VALUE!"},{"$error":"#VALUE!"},{"$error":"#VALUE!"},{"$error":"#VALUE!"},{"$error":"#VALUE!"},{"$error":"#VALUE!"},{"$error":"#VALUE!"},{"$error":"#VALUE!"},{"$error":"#VALUE!"},{"$error":"#VALUE!"},{"$error":"#VALUE!"},{"$error":"#VALUE!"},{"$error":"#VALUE!"},{"$error":"#VALUE!"},{"$error":"#VALUE!"},{"$error":"#VALUE!"},{"$error":"#VALUE!"},{"$error":"#VALUE!"},{"$error":"#VALUE!"},{"$error":"#VALUE!"},null,{"$error":"#VALUE!"},{"$error":"#VALUE!"},{"$error":"#VALUE!"},null,{"$error":"#VALUE!"},{"$error":"#VALUE!"},{"$error":"#VALUE!"},{"$error":"#VALUE!"},{"$error":"#VALUE!"},{"$error":"#VALUE!"},{"$error":"#VALUE!"},{"$error":"#VALUE!"},{"$error":"#VALUE!"},{"$error":"#VALUE!"}]
[null,{"$error":"#VALUE!"},null,{"$error":"#VALUE!"},{"$error":"#VALUE!"},{"$error":"#VALUE!"},null,{"$error":"#VALUE!"},{"$error":"#VALUE!"},{"$error":"#VALUE!"},null,{"$error":"#VALUE!"},{"$error":"#VALUE!"},{"$error":"#VALUE!"},{"$error":"#VALUE!"},{"$error":"#VALUE!"},{"$error":"#VALUE!"},{"$error":"#VALUE!"},{"$error":"#VALUE!"},{"$error":"#VALUE!"},{"$error":"#VALUE!"},{"$error":"#VALUE!"},{"$error":"#VALUE!"},{"$error":"#VALUE!"},{"$error":"#VALUE!"},{"$error":"#VALUE!"},{"$error":"#VALUE!"},{"$error":"#VALUE!"},{"$error":"#VALUE!"},{"$error":"#VALUE!"},{"$error":"#VALUE!"},{"$error":"#VALUE!"},{"$error":"#VALUE!"},{"$error":"#VALUE!"},{"$error":"#VALUE!"},{"$error":"#VALUE!"},{"$error":"#VALUE!"},{"$error":"#VALUE!"},{"$error":"#VALUE!"},{"$error":"#VALUE!"},{"$error":"#VALUE!"},{"$error":"#VALUE!"},null,{"$error":"#VALUE!"},{"$error":"#VALUE!"},{"$error":"#VALUE!"},null,{"$error":"#VALUE!"},{"$error":"#VALUE!"},{"$error":"#VALUE!"},{"$error":"#VALUE!"},{"$error":"#VALUE!"},{"$error":"#VALUE!"},{"$error":"#VALUE!"},{"$error":"#VALUE!"},{"$error":"#VALUE!"},{"$error":"#VALUE!"},null,{"$error":"#VALUE!"},{"$error":"#VALUE!"},{"$error":"#VALUE!"},null,{"$error":"#VALUE!"},{"$error":"#VALUE!"},{"$error":"#VALUE!"},{"$error":"#VALUE!"},{"$error":"#VALUE!"},{"$error":"#VALUE!"},{"$error":"#VALUE!"},{"$error":"#VALUE!"},{"$error":"#VALUE!"},{"$error":"#VALUE!"},null,{"$error":"#VALUE!"},{"$error":"#VALUE!"},{"$error":"#VALUE!"},null,{"$error":"#VALUE!"},{"$error":"#VALUE!"},{"$error":"#VALUE!"},{"$error":"#VALUE!"},{"$error":"#VALUE!"},{"$error":"#VALUE!"},{"$error":"#VALUE!"},{"$error":"#VALUE!"},{"$error":"#VALUE!"},{"$error":"#VALUE!"},{"$error":"#VALUE!"},{"$error":"#VALUE!"},{"$error":"#VALUE!"},{"$error":"#VALUE!"},{"$error":"#VALUE!"},{"$error":"#VALUE!"},{"$error":"#VALUE!"},{"$error":"#VALUE!"},{"$error":"#VALUE!"},{"$error":"#VALUE!"},{"$error":"#VALUE!"},{"$error":"#VALUE!"},{"$error":"#VALUE!"},{"$error":"#VALUE!"},{"$error":"#VALUE!"},{"$error":"#VALUE!"},{"$error":"#VALUE!"},{"$error":"#VALUE!"},{"$error":"#VALUE!"},{"$error":"#VALUE!"},{"$error":"#VALUE!"},null,{"$error":"#VALUE!"},{"$error":"#VALUE!"},{"$error":"#VALUE!"},null,{"$error":"#VALUE!"},{"$error":"#VALUE!"},{"$error":"#VALUE!"},{"$error":"#VALUE!"},{"$error":"#VALUE!"},{"$error":"#VALUE!"},{"$error":"#VALUE!"},{"$error":"#VALUE!"},{"$error":"#VALUE!"},{"$error":"#VALUE!"}]
[null,{"$error":"#VALUE!"},null,{"$error":"#VALUE!"},{"$error":"#VALUE!"},{"$error":"#VALUE!"},null,{"$error":"#VALUE!"},{"$error":"#VALUE!"},{"$error":"#VALUE!"},null,{"$error":"#VALUE!"},{"$error":"#VALUE!"},{"$error":"#VALUE!"},{"$error":"#VALUE!"},{"$error":"#VALUE!"},{"$error":"#VALUE!"},{"$error":"#VALUE!"},{"$error":"#VALUE!"},{"$error":"#VALUE!"},{"$error":"#VALUE!"},{"$error":"#VALUE!"},{"$error":"#VALUE!"},{"$error":"#VALUE!"},{"$error":"#VALUE!"},{"$error":"#VALUE!"},{"$error":"#VALUE!"},{"$error":"#VALUE!"},{"$error":"#VALUE!"},{"$error":"#VALUE!"},{"$error":"#VALUE!"},{"$error":"#VALUE!"},{"$error":"#VALUE!"},{"$error":"#VALUE!"},{"$error":"#VALUE!"},{"$error":"#VALUE!"},{"$error":"#VALUE!"},{"$error":"#VALUE!"},{"$error":"#VALUE!"},{"$error":"#VALUE!"},{"$error":"#VALUE!"},{"$error":"#VALUE!"},null,{"$error":"#VALUE!"},{"$error":"#VALUE!"},{"$error":"#VALUE!"},null,{"$error":"#VALUE!"},{"$error":"#VALUE!"},{"$error":"#VALUE!"},{"$error":"#VALUE!"},{"$error":"#VALUE!"},{"$error":"#VALUE!"},{"$error":"#VALUE!"},{"$error":"#VALUE!"},{"$error":"#VALUE!"},{"$error":"#VALUE!"},null,{"$error":"#VALUE!"},{"$error":"#VALUE!"},{"$error":"#VALUE!"},null,{"$error":"#VALUE!"},{"$error":"#VALUE!"},{"$error":"#VALUE!"},{"$error":"#VALUE!"},{"$error":"#VALUE!"},{"$error":"#VALUE!"},{"$error":"#VALUE!"},{"$error":"#VALUE!"},{"$error":"#VALUE!"},{"$error":"#VALUE!"},null,{"$error":"#VALUE!"},{"$error":"#VALUE!"},{"$error":"#VALUE!"},null,{"$error":"#VALUE!"},{"$error":"#VALUE!"},{"$error":"#VALUE!"},{"$error":"#VALUE!"},{"$error":"#VALUE!"},{"$error":"#VALUE!"},{"$error":"#VALUE!"},{"$error":"#VALUE!"},{"$error":"#VALUE!"},{"$error":"#VALUE!"},{"$error":"#VALUE!"},{"$error":"#VALUE!"},{"$error":"#VALUE!"},{"$error":"#VALUE!"},{"$error":"#VALUE!"},{"$error":"#VALUE!"},{"$error":"#VALUE!"},{"$error":"#VALUE!"},{"$error":"#VALUE!"},{"$error":"#VALUE!"},{"$error":"#VALUE!"},{"$error":"#VALUE!"},{"$error":"#VALUE!"},{"$error":"#VALUE!"},{"$error":"#VALUE!"},{"$error":"#VALUE!"},{"$error":"#VALUE!"},{"$error":"#VALUE!"},{"$error":"#VALUE!"},{"$error":"#VALUE!"},{"$error":"#VALUE!"},null,{"$error":"#VALUE!"},{"$error":"#VALUE!"},{"$error":"#VALUE!"},null,{"$error":"#VALUE!"},{"$error":"#VALUE!"},{"$error":"#VALUE!"},{"$error":"#VALUE!"},{"$error":"#VALUE!"},{"$error":"#VALUE!"},{"$error":"#VALUE!"},{"$error":"#VALUE!"},{"$error":"#VALUE!"},{"$error":"#VALUE!"}]
[null,{"$error":"#VALUE!"},null,{"$error":"#VALUE!"},{"$error":"#VALUE!"},{"$error":"#VALUE!"},null,{"$error":"#VALUE!"},{"$error":"#VALUE!"},{"$error":"#VALUE!"},null,{"$error":"#VALUE!"},{"$error":"#VALUE!"},{"$error":"#VALUE!"},{"$error":"#VALUE!"},{"$error":"#VALUE!"},{"$error":"#VALUE!"},{"$error":"#VALUE!"},{"$error":"#VALUE!"},{"$error":"#VALUE!"},{"$error":"#VALUE!"},{"$error":"#VALUE!"},{"$error":"#VALUE!"},{"$error":"#VALUE!"},{"$error":"#VALUE!"},{"$error":"#VALUE!"},{"$error":"#VALUE!"},{"$error":"#VALUE!"},{"$error":"#VALUE!"},{"$error":"#VALUE!"},{"$error":"#VALUE!"},{"$error":"#VALUE!"},{"$error":"#VALUE!"},{"$error":"#VALUE!"},{"$error":"#VALUE!"},{"$error":"#VALUE!"},{"$error":"#VALUE!"},{"$error":"#VALUE!"},{"$error":"#VALUE!"},{"$error":"#VALUE!"},{"$error":"#VALUE!"},{"$error":"#VALUE!"},null,{"$error":"#VALUE!"},{"$error":"#VALUE!"},{"$error":"#VALUE!"},null,{"$error":"#VALUE!"},{"$error":"#VALUE!"},{"$error":"#VALUE!"},{"$error":"#VALUE!"},{"$error":"#VALUE!"},{"$error":"#VALUE!"},{"$error":"#VALUE!"},{"$error":"#VALUE!"},{"$error":"#VALUE!"},{"$error":"#VALUE!"},null,{"$error":"#VALUE!"},{"$error":"#VALUE!"},{"$error":"#VALUE!"},null,{"$error":"#VALUE!"},{"$error":"#VALUE!"},{"$error":"#VALUE!"},{"$error":"#VALUE!"},{"$error":"#VALUE!"},{"$error":"#VALUE!"},{"$error":"#VALUE!"},{"$error":"#VALUE!"},{"$error":"#VALUE!"},{"$error":"#VALUE!"},null,{"$error":"#VALUE!"},{"$error":"#VALUE!"},{"$error":"#VALUE!"},null,{"$error":"#VALUE!"},{"$error":"#VALUE!"},{"$error":"#VALUE!"},{"$error":"#VALUE!"},{"$error":"#VALUE!"},{"$error":"#VALUE!"},{"$error":"#VALUE!"},{"$error":"#VALUE!"},{"$error":"#VALUE!"},{"$error":"#VALUE!"},{"$error":"#VALUE!"},{"$error":"#VALUE!"},{"$error":"#VALUE!"},{"$error":"#VALUE!"},{"$error":"#VALUE!"},{"$error":"#VALUE!"},{"$error":"#VALUE!"},{"$error":"#VALUE!"},{"$error":"#VALUE!"},{"$error":"#VALUE!"},{"$error":"#VALUE!"},{"$error":"#VALUE!"},{"$error":"#VALUE!"},{"$error":"#VALUE!"},{"$error":"#VALUE!"},{"$error":"#VALUE!"},{"$error":"#VALUE!"},{"$error":"#VALUE!"},{"$error":"#VALUE!"},{"$error":"#VALUE!"},{"$error":"#VALUE!"},null,{"$error":"#VALUE!"},{"$error":"#VALUE!"},{"$error":"#VALUE!"},null,{"$error":"#VALUE!"},{"$error":"#VALUE!"},{"$error":"#VALUE!"},{"$error":"#VALUE!"},{"$error":"#VALUE!"},{"$error":"#VALUE!"},{"$error":"#VALUE!"},{"$error":"#VALUE!"},{"$error":"#VALUE!"},{"$error":"#VALUE!"}]
[null,{"$error":"#VALUE!"},null,{"$error":"#VALUE!"},{"$error":"#VALUE!"},{"$error":"#VALUE!"},null,{"$error":"#VALUE!"},{"$error":"#VALUE!"},{"$error":"#VALUE!"},null,{"$error":"#VALUE!"},{"$error":"#VALUE!"},{"$error":"#VALUE!"},{"$error":"#VALUE!"},{"$error":"#VALUE!"},{"$error":"#VALUE!"},{"$error":"#VALUE!"},{"$error":"#VALUE!"},{"$error":"#VALUE!"},{"$error":"#VALUE!"},{"$error":"#VALUE!"},{"$error":"#VALUE!"},{"$error":"#VALUE!"},{"$error":"#VALUE!"},{"$error":"#VALUE!"},{"$error":"#VALUE!"},{"$error":"#VALUE!"},{"$error":"#VALUE!"},{"$error":"#VALUE!"},{"$error":"#VALUE!"},{"$error":"#VALUE!"},{"$error":"#VALUE!"},{"$error":"#VALUE!"},{"$error":"#VALUE!"},{"$error":"#VALUE!"},{"$error":"#VALUE!"},{"$error":"#VALUE!"},{"$error":"#VALUE!"},{"$error":"#VALUE!"},{"$error":"#VALUE!"},{"$error":"#VALUE!"},null,{"$error":"#VALUE!"},{"$error":"#VALUE!"},{"$error":"#VALUE!"},null,{"$error":"#VALUE!"},{"$error":"#VALUE!"},{"$error":"#VALUE!"},{"$error":"#VALUE!"},{"$error":"#VALUE!"},{"$error":"#VALUE!"},{"$error":"#VALUE!"},{"$error":"#VALUE!"},{"$error":"#VALUE!"},{"$error":"#VALUE!"},null,{"$error":"#VALUE!"},{"$error":"#VALUE!"},{"$error":"#VALUE!"},null,{"$error":"#VALUE!"},{"$error":"#VALUE!"},{"$error":"#VALUE!"},{"$error":"#VALUE!"},{"$error":"#VALUE!"},{"$error":"#VALUE!"},{"$error":"#VALUE!"},{"$error":"#VALUE!"},{"$error":"#VALUE!"},{"$error":"#VALUE!"},null,{"$error":"#VALUE!"},{"$error":"#VALUE!"},{"$error":"#VALUE!"},null,{"$error":"#VALUE!"},{"$error":"#VALUE!"},{"$error":"#VALUE!"},{"$error":"#VALUE!"},{"$error":"#VALUE!"},{"$error":"#VALUE!"},{"$error":"#VALUE!"},{"$error":"#VALUE!"},{"$error":"#VALUE!"},{"$error":"#VALUE!"},{"$error":"#VALUE!"},{"$error":"#VALUE!"},{"$error":"#VALUE!"},{"$error":"#VALUE!"},{"$error":"#VALUE!"},{"$error":"#VALUE!"},{"$error":"#VALUE!"},{"$error":"#VALUE!"},{"$error":"#VALUE!"},{"$error":"#VALUE!"},{"$error":"#VALUE!"},{"$error":"#VALUE!"},{"$error":"#VALUE!"},{"$error":"#VALUE!"},{"$error":"#VALUE!"},{"$error":"#VALUE!"},{"$error":"#VALUE!"},{"$error":"#VALUE!"},{"$error":"#VALUE!"},{"$error":"#VALUE!"},{"$error":"#VALUE!"},null,{"$error":"#VALUE!"},{"$error":"#VALUE!"},{"$error":"#VALUE!"},null,{"$error":"#VALUE!"},{"$error":"#VALUE!"},{"$error":"#VALUE!"},{"$error":"#VALUE!"},{"$error":"#VALUE!"},{"$error":"#VALUE!"},{"$error":"#VALUE!"},{"$error":"#VALUE!"},{"$error":"#VALUE!"},{"$error":"#VALUE!"}]
[null,{"$error":"#VALUE!"},null,{"$error":"#VALUE!"},{"$error":"#VALUE!"},{"$error":"#VALUE!"},null,{"$error":"#VALUE!"},{"$error":"#VALUE!"},{"$error":"#VALUE!"},null,{"$error":"#VALUE!"},{"$error":"#VALUE!"},{"$error":"#VALUE!"},{"$error":"#VALUE!"},{"$error":"#VALUE!"},{"$error":"#VALUE!"},{"$error":"#VALUE!"},{"$error":"#VALUE!"},{"$error":"#VALUE!"},{"$error":"#VALUE!"},{"$error":"#VALUE!"},{"$error":"#VALUE!"},{"$error":"#VALUE!"},{"$error":"#VALUE!"},{"$error":"#VALUE!"},{"$error":"#VALUE!"},{"$error":"#VALUE!"},{"$error":"#VALUE!"},{"$error":"#VALUE!"},{"$error":"#VALUE!"},{"$error":"#VALUE!"},{"$error":"#VALUE!"},{"$error":"#VALUE!"},{"$error":"#VALUE!"},{"$error":"#VALUE!"},{"$error":"#VALUE!"},{"$error":"#VALUE!"},{"$error":"#VALUE!"},{"$error":"#VALUE!"},{"$error":"#VALUE!"},{"$error":"#VALUE!"},null,{"$error":"#VALUE!"},{"$error":"#VALUE!"},{"$error":"#VALUE!"},null,{"$error":"#VALUE!"},{"$error":"#VALUE!"},{"$error":"#VALUE!"},{"$error":"#VALUE!"},{"$error":"#VALUE!"},{"$error":"#VALUE!"},{"$error":"#VALUE!"},{"$error":"#VALUE!"},{"$error":"#VALUE!"},{"$error":"#VALUE!"},null,{"$error":"#VALUE!"},{"$error":"#VALUE!"},{"$error":"#VALUE!"},null,{"$error":"#VALUE!"},{"$error":"#VALUE!"},{"$error":"#VALUE!"},{"$error":"#VALUE!"},{"$error":"#VALUE!"},{"$error":"#VALUE!"},{"$error":"#VALUE!"},{"$error":"#VALUE!"},{"$error":"#VALUE!"},{"$error":"#VALUE!"},null,{"$error":"#VALUE!"},{"$error":"#VALUE!"},{"$error":"#VALUE!"},null,{"$error":"#VALUE!"},{"$error":"#VALUE!"},{"$error":"#VALUE!"},{"$error":"#VALUE!"},{"$error":"#VALUE!"},{"$error":"#VALUE!"},{"$error":"#VALUE!"},{"$error":"#VALUE!"},{"$error":"#VALUE!"},{"$error":"#VALUE!"},{"$error":"#VALUE!"},{"$error":"#VALUE!"},{"$error":"#VALUE!"},{"$error":"#VALUE!"},{"$error":"#VALUE!"},{"$error":"#VALUE!"},{"$error":"#VALUE!"},{"$error":"#VALUE!"},{"$error":"#VALUE!"},{"$error":"#VALUE!"},{"$error":"#VALUE!"},{"$error":"#VALUE!"},{"$error":"#VALUE!"},{"$error":"#VALUE!"},{"$error":"#VALUE!"},{"$error":"#VALUE!"},{"$error":"#VALUE!"},{"$error":"#VALUE!"},{"$error":"#VALUE!"},{"$error":"#VALUE!"},{"$error":"#VALUE!"},null,{"$error":"#VALUE!"},{"$error":"#VALUE!"},{"$error":"#VALUE!"},null,{"$error":"#VALUE!"},{"$error":"#VALUE!"},{"$error":"#VALUE!"},{"$error":"#VALUE!"},{"$error":"#VALUE!"},{"$error":"#VALUE!"},{"$error":"#VALUE!"},{"$error":"#VALUE!"},{"$error":"#VALUE!"},{"$error":"#VALUE!"}]
[null,{"$error":"#VALUE!"},null,{"$error":"#VALUE!"},{"$error":"#VALUE!"},{"$error":"#VALUE!"},null,{"$error":"#VALUE!"},{"$error":"#VALUE!"},{"$error":"#VALUE!"},null,{"$error":"#VALUE!"},{"$error":"#VALUE!"},{"$error":"#VALUE!"},{"$error":"#VALUE!"},{"$error":"#VALUE!"},{"$error":"#VALUE!"},{"$error":"#VALUE!"},{"$error":"#VALUE!"},{"$error":"#VALUE!"},{"$error":"#VALUE!"},{"$error":"#VALUE!"},{"$error":"#VALUE!"},{"$error":"#VALUE!"},{"$error":"#VALUE!"},{"$error":"#VALUE!"},{"$error":"#VALUE!"},{"$error":"#VALUE!"},{"$error":"#VALUE!"},{"$error":"#VALUE!"},{"$error":"#VALUE!"},{"$error":"#VALUE!"},{"$error":"#VALUE!"},{"$error":"#VALUE!"},{"$error":"#VALUE!"},{"$error":"#VALUE!"},{"$error":"#VALUE!"},{"$error":"#VALUE!"},{"$error":"#VALUE!"},{"$error":"#VALUE!"},{"$error":"#VALUE!"},{"$error":"#VALUE!"},null,{"$error":"#VALUE!"},{"$error":"#VALUE!"},{"$error":"#VALUE!"},null,{"$error":"#VALUE!"},{"$error":"#VALUE!"},{"$error":"#VALUE!"},{"$error":"#VALUE!"},{"$error":"#VALUE!"},{"$error":"#VALUE!"},{"$error":"#VALUE!"},{"$error":"#VALUE!"},{"$error":"#VALUE!"},{"$error":"#VALUE!"},null,{"$error":"#VALUE!"},{"$error":"#VALUE!"},{"$error":"#VALUE!"},null,{"$error":"#VALUE!"},{"$error":"#VALUE!"},{"$error":"#VALUE!"},{"$error":"#VALUE!"},{"$error":"#VALUE!"},{"$error":"#VALUE!"},{"$error":"#VALUE!"},{"$error":"#VALUE!"},{"$error":"#VALUE!"},{"$error":"#VALUE!"},null,{"$error":"#VALUE!"},{"$error":"#VALUE!"},{"$error":"#VALUE!"},null,{"$error":"#VALUE!"},{"$error":"#VALUE!"},{"$error":"#VALUE!"},{"$error":"#VALUE!"},{"$error":"#VALUE!"},{"$error":"#VALUE!"},{"$error":"#VALUE!"},{"$error":"#VALUE!"},{"$error":"#VALUE!"},{"$error":"#VALUE!"},{"$error":"#VALUE!"},{"$error":"#VALUE!"},{"$error":"#VALUE!"},{"$error":"#VALUE!"},{"$error":"#VALUE!"},{"$error":"#VALUE!"},{"$error":"#VALUE!"},{"$error":"#VALUE!"},{"$error":"#VALUE!"},{"$error":"#VALUE!"},{"$error":"#VALUE!"},{"$error":"#VALUE!"},{"$error":"#VALUE!"},{"$error":"#VALUE!"},{"$error":"#VALUE!"},{"$error":"#VALUE!"},{"$error":"#VALUE!"},{"$error":"#VALUE!"},{"$error":"#VALUE!"},{"$error":"#VALUE!"},{"$error":"#VALUE!"},null,{"$error":"#VALUE!"},{"$error":"#VALUE!"},{"$error":"#VALUE!"},null,{"$error":"#VALUE!"},{"$error":"#VALUE!"},{"$error":"#VALUE!"},{"$error":"#VALUE!"},{"$error":"#VALUE!"},{"$error":"#VALUE!"},{"$error":"#VALUE!"},{"$error":"#VALUE!"},{"$error":"#VALUE!"},{"$error":"#VALUE!"}]
[null,{"$f":"DATE(YEAR(B153),MONTH(B153)+1,DAY(B153))","v":{"$error":"#VALUE!"}},null,{"$error":"#VALUE!"},{"$error":"#VALUE!"},{"$error":"#VALUE!"},null,{"$error":"#VALUE!"},{"$error":"#VALUE!"},{"$error":"#VALUE!"},null,{"$error":"#VALUE!"},{"$error":"#VALUE!"},{"$error":"#VALUE!"},{"$error":"#VALUE!"},{"$error":"#VALUE!"},{"$error":"#VALUE!"},{"$error":"#VALUE!"},{"$error":"#VALUE!"},{"$error":"#VALUE!"},{"$error":"#VALUE!"},{"$error":"#VALUE!"},{"$error":"#VALUE!"},{"$error":"#VALUE!"},{"$error":"#VALUE!"},{"$error":"#VALUE!"},{"$error":"#VALUE!"},{"$error":"#VALUE!"},{"$error":"#VALUE!"},{"$error":"#VALUE!"},{"$error":"#VALUE!"},{"$error":"#VALUE!"},{"$error":"#VALUE!"},{"$error":"#VALUE!"},{"$error":"#VALUE!"},{"$error":"#VALUE!"},{"$error":"#VALUE!"},{"$error":"#VALUE!"},{"$error":"#VALUE!"},{"$error":"#VALUE!"},{"$error":"#VALUE!"},{"$error":"#VALUE!"},null,{"$error":"#VALUE!"},{"$error":"#VALUE!"},{"$error":"#VALUE!"},null,{"$error":"#VALUE!"},{"$error":"#VALUE!"},{"$error":"#VALUE!"},{"$error":"#VALUE!"},{"$error":"#VALUE!"},{"$error":"#VALUE!"},{"$error":"#VALUE!"},{"$error":"#VALUE!"},{"$error":"#VALUE!"},{"$error":"#VALUE!"},null,{"$error":"#VALUE!"},{"$error":"#VALUE!"},{"$error":"#VALUE!"},null,{"$error":"#VALUE!"},{"$error":"#VALUE!"},{"$error":"#VALUE!"},{"$error":"#VALUE!"},{"$error":"#VALUE!"},{"$error":"#VALUE!"},{"$error":"#VALUE!"},{"$error":"#VALUE!"},{"$error":"#VALUE!"},{"$error":"#VALUE!"},null,{"$error":"#VALUE!"},{"$error":"#VALUE!"},{"$error":"#VALUE!"},null,{"$error":"#VALUE!"},{"$error":"#VALUE!"},{"$error":"#VALUE!"},{"$error":"#VALUE!"},{"$error":"#VALUE!"},{"$error":"#VALUE!"},{"$error":"#VALUE!"},{"$error":"#VALUE!"},{"$error":"#VALUE!"},{"$error":"#VALUE!"},{"$error":"#VALUE!"},{"$error":"#VALUE!"},{"$error":"#VALUE!"},{"$error":"#VALUE!"},{"$error":"#VALUE!"},{"$error":"#VALUE!"},{"$error":"#VALUE!"},{"$error":"#VALUE!"},{"$error":"#VALUE!"},{"$error":"#VALUE!"},{"$error":"#VALUE!"},{"$error":"#VALUE!"},{"$error":"#VALUE!"},{"$error":"#VALUE!"},{"$error":"#VALUE!"},{"$error":"#VALUE!"},{"$error":"#VALUE!"},{"$error":"#VALUE!"},{"$error":"#VALUE!"},{"$error":"#VALUE!"},{"$error":"#VALUE!"},null,{"$error":"#VALUE!"},{"$error":"#VALUE!"},{"$error":"#VALUE!"},null,{"$error":"#VALUE!"},{"$error":"#VALUE!"},{"$error":"#VALUE!"},{"$error":"#VALUE!"},{"$error":"#VALUE!"},{"$error":"#VALUE!"},{"$error":"#VALUE!"},{"$error":"#VALUE!"},{"$error":"#VALUE!"},{"$error":"#VALUE!"}]
[]
[null,null,null,{"$f":"COUNTIF(D11:D154,\">=75\")","v":0},{"$f":"COUNTIF(E11:E154,\">=75\")","v":0},0,null,{"$f":"COUNTIF(H11:H154,\">=75\")","v":0},{"$f":"COUNTIF(I11:I154,\">=75\")","v":0},0,{"$nulls":33},{"$f":"COUNTIF(AR11:AR154,\">=75\")","v":0},{"$f":"COUNTIF(AS11:AS154,\">=75\")","v":0},0,{"$nulls":12},{"$f":"COUNTIF(BG11:BG154,\">=75\")","v":0},{"$f":"COUNTIF(BH11:BH154,\">=75\")","v":0},0,{"$nulls":12},{"$f":"COUNTIF(BV11:BV154,\">=75\")","v":0},{"$f":"COUNTIF(BW11:BW154,\">=75\")","v":0},0,{"$nulls":33},{"$f":"COUNTIF(DF11:DF154,\">=75\")","v":0},{"$f":"COUNTIF(DG11:DG154,\">=75\")","v":0},0]

{"sheet":"Vorgaben","index":21,"n_rows":284,"n_cols":2,"rows_kept":284,"cut":false,"hidden":true,"merged":[]}
["Anrede","Frau"]
[null,"Herr"]
[]
["Titel","Dr."]
[null,"Prof."]
[null,"Prof. Dr."]
[]
["Branchen","Bau / Architektur / Immobilien"]
[null,"Beratung"]
[null,"Dienstleistung / Bildung"]
[null,"Energiewirtschaft"]
[null,"Finanzdienstleistung / Bank"]
[null,"Gesundheitswesen / Medizin / Pharma"]
[null,"Handel / Detailhandel"]
[null,"Industrie / Anlagenbau"]
[null,"Öffentliche Verwaltung / NGO"]
[null,"Telekommunikation / Medien"]
[null,"Tourismus / Gastronomie"]
[null,"Verband"]
[null,"Verkehr / Transport / Logistik"]
[null,"Versicherung"]
[]
["Level","A"]
[null,"B"]
[null,"C"]
[]
["Zertifikate","Level A - Certified Project Director"]
[null,"Level A - Certified Programme Director"]
[null,"Level A - Certified Portfolio Director"]
[null,"Level A - Certified Agile Organisational Leader"]
[null,"Level B - Certified Senior Project Manager"]
[null,"Level B - Certified Senior Programme Manager"]
[null,"Level B - Certified Senior Portfolio Manager"]
[null,"Level B - Certified Agile Senior Leader"]
[null,"Level C - Certified Project Manager"]
[null,"Level C - Certified Agile Leader"]
[]
["Zertifikat","Level A - Certified Projects Director (bis 2017)"]
[null,"Level A - Certified Project Director"]
[null,"Level A - Certified Programme Director"]
[null,"Level A - Certified Portfolio Director"]
[null,"Level A - Certified Agile Organisational Leader"]
[null,"Level B - Certified Senior Project Manager"]
[null,"Level B - Certified Senior Programme Manager"]
[null,"Level B - Certified Senior Portfolio Manager"]
[null,"Level B - Certified Agile Senior Leader"]
[null,"Level C - Certified Project Manager"]
[null,"Level C - Certified Agile Leader"]
[null,"Level D - Certified Project Management Associate"]
[null,"Level D - Certified Agile Associate"]
[]
["Sprachen","Deutsch"]
[null,"Englisch"]
[null,"Französisch"]
[]
["Rechnung an","Arbeitgeber"]
[null,"Privatadresse"]
[null,"Andere Adresse"]
[]
["Rollen","Projektleiter*in"]
[null,"Programmleiter*in"]
[null,"Portfoliomanager*in"]
[null,"Stv. Projektleiter*in"]
[null,"Stv. Programmleiter*in"]
[null,"Stv. Portfoliomanager*in"]
[null,"Teilprojektleiter*in"]
[]
["Agile Rollen Portfolio","Agile(r) Portfoliomanager*in"]
[null,"Mitglied Portfolioteam"]
[null,"Agile(r) Projektleiter*in"]
[null,"Epic Owner, Enterprise Architect"]
[null,"Solution Manager/Architect/Engineer/Train Engineer"]
[null,"Release Train Engineer"]
[null,"Business Owner"]
[null,"Head of Product Group, Product Manager, Product Owner"]
[null,"System Architect/Engineer"]
[null,"Agile Coach, Scrum Master"]
[]
["Agile Rollen","Agile(r) Projektleiter*in"]
[null,"Epic Owner, Enterprise Architect"]
[null,"Solution Manager/Architect/Engineer/Train Engineer"]
[null,"Release Train Engineer"]
[null,"Business Owner"]
[null,"Head of Product Group, Product Manager, Product Owner"]
[null,"System Architect/Engineer"]
[null,"Agile Coach, Scrum Master"]
[]
["Entscheid","ja"]
[null,"nein"]
[]
["Beschluss","sign. Maja Schütz"]
[null,"sign. Jean-Pierre Widmann"]
[]
["Projektrollen","Projektleiter*in"]
[null,"Co-Projektleiter*in"]
[null,"Stv. Projektleiter*in"]
[null,"Teilprojektleiter*in"]
[]
["Verlängerung","Arbeitslosigkeit"]
[null,"Weiterbildung (Arbeitspensum <50%)"]
[null,"Krankheit/Unfall"]
[null,"Längere Reise"]
[null,"Militär"]
[null,"Mutterschaft"]
[null,"Sabbatical"]
[null,"Temporär andere Rolle/Funktion"]
[]
["Projektarten","Akquisition und Angebot"]
[null,"Anlagenbau"]
[null,"Bau"]
[null,"Durchführbarkeitsstudien"]
[null,"Forschung und Entwicklung"]
[null,"Immobilien"]
[null,"Informatik"]
[null,"Instandhaltung"]
[null,"Organisation"]
[null,"Produktentwicklung"]
[null,"Strategie"]
[null,"Unternehmensgründung und -kauf"]
[null,"Weitere (in Projektscope angeben)"]
[]
["Zulassung","KandidatIn wird ohne Auflage zugelassen"]
[null,"KandidatIn wird mit Auflage zugelassen"]
[null,"KandidatIn wird nicht zugelassen"]
[]
["Verlängerungsentscheid","Antrag akzeptiert, Gründe belegt"]
[null,"Antrag nicht akzeptiert"]
[]
["Nationalität","CH - Schweiz"]
[null,"LI - Liechtenstein"]
[null,"DE - Deutschland"]
[null,"AT - Österreich"]
[null,"------------------------------"]
[null,"AL - Albanien"]
[null,"AD - Andorra"]
[null,"BE - Belgien"]
[null,"BA - Bosnien-Herzegowina"]
[null,"BG - Bulgarien"]
[null,"DK - Dänemark"]
[null,"EE - Estland"]
[null,"FI - Finnland"]
[null,"FR - Frankreich"]
[null,"GR - Griechenland"]
[null,"IE - Irland"]
[null,"IS - Island"]
[null,"IT - Italien"]
[null,"HR - Kroatien"]
[null,"LV - Lettland"]
[null,"LU - Luxemburg"]
[null,"MT - Malta"]
[null,"MC - Monaco"]
[null,"NL - Niederlande"]
[null,"MK - Nordmazedonien"]
[null,"NO - Norwegen"]
[null,"PL - Polen"]
[null,"PT - Portugal"]
[null,"RO - Rumänien"]
[null,"RU - Russland"]
[null,"SM - San Marino"]
[null,"SE - Schweden"]
[null,"SK - Slowakei"]
[null,"SI - Slowenien"]
[null,"ES - Spanien"]
[null,"CZ - Tschechische Republik"]
[null,"TR - Türkei"]
[null,"HU - Ungarn"]
[null,"UK - Vereinigtes Königreich"]
[null,"CY - Zypern"]
[null,"------------------------------"]
[null,"AF - Afghanistan"]
[null,"EG - Ägypten"]
[null,"DZ - Algerien"]
[null,"AO - Angola"]
[null,"GQ - Äquartiorial Guinea"]
[null,"AR - Argentinien"]
[null,"AM - Armenien"]
[null,"AZ - Aserbaidschan"]
[null,"ET - Äthiopien"]
[null,"AU - Australien"]
[null,"BH - Bahrain"]
[null,"BD - Bangladesh"]
[null,"BY - Belarus"]
[null,"BZ - Belize"]
[null,"BJ - Benin"]
[null,"BT - Bhutan"]
[null,"BO - Bolivien"]
[null,"BW - Botswana"]
[null,"BR - Brasilien"]
[null,"BF - Burkina Faso"]
[null,"BI - Burundi"]
[null,"CL - Chile"]
[null,"CN - China"]
[null,"CR - Costa Rica"]
[null,"DO - Dominikanische Republik"]
[null,"EC - Ecuador"]
[null,"SV - El Salvador"]
[null,"CI - Elfenbeinküste"]
[null,"FO - Faröer Inseln"]
[null,"GA - Gabun"]
[null,"GM - Gambia"]
[null,"GE - Georgien"]
[null,"GH - Ghana"]
[null,"GT - Guatemala"]
[null,"GN - Guinea"]
[null,"GW - Guinea Bissau"]
[null,"GY - Guyana"]
[null,"HN - Honduras"]
[null,"HK - Hong Kong"]
[null,"IN - Indien"]
[null,"ID - Indonesien"]
[null,"IQ - Irak"]
[null,"IR - Iran"]
[null,"IL - Israel"]
[null,"JM - Jamaica"]
[null,"JP - Japan"]
[null,"YE - Jemen"]
[null,"JO - Jordanien"]
[null,"KH - Kambodscha"]
[null,"CM - Kamerun"]
[null,"CA - Kanada"]
[null,"KZ - Kasachstan"]
[null,"QA - Katar"]
[null,"KE - Kenia"]
[null,"CO - Kolumbien"]
[null,"CG - Kongo"]
[null,"CU - Kuba"]
[null,"KW - Kuwait"]
[null,"LA - Laos"]
[null,"LB - Libanon"]
[null,"LR - Liberia"]
[null,"LY - Libyen"]
[null,"LT - Litauen"]
[null,"MW - Malawi"]
[null,"MY - Malaysia"]
[null,"ML - Mali"]
[null,"MA - Marokko"]
[null,"MR - Mauretanien"]
[null,"MX - Mexiko"]
[null,"MD - Moldawien"]
[null,"MZ - Mozambique"]
[null,"NA - Namibia"]
[null,"NP - Nepal"]
[null,"NZ - Neuseeland"]
[null,"NI - Nicaragua"]
[null,"NE - Niger"]
[null,"NG - Nigeria"]
[null,"KP - Nordkorea"]
[null,"OM - Oman"]
[null,"PK - Pakistan"]
[null,"PA - Panama"]
[null,"PY - Paraguay"]
[null,"PE - Peru"]
[null,"PH - Philippinen"]
[null,"PR - Puerto Rico"]
[null,"CF - Republik Zentralafrika"]
[null,"RW - Ruanda"]
[null,"ZM - Sambia"]
[null,"SA - Saudi-Arabien"]
[null,"SN - Senegal"]
[null,"SL - Sierra Leone"]
[null,"ZW - Simbabwe"]
[null,"SG - Singapur"]
[null,"SO - Somalia"]
[null,"LK - Sri Lanka"]
[null,"ZA - Südafrika"]
[null,"SD - Sudan"]
[null,"KR - Südkorea"]
[null,"SR - Surinam"]
[null,"SZ - Swasiland"]
[null,"SY - Syrien"]
[null,"TW - Taiwan"]
[null,"TZ - Tansania"]
[null,"TH - Thailand"]
[null,"TG - Togo"]
[null,"TD - Tschad"]
[null,"TN - Tunesien"]
[null,"UG - Uganda"]
[null,"UA - Ukraine"]
[null,"UY - Uruguay"]
[null,"VE - Venezuela"]
[null,"AE - Vereinigte Arabische Emirate"]
[null,"US - Vereinigte Staaten von Amerika (USA)"]
[null,"VN - Vietnam"]
[null,"ZR - Zaire"]